{"text_format":"1","workbook":"xlsx","n_sheets":4,"sheets":["入力シート","集荷不可","サリバ取込","リスト"],"not_rendered":{"charts":0,"images":0,"macros":1,"external_links":0,"defined_names":3,"comments":0,"pivot_tables":0},"unopened":[],"bounds":{"document_bytes":16777216,"sheet_cells":100000,"rows_first":2000,"rows_last":500,"rows_between":2000,"halvings":0,"cell_chars":16384,"cell_head_chars":4096},"cells_cut":0,"cells_raw":0,"read":"whole","date_system":"1900"}

{"sheet":"入力シート","index":0,"n_rows":1004,"n_cols":36,"rows_kept":1004,"cut":false,"hidden":false,"merged":[[1,4,1,8]]}
[1,2,3,4,5,6,7,8,9,10,11,12,13,14,15,16,17,18,19,20,21,22,23,24,25,26,27,28,29,30,31,32,33,34,35,36]
["SalivaChecker® 一括申込シート",null,null,"貴社名：",null,null,null,null,null,null,null,null,null,null,"シートVer：260401"]
[null,null,null,null,"申込書と同じ法人名を入力ください"]
["※必須入力",null,null,null,"こちらに入力いただいた住所へ採取キット、結果レポートを送付いたします。",null,null,null,null,null,null,null,null,null,null,"非表示","非表示","非表示","非表示","非表示","非表示","非表示","非表示","非表示","非表示","非表示","非表示","非表示","非表示","非表示","非表示","非表示","非表示","非表示","非表示","非表示"]
["ご利用者氏名　※\n\n全角16文字以下","ご利用者氏名カナ　※\n\n全角カナ16文字以下","ご利用者性別　※\n\n男性or女性","ご利用者生年月日　※\nYYYY/MM/DD\n20歳未満は利用不可","送付先　※\n\n会社/自宅","送付先郵便番号　※\nハイフン有8文字\n（ハイフンなし7文字も可）","送付先住所　※\n都道府県から入力\n全角32文字以下","送付先住所\n建物名、部屋番号など\n全角16文字以下","送付先会社名\n送付先が「会社」の場合\n全角25文字以下","送付先会社部門名\n\n全角25文字以下","送付先TEL　※\n\n半角15文字以下","メール　※\n\n半角60文字以下","社員番号１\n\n半角8文字以下","社員番号２\n\n半角8文字以下","本人・家族　※\n\n本人or家族","送付先郵便番号 変換",null,"空行チェック","氏名機種依存","文字数 氏名","カナ氏名文字","文字数 カナ氏名","性別","生年月日","会社住所","文字数　住所１","文字数　住所２","文字数　部門１","文字数　部門２","文字数　TEL","文字数　メール","保険証記号　※必須","本人・家族　※必須","郵便番号チェック","メールアドレスRFC","文字数　保険証番号"]
[null,null,null,null,null,null,null,null,null,null,null,null,null,null,null,{"$f":"SUBSTITUTE(F6,\"-\",\"\")","v":""},{"$f":"LEFT(O6,1)","v":""},{"$f":"IF(LEN(A6&B6&C6&D6&E6&F6&G6&H6&I6&J6&K6&L6&M6&N6&O6)=0,FALSE,TRUE)","v":false},{"$f":"CheckIzonMoji(A6)","v":false},{"$f":"IF(R6,IF(AND(0<LENB(A6),LENB(A6)<33),FALSE,TRUE),FALSE)","v":false},{"$f":"CheckKana(B6)","v":false},{"$f":"IF(R6,IF(AND(0<LENB(B6),LENB(B6)<33),FALSE,TRUE),FALSE)","v":false},{"$f":"IF(R6,IF(C6=\"\",TRUE,FALSE),FALSE)","v":false},{"$f":"IF(R6,IF(OR(D6=\"\",ISERR(DAY(D6))),TRUE,FALSE),FALSE)","v":false},{"$f":"IF(R6,IF(E6=\"\",TRUE,FALSE),FALSE)","v":false},{"$f":"IF(R6,IF(AND(LENB(G6)>1,LENB(G6)<65),FALSE,TRUE),FALSE)","v":false},{"$f":"IF(LENB(H6)<33,FALSE,TRUE)","v":false},{"$f":"IF(LENB(I6)<51,FALSE,TRUE)","v":false},{"$f":"IF(LENB(J6)<51,FALSE,TRUE)","v":false},{"$f":"IF(R6,IF(AND(LENB(K6)>2,LENB(K6)<16),FALSE,TRUE),FALSE)","v":false},{"$f":"IF(R6,IF(AND(0<LENB(L6),LENB(L6)<61),FALSE,TRUE),FALSE)","v":false},{"$f":"IF(R6,IF(AND(LENB(M6)<9),FALSE,TRUE),FALSE)","v":false},{"$f":"IF(R6,IF(O6=\"\",TRUE,FALSE),FALSE)","v":false},{"$f":"IF(R6,IF(AND(LEN(P6)=7,COUNTIF(集荷不可!$A:$A,P6)=0),FALSE,TRUE),FALSE)","v":false},{"$f":"IF(ISERROR(FIND(\".@\",L6)),FALSE,TRUE)","v":false},{"$f":"IF(LENB(N6)<9,FALSE,TRUE)","v":false}]
[null,null,null,null,null,null,null,null,null,null,null,null,null,null,null,{"$f":"SUBSTITUTE(F7,\"-\",\"\")","v":""},{"$f":"LEFT(O7,1)","v":""},{"$f":"IF(LEN(A7&B7&C7&D7&E7&F7&G7&H7&I7&J7&K7&L7&M7&N7&O7)=0,FALSE,TRUE)","v":false},{"$f":"CheckIzonMoji(A7)","v":false},{"$f":"IF(R7,IF(AND(0<LENB(A7),LENB(A7)<33),FALSE,TRUE),FALSE)","v":false},{"$f":"CheckKana(B7)","v":false},{"$f":"IF(R7,IF(AND(0<LENB(B7),LENB(B7)<33),FALSE,TRUE),FALSE)","v":false},{"$f":"IF(R7,IF(C7=\"\",TRUE,FALSE),FALSE)","v":false},{"$f":"IF(R7,IF(OR(D7=\"\",ISERR(DAY(D7))),TRUE,FALSE),FALSE)","v":false},{"$f":"IF(R7,IF(E7=\"\",TRUE,FALSE),FALSE)","v":false},{"$f":"IF(R7,IF(AND(LENB(G7)>1,LENB(G7)<65),FALSE,TRUE),FALSE)","v":false},{"$f":"IF(LENB(H7)<33,FALSE,TRUE)","v":false},{"$f":"IF(LENB(I7)<51,FALSE,TRUE)","v":false},{"$f":"IF(LENB(J7)<51,FALSE,TRUE)","v":false},{"$f":"IF(R7,IF(AND(LENB(K7)>2,LENB(K7)<16),FALSE,TRUE),FALSE)","v":false},{"$f":"IF(R7,IF(AND(0<LENB(L7),LENB(L7)<61),FALSE,TRUE),FALSE)","v":false},{"$f":"IF(R7,IF(AND(LENB(M7)<9),FALSE,TRUE),FALSE)","v":false},{"$f":"IF(R7,IF(O7=\"\",TRUE,FALSE),FALSE)","v":false},{"$f":"IF(R7,IF(AND(LEN(P7)=7,COUNTIF(集荷不可!$A:$A,P7)=0),FALSE,TRUE),FALSE)","v":false},{"$f":"IF(ISERROR(FIND(\".@\",L7)),FALSE,TRUE)","v":false},{"$f":"IF(LENB(N7)<9,FALSE,TRUE)","v":false}]
[null,null,null,null,null,null,null,null,null,null,null,null,null,null,null,{"$f":"SUBSTITUTE(F8,\"-\",\"\")","v":""},{"$f":"LEFT(O8,1)","v":""},false,{"$f":"CheckIzonMoji(A8)","v":false},false,{"$f":"CheckKana(B8)","v":false},false,false,false,false,false,false,false,false,false,false,false,false,{"$f":"IF(R8,IF(AND(LEN(P8)=7,COUNTIF(集荷不可!$A:$A,P8)=0),FALSE,TRUE),FALSE)","v":false},false,false]
[null,null,null,null,null,null,null,null,null,null,null,null,null,null,null,{"$f":"SUBSTITUTE(F9,\"-\",\"\")","v":""},{"$f":"LEFT(O9,1)","v":""},false,{"$f":"CheckIzonMoji(A9)","v":false},false,{"$f":"CheckKana(B9)","v":false},false,false,false,false,false,false,false,false,false,false,false,false,{"$f":"IF(R9,IF(AND(LEN(P9)=7,COUNTIF(集荷不可!$A:$A,P9)=0),FALSE,TRUE),FALSE)","v":false},false,false]
[null,null,null,null,null,null,null,null,null,null,null,null,null,null,null,"","",false,{"$f":"CheckIzonMoji(A10)","v":false},false,{"$f":"CheckKana(B10)","v":false},false,false,false,false,false,false,false,false,false,false,false,false,{"$f":"IF(R10,IF(AND(LEN(P10)=7,COUNTIF(集荷不可!$A:$A,P10)=0),FALSE,TRUE),FALSE)","v":false},false,false]
[null,null,null,null,null,null,null,null,null,null,null,null,null,null,null,"","",false,{"$f":"CheckIzonMoji(A11)","v":false},false,{"$f":"CheckKana(B11)","v":false},false,false,false,false,false,false,false,false,false,false,false,false,{"$f":"IF(R11,IF(AND(LEN(P11)=7,COUNTIF(集荷不可!$A:$A,P11)=0),FALSE,TRUE),FALSE)","v":false},false,false]
[null,null,null,null,null,null,null,null,null,null,null,null,null,null,null,"","",false,{"$f":"CheckIzonMoji(A12)","v":false},false,{"$f":"CheckKana(B12)","v":false},false,false,false,false,false,false,false,false,false,false,false,false,{"$f":"IF(R12,IF(AND(LEN(P12)=7,COUNTIF(集荷不可!$A:$A,P12)=0),FALSE,TRUE),FALSE)","v":false},false,false]
[null,null,null,null,null,null,null,null,null,null,null,null,null,null,null,"","",false,{"$f":"CheckIzonMoji(A13)","v":false},false,{"$f":"CheckKana(B13)","v":false},false,false,false,false,false,false,false,false,false,false,false,false,{"$f":"IF(R13,IF(AND(LEN(P13)=7,COUNTIF(集荷不可!$A:$A,P13)=0),FALSE,TRUE),FALSE)","v":false},false,false]
[null,null,null,null,null,null,null,null,null,null,null,null,null,null,null,"","",false,{"$f":"CheckIzonMoji(A14)","v":false},false,{"$f":"CheckKana(B14)","v":false},false,false,false,false,false,false,false,false,false,false,false,false,{"$f":"IF(R14,IF(AND(LEN(P14)=7,COUNTIF(集荷不可!$A:$A,P14)=0),FALSE,TRUE),FALSE)","v":false},false,false]
[null,null,null,null,null,null,null,null,null,null,null,null,null,null,null,"","",false,{"$f":"CheckIzonMoji(A15)","v":false},false,{"$f":"CheckKana(B15)","v":false},false,false,false,false,false,false,false,false,false,false,false,false,{"$f":"IF(R15,IF(AND(LEN(P15)=7,COUNTIF(集荷不可!$A:$A,P15)=0),FALSE,TRUE),FALSE)","v":false},false,false]
[null,null,null,null,null,null,null,null,null,null,null,null,null,null,null,"","",false,{"$f":"CheckIzonMoji(A16)","v":false},false,{"$f":"CheckKana(B16)","v":false},false,false,false,false,false,false,false,false,false,false,false,false,{"$f":"IF(R16,IF(AND(LEN(P16)=7,COUNTIF(集荷不可!$A:$A,P16)=0),FALSE,TRUE),FALSE)","v":false},false,false]
[null,null,null,null,null,null,null,null,null,null,null,null,null,null,null,"","",false,{"$f":"CheckIzonMoji(A17)","v":false},false,{"$f":"CheckKana(B17)","v":false},false,false,false,false,false,false,false,false,false,false,false,false,{"$f":"IF(R17,IF(AND(LEN(P17)=7,COUNTIF(集荷不可!$A:$A,P17)=0),FALSE,TRUE),FALSE)","v":false},false,false]
[null,null,null,null,null,null,null,null,null,null,null,null,null,null,null,"","",false,{"$f":"CheckIzonMoji(A18)","v":false},false,{"$f":"CheckKana(B18)","v":false},false,false,false,false,false,false,false,false,false,false,false,false,{"$f":"IF(R18,IF(AND(LEN(P18)=7,COUNTIF(集荷不可!$A:$A,P18)=0),FALSE,TRUE),FALSE)","v":false},false,false]
[null,null,null,null,null,null,null,null,null,null,null,null,null,null,null,"","",false,{"$f":"CheckIzonMoji(A19)","v":false},false,{"$f":"CheckKana(B19)","v":false},false,false,false,false,false,false,false,false,false,false,false,false,{"$f":"IF(R19,IF(AND(LEN(P19)=7,COUNTIF(集荷不可!$A:$A,P19)=0),FALSE,TRUE),FALSE)","v":false},false,false]
[null,null,null,null,null,null,null,null,null,null,null,null,null,null,null,"","",false,{"$f":"CheckIzonMoji(A20)","v":false},false,{"$f":"CheckKana(B20)","v":false},false,false,false,false,false,false,false,false,false,false,false,false,{"$f":"IF(R20,IF(AND(LEN(P20)=7,COUNTIF(集荷不可!$A:$A,P20)=0),FALSE,TRUE),FALSE)","v":false},false,false]
[null,null,null,null,null,null,null,null,null,null,null,null,null,null,null,"","",false,{"$f":"CheckIzonMoji(A21)","v":false},false,{"$f":"CheckKana(B21)","v":false},false,false,false,false,false,false,false,false,false,false,false,false,{"$f":"IF(R21,IF(AND(LEN(P21)=7,COUNTIF(集荷不可!$A:$A,P21)=0),FALSE,TRUE),FALSE)","v":false},false,false]
[null,null,null,null,null,null,null,null,null,null,null,null,null,null,null,"","",false,{"$f":"CheckIzonMoji(A22)","v":false},false,{"$f":"CheckKana(B22)","v":false},false,false,false,false,false,false,false,false,false,false,false,false,{"$f":"IF(R22,IF(AND(LEN(P22)=7,COUNTIF(集荷不可!$A:$A,P22)=0),FALSE,TRUE),FALSE)","v":false},false,false]
[null,null,null,null,null,null,null,null,null,null,null,null,null,null,null,"","",false,{"$f":"CheckIzonMoji(A23)","v":false},false,{"$f":"CheckKana(B23)","v":false},false,false,false,false,false,false,false,false,false,false,false,false,{"$f":"IF(R23,IF(AND(LEN(P23)=7,COUNTIF(集荷不可!$A:$A,P23)=0),FALSE,TRUE),FALSE)","v":false},false,false]
[null,null,null,null,null,null,null,null,null,null,null,null,null,null,null,"","",false,{"$f":"CheckIzonMoji(A24)","v":false},false,{"$f":"CheckKana(B24)","v":false},false,false,false,false,false,false,false,false,false,false,false,false,{"$f":"IF(R24,IF(AND(LEN(P24)=7,COUNTIF(集荷不可!$A:$A,P24)=0),FALSE,TRUE),FALSE)","v":false},false,false]
[null,null,null,null,null,null,null,null,null,null,null,null,null,null,null,"","",false,{"$f":"CheckIzonMoji(A25)","v":false},false,{"$f":"CheckKana(B25)","v":false},false,false,false,false,false,false,false,false,false,false,false,false,{"$f":"IF(R25,IF(AND(LEN(P25)=7,COUNTIF(集荷不可!$A:$A,P25)=0),FALSE,TRUE),FALSE)","v":false},false,false]
[null,null,null,null,null,null,null,null,null,null,null,null,null,null,null,"","",false,{"$f":"CheckIzonMoji(A26)","v":false},false,{"$f":"CheckKana(B26)","v":false},false,false,false,false,false,false,false,false,false,false,false,false,{"$f":"IF(R26,IF(AND(LEN(P26)=7,COUNTIF(集荷不可!$A:$A,P26)=0),FALSE,TRUE),FALSE)","v":false},false,false]
[null,null,null,null,null,null,null,null,null,null,null,null,null,null,null,"","",false,{"$f":"CheckIzonMoji(A27)","v":false},false,{"$f":"CheckKana(B27)","v":false},false,false,false,false,false,false,false,false,false,false,false,false,{"$f":"IF(R27,IF(AND(LEN(P27)=7,COUNTIF(集荷不可!$A:$A,P27)=0),FALSE,TRUE),FALSE)","v":false},false,false]
[null,null,null,null,null,null,null,null,null,null,null,null,null,null,null,"","",false,{"$f":"CheckIzonMoji(A28)","v":false},false,{"$f":"CheckKana(B28)","v":false},false,false,false,false,false,false,false,false,false,false,false,false,{"$f":"IF(R28,IF(AND(LEN(P28)=7,COUNTIF(集荷不可!$A:$A,P28)=0),FALSE,TRUE),FALSE)","v":false},false,false]
[null,null,null,null,null,null,null,null,null,null,null,null,null,null,null,"","",false,{"$f":"CheckIzonMoji(A29)","v":false},false,{"$f":"CheckKana(B29)","v":false},false,false,false,false,false,false,false,false,false,false,false,false,{"$f":"IF(R29,IF(AND(LEN(P29)=7,COUNTIF(集荷不可!$A:$A,P29)=0),FALSE,TRUE),FALSE)","v":false},false,false]
[null,null,null,null,null,null,null,null,null,null,null,null,null,null,null,"","",false,{"$f":"CheckIzonMoji(A30)","v":false},false,{"$f":"CheckKana(B30)","v":false},false,false,false,false,false,false,false,false,false,false,false,false,{"$f":"IF(R30,IF(AND(LEN(P30)=7,COUNTIF(集荷不可!$A:$A,P30)=0),FALSE,TRUE),FALSE)","v":false},false,false]
[null,null,null,null,null,null,null,null,null,null,null,null,null,null,null,"","",false,{"$f":"CheckIzonMoji(A31)","v":false},false,{"$f":"CheckKana(B31)","v":false},false,false,false,false,false,false,false,false,false,false,false,false,{"$f":"IF(R31,IF(AND(LEN(P31)=7,COUNTIF(集荷不可!$A:$A,P31)=0),FALSE,TRUE),FALSE)","v":false},false,false]
[null,null,null,null,null,null,null,null,null,null,null,null,null,null,null,"","",false,{"$f":"CheckIzonMoji(A32)","v":false},false,{"$f":"CheckKana(B32)","v":false},false,false,false,false,false,false,false,false,false,false,false,false,{"$f":"IF(R32,IF(AND(LEN(P32)=7,COUNTIF(集荷不可!$A:$A,P32)=0),FALSE,TRUE),FALSE)","v":false},false,false]
[null,null,null,null,null,null,null,null,null,null,null,null,null,null,null,"","",false,{"$f":"CheckIzonMoji(A33)","v":false},false,{"$f":"CheckKana(B33)","v":false},false,false,false,false,false,false,false,false,false,false,false,false,{"$f":"IF(R33,IF(AND(LEN(P33)=7,COUNTIF(集荷不可!$A:$A,P33)=0),FALSE,TRUE),FALSE)","v":false},false,false]
[null,null,null,null,null,null,null,null,null,null,null,null,null,null,null,"","",false,{"$f":"CheckIzonMoji(A34)","v":false},false,{"$f":"CheckKana(B34)","v":false},false,false,false,false,false,false,false,false,false,false,false,false,{"$f":"IF(R34,IF(AND(LEN(P34)=7,COUNTIF(集荷不可!$A:$A,P34)=0),FALSE,TRUE),FALSE)","v":false},false,false]
[null,null,null,null,null,null,null,null,null,null,null,null,null,null,null,"","",false,{"$f":"CheckIzonMoji(A35)","v":false},false,{"$f":"CheckKana(B35)","v":false},false,false,false,false,false,false,false,false,false,false,false,false,{"$f":"IF(R35,IF(AND(LEN(P35)=7,COUNTIF(集荷不可!$A:$A,P35)=0),FALSE,TRUE),FALSE)","v":false},false,false]
[null,null,null,null,null,null,null,null,null,null,null,null,null,null,null,"","",false,{"$f":"CheckIzonMoji(A36)","v":false},false,{"$f":"CheckKana(B36)","v":false},false,false,false,false,false,false,false,false,false,false,false,false,{"$f":"IF(R36,IF(AND(LEN(P36)=7,COUNTIF(集荷不可!$A:$A,P36)=0),FALSE,TRUE),FALSE)","v":false},false,false]
[null,null,null,null,null,null,null,null,null,null,null,null,null,null,null,"","",false,{"$f":"CheckIzonMoji(A37)","v":false},false,{"$f":"CheckKana(B37)","v":false},false,false,false,false,false,false,false,false,false,false,false,false,{"$f":"IF(R37,IF(AND(LEN(P37)=7,COUNTIF(集荷不可!$A:$A,P37)=0),FALSE,TRUE),FALSE)","v":false},false,false]
[null,null,null,null,null,null,null,null,null,null,null,null,null,null,null,"","",false,{"$f":"CheckIzonMoji(A38)","v":false},false,{"$f":"CheckKana(B38)","v":false},false,false,false,false,false,false,false,false,false,false,false,false,{"$f":"IF(R38,IF(AND(LEN(P38)=7,COUNTIF(集荷不可!$A:$A,P38)=0),FALSE,TRUE),FALSE)","v":false},false,false]
[null,null,null,null,null,null,null,null,null,null,null,null,null,null,null,"","",false,{"$f":"CheckIzonMoji(A39)","v":false},false,{"$f":"CheckKana(B39)","v":false},false,false,false,false,false,false,false,false,false,false,false,false,{"$f":"IF(R39,IF(AND(LEN(P39)=7,COUNTIF(集荷不可!$A:$A,P39)=0),FALSE,TRUE),FALSE)","v":false},false,false]
[null,null,null,null,null,null,null,null,null,null,null,null,null,null,null,"","",false,{"$f":"CheckIzonMoji(A40)","v":false},false,{"$f":"CheckKana(B40)","v":false},false,false,false,false,false,false,false,false,false,false,false,false,{"$f":"IF(R40,IF(AND(LEN(P40)=7,COUNTIF(集荷不可!$A:$A,P40)=0),FALSE,TRUE),FALSE)","v":false},false,false]
[null,null,null,null,null,null,null,null,null,null,null,null,null,null,null,"","",false,{"$f":"CheckIzonMoji(A41)","v":false},false,{"$f":"CheckKana(B41)","v":false},false,false,false,false,false,false,false,false,false,false,false,false,{"$f":"IF(R41,IF(AND(LEN(P41)=7,COUNTIF(集荷不可!$A:$A,P41)=0),FALSE,TRUE),FALSE)","v":false},false,false]
[null,null,null,null,null,null,null,null,null,null,null,null,null,null,null,"","",false,{"$f":"CheckIzonMoji(A42)","v":false},false,{"$f":"CheckKana(B42)","v":false},false,false,false,false,false,false,false,false,false,false,false,false,{"$f":"IF(R42,IF(AND(LEN(P42)=7,COUNTIF(集荷不可!$A:$A,P42)=0),FALSE,TRUE),FALSE)","v":false},false,false]
[null,null,null,null,null,null,null,null,null,null,null,null,null,null,null,"","",false,{"$f":"CheckIzonMoji(A43)","v":false},false,{"$f":"CheckKana(B43)","v":false},false,false,false,false,false,false,false,false,false,false,false,false,{"$f":"IF(R43,IF(AND(LEN(P43)=7,COUNTIF(集荷不可!$A:$A,P43)=0),FALSE,TRUE),FALSE)","v":false},false,false]
[null,null,null,null,null,null,null,null,null,null,null,null,null,null,null,"","",false,{"$f":"CheckIzonMoji(A44)","v":false},false,{"$f":"CheckKana(B44)","v":false},false,false,false,false,false,false,false,false,false,false,false,false,{"$f":"IF(R44,IF(AND(LEN(P44)=7,COUNTIF(集荷不可!$A:$A,P44)=0),FALSE,TRUE),FALSE)","v":false},false,false]
[null,null,null,null,null,null,null,null,null,null,null,null,null,null,null,"","",false,{"$f":"CheckIzonMoji(A45)","v":false},false,{"$f":"CheckKana(B45)","v":false},false,false,false,false,false,false,false,false,false,false,false,false,{"$f":"IF(R45,IF(AND(LEN(P45)=7,COUNTIF(集荷不可!$A:$A,P45)=0),FALSE,TRUE),FALSE)","v":false},false,false]
[null,null,null,null,null,null,null,null,null,null,null,null,null,null,null,"","",false,{"$f":"CheckIzonMoji(A46)","v":false},false,{"$f":"CheckKana(B46)","v":false},false,false,false,false,false,false,false,false,false,false,false,false,{"$f":"IF(R46,IF(AND(LEN(P46)=7,COUNTIF(集荷不可!$A:$A,P46)=0),FALSE,TRUE),FALSE)","v":false},false,false]
[null,null,null,null,null,null,null,null,null,null,null,null,null,null,null,"","",false,{"$f":"CheckIzonMoji(A47)","v":false},false,{"$f":"CheckKana(B47)","v":false},false,false,false,false,false,false,false,false,false,false,false,false,{"$f":"IF(R47,IF(AND(LEN(P47)=7,COUNTIF(集荷不可!$A:$A,P47)=0),FALSE,TRUE),FALSE)","v":false},false,false]
[null,null,null,null,null,null,null,null,null,null,null,null,null,null,null,"","",false,{"$f":"CheckIzonMoji(A48)","v":false},false,{"$f":"CheckKana(B48)","v":false},false,false,false,false,false,false,false,false,false,false,false,false,{"$f":"IF(R48,IF(AND(LEN(P48)=7,COUNTIF(集荷不可!$A:$A,P48)=0),FALSE,TRUE),FALSE)","v":false},false,false]
[null,null,null,null,null,null,null,null,null,null,null,null,null,null,null,"","",false,{"$f":"CheckIzonMoji(A49)","v":false},false,{"$f":"CheckKana(B49)","v":false},false,false,false,false,false,false,false,false,false,false,false,false,{"$f":"IF(R49,IF(AND(LEN(P49)=7,COUNTIF(集荷不可!$A:$A,P49)=0),FALSE,TRUE),FALSE)","v":false},false,false]
[null,null,null,null,null,null,null,null,null,null,null,null,null,null,null,"","",false,{"$f":"CheckIzonMoji(A50)","v":false},false,{"$f":"CheckKana(B50)","v":false},false,false,false,false,false,false,false,false,false,false,false,false,{"$f":"IF(R50,IF(AND(LEN(P50)=7,COUNTIF(集荷不可!$A:$A,P50)=0),FALSE,TRUE),FALSE)","v":false},false,false]
[null,null,null,null,null,null,null,null,null,null,null,null,null,null,null,"","",false,{"$f":"CheckIzonMoji(A51)","v":false},false,{"$f":"CheckKana(B51)","v":false},false,false,false,false,false,false,false,false,false,false,false,false,{"$f":"IF(R51,IF(AND(LEN(P51)=7,COUNTIF(集荷不可!$A:$A,P51)=0),FALSE,TRUE),FALSE)","v":false},false,false]
[null,null,null,null,null,null,null,null,null,null,null,null,null,null,null,"","",false,{"$f":"CheckIzonMoji(A52)","v":false},false,{"$f":"CheckKana(B52)","v":false},false,false,false,false,false,false,false,false,false,false,false,false,{"$f":"IF(R52,IF(AND(LEN(P52)=7,COUNTIF(集荷不可!$A:$A,P52)=0),FALSE,TRUE),FALSE)","v":false},false,false]
[null,null,null,null,null,null,null,null,null,null,null,null,null,null,null,"","",false,{"$f":"CheckIzonMoji(A53)","v":false},false,{"$f":"CheckKana(B53)","v":false},false,false,false,false,false,false,false,false,false,false,false,false,{"$f":"IF(R53,IF(AND(LEN(P53)=7,COUNTIF(集荷不可!$A:$A,P53)=0),FALSE,TRUE),FALSE)","v":false},false,false]
[null,null,null,null,null,null,null,null,null,null,null,null,null,null,null,"","",false,{"$f":"CheckIzonMoji(A54)","v":false},false,{"$f":"CheckKana(B54)","v":false},false,false,false,false,false,false,false,false,false,false,false,false,{"$f":"IF(R54,IF(AND(LEN(P54)=7,COUNTIF(集荷不可!$A:$A,P54)=0),FALSE,TRUE),FALSE)","v":false},false,false]
[null,null,null,null,null,null,null,null,null,null,null,null,null,null,null,"","",false,{"$f":"CheckIzonMoji(A55)","v":false},false,{"$f":"CheckKana(B55)","v":false},false,false,false,false,false,false,false,false,false,false,false,false,{"$f":"IF(R55,IF(AND(LEN(P55)=7,COUNTIF(集荷不可!$A:$A,P55)=0),FALSE,TRUE),FALSE)","v":false},false,false]
[null,null,null,null,null,null,null,null,null,null,null,null,null,null,null,"","",false,{"$f":"CheckIzonMoji(A56)","v":false},false,{"$f":"CheckKana(B56)","v":false},false,false,false,false,false,false,false,false,false,false,false,false,{"$f":"IF(R56,IF(AND(LEN(P56)=7,COUNTIF(集荷不可!$A:$A,P56)=0),FALSE,TRUE),FALSE)","v":false},false,false]
[null,null,null,null,null,null,null,null,null,null,null,null,null,null,null,"","",false,{"$f":"CheckIzonMoji(A57)","v":false},false,{"$f":"CheckKana(B57)","v":false},false,false,false,false,false,false,false,false,false,false,false,false,{"$f":"IF(R57,IF(AND(LEN(P57)=7,COUNTIF(集荷不可!$A:$A,P57)=0),FALSE,TRUE),FALSE)","v":false},false,false]
[null,null,null,null,null,null,null,null,null,null,null,null,null,null,null,"","",false,{"$f":"CheckIzonMoji(A58)","v":false},false,{"$f":"CheckKana(B58)","v":false},false,false,false,false,false,false,false,false,false,false,false,false,{"$f":"IF(R58,IF(AND(LEN(P58)=7,COUNTIF(集荷不可!$A:$A,P58)=0),FALSE,TRUE),FALSE)","v":false},false,false]
[null,null,null,null,null,null,null,null,null,null,null,null,null,null,null,"","",false,{"$f":"CheckIzonMoji(A59)","v":false},false,{"$f":"CheckKana(B59)","v":false},false,false,false,false,false,false,false,false,false,false,false,false,{"$f":"IF(R59,IF(AND(LEN(P59)=7,COUNTIF(集荷不可!$A:$A,P59)=0),FALSE,TRUE),FALSE)","v":false},false,false]
[null,null,null,null,null,null,null,null,null,null,null,null,null,null,null,"","",false,{"$f":"CheckIzonMoji(A60)","v":false},false,{"$f":"CheckKana(B60)","v":false},false,false,false,false,false,false,false,false,false,false,false,false,{"$f":"IF(R60,IF(AND(LEN(P60)=7,COUNTIF(集荷不可!$A:$A,P60)=0),FALSE,TRUE),FALSE)","v":false},false,false]
[null,null,null,null,null,null,null,null,null,null,null,null,null,null,null,"","",false,{"$f":"CheckIzonMoji(A61)","v":false},false,{"$f":"CheckKana(B61)","v":false},false,false,false,false,false,false,false,false,false,false,false,false,{"$f":"IF(R61,IF(AND(LEN(P61)=7,COUNTIF(集荷不可!$A:$A,P61)=0),FALSE,TRUE),FALSE)","v":false},false,false]
[null,null,null,null,null,null,null,null,null,null,null,null,null,null,null,"","",false,{"$f":"CheckIzonMoji(A62)","v":false},false,{"$f":"CheckKana(B62)","v":false},false,false,false,false,false,false,false,false,false,false,false,false,{"$f":"IF(R62,IF(AND(LEN(P62)=7,COUNTIF(集荷不可!$A:$A,P62)=0),FALSE,TRUE),FALSE)","v":false},false,false]
[null,null,null,null,null,null,null,null,null,null,null,null,null,null,null,"","",false,{"$f":"CheckIzonMoji(A63)","v":false},false,{"$f":"CheckKana(B63)","v":false},false,false,false,false,false,false,false,false,false,false,false,false,{"$f":"IF(R63,IF(AND(LEN(P63)=7,COUNTIF(集荷不可!$A:$A,P63)=0),FALSE,TRUE),FALSE)","v":false},false,false]
[null,null,null,null,null,null,null,null,null,null,null,null,null,null,null,"","",false,{"$f":"CheckIzonMoji(A64)","v":false},false,{"$f":"CheckKana(B64)","v":false},false,false,false,false,false,false,false,false,false,false,false,false,{"$f":"IF(R64,IF(AND(LEN(P64)=7,COUNTIF(集荷不可!$A:$A,P64)=0),FALSE,TRUE),FALSE)","v":false},false,false]
[null,null,null,null,null,null,null,null,null,null,null,null,null,null,null,"","",false,{"$f":"CheckIzonMoji(A65)","v":false},false,{"$f":"CheckKana(B65)","v":false},false,false,false,false,false,false,false,false,false,false,false,false,{"$f":"IF(R65,IF(AND(LEN(P65)=7,COUNTIF(集荷不可!$A:$A,P65)=0),FALSE,TRUE),FALSE)","v":false},false,false]
[null,null,null,null,null,null,null,null,null,null,null,null,null,null,null,"","",false,{"$f":"CheckIzonMoji(A66)","v":false},false,{"$f":"CheckKana(B66)","v":false},false,false,false,false,false,false,false,false,false,false,false,false,{"$f":"IF(R66,IF(AND(LEN(P66)=7,COUNTIF(集荷不可!$A:$A,P66)=0),FALSE,TRUE),FALSE)","v":false},false,false]
[null,null,null,null,null,null,null,null,null,null,null,null,null,null,null,"","",false,{"$f":"CheckIzonMoji(A67)","v":false},false,{"$f":"CheckKana(B67)","v":false},false,false,false,false,false,false,false,false,false,false,false,false,{"$f":"IF(R67,IF(AND(LEN(P67)=7,COUNTIF(集荷不可!$A:$A,P67)=0),FALSE,TRUE),FALSE)","v":false},false,false]
[null,null,null,null,null,null,null,null,null,null,null,null,null,null,null,"","",false,{"$f":"CheckIzonMoji(A68)","v":false},false,{"$f":"CheckKana(B68)","v":false},false,false,false,false,false,false,false,false,false,false,false,false,{"$f":"IF(R68,IF(AND(LEN(P68)=7,COUNTIF(集荷不可!$A:$A,P68)=0),FALSE,TRUE),FALSE)","v":false},false,false]
[null,null,null,null,null,null,null,null,null,null,null,null,null,null,null,"","",false,{"$f":"CheckIzonMoji(A69)","v":false},false,{"$f":"CheckKana(B69)","v":false},false,false,false,false,false,false,false,false,false,false,false,false,{"$f":"IF(R69,IF(AND(LEN(P69)=7,COUNTIF(集荷不可!$A:$A,P69)=0),FALSE,TRUE),FALSE)","v":false},false,false]
[null,null,null,null,null,null,null,null,null,null,null,null,null,null,null,"","",false,{"$f":"CheckIzonMoji(A70)","v":false},false,{"$f":"CheckKana(B70)","v":false},false,false,false,false,false,false,false,false,false,false,false,false,{"$f":"IF(R70,IF(AND(LEN(P70)=7,COUNTIF(集荷不可!$A:$A,P70)=0),FALSE,TRUE),FALSE)","v":false},false,false]
[null,null,null,null,null,null,null,null,null,null,null,null,null,null,null,"","",{"$f":"IF(LEN(A71&B71&C71&D71&E71&F71&G71&H71&I71&J71&K71&L71&M71&N71&O71)=0,FALSE,TRUE)","v":false},{"$f":"CheckIzonMoji(A71)","v":false},{"$f":"IF(R71,IF(AND(0<LENB(A71),LENB(A71)<33),FALSE,TRUE),FALSE)","v":false},{"$f":"CheckKana(B71)","v":false},{"$f":"IF(R71,IF(AND(0<LENB(B71),LENB(B71)<33),FALSE,TRUE),FALSE)","v":false},{"$f":"IF(R71,IF(C71=\"\",TRUE,FALSE),FALSE)","v":false},{"$f":"IF(R71,IF(OR(D71=\"\",ISERR(DAY(D71))),TRUE,FALSE),FALSE)","v":false},{"$f":"IF(R71,IF(E71=\"\",TRUE,FALSE),FALSE)","v":false},{"$f":"IF(R71,IF(AND(LENB(G71)>1,LENB(G71)<65),FALSE,TRUE),FALSE)","v":false},{"$f":"IF(LENB(H71)<33,FALSE,TRUE)","v":false},{"$f":"IF(LENB(I71)<51,FALSE,TRUE)","v":false},{"$f":"IF(LENB(J71)<51,FALSE,TRUE)","v":false},{"$f":"IF(R71,IF(AND(LENB(K71)>2,LENB(K71)<16),FALSE,TRUE),FALSE)","v":false},{"$f":"IF(R71,IF(AND(0<LENB(L71),LENB(L71)<61),FALSE,TRUE),FALSE)","v":false},{"$f":"IF(R71,IF(AND(LENB(M71)<9),FALSE,TRUE),FALSE)","v":false},{"$f":"IF(R71,IF(O71=\"\",TRUE,FALSE),FALSE)","v":false},{"$f":"IF(R71,IF(AND(LEN(P71)=7,COUNTIF(集荷不可!$A:$A,P71)=0),FALSE,TRUE),FALSE)","v":false},{"$f":"IF(ISERROR(FIND(\".@\",L71)),FALSE,TRUE)","v":false},{"$f":"IF(LENB(N71)<9,FALSE,TRUE)","v":false}]
[null,null,null,null,null,null,null,null,null,null,null,null,null,null,null,"","",false,{"$f":"CheckIzonMoji(A72)","v":false},false,{"$f":"CheckKana(B72)","v":false},false,false,false,false,false,false,false,false,false,false,false,false,{"$f":"IF(R72,IF(AND(LEN(P72)=7,COUNTIF(集荷不可!$A:$A,P72)=0),FALSE,TRUE),FALSE)","v":false},false,false]
[null,null,null,null,null,null,null,null,null,null,null,null,null,null,null,{"$f":"SUBSTITUTE(F73,\"-\",\"\")","v":""},{"$f":"LEFT(O73,1)","v":""},false,{"$f":"CheckIzonMoji(A73)","v":false},false,{"$f":"CheckKana(B73)","v":false},false,false,false,false,false,false,false,false,false,false,false,false,{"$f":"IF(R73,IF(AND(LEN(P73)=7,COUNTIF(集荷不可!$A:$A,P73)=0),FALSE,TRUE),FALSE)","v":false},false,false]
[null,null,null,null,null,null,null,null,null,null,null,null,null,null,null,"","",false,{"$f":"CheckIzonMoji(A74)","v":false},false,{"$f":"CheckKana(B74)","v":false},false,false,false,false,false,false,false,false,false,false,false,false,{"$f":"IF(R74,IF(AND(LEN(P74)=7,COUNTIF(集荷不可!$A:$A,P74)=0),FALSE,TRUE),FALSE)","v":false},false,false]
[null,null,null,null,null,null,null,null,null,null,null,null,null,null,null,"","",false,{"$f":"CheckIzonMoji(A75)","v":false},false,{"$f":"CheckKana(B75)","v":false},false,false,false,false,false,false,false,false,false,false,false,false,{"$f":"IF(R75,IF(AND(LEN(P75)=7,COUNTIF(集荷不可!$A:$A,P75)=0),FALSE,TRUE),FALSE)","v":false},false,false]
[null,null,null,null,null,null,null,null,null,null,null,null,null,null,null,"","",false,{"$f":"CheckIzonMoji(A76)","v":false},false,{"$f":"CheckKana(B76)","v":false},false,false,false,false,false,false,false,false,false,false,false,false,{"$f":"IF(R76,IF(AND(LEN(P76)=7,COUNTIF(集荷不可!$A:$A,P76)=0),FALSE,TRUE),FALSE)","v":false},false,false]
[null,null,null,null,null,null,null,null,null,null,null,null,null,null,null,"","",false,{"$f":"CheckIzonMoji(A77)","v":false},false,{"$f":"CheckKana(B77)","v":false},false,false,false,false,false,false,false,false,false,false,false,false,{"$f":"IF(R77,IF(AND(LEN(P77)=7,COUNTIF(集荷不可!$A:$A,P77)=0),FALSE,TRUE),FALSE)","v":false},false,false]
[null,null,null,null,null,null,null,null,null,null,null,null,null,null,null,"","",false,{"$f":"CheckIzonMoji(A78)","v":false},false,{"$f":"CheckKana(B78)","v":false},false,false,false,false,false,false,false,false,false,false,false,false,{"$f":"IF(R78,IF(AND(LEN(P78)=7,COUNTIF(集荷不可!$A:$A,P78)=0),FALSE,TRUE),FALSE)","v":false},false,false]
[null,null,null,null,null,null,null,null,null,null,null,null,null,null,null,"","",false,{"$f":"CheckIzonMoji(A79)","v":false},false,{"$f":"CheckKana(B79)","v":false},false,false,false,false,false,false,false,false,false,false,false,false,{"$f":"IF(R79,IF(AND(LEN(P79)=7,COUNTIF(集荷不可!$A:$A,P79)=0),FALSE,TRUE),FALSE)","v":false},false,false]
[null,null,null,null,null,null,null,null,null,null,null,null,null,null,null,"","",false,{"$f":"CheckIzonMoji(A80)","v":false},false,{"$f":"CheckKana(B80)","v":false},false,false,false,false,false,false,false,false,false,false,false,false,{"$f":"IF(R80,IF(AND(LEN(P80)=7,COUNTIF(集荷不可!$A:$A,P80)=0),FALSE,TRUE),FALSE)","v":false},false,false]
[null,null,null,null,null,null,null,null,null,null,null,null,null,null,null,"","",false,{"$f":"CheckIzonMoji(A81)","v":false},false,{"$f":"CheckKana(B81)","v":false},false,false,false,false,false,false,false,false,false,false,false,false,{"$f":"IF(R81,IF(AND(LEN(P81)=7,COUNTIF(集荷不可!$A:$A,P81)=0),FALSE,TRUE),FALSE)","v":false},false,false]
[null,null,null,null,null,null,null,null,null,null,null,null,null,null,null,"","",false,{"$f":"CheckIzonMoji(A82)","v":false},false,{"$f":"CheckKana(B82)","v":false},false,false,false,false,false,false,false,false,false,false,false,false,{"$f":"IF(R82,IF(AND(LEN(P82)=7,COUNTIF(集荷不可!$A:$A,P82)=0),FALSE,TRUE),FALSE)","v":false},false,false]
[null,null,null,null,null,null,null,null,null,null,null,null,null,null,null,"","",false,{"$f":"CheckIzonMoji(A83)","v":false},false,{"$f":"CheckKana(B83)","v":false},false,false,false,false,false,false,false,false,false,false,false,false,{"$f":"IF(R83,IF(AND(LEN(P83)=7,COUNTIF(集荷不可!$A:$A,P83)=0),FALSE,TRUE),FALSE)","v":false},false,false]
[null,null,null,null,null,null,null,null,null,null,null,null,null,null,null,"","",false,{"$f":"CheckIzonMoji(A84)","v":false},false,{"$f":"CheckKana(B84)","v":false},false,false,false,false,false,false,false,false,false,false,false,false,{"$f":"IF(R84,IF(AND(LEN(P84)=7,COUNTIF(集荷不可!$A:$A,P84)=0),FALSE,TRUE),FALSE)","v":false},false,false]
[null,null,null,null,null,null,null,null,null,null,null,null,null,null,null,"","",false,{"$f":"CheckIzonMoji(A85)","v":false},false,{"$f":"CheckKana(B85)","v":false},false,false,false,false,false,false,false,false,false,false,false,false,{"$f":"IF(R85,IF(AND(LEN(P85)=7,COUNTIF(集荷不可!$A:$A,P85)=0),FALSE,TRUE),FALSE)","v":false},false,false]
[null,null,null,null,null,null,null,null,null,null,null,null,null,null,null,"","",false,{"$f":"CheckIzonMoji(A86)","v":false},false,{"$f":"CheckKana(B86)","v":false},false,false,false,false,false,false,false,false,false,false,false,false,{"$f":"IF(R86,IF(AND(LEN(P86)=7,COUNTIF(集荷不可!$A:$A,P86)=0),FALSE,TRUE),FALSE)","v":false},false,false]
[null,null,null,null,null,null,null,null,null,null,null,null,null,null,null,"","",false,{"$f":"CheckIzonMoji(A87)","v":false},false,{"$f":"CheckKana(B87)","v":false},false,false,false,false,false,false,false,false,false,false,false,false,{"$f":"IF(R87,IF(AND(LEN(P87)=7,COUNTIF(集荷不可!$A:$A,P87)=0),FALSE,TRUE),FALSE)","v":false},false,false]
[null,null,null,null,null,null,null,null,null,null,null,null,null,null,null,"","",false,{"$f":"CheckIzonMoji(A88)","v":false},false,{"$f":"CheckKana(B88)","v":false},false,false,false,false,false,false,false,false,false,false,false,false,{"$f":"IF(R88,IF(AND(LEN(P88)=7,COUNTIF(集荷不可!$A:$A,P88)=0),FALSE,TRUE),FALSE)","v":false},false,false]
[null,null,null,null,null,null,null,null,null,null,null,null,null,null,null,"","",false,{"$f":"CheckIzonMoji(A89)","v":false},false,{"$f":"CheckKana(B89)","v":false},false,false,false,false,false,false,false,false,false,false,false,false,{"$f":"IF(R89,IF(AND(LEN(P89)=7,COUNTIF(集荷不可!$A:$A,P89)=0),FALSE,TRUE),FALSE)","v":false},false,false]
[null,null,null,null,null,null,null,null,null,null,null,null,null,null,null,"","",false,{"$f":"CheckIzonMoji(A90)","v":false},false,{"$f":"CheckKana(B90)","v":false},false,false,false,false,false,false,false,false,false,false,false,false,{"$f":"IF(R90,IF(AND(LEN(P90)=7,COUNTIF(集荷不可!$A:$A,P90)=0),FALSE,TRUE),FALSE)","v":false},false,false]
[null,null,null,null,null,null,null,null,null,null,null,null,null,null,null,"","",false,{"$f":"CheckIzonMoji(A91)","v":false},false,{"$f":"CheckKana(B91)","v":false},false,false,false,false,false,false,false,false,false,false,false,false,{"$f":"IF(R91,IF(AND(LEN(P91)=7,COUNTIF(集荷不可!$A:$A,P91)=0),FALSE,TRUE),FALSE)","v":false},false,false]
[null,null,null,null,null,null,null,null,null,null,null,null,null,null,null,"","",false,{"$f":"CheckIzonMoji(A92)","v":false},false,{"$f":"CheckKana(B92)","v":false},false,false,false,false,false,false,false,false,false,false,false,false,{"$f":"IF(R92,IF(AND(LEN(P92)=7,COUNTIF(集荷不可!$A:$A,P92)=0),FALSE,TRUE),FALSE)","v":false},false,false]
[null,null,null,null,null,null,null,null,null,null,null,null,null,null,null,"","",false,{"$f":"CheckIzonMoji(A93)","v":false},false,{"$f":"CheckKana(B93)","v":false},false,false,false,false,false,false,false,false,false,false,false,false,{"$f":"IF(R93,IF(AND(LEN(P93)=7,COUNTIF(集荷不可!$A:$A,P93)=0),FALSE,TRUE),FALSE)","v":false},false,false]
[null,null,null,null,null,null,null,null,null,null,null,null,null,null,null,"","",false,{"$f":"CheckIzonMoji(A94)","v":false},false,{"$f":"CheckKana(B94)","v":false},false,false,false,false,false,false,false,false,false,false,false,false,{"$f":"IF(R94,IF(AND(LEN(P94)=7,COUNTIF(集荷不可!$A:$A,P94)=0),FALSE,TRUE),FALSE)","v":false},false,false]
[null,null,null,null,null,null,null,null,null,null,null,null,null,null,null,"","",false,{"$f":"CheckIzonMoji(A95)","v":false},false,{"$f":"CheckKana(B95)","v":false},false,false,false,false,false,false,false,false,false,false,false,false,{"$f":"IF(R95,IF(AND(LEN(P95)=7,COUNTIF(集荷不可!$A:$A,P95)=0),FALSE,TRUE),FALSE)","v":false},false,false]
[null,null,null,null,null,null,null,null,null,null,null,null,null,null,null,"","",false,{"$f":"CheckIzonMoji(A96)","v":false},false,{"$f":"CheckKana(B96)","v":false},false,false,false,false,false,false,false,false,false,false,false,false,{"$f":"IF(R96,IF(AND(LEN(P96)=7,COUNTIF(集荷不可!$A:$A,P96)=0),FALSE,TRUE),FALSE)","v":false},false,false]
[null,null,null,null,null,null,null,null,null,null,null,null,null,null,null,"","",false,{"$f":"CheckIzonMoji(A97)","v":false},false,{"$f":"CheckKana(B97)","v":false},false,false,false,false,false,false,false,false,false,false,false,false,{"$f":"IF(R97,IF(AND(LEN(P97)=7,COUNTIF(集荷不可!$A:$A,P97)=0),FALSE,TRUE),FALSE)","v":false},false,false]
[null,null,null,null,null,null,null,null,null,null,null,null,null,null,null,"","",false,{"$f":"CheckIzonMoji(A98)","v":false},false,{"$f":"CheckKana(B98)","v":false},false,false,false,false,false,false,false,false,false,false,false,false,{"$f":"IF(R98,IF(AND(LEN(P98)=7,COUNTIF(集荷不可!$A:$A,P98)=0),FALSE,TRUE),FALSE)","v":false},false,false]
[null,null,null,null,null,null,null,null,null,null,null,null,null,null,null,"","",false,{"$f":"CheckIzonMoji(A99)","v":false},false,{"$f":"CheckKana(B99)","v":false},false,false,false,false,false,false,false,false,false,false,false,false,{"$f":"IF(R99,IF(AND(LEN(P99)=7,COUNTIF(集荷不可!$A:$A,P99)=0),FALSE,TRUE),FALSE)","v":false},false,false]
[null,null,null,null,null,null,null,null,null,null,null,null,null,null,null,"","",false,{"$f":"CheckIzonMoji(A100)","v":false},false,{"$f":"CheckKana(B100)","v":false},false,false,false,false,false,false,false,false,false,false,false,false,{"$f":"IF(R100,IF(AND(LEN(P100)=7,COUNTIF(集荷不可!$A:$A,P100)=0),FALSE,TRUE),FALSE)","v":false},false,false]
[null,null,null,null,null,null,null,null,null,null,null,null,null,null,null,"","",false,{"$f":"CheckIzonMoji(A101)","v":false},false,{"$f":"CheckKana(B101)","v":false},false,false,false,false,false,false,false,false,false,false,false,false,{"$f":"IF(R101,IF(AND(LEN(P101)=7,COUNTIF(集荷不可!$A:$A,P101)=0),FALSE,TRUE),FALSE)","v":false},false,false]
[null,null,null,null,null,null,null,null,null,null,null,null,null,null,null,"","",false,{"$f":"CheckIzonMoji(A102)","v":false},false,{"$f":"CheckKana(B102)","v":false},false,false,false,false,false,false,false,false,false,false,false,false,{"$f":"IF(R102,IF(AND(LEN(P102)=7,COUNTIF(集荷不可!$A:$A,P102)=0),FALSE,TRUE),FALSE)","v":false},false,false]
[null,null,null,null,null,null,null,null,null,null,null,null,null,null,null,"","",false,{"$f":"CheckIzonMoji(A103)","v":false},false,{"$f":"CheckKana(B103)","v":false},false,false,false,false,false,false,false,false,false,false,false,false,{"$f":"IF(R103,IF(AND(LEN(P103)=7,COUNTIF(集荷不可!$A:$A,P103)=0),FALSE,TRUE),FALSE)","v":false},false,false]
[null,null,null,null,null,null,null,null,null,null,null,null,null,null,null,"","",false,{"$f":"CheckIzonMoji(A104)","v":false},false,{"$f":"CheckKana(B104)","v":false},false,false,false,false,false,false,false,false,false,false,false,false,{"$f":"IF(R104,IF(AND(LEN(P104)=7,COUNTIF(集荷不可!$A:$A,P104)=0),FALSE,TRUE),FALSE)","v":false},false,false]
[null,null,null,null,null,null,null,null,null,null,null,null,null,null,null,"","",false,{"$f":"CheckIzonMoji(A105)","v":false},false,{"$f":"CheckKana(B105)","v":false},false,false,false,false,false,false,false,false,false,false,false,false,{"$f":"IF(R105,IF(AND(LEN(P105)=7,COUNTIF(集荷不可!$A:$A,P105)=0),FALSE,TRUE),FALSE)","v":false},false,false]
[null,null,null,null,null,null,null,null,null,null,null,null,null,null,null,"","",false,{"$f":"CheckIzonMoji(A106)","v":false},false,{"$f":"CheckKana(B106)","v":false},false,false,false,false,false,false,false,false,false,false,false,false,{"$f":"IF(R106,IF(AND(LEN(P106)=7,COUNTIF(集荷不可!$A:$A,P106)=0),FALSE,TRUE),FALSE)","v":false},false,false]
[null,null,null,null,null,null,null,null,null,null,null,null,null,null,null,"","",false,{"$f":"CheckIzonMoji(A107)","v":false},false,{"$f":"CheckKana(B107)","v":false},false,false,false,false,false,false,false,false,false,false,false,false,{"$f":"IF(R107,IF(AND(LEN(P107)=7,COUNTIF(集荷不可!$A:$A,P107)=0),FALSE,TRUE),FALSE)","v":false},false,false]
[null,null,null,null,null,null,null,null,null,null,null,null,null,null,null,"","",false,{"$f":"CheckIzonMoji(A108)","v":false},false,{"$f":"CheckKana(B108)","v":false},false,false,false,false,false,false,false,false,false,false,false,false,{"$f":"IF(R108,IF(AND(LEN(P108)=7,COUNTIF(集荷不可!$A:$A,P108)=0),FALSE,TRUE),FALSE)","v":false},false,false]
[null,null,null,null,null,null,null,null,null,null,null,null,null,null,null,"","",false,{"$f":"CheckIzonMoji(A109)","v":false},false,{"$f":"CheckKana(B109)","v":false},false,false,false,false,false,false,false,false,false,false,false,false,{"$f":"IF(R109,IF(AND(LEN(P109)=7,COUNTIF(集荷不可!$A:$A,P109)=0),FALSE,TRUE),FALSE)","v":false},false,false]
[null,null,null,null,null,null,null,null,null,null,null,null,null,null,null,"","",false,{"$f":"CheckIzonMoji(A110)","v":false},false,{"$f":"CheckKana(B110)","v":false},false,false,false,false,false,false,false,false,false,false,false,false,{"$f":"IF(R110,IF(AND(LEN(P110)=7,COUNTIF(集荷不可!$A:$A,P110)=0),FALSE,TRUE),FALSE)","v":false},false,false]
[null,null,null,null,null,null,null,null,null,null,null,null,null,null,null,"","",false,{"$f":"CheckIzonMoji(A111)","v":false},false,{"$f":"CheckKana(B111)","v":false},false,false,false,false,false,false,false,false,false,false,false,false,{"$f":"IF(R111,IF(AND(LEN(P111)=7,COUNTIF(集荷不可!$A:$A,P111)=0),FALSE,TRUE),FALSE)","v":false},false,false]
[null,null,null,null,null,null,null,null,null,null,null,null,null,null,null,"","",false,{"$f":"CheckIzonMoji(A112)","v":false},false,{"$f":"CheckKana(B112)","v":false},false,false,false,false,false,false,false,false,false,false,false,false,{"$f":"IF(R112,IF(AND(LEN(P112)=7,COUNTIF(集荷不可!$A:$A,P112)=0),FALSE,TRUE),FALSE)","v":false},false,false]
[null,null,null,null,null,null,null,null,null,null,null,null,null,null,null,"","",false,{"$f":"CheckIzonMoji(A113)","v":false},false,{"$f":"CheckKana(B113)","v":false},false,false,false,false,false,false,false,false,false,false,false,false,{"$f":"IF(R113,IF(AND(LEN(P113)=7,COUNTIF(集荷不可!$A:$A,P113)=0),FALSE,TRUE),FALSE)","v":false},false,false]
[null,null,null,null,null,null,null,null,null,null,null,null,null,null,null,"","",false,{"$f":"CheckIzonMoji(A114)","v":false},false,{"$f":"CheckKana(B114)","v":false},false,false,false,false,false,false,false,false,false,false,false,false,{"$f":"IF(R114,IF(AND(LEN(P114)=7,COUNTIF(集荷不可!$A:$A,P114)=0),FALSE,TRUE),FALSE)","v":false},false,false]
[null,null,null,null,null,null,null,null,null,null,null,null,null,null,null,"","",false,{"$f":"CheckIzonMoji(A115)","v":false},false,{"$f":"CheckKana(B115)","v":false},false,false,false,false,false,false,false,false,false,false,false,false,{"$f":"IF(R115,IF(AND(LEN(P115)=7,COUNTIF(集荷不可!$A:$A,P115)=0),FALSE,TRUE),FALSE)","v":false},false,false]
[null,null,null,null,null,null,null,null,null,null,null,null,null,null,null,"","",false,{"$f":"CheckIzonMoji(A116)","v":false},false,{"$f":"CheckKana(B116)","v":false},false,false,false,false,false,false,false,false,false,false,false,false,{"$f":"IF(R116,IF(AND(LEN(P116)=7,COUNTIF(集荷不可!$A:$A,P116)=0),FALSE,TRUE),FALSE)","v":false},false,false]
[null,null,null,null,null,null,null,null,null,null,null,null,null,null,null,"","",false,{"$f":"CheckIzonMoji(A117)","v":false},false,{"$f":"CheckKana(B117)","v":false},false,false,false,false,false,false,false,false,false,false,false,false,{"$f":"IF(R117,IF(AND(LEN(P117)=7,COUNTIF(集荷不可!$A:$A,P117)=0),FALSE,TRUE),FALSE)","v":false},false,false]
[null,null,null,null,null,null,null,null,null,null,null,null,null,null,null,"","",false,{"$f":"CheckIzonMoji(A118)","v":false},false,{"$f":"CheckKana(B118)","v":false},false,false,false,false,false,false,false,false,false,false,false,false,{"$f":"IF(R118,IF(AND(LEN(P118)=7,COUNTIF(集荷不可!$A:$A,P118)=0),FALSE,TRUE),FALSE)","v":false},false,false]
[null,null,null,null,null,null,null,null,null,null,null,null,null,null,null,"","",false,{"$f":"CheckIzonMoji(A119)","v":false},false,{"$f":"CheckKana(B119)","v":false},false,false,false,false,false,false,false,false,false,false,false,false,{"$f":"IF(R119,IF(AND(LEN(P119)=7,COUNTIF(集荷不可!$A:$A,P119)=0),FALSE,TRUE),FALSE)","v":false},false,false]
[null,null,null,null,null,null,null,null,null,null,null,null,null,null,null,"","",false,{"$f":"CheckIzonMoji(A120)","v":false},false,{"$f":"CheckKana(B120)","v":false},false,false,false,false,false,false,false,false,false,false,false,false,{"$f":"IF(R120,IF(AND(LEN(P120)=7,COUNTIF(集荷不可!$A:$A,P120)=0),FALSE,TRUE),FALSE)","v":false},false,false]
[null,null,null,null,null,null,null,null,null,null,null,null,null,null,null,"","",false,{"$f":"CheckIzonMoji(A121)","v":false},false,{"$f":"CheckKana(B121)","v":false},false,false,false,false,false,false,false,false,false,false,false,false,{"$f":"IF(R121,IF(AND(LEN(P121)=7,COUNTIF(集荷不可!$A:$A,P121)=0),FALSE,TRUE),FALSE)","v":false},false,false]
[null,null,null,null,null,null,null,null,null,null,null,null,null,null,null,"","",false,{"$f":"CheckIzonMoji(A122)","v":false},false,{"$f":"CheckKana(B122)","v":false},false,false,false,false,false,false,false,false,false,false,false,false,{"$f":"IF(R122,IF(AND(LEN(P122)=7,COUNTIF(集荷不可!$A:$A,P122)=0),FALSE,TRUE),FALSE)","v":false},false,false]
[null,null,null,null,null,null,null,null,null,null,null,null,null,null,null,"","",false,{"$f":"CheckIzonMoji(A123)","v":false},false,{"$f":"CheckKana(B123)","v":false},false,false,false,false,false,false,false,false,false,false,false,false,{"$f":"IF(R123,IF(AND(LEN(P123)=7,COUNTIF(集荷不可!$A:$A,P123)=0),FALSE,TRUE),FALSE)","v":false},false,false]
[null,null,null,null,null,null,null,null,null,null,null,null,null,null,null,"","",false,{"$f":"CheckIzonMoji(A124)","v":false},false,{"$f":"CheckKana(B124)","v":false},false,false,false,false,false,false,false,false,false,false,false,false,{"$f":"IF(R124,IF(AND(LEN(P124)=7,COUNTIF(集荷不可!$A:$A,P124)=0),FALSE,TRUE),FALSE)","v":false},false,false]
[null,null,null,null,null,null,null,null,null,null,null,null,null,null,null,"","",false,{"$f":"CheckIzonMoji(A125)","v":false},false,{"$f":"CheckKana(B125)","v":false},false,false,false,false,false,false,false,false,false,false,false,false,{"$f":"IF(R125,IF(AND(LEN(P125)=7,COUNTIF(集荷不可!$A:$A,P125)=0),FALSE,TRUE),FALSE)","v":false},false,false]
[null,null,null,null,null,null,null,null,null,null,null,null,null,null,null,"","",false,{"$f":"CheckIzonMoji(A126)","v":false},false,{"$f":"CheckKana(B126)","v":false},false,false,false,false,false,false,false,false,false,false,false,false,{"$f":"IF(R126,IF(AND(LEN(P126)=7,COUNTIF(集荷不可!$A:$A,P126)=0),FALSE,TRUE),FALSE)","v":false},false,false]
[null,null,null,null,null,null,null,null,null,null,null,null,null,null,null,"","",false,{"$f":"CheckIzonMoji(A127)","v":false},false,{"$f":"CheckKana(B127)","v":false},false,false,false,false,false,false,false,false,false,false,false,false,{"$f":"IF(R127,IF(AND(LEN(P127)=7,COUNTIF(集荷不可!$A:$A,P127)=0),FALSE,TRUE),FALSE)","v":false},false,false]
[null,null,null,null,null,null,null,null,null,null,null,null,null,null,null,"","",false,{"$f":"CheckIzonMoji(A128)","v":false},false,{"$f":"CheckKana(B128)","v":false},false,false,false,false,false,false,false,false,false,false,false,false,{"$f":"IF(R128,IF(AND(LEN(P128)=7,COUNTIF(集荷不可!$A:$A,P128)=0),FALSE,TRUE),FALSE)","v":false},false,false]
[null,null,null,null,null,null,null,null,null,null,null,null,null,null,null,"","",false,{"$f":"CheckIzonMoji(A129)","v":false},false,{"$f":"CheckKana(B129)","v":false},false,false,false,false,false,false,false,false,false,false,false,false,{"$f":"IF(R129,IF(AND(LEN(P129)=7,COUNTIF(集荷不可!$A:$A,P129)=0),FALSE,TRUE),FALSE)","v":false},false,false]
[null,null,null,null,null,null,null,null,null,null,null,null,null,null,null,"","",false,{"$f":"CheckIzonMoji(A130)","v":false},false,{"$f":"CheckKana(B130)","v":false},false,false,false,false,false,false,false,false,false,false,false,false,{"$f":"IF(R130,IF(AND(LEN(P130)=7,COUNTIF(集荷不可!$A:$A,P130)=0),FALSE,TRUE),FALSE)","v":false},false,false]
[null,null,null,null,null,null,null,null,null,null,null,null,null,null,null,"","",false,{"$f":"CheckIzonMoji(A131)","v":false},false,{"$f":"CheckKana(B131)","v":false},false,false,false,false,false,false,false,false,false,false,false,false,{"$f":"IF(R131,IF(AND(LEN(P131)=7,COUNTIF(集荷不可!$A:$A,P131)=0),FALSE,TRUE),FALSE)","v":false},false,false]
[null,null,null,null,null,null,null,null,null,null,null,null,null,null,null,"","",false,{"$f":"CheckIzonMoji(A132)","v":false},false,{"$f":"CheckKana(B132)","v":false},false,false,false,false,false,false,false,false,false,false,false,false,{"$f":"IF(R132,IF(AND(LEN(P132)=7,COUNTIF(集荷不可!$A:$A,P132)=0),FALSE,TRUE),FALSE)","v":false},false,false]
[null,null,null,null,null,null,null,null,null,null,null,null,null,null,null,"","",false,{"$f":"CheckIzonMoji(A133)","v":false},false,{"$f":"CheckKana(B133)","v":false},false,false,false,false,false,false,false,false,false,false,false,false,{"$f":"IF(R133,IF(AND(LEN(P133)=7,COUNTIF(集荷不可!$A:$A,P133)=0),FALSE,TRUE),FALSE)","v":false},false,false]
[null,null,null,null,null,null,null,null,null,null,null,null,null,null,null,"","",false,{"$f":"CheckIzonMoji(A134)","v":false},false,{"$f":"CheckKana(B134)","v":false},false,false,false,false,false,false,false,false,false,false,false,false,{"$f":"IF(R134,IF(AND(LEN(P134)=7,COUNTIF(集荷不可!$A:$A,P134)=0),FALSE,TRUE),FALSE)","v":false},false,false]
[null,null,null,null,null,null,null,null,null,null,null,null,null,null,null,"","",{"$f":"IF(LEN(A135&B135&C135&D135&E135&F135&G135&H135&I135&J135&K135&L135&M135&N135&O135)=0,FALSE,TRUE)","v":false},{"$f":"CheckIzonMoji(A135)","v":false},{"$f":"IF(R135,IF(AND(0<LENB(A135),LENB(A135)<33),FALSE,TRUE),FALSE)","v":false},{"$f":"CheckKana(B135)","v":false},{"$f":"IF(R135,IF(AND(0<LENB(B135),LENB(B135)<33),FALSE,TRUE),FALSE)","v":false},{"$f":"IF(R135,IF(C135=\"\",TRUE,FALSE),FALSE)","v":false},{"$f":"IF(R135,IF(OR(D135=\"\",ISERR(DAY(D135))),TRUE,FALSE),FALSE)","v":false},{"$f":"IF(R135,IF(E135=\"\",TRUE,FALSE),FALSE)","v":false},{"$f":"IF(R135,IF(AND(LENB(G135)>1,LENB(G135)<65),FALSE,TRUE),FALSE)","v":false},{"$f":"IF(LENB(H135)<33,FALSE,TRUE)","v":false},{"$f":"IF(LENB(I135)<51,FALSE,TRUE)","v":false},{"$f":"IF(LENB(J135)<51,FALSE,TRUE)","v":false},{"$f":"IF(R135,IF(AND(LENB(K135)>2,LENB(K135)<16),FALSE,TRUE),FALSE)","v":false},{"$f":"IF(R135,IF(AND(0<LENB(L135),LENB(L135)<61),FALSE,TRUE),FALSE)","v":false},{"$f":"IF(R135,IF(AND(LENB(M135)<9),FALSE,TRUE),FALSE)","v":false},{"$f":"IF(R135,IF(O135=\"\",TRUE,FALSE),FALSE)","v":false},{"$f":"IF(R135,IF(AND(LEN(P135)=7,COUNTIF(集荷不可!$A:$A,P135)=0),FALSE,TRUE),FALSE)","v":false},{"$f":"IF(ISERROR(FIND(\".@\",L135)),FALSE,TRUE)","v":false},{"$f":"IF(LENB(N135)<9,FALSE,TRUE)","v":false}]
[null,null,null,null,null,null,null,null,null,null,null,null,null,null,null,"","",false,{"$f":"CheckIzonMoji(A136)","v":false},false,{"$f":"CheckKana(B136)","v":false},false,false,false,false,false,false,false,false,false,false,false,false,{"$f":"IF(R136,IF(AND(LEN(P136)=7,COUNTIF(集荷不可!$A:$A,P136)=0),FALSE,TRUE),FALSE)","v":false},false,false]
[null,null,null,null,null,null,null,null,null,null,null,null,null,null,null,{"$f":"SUBSTITUTE(F137,\"-\",\"\")","v":""},{"$f":"LEFT(O137,1)","v":""},false,{"$f":"CheckIzonMoji(A137)","v":false},false,{"$f":"CheckKana(B137)","v":false},false,false,false,false,false,false,false,false,false,false,false,false,{"$f":"IF(R137,IF(AND(LEN(P137)=7,COUNTIF(集荷不可!$A:$A,P137)=0),FALSE,TRUE),FALSE)","v":false},false,false]
[null,null,null,null,null,null,null,null,null,null,null,null,null,null,null,"","",false,{"$f":"CheckIzonMoji(A138)","v":false},false,{"$f":"CheckKana(B138)","v":false},false,false,false,false,false,false,false,false,false,false,false,false,{"$f":"IF(R138,IF(AND(LEN(P138)=7,COUNTIF(集荷不可!$A:$A,P138)=0),FALSE,TRUE),FALSE)","v":false},false,false]
[null,null,null,null,null,null,null,null,null,null,null,null,null,null,null,"","",false,{"$f":"CheckIzonMoji(A139)","v":false},false,{"$f":"CheckKana(B139)","v":false},false,false,false,false,false,false,false,false,false,false,false,false,{"$f":"IF(R139,IF(AND(LEN(P139)=7,COUNTIF(集荷不可!$A:$A,P139)=0),FALSE,TRUE),FALSE)","v":false},false,false]
[null,null,null,null,null,null,null,null,null,null,null,null,null,null,null,"","",false,{"$f":"CheckIzonMoji(A140)","v":false},false,{"$f":"CheckKana(B140)","v":false},false,false,false,false,false,false,false,false,false,false,false,false,{"$f":"IF(R140,IF(AND(LEN(P140)=7,COUNTIF(集荷不可!$A:$A,P140)=0),FALSE,TRUE),FALSE)","v":false},false,false]
[null,null,null,null,null,null,null,null,null,null,null,null,null,null,null,"","",false,{"$f":"CheckIzonMoji(A141)","v":false},false,{"$f":"CheckKana(B141)","v":false},false,false,false,false,false,false,false,false,false,false,false,false,{"$f":"IF(R141,IF(AND(LEN(P141)=7,COUNTIF(集荷不可!$A:$A,P141)=0),FALSE,TRUE),FALSE)","v":false},false,false]
[null,null,null,null,null,null,null,null,null,null,null,null,null,null,null,"","",false,{"$f":"CheckIzonMoji(A142)","v":false},false,{"$f":"CheckKana(B142)","v":false},false,false,false,false,false,false,false,false,false,false,false,false,{"$f":"IF(R142,IF(AND(LEN(P142)=7,COUNTIF(集荷不可!$A:$A,P142)=0),FALSE,TRUE),FALSE)","v":false},false,false]
[null,null,null,null,null,null,null,null,null,null,null,null,null,null,null,"","",false,{"$f":"CheckIzonMoji(A143)","v":false},false,{"$f":"CheckKana(B143)","v":false},false,false,false,false,false,false,false,false,false,false,false,false,{"$f":"IF(R143,IF(AND(LEN(P143)=7,COUNTIF(集荷不可!$A:$A,P143)=0),FALSE,TRUE),FALSE)","v":false},false,false]
[null,null,null,null,null,null,null,null,null,null,null,null,null,null,null,"","",false,{"$f":"CheckIzonMoji(A144)","v":false},false,{"$f":"CheckKana(B144)","v":false},false,false,false,false,false,false,false,false,false,false,false,false,{"$f":"IF(R144,IF(AND(LEN(P144)=7,COUNTIF(集荷不可!$A:$A,P144)=0),FALSE,TRUE),FALSE)","v":false},false,false]
[null,null,null,null,null,null,null,null,null,null,null,null,null,null,null,"","",false,{"$f":"CheckIzonMoji(A145)","v":false},false,{"$f":"CheckKana(B145)","v":false},false,false,false,false,false,false,false,false,false,false,false,false,{"$f":"IF(R145,IF(AND(LEN(P145)=7,COUNTIF(集荷不可!$A:$A,P145)=0),FALSE,TRUE),FALSE)","v":false},false,false]
[null,null,null,null,null,null,null,null,null,null,null,null,null,null,null,"","",false,{"$f":"CheckIzonMoji(A146)","v":false},false,{"$f":"CheckKana(B146)","v":false},false,false,false,false,false,false,false,false,false,false,false,false,{"$f":"IF(R146,IF(AND(LEN(P146)=7,COUNTIF(集荷不可!$A:$A,P146)=0),FALSE,TRUE),FALSE)","v":false},false,false]
[null,null,null,null,null,null,null,null,null,null,null,null,null,null,null,"","",false,{"$f":"CheckIzonMoji(A147)","v":false},false,{"$f":"CheckKana(B147)","v":false},false,false,false,false,false,false,false,false,false,false,false,false,{"$f":"IF(R147,IF(AND(LEN(P147)=7,COUNTIF(集荷不可!$A:$A,P147)=0),FALSE,TRUE),FALSE)","v":false},false,false]
[null,null,null,null,null,null,null,null,null,null,null,null,null,null,null,"","",false,{"$f":"CheckIzonMoji(A148)","v":false},false,{"$f":"CheckKana(B148)","v":false},false,false,false,false,false,false,false,false,false,false,false,false,{"$f":"IF(R148,IF(AND(LEN(P148)=7,COUNTIF(集荷不可!$A:$A,P148)=0),FALSE,TRUE),FALSE)","v":false},false,false]
[null,null,null,null,null,null,null,null,null,null,null,null,null,null,null,"","",false,{"$f":"CheckIzonMoji(A149)","v":false},false,{"$f":"CheckKana(B149)","v":false},false,false,false,false,false,false,false,false,false,false,false,false,{"$f":"IF(R149,IF(AND(LEN(P149)=7,COUNTIF(集荷不可!$A:$A,P149)=0),FALSE,TRUE),FALSE)","v":false},false,false]
[null,null,null,null,null,null,null,null,null,null,null,null,null,null,null,"","",false,{"$f":"CheckIzonMoji(A150)","v":false},false,{"$f":"CheckKana(B150)","v":false},false,false,false,false,false,false,false,false,false,false,false,false,{"$f":"IF(R150,IF(AND(LEN(P150)=7,COUNTIF(集荷不可!$A:$A,P150)=0),FALSE,TRUE),FALSE)","v":false},false,false]
[null,null,null,null,null,null,null,null,null,null,null,null,null,null,null,"","",false,{"$f":"CheckIzonMoji(A151)","v":false},false,{"$f":"CheckKana(B151)","v":false},false,false,false,false,false,false,false,false,false,false,false,false,{"$f":"IF(R151,IF(AND(LEN(P151)=7,COUNTIF(集荷不可!$A:$A,P151)=0),FALSE,TRUE),FALSE)","v":false},false,false]
[null,null,null,null,null,null,null,null,null,null,null,null,null,null,null,"","",false,{"$f":"CheckIzonMoji(A152)","v":false},false,{"$f":"CheckKana(B152)","v":false},false,false,false,false,false,false,false,false,false,false,false,false,{"$f":"IF(R152,IF(AND(LEN(P152)=7,COUNTIF(集荷不可!$A:$A,P152)=0),FALSE,TRUE),FALSE)","v":false},false,false]
[null,null,null,null,null,null,null,null,null,null,null,null,null,null,null,"","",false,{"$f":"CheckIzonMoji(A153)","v":false},false,{"$f":"CheckKana(B153)","v":false},false,false,false,false,false,false,false,false,false,false,false,false,{"$f":"IF(R153,IF(AND(LEN(P153)=7,COUNTIF(集荷不可!$A:$A,P153)=0),FALSE,TRUE),FALSE)","v":false},false,false]
[null,null,null,null,null,null,null,null,null,null,null,null,null,null,null,"","",false,{"$f":"CheckIzonMoji(A154)","v":false},false,{"$f":"CheckKana(B154)","v":false},false,false,false,false,false,false,false,false,false,false,false,false,{"$f":"IF(R154,IF(AND(LEN(P154)=7,COUNTIF(集荷不可!$A:$A,P154)=0),FALSE,TRUE),FALSE)","v":false},false,false]
[null,null,null,null,null,null,null,null,null,null,null,null,null,null,null,"","",false,{"$f":"CheckIzonMoji(A155)","v":false},false,{"$f":"CheckKana(B155)","v":false},false,false,false,false,false,false,false,false,false,false,false,false,{"$f":"IF(R155,IF(AND(LEN(P155)=7,COUNTIF(集荷不可!$A:$A,P155)=0),FALSE,TRUE),FALSE)","v":false},false,false]
[null,null,null,null,null,null,null,null,null,null,null,null,null,null,null,"","",false,{"$f":"CheckIzonMoji(A156)","v":false},false,{"$f":"CheckKana(B156)","v":false},false,false,false,false,false,false,false,false,false,false,false,false,{"$f":"IF(R156,IF(AND(LEN(P156)=7,COUNTIF(集荷不可!$A:$A,P156)=0),FALSE,TRUE),FALSE)","v":false},false,false]
[null,null,null,null,null,null,null,null,null,null,null,null,null,null,null,"","",false,{"$f":"CheckIzonMoji(A157)","v":false},false,{"$f":"CheckKana(B157)","v":false},false,false,false,false,false,false,false,false,false,false,false,false,{"$f":"IF(R157,IF(AND(LEN(P157)=7,COUNTIF(集荷不可!$A:$A,P157)=0),FALSE,TRUE),FALSE)","v":false},false,false]
[null,null,null,null,null,null,null,null,null,null,null,null,null,null,null,"","",false,{"$f":"CheckIzonMoji(A158)","v":false},false,{"$f":"CheckKana(B158)","v":false},false,false,false,false,false,false,false,false,false,false,false,false,{"$f":"IF(R158,IF(AND(LEN(P158)=7,COUNTIF(集荷不可!$A:$A,P158)=0),FALSE,TRUE),FALSE)","v":false},false,false]
[null,null,null,null,null,null,null,null,null,null,null,null,null,null,null,"","",false,{"$f":"CheckIzonMoji(A159)","v":false},false,{"$f":"CheckKana(B159)","v":false},false,false,false,false,false,false,false,false,false,false,false,false,{"$f":"IF(R159,IF(AND(LEN(P159)=7,COUNTIF(集荷不可!$A:$A,P159)=0),FALSE,TRUE),FALSE)","v":false},false,false]
[null,null,null,null,null,null,null,null,null,null,null,null,null,null,null,"","",false,{"$f":"CheckIzonMoji(A160)","v":false},false,{"$f":"CheckKana(B160)","v":false},false,false,false,false,false,false,false,false,false,false,false,false,{"$f":"IF(R160,IF(AND(LEN(P160)=7,COUNTIF(集荷不可!$A:$A,P160)=0),FALSE,TRUE),FALSE)","v":false},false,false]
[null,null,null,null,null,null,null,null,null,null,null,null,null,null,null,"","",false,{"$f":"CheckIzonMoji(A161)","v":false},false,{"$f":"CheckKana(B161)","v":false},false,false,false,false,false,false,false,false,false,false,false,false,{"$f":"IF(R161,IF(AND(LEN(P161)=7,COUNTIF(集荷不可!$A:$A,P161)=0),FALSE,TRUE),FALSE)","v":false},false,false]
[null,null,null,null,null,null,null,null,null,null,null,null,null,null,null,"","",false,{"$f":"CheckIzonMoji(A162)","v":false},false,{"$f":"CheckKana(B162)","v":false},false,false,false,false,false,false,false,false,false,false,false,false,{"$f":"IF(R162,IF(AND(LEN(P162)=7,COUNTIF(集荷不可!$A:$A,P162)=0),FALSE,TRUE),FALSE)","v":false},false,false]
[null,null,null,null,null,null,null,null,null,null,null,null,null,null,null,"","",false,{"$f":"CheckIzonMoji(A163)","v":false},false,{"$f":"CheckKana(B163)","v":false},false,false,false,false,false,false,false,false,false,false,false,false,{"$f":"IF(R163,IF(AND(LEN(P163)=7,COUNTIF(集荷不可!$A:$A,P163)=0),FALSE,TRUE),FALSE)","v":false},false,false]
[null,null,null,null,null,null,null,null,null,null,null,null,null,null,null,"","",false,{"$f":"CheckIzonMoji(A164)","v":false},false,{"$f":"CheckKana(B164)","v":false},false,false,false,false,false,false,false,false,false,false,false,false,{"$f":"IF(R164,IF(AND(LEN(P164)=7,COUNTIF(集荷不可!$A:$A,P164)=0),FALSE,TRUE),FALSE)","v":false},false,false]
[null,null,null,null,null,null,null,null,null,null,null,null,null,null,null,"","",false,{"$f":"CheckIzonMoji(A165)","v":false},false,{"$f":"CheckKana(B165)","v":false},false,false,false,false,false,false,false,false,false,false,false,false,{"$f":"IF(R165,IF(AND(LEN(P165)=7,COUNTIF(集荷不可!$A:$A,P165)=0),FALSE,TRUE),FALSE)","v":false},false,false]
[null,null,null,null,null,null,null,null,null,null,null,null,null,null,null,"","",false,{"$f":"CheckIzonMoji(A166)","v":false},false,{"$f":"CheckKana(B166)","v":false},false,false,false,false,false,false,false,false,false,false,false,false,{"$f":"IF(R166,IF(AND(LEN(P166)=7,COUNTIF(集荷不可!$A:$A,P166)=0),FALSE,TRUE),FALSE)","v":false},false,false]
[null,null,null,null,null,null,null,null,null,null,null,null,null,null,null,"","",false,{"$f":"CheckIzonMoji(A167)","v":false},false,{"$f":"CheckKana(B167)","v":false},false,false,false,false,false,false,false,false,false,false,false,false,{"$f":"IF(R167,IF(AND(LEN(P167)=7,COUNTIF(集荷不可!$A:$A,P167)=0),FALSE,TRUE),FALSE)","v":false},false,false]
[null,null,null,null,null,null,null,null,null,null,null,null,null,null,null,"","",false,{"$f":"CheckIzonMoji(A168)","v":false},false,{"$f":"CheckKana(B168)","v":false},false,false,false,false,false,false,false,false,false,false,false,false,{"$f":"IF(R168,IF(AND(LEN(P168)=7,COUNTIF(集荷不可!$A:$A,P168)=0),FALSE,TRUE),FALSE)","v":false},false,false]
[null,null,null,null,null,null,null,null,null,null,null,null,null,null,null,"","",false,{"$f":"CheckIzonMoji(A169)","v":false},false,{"$f":"CheckKana(B169)","v":false},false,false,false,false,false,false,false,false,false,false,false,false,{"$f":"IF(R169,IF(AND(LEN(P169)=7,COUNTIF(集荷不可!$A:$A,P169)=0),FALSE,TRUE),FALSE)","v":false},false,false]
[null,null,null,null,null,null,null,null,null,null,null,null,null,null,null,"","",false,{"$f":"CheckIzonMoji(A170)","v":false},false,{"$f":"CheckKana(B170)","v":false},false,false,false,false,false,false,false,false,false,false,false,false,{"$f":"IF(R170,IF(AND(LEN(P170)=7,COUNTIF(集荷不可!$A:$A,P170)=0),FALSE,TRUE),FALSE)","v":false},false,false]
[null,null,null,null,null,null,null,null,null,null,null,null,null,null,null,"","",false,{"$f":"CheckIzonMoji(A171)","v":false},false,{"$f":"CheckKana(B171)","v":false},false,false,false,false,false,false,false,false,false,false,false,false,{"$f":"IF(R171,IF(AND(LEN(P171)=7,COUNTIF(集荷不可!$A:$A,P171)=0),FALSE,TRUE),FALSE)","v":false},false,false]
[null,null,null,null,null,null,null,null,null,null,null,null,null,null,null,"","",false,{"$f":"CheckIzonMoji(A172)","v":false},false,{"$f":"CheckKana(B172)","v":false},false,false,false,false,false,false,false,false,false,false,false,false,{"$f":"IF(R172,IF(AND(LEN(P172)=7,COUNTIF(集荷不可!$A:$A,P172)=0),FALSE,TRUE),FALSE)","v":false},false,false]
[null,null,null,null,null,null,null,null,null,null,null,null,null,null,null,"","",false,{"$f":"CheckIzonMoji(A173)","v":false},false,{"$f":"CheckKana(B173)","v":false},false,false,false,false,false,false,false,false,false,false,false,false,{"$f":"IF(R173,IF(AND(LEN(P173)=7,COUNTIF(集荷不可!$A:$A,P173)=0),FALSE,TRUE),FALSE)","v":false},false,false]
[null,null,null,null,null,null,null,null,null,null,null,null,null,null,null,"","",false,{"$f":"CheckIzonMoji(A174)","v":false},false,{"$f":"CheckKana(B174)","v":false},false,false,false,false,false,false,false,false,false,false,false,false,{"$f":"IF(R174,IF(AND(LEN(P174)=7,COUNTIF(集荷不可!$A:$A,P174)=0),FALSE,TRUE),FALSE)","v":false},false,false]
[null,null,null,null,null,null,null,null,null,null,null,null,null,null,null,"","",false,{"$f":"CheckIzonMoji(A175)","v":false},false,{"$f":"CheckKana(B175)","v":false},false,false,false,false,false,false,false,false,false,false,false,false,{"$f":"IF(R175,IF(AND(LEN(P175)=7,COUNTIF(集荷不可!$A:$A,P175)=0),FALSE,TRUE),FALSE)","v":false},false,false]
[null,null,null,null,null,null,null,null,null,null,null,null,null,null,null,"","",false,{"$f":"CheckIzonMoji(A176)","v":false},false,{"$f":"CheckKana(B176)","v":false},false,false,false,false,false,false,false,false,false,false,false,false,{"$f":"IF(R176,IF(AND(LEN(P176)=7,COUNTIF(集荷不可!$A:$A,P176)=0),FALSE,TRUE),FALSE)","v":false},false,false]
[null,null,null,null,null,null,null,null,null,null,null,null,null,null,null,"","",false,{"$f":"CheckIzonMoji(A177)","v":false},false,{"$f":"CheckKana(B177)","v":false},false,false,false,false,false,false,false,false,false,false,false,false,{"$f":"IF(R177,IF(AND(LEN(P177)=7,COUNTIF(集荷不可!$A:$A,P177)=0),FALSE,TRUE),FALSE)","v":false},false,false]
[null,null,null,null,null,null,null,null,null,null,null,null,null,null,null,"","",false,{"$f":"CheckIzonMoji(A178)","v":false},false,{"$f":"CheckKana(B178)","v":false},false,false,false,false,false,false,false,false,false,false,false,false,{"$f":"IF(R178,IF(AND(LEN(P178)=7,COUNTIF(集荷不可!$A:$A,P178)=0),FALSE,TRUE),FALSE)","v":false},false,false]
[null,null,null,null,null,null,null,null,null,null,null,null,null,null,null,"","",false,{"$f":"CheckIzonMoji(A179)","v":false},false,{"$f":"CheckKana(B179)","v":false},false,false,false,false,false,false,false,false,false,false,false,false,{"$f":"IF(R179,IF(AND(LEN(P179)=7,COUNTIF(集荷不可!$A:$A,P179)=0),FALSE,TRUE),FALSE)","v":false},false,false]
[null,null,null,null,null,null,null,null,null,null,null,null,null,null,null,"","",false,{"$f":"CheckIzonMoji(A180)","v":false},false,{"$f":"CheckKana(B180)","v":false},false,false,false,false,false,false,false,false,false,false,false,false,{"$f":"IF(R180,IF(AND(LEN(P180)=7,COUNTIF(集荷不可!$A:$A,P180)=0),FALSE,TRUE),FALSE)","v":false},false,false]
[null,null,null,null,null,null,null,null,null,null,null,null,null,null,null,"","",false,{"$f":"CheckIzonMoji(A181)","v":false},false,{"$f":"CheckKana(B181)","v":false},false,false,false,false,false,false,false,false,false,false,false,false,{"$f":"IF(R181,IF(AND(LEN(P181)=7,COUNTIF(集荷不可!$A:$A,P181)=0),FALSE,TRUE),FALSE)","v":false},false,false]
[null,null,null,null,null,null,null,null,null,null,null,null,null,null,null,"","",false,{"$f":"CheckIzonMoji(A182)","v":false},false,{"$f":"CheckKana(B182)","v":false},false,false,false,false,false,false,false,false,false,false,false,false,{"$f":"IF(R182,IF(AND(LEN(P182)=7,COUNTIF(集荷不可!$A:$A,P182)=0),FALSE,TRUE),FALSE)","v":false},false,false]
[null,null,null,null,null,null,null,null,null,null,null,null,null,null,null,"","",false,{"$f":"CheckIzonMoji(A183)","v":false},false,{"$f":"CheckKana(B183)","v":false},false,false,false,false,false,false,false,false,false,false,false,false,{"$f":"IF(R183,IF(AND(LEN(P183)=7,COUNTIF(集荷不可!$A:$A,P183)=0),FALSE,TRUE),FALSE)","v":false},false,false]
[null,null,null,null,null,null,null,null,null,null,null,null,null,null,null,"","",false,{"$f":"CheckIzonMoji(A184)","v":false},false,{"$f":"CheckKana(B184)","v":false},false,false,false,false,false,false,false,false,false,false,false,false,{"$f":"IF(R184,IF(AND(LEN(P184)=7,COUNTIF(集荷不可!$A:$A,P184)=0),FALSE,TRUE),FALSE)","v":false},false,false]
[null,null,null,null,null,null,null,null,null,null,null,null,null,null,null,"","",false,{"$f":"CheckIzonMoji(A185)","v":false},false,{"$f":"CheckKana(B185)","v":false},false,false,false,false,false,false,false,false,false,false,false,false,{"$f":"IF(R185,IF(AND(LEN(P185)=7,COUNTIF(集荷不可!$A:$A,P185)=0),FALSE,TRUE),FALSE)","v":false},false,false]
[null,null,null,null,null,null,null,null,null,null,null,null,null,null,null,"","",false,{"$f":"CheckIzonMoji(A186)","v":false},false,{"$f":"CheckKana(B186)","v":false},false,false,false,false,false,false,false,false,false,false,false,false,{"$f":"IF(R186,IF(AND(LEN(P186)=7,COUNTIF(集荷不可!$A:$A,P186)=0),FALSE,TRUE),FALSE)","v":false},false,false]
[null,null,null,null,null,null,null,null,null,null,null,null,null,null,null,"","",false,{"$f":"CheckIzonMoji(A187)","v":false},false,{"$f":"CheckKana(B187)","v":false},false,false,false,false,false,false,false,false,false,false,false,false,{"$f":"IF(R187,IF(AND(LEN(P187)=7,COUNTIF(集荷不可!$A:$A,P187)=0),FALSE,TRUE),FALSE)","v":false},false,false]
[null,null,null,null,null,null,null,null,null,null,null,null,null,null,null,"","",false,{"$f":"CheckIzonMoji(A188)","v":false},false,{"$f":"CheckKana(B188)","v":false},false,false,false,false,false,false,false,false,false,false,false,false,{"$f":"IF(R188,IF(AND(LEN(P188)=7,COUNTIF(集荷不可!$A:$A,P188)=0),FALSE,TRUE),FALSE)","v":false},false,false]
[null,null,null,null,null,null,null,null,null,null,null,null,null,null,null,"","",false,{"$f":"CheckIzonMoji(A189)","v":false},false,{"$f":"CheckKana(B189)","v":false},false,false,false,false,false,false,false,false,false,false,false,false,{"$f":"IF(R189,IF(AND(LEN(P189)=7,COUNTIF(集荷不可!$A:$A,P189)=0),FALSE,TRUE),FALSE)","v":false},false,false]
[null,null,null,null,null,null,null,null,null,null,null,null,null,null,null,"","",false,{"$f":"CheckIzonMoji(A190)","v":false},false,{"$f":"CheckKana(B190)","v":false},false,false,false,false,false,false,false,false,false,false,false,false,{"$f":"IF(R190,IF(AND(LEN(P190)=7,COUNTIF(集荷不可!$A:$A,P190)=0),FALSE,TRUE),FALSE)","v":false},false,false]
[null,null,null,null,null,null,null,null,null,null,null,null,null,null,null,"","",false,{"$f":"CheckIzonMoji(A191)","v":false},false,{"$f":"CheckKana(B191)","v":false},false,false,false,false,false,false,false,false,false,false,false,false,{"$f":"IF(R191,IF(AND(LEN(P191)=7,COUNTIF(集荷不可!$A:$A,P191)=0),FALSE,TRUE),FALSE)","v":false},false,false]
[null,null,null,null,null,null,null,null,null,null,null,null,null,null,null,"","",false,{"$f":"CheckIzonMoji(A192)","v":false},false,{"$f":"CheckKana(B192)","v":false},false,false,false,false,false,false,false,false,false,false,false,false,{"$f":"IF(R192,IF(AND(LEN(P192)=7,COUNTIF(集荷不可!$A:$A,P192)=0),FALSE,TRUE),FALSE)","v":false},false,false]
[null,null,null,null,null,null,null,null,null,null,null,null,null,null,null,"","",false,{"$f":"CheckIzonMoji(A193)","v":false},false,{"$f":"CheckKana(B193)","v":false},false,false,false,false,false,false,false,false,false,false,false,false,{"$f":"IF(R193,IF(AND(LEN(P193)=7,COUNTIF(集荷不可!$A:$A,P193)=0),FALSE,TRUE),FALSE)","v":false},false,false]
[null,null,null,null,null,null,null,null,null,null,null,null,null,null,null,"","",false,{"$f":"CheckIzonMoji(A194)","v":false},false,{"$f":"CheckKana(B194)","v":false},false,false,false,false,false,false,false,false,false,false,false,false,{"$f":"IF(R194,IF(AND(LEN(P194)=7,COUNTIF(集荷不可!$A:$A,P194)=0),FALSE,TRUE),FALSE)","v":false},false,false]
[null,null,null,null,null,null,null,null,null,null,null,null,null,null,null,"","",false,{"$f":"CheckIzonMoji(A195)","v":false},false,{"$f":"CheckKana(B195)","v":false},false,false,false,false,false,false,false,false,false,false,false,false,{"$f":"IF(R195,IF(AND(LEN(P195)=7,COUNTIF(集荷不可!$A:$A,P195)=0),FALSE,TRUE),FALSE)","v":false},false,false]
[null,null,null,null,null,null,null,null,null,null,null,null,null,null,null,"","",false,{"$f":"CheckIzonMoji(A196)","v":false},false,{"$f":"CheckKana(B196)","v":false},false,false,false,false,false,false,false,false,false,false,false,false,{"$f":"IF(R196,IF(AND(LEN(P196)=7,COUNTIF(集荷不可!$A:$A,P196)=0),FALSE,TRUE),FALSE)","v":false},false,false]
[null,null,null,null,null,null,null,null,null,null,null,null,null,null,null,"","",false,{"$f":"CheckIzonMoji(A197)","v":false},false,{"$f":"CheckKana(B197)","v":false},false,false,false,false,false,false,false,false,false,false,false,false,{"$f":"IF(R197,IF(AND(LEN(P197)=7,COUNTIF(集荷不可!$A:$A,P197)=0),FALSE,TRUE),FALSE)","v":false},false,false]
[null,null,null,null,null,null,null,null,null,null,null,null,null,null,null,"","",false,{"$f":"CheckIzonMoji(A198)","v":false},false,{"$f":"CheckKana(B198)","v":false},false,false,false,false,false,false,false,false,false,false,false,false,{"$f":"IF(R198,IF(AND(LEN(P198)=7,COUNTIF(集荷不可!$A:$A,P198)=0),FALSE,TRUE),FALSE)","v":false},false,false]
[null,null,null,null,null,null,null,null,null,null,null,null,null,null,null,"","",{"$f":"IF(LEN(A199&B199&C199&D199&E199&F199&G199&H199&I199&J199&K199&L199&M199&N199&O199)=0,FALSE,TRUE)","v":false},{"$f":"CheckIzonMoji(A199)","v":false},{"$f":"IF(R199,IF(AND(0<LENB(A199),LENB(A199)<33),FALSE,TRUE),FALSE)","v":false},{"$f":"CheckKana(B199)","v":false},{"$f":"IF(R199,IF(AND(0<LENB(B199),LENB(B199)<33),FALSE,TRUE),FALSE)","v":false},{"$f":"IF(R199,IF(C199=\"\",TRUE,FALSE),FALSE)","v":false},{"$f":"IF(R199,IF(OR(D199=\"\",ISERR(DAY(D199))),TRUE,FALSE),FALSE)","v":false},{"$f":"IF(R199,IF(E199=\"\",TRUE,FALSE),FALSE)","v":false},{"$f":"IF(R199,IF(AND(LENB(G199)>1,LENB(G199)<65),FALSE,TRUE),FALSE)","v":false},{"$f":"IF(LENB(H199)<33,FALSE,TRUE)","v":false},{"$f":"IF(LENB(I199)<51,FALSE,TRUE)","v":false},{"$f":"IF(LENB(J199)<51,FALSE,TRUE)","v":false},{"$f":"IF(R199,IF(AND(LENB(K199)>2,LENB(K199)<16),FALSE,TRUE),FALSE)","v":false},{"$f":"IF(R199,IF(AND(0<LENB(L199),LENB(L199)<61),FALSE,TRUE),FALSE)","v":false},{"$f":"IF(R199,IF(AND(LENB(M199)<9),FALSE,TRUE),FALSE)","v":false},{"$f":"IF(R199,IF(O199=\"\",TRUE,FALSE),FALSE)","v":false},{"$f":"IF(R199,IF(AND(LEN(P199)=7,COUNTIF(集荷不可!$A:$A,P199)=0),FALSE,TRUE),FALSE)","v":false},{"$f":"IF(ISERROR(FIND(\".@\",L199)),FALSE,TRUE)","v":false},{"$f":"IF(LENB(N199)<9,FALSE,TRUE)","v":false}]
[null,null,null,null,null,null,null,null,null,null,null,null,null,null,null,"","",false,{"$f":"CheckIzonMoji(A200)","v":false},false,{"$f":"CheckKana(B200)","v":false},false,false,false,false,false,false,false,false,false,false,false,false,{"$f":"IF(R200,IF(AND(LEN(P200)=7,COUNTIF(集荷不可!$A:$A,P200)=0),FALSE,TRUE),FALSE)","v":false},false,false]
[null,null,null,null,null,null,null,null,null,null,null,null,null,null,null,{"$f":"SUBSTITUTE(F201,\"-\",\"\")","v":""},{"$f":"LEFT(O201,1)","v":""},false,{"$f":"CheckIzonMoji(A201)","v":false},false,{"$f":"CheckKana(B201)","v":false},false,false,false,false,false,false,false,false,false,false,false,false,{"$f":"IF(R201,IF(AND(LEN(P201)=7,COUNTIF(集荷不可!$A:$A,P201)=0),FALSE,TRUE),FALSE)","v":false},false,false]
[null,null,null,null,null,null,null,null,null,null,null,null,null,null,null,"","",false,{"$f":"CheckIzonMoji(A202)","v":false},false,{"$f":"CheckKana(B202)","v":false},false,false,false,false,false,false,false,false,false,false,false,false,{"$f":"IF(R202,IF(AND(LEN(P202)=7,COUNTIF(集荷不可!$A:$A,P202)=0),FALSE,TRUE),FALSE)","v":false},false,false]
[null,null,null,null,null,null,null,null,null,null,null,null,null,null,null,"","",false,{"$f":"CheckIzonMoji(A203)","v":false},false,{"$f":"CheckKana(B203)","v":false},false,false,false,false,false,false,false,false,false,false,false,false,{"$f":"IF(R203,IF(AND(LEN(P203)=7,COUNTIF(集荷不可!$A:$A,P203)=0),FALSE,TRUE),FALSE)","v":false},false,false]
[null,null,null,null,null,null,null,null,null,null,null,null,null,null,null,"","",false,{"$f":"CheckIzonMoji(A204)","v":false},false,{"$f":"CheckKana(B204)","v":false},false,false,false,false,false,false,false,false,false,false,false,false,{"$f":"IF(R204,IF(AND(LEN(P204)=7,COUNTIF(集荷不可!$A:$A,P204)=0),FALSE,TRUE),FALSE)","v":false},false,false]
[null,null,null,null,null,null,null,null,null,null,null,null,null,null,null,"","",false,{"$f":"CheckIzonMoji(A205)","v":false},false,{"$f":"CheckKana(B205)","v":false},false,false,false,false,false,false,false,false,false,false,false,false,{"$f":"IF(R205,IF(AND(LEN(P205)=7,COUNTIF(集荷不可!$A:$A,P205)=0),FALSE,TRUE),FALSE)","v":false},false,false]
[null,null,null,null,null,null,null,null,null,null,null,null,null,null,null,"","",false,{"$f":"CheckIzonMoji(A206)","v":false},false,{"$f":"CheckKana(B206)","v":false},false,false,false,false,false,false,false,false,false,false,false,false,{"$f":"IF(R206,IF(AND(LEN(P206)=7,COUNTIF(集荷不可!$A:$A,P206)=0),FALSE,TRUE),FALSE)","v":false},false,false]
[null,null,null,null,null,null,null,null,null,null,null,null,null,null,null,"","",false,{"$f":"CheckIzonMoji(A207)","v":false},false,{"$f":"CheckKana(B207)","v":false},false,false,false,false,false,false,false,false,false,false,false,false,{"$f":"IF(R207,IF(AND(LEN(P207)=7,COUNTIF(集荷不可!$A:$A,P207)=0),FALSE,TRUE),FALSE)","v":false},false,false]
[null,null,null,null,null,null,null,null,null,null,null,null,null,null,null,"","",false,{"$f":"CheckIzonMoji(A208)","v":false},false,{"$f":"CheckKana(B208)","v":false},false,false,false,false,false,false,false,false,false,false,false,false,{"$f":"IF(R208,IF(AND(LEN(P208)=7,COUNTIF(集荷不可!$A:$A,P208)=0),FALSE,TRUE),FALSE)","v":false},false,false]
[null,null,null,null,null,null,null,null,null,null,null,null,null,null,null,"","",false,{"$f":"CheckIzonMoji(A209)","v":false},false,{"$f":"CheckKana(B209)","v":false},false,false,false,false,false,false,false,false,false,false,false,false,{"$f":"IF(R209,IF(AND(LEN(P209)=7,COUNTIF(集荷不可!$A:$A,P209)=0),FALSE,TRUE),FALSE)","v":false},false,false]
[null,null,null,null,null,null,null,null,null,null,null,null,null,null,null,"","",false,{"$f":"CheckIzonMoji(A210)","v":false},false,{"$f":"CheckKana(B210)","v":false},false,false,false,false,false,false,false,false,false,false,false,false,{"$f":"IF(R210,IF(AND(LEN(P210)=7,COUNTIF(集荷不可!$A:$A,P210)=0),FALSE,TRUE),FALSE)","v":false},false,false]
[null,null,null,null,null,null,null,null,null,null,null,null,null,null,null,"","",false,{"$f":"CheckIzonMoji(A211)","v":false},false,{"$f":"CheckKana(B211)","v":false},false,false,false,false,false,false,false,false,false,false,false,false,{"$f":"IF(R211,IF(AND(LEN(P211)=7,COUNTIF(集荷不可!$A:$A,P211)=0),FALSE,TRUE),FALSE)","v":false},false,false]
[null,null,null,null,null,null,null,null,null,null,null,null,null,null,null,"","",false,{"$f":"CheckIzonMoji(A212)","v":false},false,{"$f":"CheckKana(B212)","v":false},false,false,false,false,false,false,false,false,false,false,false,false,{"$f":"IF(R212,IF(AND(LEN(P212)=7,COUNTIF(集荷不可!$A:$A,P212)=0),FALSE,TRUE),FALSE)","v":false},false,false]
[null,null,null,null,null,null,null,null,null,null,null,null,null,null,null,"","",false,{"$f":"CheckIzonMoji(A213)","v":false},false,{"$f":"CheckKana(B213)","v":false},false,false,false,false,false,false,false,false,false,false,false,false,{"$f":"IF(R213,IF(AND(LEN(P213)=7,COUNTIF(集荷不可!$A:$A,P213)=0),FALSE,TRUE),FALSE)","v":false},false,false]
[null,null,null,null,null,null,null,null,null,null,null,null,null,null,null,"","",false,{"$f":"CheckIzonMoji(A214)","v":false},false,{"$f":"CheckKana(B214)","v":false},false,false,false,false,false,false,false,false,false,false,false,false,{"$f":"IF(R214,IF(AND(LEN(P214)=7,COUNTIF(集荷不可!$A:$A,P214)=0),FALSE,TRUE),FALSE)","v":false},false,false]
[null,null,null,null,null,null,null,null,null,null,null,null,null,null,null,"","",false,{"$f":"CheckIzonMoji(A215)","v":false},false,{"$f":"CheckKana(B215)","v":false},false,false,false,false,false,false,false,false,false,false,false,false,{"$f":"IF(R215,IF(AND(LEN(P215)=7,COUNTIF(集荷不可!$A:$A,P215)=0),FALSE,TRUE),FALSE)","v":false},false,false]
[null,null,null,null,null,null,null,null,null,null,null,null,null,null,null,"","",false,{"$f":"CheckIzonMoji(A216)","v":false},false,{"$f":"CheckKana(B216)","v":false},false,false,false,false,false,false,false,false,false,false,false,false,{"$f":"IF(R216,IF(AND(LEN(P216)=7,COUNTIF(集荷不可!$A:$A,P216)=0),FALSE,TRUE),FALSE)","v":false},false,false]
[null,null,null,null,null,null,null,null,null,null,null,null,null,null,null,"","",false,{"$f":"CheckIzonMoji(A217)","v":false},false,{"$f":"CheckKana(B217)","v":false},false,false,false,false,false,false,false,false,false,false,false,false,{"$f":"IF(R217,IF(AND(LEN(P217)=7,COUNTIF(集荷不可!$A:$A,P217)=0),FALSE,TRUE),FALSE)","v":false},false,false]
[null,null,null,null,null,null,null,null,null,null,null,null,null,null,null,"","",false,{"$f":"CheckIzonMoji(A218)","v":false},false,{"$f":"CheckKana(B218)","v":false},false,false,false,false,false,false,false,false,false,false,false,false,{"$f":"IF(R218,IF(AND(LEN(P218)=7,COUNTIF(集荷不可!$A:$A,P218)=0),FALSE,TRUE),FALSE)","v":false},false,false]
[null,null,null,null,null,null,null,null,null,null,null,null,null,null,null,"","",false,{"$f":"CheckIzonMoji(A219)","v":false},false,{"$f":"CheckKana(B219)","v":false},false,false,false,false,false,false,false,false,false,false,false,false,{"$f":"IF(R219,IF(AND(LEN(P219)=7,COUNTIF(集荷不可!$A:$A,P219)=0),FALSE,TRUE),FALSE)","v":false},false,false]
[null,null,null,null,null,null,null,null,null,null,null,null,null,null,null,"","",false,{"$f":"CheckIzonMoji(A220)","v":false},false,{"$f":"CheckKana(B220)","v":false},false,false,false,false,false,false,false,false,false,false,false,false,{"$f":"IF(R220,IF(AND(LEN(P220)=7,COUNTIF(集荷不可!$A:$A,P220)=0),FALSE,TRUE),FALSE)","v":false},false,false]
[null,null,null,null,null,null,null,null,null,null,null,null,null,null,null,"","",false,{"$f":"CheckIzonMoji(A221)","v":false},false,{"$f":"CheckKana(B221)","v":false},false,false,false,false,false,false,false,false,false,false,false,false,{"$f":"IF(R221,IF(AND(LEN(P221)=7,COUNTIF(集荷不可!$A:$A,P221)=0),FALSE,TRUE),FALSE)","v":false},false,false]
[null,null,null,null,null,null,null,null,null,null,null,null,null,null,null,"","",false,{"$f":"CheckIzonMoji(A222)","v":false},false,{"$f":"CheckKana(B222)","v":false},false,false,false,false,false,false,false,false,false,false,false,false,{"$f":"IF(R222,IF(AND(LEN(P222)=7,COUNTIF(集荷不可!$A:$A,P222)=0),FALSE,TRUE),FALSE)","v":false},false,false]
[null,null,null,null,null,null,null,null,null,null,null,null,null,null,null,"","",false,{"$f":"CheckIzonMoji(A223)","v":false},false,{"$f":"CheckKana(B223)","v":false},false,false,false,false,false,false,false,false,false,false,false,false,{"$f":"IF(R223,IF(AND(LEN(P223)=7,COUNTIF(集荷不可!$A:$A,P223)=0),FALSE,TRUE),FALSE)","v":false},false,false]
[null,null,null,null,null,null,null,null,null,null,null,null,null,null,null,"","",false,{"$f":"CheckIzonMoji(A224)","v":false},false,{"$f":"CheckKana(B224)","v":false},false,false,false,false,false,false,false,false,false,false,false,false,{"$f":"IF(R224,IF(AND(LEN(P224)=7,COUNTIF(集荷不可!$A:$A,P224)=0),FALSE,TRUE),FALSE)","v":false},false,false]
[null,null,null,null,null,null,null,null,null,null,null,null,null,null,null,"","",false,{"$f":"CheckIzonMoji(A225)","v":false},false,{"$f":"CheckKana(B225)","v":false},false,false,false,false,false,false,false,false,false,false,false,false,{"$f":"IF(R225,IF(AND(LEN(P225)=7,COUNTIF(集荷不可!$A:$A,P225)=0),FALSE,TRUE),FALSE)","v":false},false,false]
[null,null,null,null,null,null,null,null,null,null,null,null,null,null,null,"","",false,{"$f":"CheckIzonMoji(A226)","v":false},false,{"$f":"CheckKana(B226)","v":false},false,false,false,false,false,false,false,false,false,false,false,false,{"$f":"IF(R226,IF(AND(LEN(P226)=7,COUNTIF(集荷不可!$A:$A,P226)=0),FALSE,TRUE),FALSE)","v":false},false,false]
[null,null,null,null,null,null,null,null,null,null,null,null,null,null,null,"","",false,{"$f":"CheckIzonMoji(A227)","v":false},false,{"$f":"CheckKana(B227)","v":false},false,false,false,false,false,false,false,false,false,false,false,false,{"$f":"IF(R227,IF(AND(LEN(P227)=7,COUNTIF(集荷不可!$A:$A,P227)=0),FALSE,TRUE),FALSE)","v":false},false,false]
[null,null,null,null,null,null,null,null,null,null,null,null,null,null,null,"","",false,{"$f":"CheckIzonMoji(A228)","v":false},false,{"$f":"CheckKana(B228)","v":false},false,false,false,false,false,false,false,false,false,false,false,false,{"$f":"IF(R228,IF(AND(LEN(P228)=7,COUNTIF(集荷不可!$A:$A,P228)=0),FALSE,TRUE),FALSE)","v":false},false,false]
[null,null,null,null,null,null,null,null,null,null,null,null,null,null,null,"","",false,{"$f":"CheckIzonMoji(A229)","v":false},false,{"$f":"CheckKana(B229)","v":false},false,false,false,false,false,false,false,false,false,false,false,false,{"$f":"IF(R229,IF(AND(LEN(P229)=7,COUNTIF(集荷不可!$A:$A,P229)=0),FALSE,TRUE),FALSE)","v":false},false,false]
[null,null,null,null,null,null,null,null,null,null,null,null,null,null,null,"","",false,{"$f":"CheckIzonMoji(A230)","v":false},false,{"$f":"CheckKana(B230)","v":false},false,false,false,false,false,false,false,false,false,false,false,false,{"$f":"IF(R230,IF(AND(LEN(P230)=7,COUNTIF(集荷不可!$A:$A,P230)=0),FALSE,TRUE),FALSE)","v":false},false,false]
[null,null,null,null,null,null,null,null,null,null,null,null,null,null,null,"","",false,{"$f":"CheckIzonMoji(A231)","v":false},false,{"$f":"CheckKana(B231)","v":false},false,false,false,false,false,false,false,false,false,false,false,false,{"$f":"IF(R231,IF(AND(LEN(P231)=7,COUNTIF(集荷不可!$A:$A,P231)=0),FALSE,TRUE),FALSE)","v":false},false,false]
[null,null,null,null,null,null,null,null,null,null,null,null,null,null,null,"","",false,{"$f":"CheckIzonMoji(A232)","v":false},false,{"$f":"CheckKana(B232)","v":false},false,false,false,false,false,false,false,false,false,false,false,false,{"$f":"IF(R232,IF(AND(LEN(P232)=7,COUNTIF(集荷不可!$A:$A,P232)=0),FALSE,TRUE),FALSE)","v":false},false,false]
[null,null,null,null,null,null,null,null,null,null,null,null,null,null,null,"","",false,{"$f":"CheckIzonMoji(A233)","v":false},false,{"$f":"CheckKana(B233)","v":false},false,false,false,false,false,false,false,false,false,false,false,false,{"$f":"IF(R233,IF(AND(LEN(P233)=7,COUNTIF(集荷不可!$A:$A,P233)=0),FALSE,TRUE),FALSE)","v":false},false,false]
[null,null,null,null,null,null,null,null,null,null,null,null,null,null,null,"","",false,{"$f":"CheckIzonMoji(A234)","v":false},false,{"$f":"CheckKana(B234)","v":false},false,false,false,false,false,false,false,false,false,false,false,false,{"$f":"IF(R234,IF(AND(LEN(P234)=7,COUNTIF(集荷不可!$A:$A,P234)=0),FALSE,TRUE),FALSE)","v":false},false,false]
[null,null,null,null,null,null,null,null,null,null,null,null,null,null,null,"","",false,{"$f":"CheckIzonMoji(A235)","v":false},false,{"$f":"CheckKana(B235)","v":false},false,false,false,false,false,false,false,false,false,false,false,false,{"$f":"IF(R235,IF(AND(LEN(P235)=7,COUNTIF(集荷不可!$A:$A,P235)=0),FALSE,TRUE),FALSE)","v":false},false,false]
[null,null,null,null,null,null,null,null,null,null,null,null,null,null,null,"","",false,{"$f":"CheckIzonMoji(A236)","v":false},false,{"$f":"CheckKana(B236)","v":false},false,false,false,false,false,false,false,false,false,false,false,false,{"$f":"IF(R236,IF(AND(LEN(P236)=7,COUNTIF(集荷不可!$A:$A,P236)=0),FALSE,TRUE),FALSE)","v":false},false,false]
[null,null,null,null,null,null,null,null,null,null,null,null,null,null,null,"","",false,{"$f":"CheckIzonMoji(A237)","v":false},false,{"$f":"CheckKana(B237)","v":false},false,false,false,false,false,false,false,false,false,false,false,false,{"$f":"IF(R237,IF(AND(LEN(P237)=7,COUNTIF(集荷不可!$A:$A,P237)=0),FALSE,TRUE),FALSE)","v":false},false,false]
[null,null,null,null,null,null,null,null,null,null,null,null,null,null,null,"","",false,{"$f":"CheckIzonMoji(A238)","v":false},false,{"$f":"CheckKana(B238)","v":false},false,false,false,false,false,false,false,false,false,false,false,false,{"$f":"IF(R238,IF(AND(LEN(P238)=7,COUNTIF(集荷不可!$A:$A,P238)=0),FALSE,TRUE),FALSE)","v":false},false,false]
[null,null,null,null,null,null,null,null,null,null,null,null,null,null,null,"","",false,{"$f":"CheckIzonMoji(A239)","v":false},false,{"$f":"CheckKana(B239)","v":false},false,false,false,false,false,false,false,false,false,false,false,false,{"$f":"IF(R239,IF(AND(LEN(P239)=7,COUNTIF(集荷不可!$A:$A,P239)=0),FALSE,TRUE),FALSE)","v":false},false,false]
[null,null,null,null,null,null,null,null,null,null,null,null,null,null,null,"","",false,{"$f":"CheckIzonMoji(A240)","v":false},false,{"$f":"CheckKana(B240)","v":false},false,false,false,false,false,false,false,false,false,false,false,false,{"$f":"IF(R240,IF(AND(LEN(P240)=7,COUNTIF(集荷不可!$A:$A,P240)=0),FALSE,TRUE),FALSE)","v":false},false,false]
[null,null,null,null,null,null,null,null,null,null,null,null,null,null,null,"","",false,{"$f":"CheckIzonMoji(A241)","v":false},false,{"$f":"CheckKana(B241)","v":false},false,false,false,false,false,false,false,false,false,false,false,false,{"$f":"IF(R241,IF(AND(LEN(P241)=7,COUNTIF(集荷不可!$A:$A,P241)=0),FALSE,TRUE),FALSE)","v":false},false,false]
[null,null,null,null,null,null,null,null,null,null,null,null,null,null,null,"","",false,{"$f":"CheckIzonMoji(A242)","v":false},false,{"$f":"CheckKana(B242)","v":false},false,false,false,false,false,false,false,false,false,false,false,false,{"$f":"IF(R242,IF(AND(LEN(P242)=7,COUNTIF(集荷不可!$A:$A,P242)=0),FALSE,TRUE),FALSE)","v":false},false,false]
[null,null,null,null,null,null,null,null,null,null,null,null,null,null,null,"","",false,{"$f":"CheckIzonMoji(A243)","v":false},false,{"$f":"CheckKana(B243)","v":false},false,false,false,false,false,false,false,false,false,false,false,false,{"$f":"IF(R243,IF(AND(LEN(P243)=7,COUNTIF(集荷不可!$A:$A,P243)=0),FALSE,TRUE),FALSE)","v":false},false,false]
[null,null,null,null,null,null,null,null,null,null,null,null,null,null,null,"","",false,{"$f":"CheckIzonMoji(A244)","v":false},false,{"$f":"CheckKana(B244)","v":false},false,false,false,false,false,false,false,false,false,false,false,false,{"$f":"IF(R244,IF(AND(LEN(P244)=7,COUNTIF(集荷不可!$A:$A,P244)=0),FALSE,TRUE),FALSE)","v":false},false,false]
[null,null,null,null,null,null,null,null,null,null,null,null,null,null,null,"","",false,{"$f":"CheckIzonMoji(A245)","v":false},false,{"$f":"CheckKana(B245)","v":false},false,false,false,false,false,false,false,false,false,false,false,false,{"$f":"IF(R245,IF(AND(LEN(P245)=7,COUNTIF(集荷不可!$A:$A,P245)=0),FALSE,TRUE),FALSE)","v":false},false,false]
[null,null,null,null,null,null,null,null,null,null,null,null,null,null,null,"","",false,{"$f":"CheckIzonMoji(A246)","v":false},false,{"$f":"CheckKana(B246)","v":false},false,false,false,false,false,false,false,false,false,false,false,false,{"$f":"IF(R246,IF(AND(LEN(P246)=7,COUNTIF(集荷不可!$A:$A,P246)=0),FALSE,TRUE),FALSE)","v":false},false,false]
[null,null,null,null,null,null,null,null,null,null,null,null,null,null,null,"","",false,{"$f":"CheckIzonMoji(A247)","v":false},false,{"$f":"CheckKana(B247)","v":false},false,false,false,false,false,false,false,false,false,false,false,false,{"$f":"IF(R247,IF(AND(LEN(P247)=7,COUNTIF(集荷不可!$A:$A,P247)=0),FALSE,TRUE),FALSE)","v":false},false,false]
[null,null,null,null,null,null,null,null,null,null,null,null,null,null,null,"","",false,{"$f":"CheckIzonMoji(A248)","v":false},false,{"$f":"CheckKana(B248)","v":false},false,false,false,false,false,false,false,false,false,false,false,false,{"$f":"IF(R248,IF(AND(LEN(P248)=7,COUNTIF(集荷不可!$A:$A,P248)=0),FALSE,TRUE),FALSE)","v":false},false,false]
[null,null,null,null,null,null,null,null,null,null,null,null,null,null,null,"","",false,{"$f":"CheckIzonMoji(A249)","v":false},false,{"$f":"CheckKana(B249)","v":false},false,false,false,false,false,false,false,false,false,false,false,false,{"$f":"IF(R249,IF(AND(LEN(P249)=7,COUNTIF(集荷不可!$A:$A,P249)=0),FALSE,TRUE),FALSE)","v":false},false,false]
[null,null,null,null,null,null,null,null,null,null,null,null,null,null,null,"","",false,{"$f":"CheckIzonMoji(A250)","v":false},false,{"$f":"CheckKana(B250)","v":false},false,false,false,false,false,false,false,false,false,false,false,false,{"$f":"IF(R250,IF(AND(LEN(P250)=7,COUNTIF(集荷不可!$A:$A,P250)=0),FALSE,TRUE),FALSE)","v":false},false,false]
[null,null,null,null,null,null,null,null,null,null,null,null,null,null,null,"","",false,{"$f":"CheckIzonMoji(A251)","v":false},false,{"$f":"CheckKana(B251)","v":false},false,false,false,false,false,false,false,false,false,false,false,false,{"$f":"IF(R251,IF(AND(LEN(P251)=7,COUNTIF(集荷不可!$A:$A,P251)=0),FALSE,TRUE),FALSE)","v":false},false,false]
[null,null,null,null,null,null,null,null,null,null,null,null,null,null,null,"","",false,{"$f":"CheckIzonMoji(A252)","v":false},false,{"$f":"CheckKana(B252)","v":false},false,false,false,false,false,false,false,false,false,false,false,false,{"$f":"IF(R252,IF(AND(LEN(P252)=7,COUNTIF(集荷不可!$A:$A,P252)=0),FALSE,TRUE),FALSE)","v":false},false,false]
[null,null,null,null,null,null,null,null,null,null,null,null,null,null,null,"","",false,{"$f":"CheckIzonMoji(A253)","v":false},false,{"$f":"CheckKana(B253)","v":false},false,false,false,false,false,false,false,false,false,false,false,false,{"$f":"IF(R253,IF(AND(LEN(P253)=7,COUNTIF(集荷不可!$A:$A,P253)=0),FALSE,TRUE),FALSE)","v":false},false,false]
[null,null,null,null,null,null,null,null,null,null,null,null,null,null,null,"","",false,{"$f":"CheckIzonMoji(A254)","v":false},false,{"$f":"CheckKana(B254)","v":false},false,false,false,false,false,false,false,false,false,false,false,false,{"$f":"IF(R254,IF(AND(LEN(P254)=7,COUNTIF(集荷不可!$A:$A,P254)=0),FALSE,TRUE),FALSE)","v":false},false,false]
[null,null,null,null,null,null,null,null,null,null,null,null,null,null,null,"","",false,{"$f":"CheckIzonMoji(A255)","v":false},false,{"$f":"CheckKana(B255)","v":false},false,false,false,false,false,false,false,false,false,false,false,false,{"$f":"IF(R255,IF(AND(LEN(P255)=7,COUNTIF(集荷不可!$A:$A,P255)=0),FALSE,TRUE),FALSE)","v":false},false,false]
[null,null,null,null,null,null,null,null,null,null,null,null,null,null,null,"","",false,{"$f":"CheckIzonMoji(A256)","v":false},false,{"$f":"CheckKana(B256)","v":false},false,false,false,false,false,false,false,false,false,false,false,false,{"$f":"IF(R256,IF(AND(LEN(P256)=7,COUNTIF(集荷不可!$A:$A,P256)=0),FALSE,TRUE),FALSE)","v":false},false,false]
[null,null,null,null,null,null,null,null,null,null,null,null,null,null,null,"","",false,{"$f":"CheckIzonMoji(A257)","v":false},false,{"$f":"CheckKana(B257)","v":false},false,false,false,false,false,false,false,false,false,false,false,false,{"$f":"IF(R257,IF(AND(LEN(P257)=7,COUNTIF(集荷不可!$A:$A,P257)=0),FALSE,TRUE),FALSE)","v":false},false,false]
[null,null,null,null,null,null,null,null,null,null,null,null,null,null,null,"","",false,{"$f":"CheckIzonMoji(A258)","v":false},false,{"$f":"CheckKana(B258)","v":false},false,false,false,false,false,false,false,false,false,false,false,false,{"$f":"IF(R258,IF(AND(LEN(P258)=7,COUNTIF(集荷不可!$A:$A,P258)=0),FALSE,TRUE),FALSE)","v":false},false,false]
[null,null,null,null,null,null,null,null,null,null,null,null,null,null,null,"","",false,{"$f":"CheckIzonMoji(A259)","v":false},false,{"$f":"CheckKana(B259)","v":false},false,false,false,false,false,false,false,false,false,false,false,false,{"$f":"IF(R259,IF(AND(LEN(P259)=7,COUNTIF(集荷不可!$A:$A,P259)=0),FALSE,TRUE),FALSE)","v":false},false,false]
[null,null,null,null,null,null,null,null,null,null,null,null,null,null,null,"","",false,{"$f":"CheckIzonMoji(A260)","v":false},false,{"$f":"CheckKana(B260)","v":false},false,false,false,false,false,false,false,false,false,false,false,false,{"$f":"IF(R260,IF(AND(LEN(P260)=7,COUNTIF(集荷不可!$A:$A,P260)=0),FALSE,TRUE),FALSE)","v":false},false,false]
[null,null,null,null,null,null,null,null,null,null,null,null,null,null,null,"","",false,{"$f":"CheckIzonMoji(A261)","v":false},false,{"$f":"CheckKana(B261)","v":false},false,false,false,false,false,false,false,false,false,false,false,false,{"$f":"IF(R261,IF(AND(LEN(P261)=7,COUNTIF(集荷不可!$A:$A,P261)=0),FALSE,TRUE),FALSE)","v":false},false,false]
[null,null,null,null,null,null,null,null,null,null,null,null,null,null,null,"","",false,{"$f":"CheckIzonMoji(A262)","v":false},false,{"$f":"CheckKana(B262)","v":false},false,false,false,false,false,false,false,false,false,false,false,false,{"$f":"IF(R262,IF(AND(LEN(P262)=7,COUNTIF(集荷不可!$A:$A,P262)=0),FALSE,TRUE),FALSE)","v":false},false,false]
[null,null,null,null,null,null,null,null,null,null,null,null,null,null,null,"","",{"$f":"IF(LEN(A263&B263&C263&D263&E263&F263&G263&H263&I263&J263&K263&L263&M263&N263&O263)=0,FALSE,TRUE)","v":false},{"$f":"CheckIzonMoji(A263)","v":false},{"$f":"IF(R263,IF(AND(0<LENB(A263),LENB(A263)<33),FALSE,TRUE),FALSE)","v":false},{"$f":"CheckKana(B263)","v":false},{"$f":"IF(R263,IF(AND(0<LENB(B263),LENB(B263)<33),FALSE,TRUE),FALSE)","v":false},{"$f":"IF(R263,IF(C263=\"\",TRUE,FALSE),FALSE)","v":false},{"$f":"IF(R263,IF(OR(D263=\"\",ISERR(DAY(D263))),TRUE,FALSE),FALSE)","v":false},{"$f":"IF(R263,IF(E263=\"\",TRUE,FALSE),FALSE)","v":false},{"$f":"IF(R263,IF(AND(LENB(G263)>1,LENB(G263)<65),FALSE,TRUE),FALSE)","v":false},{"$f":"IF(LENB(H263)<33,FALSE,TRUE)","v":false},{"$f":"IF(LENB(I263)<51,FALSE,TRUE)","v":false},{"$f":"IF(LENB(J263)<51,FALSE,TRUE)","v":false},{"$f":"IF(R263,IF(AND(LENB(K263)>2,LENB(K263)<16),FALSE,TRUE),FALSE)","v":false},{"$f":"IF(R263,IF(AND(0<LENB(L263),LENB(L263)<61),FALSE,TRUE),FALSE)","v":false},{"$f":"IF(R263,IF(AND(LENB(M263)<9),FALSE,TRUE),FALSE)","v":false},{"$f":"IF(R263,IF(O263=\"\",TRUE,FALSE),FALSE)","v":false},{"$f":"IF(R263,IF(AND(LEN(P263)=7,COUNTIF(集荷不可!$A:$A,P263)=0),FALSE,TRUE),FALSE)","v":false},{"$f":"IF(ISERROR(FIND(\".@\",L263)),FALSE,TRUE)","v":false},{"$f":"IF(LENB(N263)<9,FALSE,TRUE)","v":false}]
[null,null,null,null,null,null,null,null,null,null,null,null,null,null,null,"","",false,{"$f":"CheckIzonMoji(A264)","v":false},false,{"$f":"CheckKana(B264)","v":false},false,false,false,false,false,false,false,false,false,false,false,false,{"$f":"IF(R264,IF(AND(LEN(P264)=7,COUNTIF(集荷不可!$A:$A,P264)=0),FALSE,TRUE),FALSE)","v":false},false,false]
[null,null,null,null,null,null,null,null,null,null,null,null,null,null,null,{"$f":"SUBSTITUTE(F265,\"-\",\"\")","v":""},{"$f":"LEFT(O265,1)","v":""},false,{"$f":"CheckIzonMoji(A265)","v":false},false,{"$f":"CheckKana(B265)","v":false},false,false,false,false,false,false,false,false,false,false,false,false,{"$f":"IF(R265,IF(AND(LEN(P265)=7,COUNTIF(集荷不可!$A:$A,P265)=0),FALSE,TRUE),FALSE)","v":false},false,false]
[null,null,null,null,null,null,null,null,null,null,null,null,null,null,null,"","",false,{"$f":"CheckIzonMoji(A266)","v":false},false,{"$f":"CheckKana(B266)","v":false},false,false,false,false,false,false,false,false,false,false,false,false,{"$f":"IF(R266,IF(AND(LEN(P266)=7,COUNTIF(集荷不可!$A:$A,P266)=0),FALSE,TRUE),FALSE)","v":false},false,false]
[null,null,null,null,null,null,null,null,null,null,null,null,null,null,null,"","",false,{"$f":"CheckIzonMoji(A267)","v":false},false,{"$f":"CheckKana(B267)","v":false},false,false,false,false,false,false,false,false,false,false,false,false,{"$f":"IF(R267,IF(AND(LEN(P267)=7,COUNTIF(集荷不可!$A:$A,P267)=0),FALSE,TRUE),FALSE)","v":false},false,false]
[null,null,null,null,null,null,null,null,null,null,null,null,null,null,null,"","",false,{"$f":"CheckIzonMoji(A268)","v":false},false,{"$f":"CheckKana(B268)","v":false},false,false,false,false,false,false,false,false,false,false,false,false,{"$f":"IF(R268,IF(AND(LEN(P268)=7,COUNTIF(集荷不可!$A:$A,P268)=0),FALSE,TRUE),FALSE)","v":false},false,false]
[null,null,null,null,null,null,null,null,null,null,null,null,null,null,null,"","",false,{"$f":"CheckIzonMoji(A269)","v":false},false,{"$f":"CheckKana(B269)","v":false},false,false,false,false,false,false,false,false,false,false,false,false,{"$f":"IF(R269,IF(AND(LEN(P269)=7,COUNTIF(集荷不可!$A:$A,P269)=0),FALSE,TRUE),FALSE)","v":false},false,false]
[null,null,null,null,null,null,null,null,null,null,null,null,null,null,null,"","",false,{"$f":"CheckIzonMoji(A270)","v":false},false,{"$f":"CheckKana(B270)","v":false},false,false,false,false,false,false,false,false,false,false,false,false,{"$f":"IF(R270,IF(AND(LEN(P270)=7,COUNTIF(集荷不可!$A:$A,P270)=0),FALSE,TRUE),FALSE)","v":false},false,false]
[null,null,null,null,null,null,null,null,null,null,null,null,null,null,null,"","",false,{"$f":"CheckIzonMoji(A271)","v":false},false,{"$f":"CheckKana(B271)","v":false},false,false,false,false,false,false,false,false,false,false,false,false,{"$f":"IF(R271,IF(AND(LEN(P271)=7,COUNTIF(集荷不可!$A:$A,P271)=0),FALSE,TRUE),FALSE)","v":false},false,false]
[null,null,null,null,null,null,null,null,null,null,null,null,null,null,null,"","",false,{"$f":"CheckIzonMoji(A272)","v":false},false,{"$f":"CheckKana(B272)","v":false},false,false,false,false,false,false,false,false,false,false,false,false,{"$f":"IF(R272,IF(AND(LEN(P272)=7,COUNTIF(集荷不可!$A:$A,P272)=0),FALSE,TRUE),FALSE)","v":false},false,false]
[null,null,null,null,null,null,null,null,null,null,null,null,null,null,null,"","",false,{"$f":"CheckIzonMoji(A273)","v":false},false,{"$f":"CheckKana(B273)","v":false},false,false,false,false,false,false,false,false,false,false,false,false,{"$f":"IF(R273,IF(AND(LEN(P273)=7,COUNTIF(集荷不可!$A:$A,P273)=0),FALSE,TRUE),FALSE)","v":false},false,false]
[null,null,null,null,null,null,null,null,null,null,null,null,null,null,null,"","",false,{"$f":"CheckIzonMoji(A274)","v":false},false,{"$f":"CheckKana(B274)","v":false},false,false,false,false,false,false,false,false,false,false,false,false,{"$f":"IF(R274,IF(AND(LEN(P274)=7,COUNTIF(集荷不可!$A:$A,P274)=0),FALSE,TRUE),FALSE)","v":false},false,false]
[null,null,null,null,null,null,null,null,null,null,null,null,null,null,null,"","",false,{"$f":"CheckIzonMoji(A275)","v":false},false,{"$f":"CheckKana(B275)","v":false},false,false,false,false,false,false,false,false,false,false,false,false,{"$f":"IF(R275,IF(AND(LEN(P275)=7,COUNTIF(集荷不可!$A:$A,P275)=0),FALSE,TRUE),FALSE)","v":false},false,false]
[null,null,null,null,null,null,null,null,null,null,null,null,null,null,null,"","",false,{"$f":"CheckIzonMoji(A276)","v":false},false,{"$f":"CheckKana(B276)","v":false},false,false,false,false,false,false,false,false,false,false,false,false,{"$f":"IF(R276,IF(AND(LEN(P276)=7,COUNTIF(集荷不可!$A:$A,P276)=0),FALSE,TRUE),FALSE)","v":false},false,false]
[null,null,null,null,null,null,null,null,null,null,null,null,null,null,null,"","",false,{"$f":"CheckIzonMoji(A277)","v":false},false,{"$f":"CheckKana(B277)","v":false},false,false,false,false,false,false,false,false,false,false,false,false,{"$f":"IF(R277,IF(AND(LEN(P277)=7,COUNTIF(集荷不可!$A:$A,P277)=0),FALSE,TRUE),FALSE)","v":false},false,false]
[null,null,null,null,null,null,null,null,null,null,null,null,null,null,null,"","",false,{"$f":"CheckIzonMoji(A278)","v":false},false,{"$f":"CheckKana(B278)","v":false},false,false,false,false,false,false,false,false,false,false,false,false,{"$f":"IF(R278,IF(AND(LEN(P278)=7,COUNTIF(集荷不可!$A:$A,P278)=0),FALSE,TRUE),FALSE)","v":false},false,false]
[null,null,null,null,null,null,null,null,null,null,null,null,null,null,null,"","",false,{"$f":"CheckIzonMoji(A279)","v":false},false,{"$f":"CheckKana(B279)","v":false},false,false,false,false,false,false,false,false,false,false,false,false,{"$f":"IF(R279,IF(AND(LEN(P279)=7,COUNTIF(集荷不可!$A:$A,P279)=0),FALSE,TRUE),FALSE)","v":false},false,false]
[null,null,null,null,null,null,null,null,null,null,null,null,null,null,null,"","",false,{"$f":"CheckIzonMoji(A280)","v":false},false,{"$f":"CheckKana(B280)","v":false},false,false,false,false,false,false,false,false,false,false,false,false,{"$f":"IF(R280,IF(AND(LEN(P280)=7,COUNTIF(集荷不可!$A:$A,P280)=0),FALSE,TRUE),FALSE)","v":false},false,false]
[null,null,null,null,null,null,null,null,null,null,null,null,null,null,null,"","",false,{"$f":"CheckIzonMoji(A281)","v":false},false,{"$f":"CheckKana(B281)","v":false},false,false,false,false,false,false,false,false,false,false,false,false,{"$f":"IF(R281,IF(AND(LEN(P281)=7,COUNTIF(集荷不可!$A:$A,P281)=0),FALSE,TRUE),FALSE)","v":false},false,false]
[null,null,null,null,null,null,null,null,null,null,null,null,null,null,null,"","",false,{"$f":"CheckIzonMoji(A282)","v":false},false,{"$f":"CheckKana(B282)","v":false},false,false,false,false,false,false,false,false,false,false,false,false,{"$f":"IF(R282,IF(AND(LEN(P282)=7,COUNTIF(集荷不可!$A:$A,P282)=0),FALSE,TRUE),FALSE)","v":false},false,false]
[null,null,null,null,null,null,null,null,null,null,null,null,null,null,null,"","",false,{"$f":"CheckIzonMoji(A283)","v":false},false,{"$f":"CheckKana(B283)","v":false},false,false,false,false,false,false,false,false,false,false,false,false,{"$f":"IF(R283,IF(AND(LEN(P283)=7,COUNTIF(集荷不可!$A:$A,P283)=0),FALSE,TRUE),FALSE)","v":false},false,false]
[null,null,null,null,null,null,null,null,null,null,null,null,null,null,null,"","",false,{"$f":"CheckIzonMoji(A284)","v":false},false,{"$f":"CheckKana(B284)","v":false},false,false,false,false,false,false,false,false,false,false,false,false,{"$f":"IF(R284,IF(AND(LEN(P284)=7,COUNTIF(集荷不可!$A:$A,P284)=0),FALSE,TRUE),FALSE)","v":false},false,false]
[null,null,null,null,null,null,null,null,null,null,null,null,null,null,null,"","",false,{"$f":"CheckIzonMoji(A285)","v":false},false,{"$f":"CheckKana(B285)","v":false},false,false,false,false,false,false,false,false,false,false,false,false,{"$f":"IF(R285,IF(AND(LEN(P285)=7,COUNTIF(集荷不可!$A:$A,P285)=0),FALSE,TRUE),FALSE)","v":false},false,false]
[null,null,null,null,null,null,null,null,null,null,null,null,null,null,null,"","",false,{"$f":"CheckIzonMoji(A286)","v":false},false,{"$f":"CheckKana(B286)","v":false},false,false,false,false,false,false,false,false,false,false,false,false,{"$f":"IF(R286,IF(AND(LEN(P286)=7,COUNTIF(集荷不可!$A:$A,P286)=0),FALSE,TRUE),FALSE)","v":false},false,false]
[null,null,null,null,null,null,null,null,null,null,null,null,null,null,null,"","",false,{"$f":"CheckIzonMoji(A287)","v":false},false,{"$f":"CheckKana(B287)","v":false},false,false,false,false,false,false,false,false,false,false,false,false,{"$f":"IF(R287,IF(AND(LEN(P287)=7,COUNTIF(集荷不可!$A:$A,P287)=0),FALSE,TRUE),FALSE)","v":false},false,false]
[null,null,null,null,null,null,null,null,null,null,null,null,null,null,null,"","",false,{"$f":"CheckIzonMoji(A288)","v":false},false,{"$f":"CheckKana(B288)","v":false},false,false,false,false,false,false,false,false,false,false,false,false,{"$f":"IF(R288,IF(AND(LEN(P288)=7,COUNTIF(集荷不可!$A:$A,P288)=0),FALSE,TRUE),FALSE)","v":false},false,false]
[null,null,null,null,null,null,null,null,null,null,null,null,null,null,null,"","",false,{"$f":"CheckIzonMoji(A289)","v":false},false,{"$f":"CheckKana(B289)","v":false},false,false,false,false,false,false,false,false,false,false,false,false,{"$f":"IF(R289,IF(AND(LEN(P289)=7,COUNTIF(集荷不可!$A:$A,P289)=0),FALSE,TRUE),FALSE)","v":false},false,false]
[null,null,null,null,null,null,null,null,null,null,null,null,null,null,null,"","",false,{"$f":"CheckIzonMoji(A290)","v":false},false,{"$f":"CheckKana(B290)","v":false},false,false,false,false,false,false,false,false,false,false,false,false,{"$f":"IF(R290,IF(AND(LEN(P290)=7,COUNTIF(集荷不可!$A:$A,P290)=0),FALSE,TRUE),FALSE)","v":false},false,false]
[null,null,null,null,null,null,null,null,null,null,null,null,null,null,null,"","",false,{"$f":"CheckIzonMoji(A291)","v":false},false,{"$f":"CheckKana(B291)","v":false},false,false,false,false,false,false,false,false,false,false,false,false,{"$f":"IF(R291,IF(AND(LEN(P291)=7,COUNTIF(集荷不可!$A:$A,P291)=0),FALSE,TRUE),FALSE)","v":false},false,false]
[null,null,null,null,null,null,null,null,null,null,null,null,null,null,null,"","",false,{"$f":"CheckIzonMoji(A292)","v":false},false,{"$f":"CheckKana(B292)","v":false},false,false,false,false,false,false,false,false,false,false,false,false,{"$f":"IF(R292,IF(AND(LEN(P292)=7,COUNTIF(集荷不可!$A:$A,P292)=0),FALSE,TRUE),FALSE)","v":false},false,false]
[null,null,null,null,null,null,null,null,null,null,null,null,null,null,null,"","",false,{"$f":"CheckIzonMoji(A293)","v":false},false,{"$f":"CheckKana(B293)","v":false},false,false,false,false,false,false,false,false,false,false,false,false,{"$f":"IF(R293,IF(AND(LEN(P293)=7,COUNTIF(集荷不可!$A:$A,P293)=0),FALSE,TRUE),FALSE)","v":false},false,false]
[null,null,null,null,null,null,null,null,null,null,null,null,null,null,null,"","",false,{"$f":"CheckIzonMoji(A294)","v":false},false,{"$f":"CheckKana(B294)","v":false},false,false,false,false,false,false,false,false,false,false,false,false,{"$f":"IF(R294,IF(AND(LEN(P294)=7,COUNTIF(集荷不可!$A:$A,P294)=0),FALSE,TRUE),FALSE)","v":false},false,false]
[null,null,null,null,null,null,null,null,null,null,null,null,null,null,null,"","",false,{"$f":"CheckIzonMoji(A295)","v":false},false,{"$f":"CheckKana(B295)","v":false},false,false,false,false,false,false,false,false,false,false,false,false,{"$f":"IF(R295,IF(AND(LEN(P295)=7,COUNTIF(集荷不可!$A:$A,P295)=0),FALSE,TRUE),FALSE)","v":false},false,false]
[null,null,null,null,null,null,null,null,null,null,null,null,null,null,null,"","",false,{"$f":"CheckIzonMoji(A296)","v":false},false,{"$f":"CheckKana(B296)","v":false},false,false,false,false,false,false,false,false,false,false,false,false,{"$f":"IF(R296,IF(AND(LEN(P296)=7,COUNTIF(集荷不可!$A:$A,P296)=0),FALSE,TRUE),FALSE)","v":false},false,false]
[null,null,null,null,null,null,null,null,null,null,null,null,null,null,null,"","",false,{"$f":"CheckIzonMoji(A297)","v":false},false,{"$f":"CheckKana(B297)","v":false},false,false,false,false,false,false,false,false,false,false,false,false,{"$f":"IF(R297,IF(AND(LEN(P297)=7,COUNTIF(集荷不可!$A:$A,P297)=0),FALSE,TRUE),FALSE)","v":false},false,false]
[null,null,null,null,null,null,null,null,null,null,null,null,null,null,null,"","",false,{"$f":"CheckIzonMoji(A298)","v":false},false,{"$f":"CheckKana(B298)","v":false},false,false,false,false,false,false,false,false,false,false,false,false,{"$f":"IF(R298,IF(AND(LEN(P298)=7,COUNTIF(集荷不可!$A:$A,P298)=0),FALSE,TRUE),FALSE)","v":false},false,false]
[null,null,null,null,null,null,null,null,null,null,null,null,null,null,null,"","",false,{"$f":"CheckIzonMoji(A299)","v":false},false,{"$f":"CheckKana(B299)","v":false},false,false,false,false,false,false,false,false,false,false,false,false,{"$f":"IF(R299,IF(AND(LEN(P299)=7,COUNTIF(集荷不可!$A:$A,P299)=0),FALSE,TRUE),FALSE)","v":false},false,false]
[null,null,null,null,null,null,null,null,null,null,null,null,null,null,null,"","",false,{"$f":"CheckIzonMoji(A300)","v":false},false,{"$f":"CheckKana(B300)","v":false},false,false,false,false,false,false,false,false,false,false,false,false,{"$f":"IF(R300,IF(AND(LEN(P300)=7,COUNTIF(集荷不可!$A:$A,P300)=0),FALSE,TRUE),FALSE)","v":false},false,false]
[null,null,null,null,null,null,null,null,null,null,null,null,null,null,null,"","",false,{"$f":"CheckIzonMoji(A301)","v":false},false,{"$f":"CheckKana(B301)","v":false},false,false,false,false,false,false,false,false,false,false,false,false,{"$f":"IF(R301,IF(AND(LEN(P301)=7,COUNTIF(集荷不可!$A:$A,P301)=0),FALSE,TRUE),FALSE)","v":false},false,false]
[null,null,null,null,null,null,null,null,null,null,null,null,null,null,null,"","",false,{"$f":"CheckIzonMoji(A302)","v":false},false,{"$f":"CheckKana(B302)","v":false},false,false,false,false,false,false,false,false,false,false,false,false,{"$f":"IF(R302,IF(AND(LEN(P302)=7,COUNTIF(集荷不可!$A:$A,P302)=0),FALSE,TRUE),FALSE)","v":false},false,false]
[null,null,null,null,null,null,null,null,null,null,null,null,null,null,null,"","",false,{"$f":"CheckIzonMoji(A303)","v":false},false,{"$f":"CheckKana(B303)","v":false},false,false,false,false,false,false,false,false,false,false,false,false,{"$f":"IF(R303,IF(AND(LEN(P303)=7,COUNTIF(集荷不可!$A:$A,P303)=0),FALSE,TRUE),FALSE)","v":false},false,false]
[null,null,null,null,null,null,null,null,null,null,null,null,null,null,null,"","",false,{"$f":"CheckIzonMoji(A304)","v":false},false,{"$f":"CheckKana(B304)","v":false},false,false,false,false,false,false,false,false,false,false,false,false,{"$f":"IF(R304,IF(AND(LEN(P304)=7,COUNTIF(集荷不可!$A:$A,P304)=0),FALSE,TRUE),FALSE)","v":false},false,false]
[null,null,null,null,null,null,null,null,null,null,null,null,null,null,null,"","",false,{"$f":"CheckIzonMoji(A305)","v":false},false,{"$f":"CheckKana(B305)","v":false},false,false,false,false,false,false,false,false,false,false,false,false,{"$f":"IF(R305,IF(AND(LEN(P305)=7,COUNTIF(集荷不可!$A:$A,P305)=0),FALSE,TRUE),FALSE)","v":false},false,false]
[null,null,null,null,null,null,null,null,null,null,null,null,null,null,null,"","",false,{"$f":"CheckIzonMoji(A306)","v":false},false,{"$f":"CheckKana(B306)","v":false},false,false,false,false,false,false,false,false,false,false,false,false,{"$f":"IF(R306,IF(AND(LEN(P306)=7,COUNTIF(集荷不可!$A:$A,P306)=0),FALSE,TRUE),FALSE)","v":false},false,false]
[null,null,null,null,null,null,null,null,null,null,null,null,null,null,null,"","",false,{"$f":"CheckIzonMoji(A307)","v":false},false,{"$f":"CheckKana(B307)","v":false},false,false,false,false,false,false,false,false,false,false,false,false,{"$f":"IF(R307,IF(AND(LEN(P307)=7,COUNTIF(集荷不可!$A:$A,P307)=0),FALSE,TRUE),FALSE)","v":false},false,false]
[null,null,null,null,null,null,null,null,null,null,null,null,null,null,null,"","",false,{"$f":"CheckIzonMoji(A308)","v":false},false,{"$f":"CheckKana(B308)","v":false},false,false,false,false,false,false,false,false,false,false,false,false,{"$f":"IF(R308,IF(AND(LEN(P308)=7,COUNTIF(集荷不可!$A:$A,P308)=0),FALSE,TRUE),FALSE)","v":false},false,false]
[null,null,null,null,null,null,null,null,null,null,null,null,null,null,null,"","",false,{"$f":"CheckIzonMoji(A309)","v":false},false,{"$f":"CheckKana(B309)","v":false},false,false,false,false,false,false,false,false,false,false,false,false,{"$f":"IF(R309,IF(AND(LEN(P309)=7,COUNTIF(集荷不可!$A:$A,P309)=0),FALSE,TRUE),FALSE)","v":false},false,false]
[null,null,null,null,null,null,null,null,null,null,null,null,null,null,null,"","",false,{"$f":"CheckIzonMoji(A310)","v":false},false,{"$f":"CheckKana(B310)","v":false},false,false,false,false,false,false,false,false,false,false,false,false,{"$f":"IF(R310,IF(AND(LEN(P310)=7,COUNTIF(集荷不可!$A:$A,P310)=0),FALSE,TRUE),FALSE)","v":false},false,false]
[null,null,null,null,null,null,null,null,null,null,null,null,null,null,null,"","",false,{"$f":"CheckIzonMoji(A311)","v":false},false,{"$f":"CheckKana(B311)","v":false},false,false,false,false,false,false,false,false,false,false,false,false,{"$f":"IF(R311,IF(AND(LEN(P311)=7,COUNTIF(集荷不可!$A:$A,P311)=0),FALSE,TRUE),FALSE)","v":false},false,false]
[null,null,null,null,null,null,null,null,null,null,null,null,null,null,null,"","",false,{"$f":"CheckIzonMoji(A312)","v":false},false,{"$f":"CheckKana(B312)","v":false},false,false,false,false,false,false,false,false,false,false,false,false,{"$f":"IF(R312,IF(AND(LEN(P312)=7,COUNTIF(集荷不可!$A:$A,P312)=0),FALSE,TRUE),FALSE)","v":false},false,false]
[null,null,null,null,null,null,null,null,null,null,null,null,null,null,null,"","",false,{"$f":"CheckIzonMoji(A313)","v":false},false,{"$f":"CheckKana(B313)","v":false},false,false,false,false,false,false,false,false,false,false,false,false,{"$f":"IF(R313,IF(AND(LEN(P313)=7,COUNTIF(集荷不可!$A:$A,P313)=0),FALSE,TRUE),FALSE)","v":false},false,false]
[null,null,null,null,null,null,null,null,null,null,null,null,null,null,null,"","",false,{"$f":"CheckIzonMoji(A314)","v":false},false,{"$f":"CheckKana(B314)","v":false},false,false,false,false,false,false,false,false,false,false,false,false,{"$f":"IF(R314,IF(AND(LEN(P314)=7,COUNTIF(集荷不可!$A:$A,P314)=0),FALSE,TRUE),FALSE)","v":false},false,false]
[null,null,null,null,null,null,null,null,null,null,null,null,null,null,null,"","",false,{"$f":"CheckIzonMoji(A315)","v":false},false,{"$f":"CheckKana(B315)","v":false},false,false,false,false,false,false,false,false,false,false,false,false,{"$f":"IF(R315,IF(AND(LEN(P315)=7,COUNTIF(集荷不可!$A:$A,P315)=0),FALSE,TRUE),FALSE)","v":false},false,false]
[null,null,null,null,null,null,null,null,null,null,null,null,null,null,null,"","",false,{"$f":"CheckIzonMoji(A316)","v":false},false,{"$f":"CheckKana(B316)","v":false},false,false,false,false,false,false,false,false,false,false,false,false,{"$f":"IF(R316,IF(AND(LEN(P316)=7,COUNTIF(集荷不可!$A:$A,P316)=0),FALSE,TRUE),FALSE)","v":false},false,false]
[null,null,null,null,null,null,null,null,null,null,null,null,null,null,null,"","",false,{"$f":"CheckIzonMoji(A317)","v":false},false,{"$f":"CheckKana(B317)","v":false},false,false,false,false,false,false,false,false,false,false,false,false,{"$f":"IF(R317,IF(AND(LEN(P317)=7,COUNTIF(集荷不可!$A:$A,P317)=0),FALSE,TRUE),FALSE)","v":false},false,false]
[null,null,null,null,null,null,null,null,null,null,null,null,null,null,null,"","",false,{"$f":"CheckIzonMoji(A318)","v":false},false,{"$f":"CheckKana(B318)","v":false},false,false,false,false,false,false,false,false,false,false,false,false,{"$f":"IF(R318,IF(AND(LEN(P318)=7,COUNTIF(集荷不可!$A:$A,P318)=0),FALSE,TRUE),FALSE)","v":false},false,false]
[null,null,null,null,null,null,null,null,null,null,null,null,null,null,null,"","",false,{"$f":"CheckIzonMoji(A319)","v":false},false,{"$f":"CheckKana(B319)","v":false},false,false,false,false,false,false,false,false,false,false,false,false,{"$f":"IF(R319,IF(AND(LEN(P319)=7,COUNTIF(集荷不可!$A:$A,P319)=0),FALSE,TRUE),FALSE)","v":false},false,false]
[null,null,null,null,null,null,null,null,null,null,null,null,null,null,null,"","",false,{"$f":"CheckIzonMoji(A320)","v":false},false,{"$f":"CheckKana(B320)","v":false},false,false,false,false,false,false,false,false,false,false,false,false,{"$f":"IF(R320,IF(AND(LEN(P320)=7,COUNTIF(集荷不可!$A:$A,P320)=0),FALSE,TRUE),FALSE)","v":false},false,false]
[null,null,null,null,null,null,null,null,null,null,null,null,null,null,null,"","",false,{"$f":"CheckIzonMoji(A321)","v":false},false,{"$f":"CheckKana(B321)","v":false},false,false,false,false,false,false,false,false,false,false,false,false,{"$f":"IF(R321,IF(AND(LEN(P321)=7,COUNTIF(集荷不可!$A:$A,P321)=0),FALSE,TRUE),FALSE)","v":false},false,false]
[null,null,null,null,null,null,null,null,null,null,null,null,null,null,null,"","",false,{"$f":"CheckIzonMoji(A322)","v":false},false,{"$f":"CheckKana(B322)","v":false},false,false,false,false,false,false,false,false,false,false,false,false,{"$f":"IF(R322,IF(AND(LEN(P322)=7,COUNTIF(集荷不可!$A:$A,P322)=0),FALSE,TRUE),FALSE)","v":false},false,false]
[null,null,null,null,null,null,null,null,null,null,null,null,null,null,null,"","",false,{"$f":"CheckIzonMoji(A323)","v":false},false,{"$f":"CheckKana(B323)","v":false},false,false,false,false,false,false,false,false,false,false,false,false,{"$f":"IF(R323,IF(AND(LEN(P323)=7,COUNTIF(集荷不可!$A:$A,P323)=0),FALSE,TRUE),FALSE)","v":false},false,false]
[null,null,null,null,null,null,null,null,null,null,null,null,null,null,null,"","",false,{"$f":"CheckIzonMoji(A324)","v":false},false,{"$f":"CheckKana(B324)","v":false},false,false,false,false,false,false,false,false,false,false,false,false,{"$f":"IF(R324,IF(AND(LEN(P324)=7,COUNTIF(集荷不可!$A:$A,P324)=0),FALSE,TRUE),FALSE)","v":false},false,false]
[null,null,null,null,null,null,null,null,null,null,null,null,null,null,null,"","",false,{"$f":"CheckIzonMoji(A325)","v":false},false,{"$f":"CheckKana(B325)","v":false},false,false,false,false,false,false,false,false,false,false,false,false,{"$f":"IF(R325,IF(AND(LEN(P325)=7,COUNTIF(集荷不可!$A:$A,P325)=0),FALSE,TRUE),FALSE)","v":false},false,false]
[null,null,null,null,null,null,null,null,null,null,null,null,null,null,null,"","",false,{"$f":"CheckIzonMoji(A326)","v":false},false,{"$f":"CheckKana(B326)","v":false},false,false,false,false,false,false,false,false,false,false,false,false,{"$f":"IF(R326,IF(AND(LEN(P326)=7,COUNTIF(集荷不可!$A:$A,P326)=0),FALSE,TRUE),FALSE)","v":false},false,false]
[null,null,null,null,null,null,null,null,null,null,null,null,null,null,null,"","",{"$f":"IF(LEN(A327&B327&C327&D327&E327&F327&G327&H327&I327&J327&K327&L327&M327&N327&O327)=0,FALSE,TRUE)","v":false},{"$f":"CheckIzonMoji(A327)","v":false},{"$f":"IF(R327,IF(AND(0<LENB(A327),LENB(A327)<33),FALSE,TRUE),FALSE)","v":false},{"$f":"CheckKana(B327)","v":false},{"$f":"IF(R327,IF(AND(0<LENB(B327),LENB(B327)<33),FALSE,TRUE),FALSE)","v":false},{"$f":"IF(R327,IF(C327=\"\",TRUE,FALSE),FALSE)","v":false},{"$f":"IF(R327,IF(OR(D327=\"\",ISERR(DAY(D327))),TRUE,FALSE),FALSE)","v":false},{"$f":"IF(R327,IF(E327=\"\",TRUE,FALSE),FALSE)","v":false},{"$f":"IF(R327,IF(AND(LENB(G327)>1,LENB(G327)<65),FALSE,TRUE),FALSE)","v":false},{"$f":"IF(LENB(H327)<33,FALSE,TRUE)","v":false},{"$f":"IF(LENB(I327)<51,FALSE,TRUE)","v":false},{"$f":"IF(LENB(J327)<51,FALSE,TRUE)","v":false},{"$f":"IF(R327,IF(AND(LENB(K327)>2,LENB(K327)<16),FALSE,TRUE),FALSE)","v":false},{"$f":"IF(R327,IF(AND(0<LENB(L327),LENB(L327)<61),FALSE,TRUE),FALSE)","v":false},{"$f":"IF(R327,IF(AND(LENB(M327)<9),FALSE,TRUE),FALSE)","v":false},{"$f":"IF(R327,IF(O327=\"\",TRUE,FALSE),FALSE)","v":false},{"$f":"IF(R327,IF(AND(LEN(P327)=7,COUNTIF(集荷不可!$A:$A,P327)=0),FALSE,TRUE),FALSE)","v":false},{"$f":"IF(ISERROR(FIND(\".@\",L327)),FALSE,TRUE)","v":false},{"$f":"IF(LENB(N327)<9,FALSE,TRUE)","v":false}]
[null,null,null,null,null,null,null,null,null,null,null,null,null,null,null,"","",false,{"$f":"CheckIzonMoji(A328)","v":false},false,{"$f":"CheckKana(B328)","v":false},false,false,false,false,false,false,false,false,false,false,false,false,{"$f":"IF(R328,IF(AND(LEN(P328)=7,COUNTIF(集荷不可!$A:$A,P328)=0),FALSE,TRUE),FALSE)","v":false},false,false]
[null,null,null,null,null,null,null,null,null,null,null,null,null,null,null,{"$f":"SUBSTITUTE(F329,\"-\",\"\")","v":""},{"$f":"LEFT(O329,1)","v":""},false,{"$f":"CheckIzonMoji(A329)","v":false},false,{"$f":"CheckKana(B329)","v":false},false,false,false,false,false,false,false,false,false,false,false,false,{"$f":"IF(R329,IF(AND(LEN(P329)=7,COUNTIF(集荷不可!$A:$A,P329)=0),FALSE,TRUE),FALSE)","v":false},false,false]
[null,null,null,null,null,null,null,null,null,null,null,null,null,null,null,"","",false,{"$f":"CheckIzonMoji(A330)","v":false},false,{"$f":"CheckKana(B330)","v":false},false,false,false,false,false,false,false,false,false,false,false,false,{"$f":"IF(R330,IF(AND(LEN(P330)=7,COUNTIF(集荷不可!$A:$A,P330)=0),FALSE,TRUE),FALSE)","v":false},false,false]
[null,null,null,null,null,null,null,null,null,null,null,null,null,null,null,"","",false,{"$f":"CheckIzonMoji(A331)","v":false},false,{"$f":"CheckKana(B331)","v":false},false,false,false,false,false,false,false,false,false,false,false,false,{"$f":"IF(R331,IF(AND(LEN(P331)=7,COUNTIF(集荷不可!$A:$A,P331)=0),FALSE,TRUE),FALSE)","v":false},false,false]
[null,null,null,null,null,null,null,null,null,null,null,null,null,null,null,"","",false,{"$f":"CheckIzonMoji(A332)","v":false},false,{"$f":"CheckKana(B332)","v":false},false,false,false,false,false,false,false,false,false,false,false,false,{"$f":"IF(R332,IF(AND(LEN(P332)=7,COUNTIF(集荷不可!$A:$A,P332)=0),FALSE,TRUE),FALSE)","v":false},false,false]
[null,null,null,null,null,null,null,null,null,null,null,null,null,null,null,"","",false,{"$f":"CheckIzonMoji(A333)","v":false},false,{"$f":"CheckKana(B333)","v":false},false,false,false,false,false,false,false,false,false,false,false,false,{"$f":"IF(R333,IF(AND(LEN(P333)=7,COUNTIF(集荷不可!$A:$A,P333)=0),FALSE,TRUE),FALSE)","v":false},false,false]
[null,null,null,null,null,null,null,null,null,null,null,null,null,null,null,"","",false,{"$f":"CheckIzonMoji(A334)","v":false},false,{"$f":"CheckKana(B334)","v":false},false,false,false,false,false,false,false,false,false,false,false,false,{"$f":"IF(R334,IF(AND(LEN(P334)=7,COUNTIF(集荷不可!$A:$A,P334)=0),FALSE,TRUE),FALSE)","v":false},false,false]
[null,null,null,null,null,null,null,null,null,null,null,null,null,null,null,"","",false,{"$f":"CheckIzonMoji(A335)","v":false},false,{"$f":"CheckKana(B335)","v":false},false,false,false,false,false,false,false,false,false,false,false,false,{"$f":"IF(R335,IF(AND(LEN(P335)=7,COUNTIF(集荷不可!$A:$A,P335)=0),FALSE,TRUE),FALSE)","v":false},false,false]
[null,null,null,null,null,null,null,null,null,null,null,null,null,null,null,"","",false,{"$f":"CheckIzonMoji(A336)","v":false},false,{"$f":"CheckKana(B336)","v":false},false,false,false,false,false,false,false,false,false,false,false,false,{"$f":"IF(R336,IF(AND(LEN(P336)=7,COUNTIF(集荷不可!$A:$A,P336)=0),FALSE,TRUE),FALSE)","v":false},false,false]
[null,null,null,null,null,null,null,null,null,null,null,null,null,null,null,"","",false,{"$f":"CheckIzonMoji(A337)","v":false},false,{"$f":"CheckKana(B337)","v":false},false,false,false,false,false,false,false,false,false,false,false,false,{"$f":"IF(R337,IF(AND(LEN(P337)=7,COUNTIF(集荷不可!$A:$A,P337)=0),FALSE,TRUE),FALSE)","v":false},false,false]
[null,null,null,null,null,null,null,null,null,null,null,null,null,null,null,"","",false,{"$f":"CheckIzonMoji(A338)","v":false},false,{"$f":"CheckKana(B338)","v":false},false,false,false,false,false,false,false,false,false,false,false,false,{"$f":"IF(R338,IF(AND(LEN(P338)=7,COUNTIF(集荷不可!$A:$A,P338)=0),FALSE,TRUE),FALSE)","v":false},false,false]
[null,null,null,null,null,null,null,null,null,null,null,null,null,null,null,"","",false,{"$f":"CheckIzonMoji(A339)","v":false},false,{"$f":"CheckKana(B339)","v":false},false,false,false,false,false,false,false,false,false,false,false,false,{"$f":"IF(R339,IF(AND(LEN(P339)=7,COUNTIF(集荷不可!$A:$A,P339)=0),FALSE,TRUE),FALSE)","v":false},false,false]
[null,null,null,null,null,null,null,null,null,null,null,null,null,null,null,"","",false,{"$f":"CheckIzonMoji(A340)","v":false},false,{"$f":"CheckKana(B340)","v":false},false,false,false,false,false,false,false,false,false,false,false,false,{"$f":"IF(R340,IF(AND(LEN(P340)=7,COUNTIF(集荷不可!$A:$A,P340)=0),FALSE,TRUE),FALSE)","v":false},false,false]
[null,null,null,null,null,null,null,null,null,null,null,null,null,null,null,"","",false,{"$f":"CheckIzonMoji(A341)","v":false},false,{"$f":"CheckKana(B341)","v":false},false,false,false,false,false,false,false,false,false,false,false,false,{"$f":"IF(R341,IF(AND(LEN(P341)=7,COUNTIF(集荷不可!$A:$A,P341)=0),FALSE,TRUE),FALSE)","v":false},false,false]
[null,null,null,null,null,null,null,null,null,null,null,null,null,null,null,"","",false,{"$f":"CheckIzonMoji(A342)","v":false},false,{"$f":"CheckKana(B342)","v":false},false,false,false,false,false,false,false,false,false,false,false,false,{"$f":"IF(R342,IF(AND(LEN(P342)=7,COUNTIF(集荷不可!$A:$A,P342)=0),FALSE,TRUE),FALSE)","v":false},false,false]
[null,null,null,null,null,null,null,null,null,null,null,null,null,null,null,"","",false,{"$f":"CheckIzonMoji(A343)","v":false},false,{"$f":"CheckKana(B343)","v":false},false,false,false,false,false,false,false,false,false,false,false,false,{"$f":"IF(R343,IF(AND(LEN(P343)=7,COUNTIF(集荷不可!$A:$A,P343)=0),FALSE,TRUE),FALSE)","v":false},false,false]
[null,null,null,null,null,null,null,null,null,null,null,null,null,null,null,"","",false,{"$f":"CheckIzonMoji(A344)","v":false},false,{"$f":"CheckKana(B344)","v":false},false,false,false,false,false,false,false,false,false,false,false,false,{"$f":"IF(R344,IF(AND(LEN(P344)=7,COUNTIF(集荷不可!$A:$A,P344)=0),FALSE,TRUE),FALSE)","v":false},false,false]
[null,null,null,null,null,null,null,null,null,null,null,null,null,null,null,"","",false,{"$f":"CheckIzonMoji(A345)","v":false},false,{"$f":"CheckKana(B345)","v":false},false,false,false,false,false,false,false,false,false,false,false,false,{"$f":"IF(R345,IF(AND(LEN(P345)=7,COUNTIF(集荷不可!$A:$A,P345)=0),FALSE,TRUE),FALSE)","v":false},false,false]
[null,null,null,null,null,null,null,null,null,null,null,null,null,null,null,"","",false,{"$f":"CheckIzonMoji(A346)","v":false},false,{"$f":"CheckKana(B346)","v":false},false,false,false,false,false,false,false,false,false,false,false,false,{"$f":"IF(R346,IF(AND(LEN(P346)=7,COUNTIF(集荷不可!$A:$A,P346)=0),FALSE,TRUE),FALSE)","v":false},false,false]
[null,null,null,null,null,null,null,null,null,null,null,null,null,null,null,"","",false,{"$f":"CheckIzonMoji(A347)","v":false},false,{"$f":"CheckKana(B347)","v":false},false,false,false,false,false,false,false,false,false,false,false,false,{"$f":"IF(R347,IF(AND(LEN(P347)=7,COUNTIF(集荷不可!$A:$A,P347)=0),FALSE,TRUE),FALSE)","v":false},false,false]
[null,null,null,null,null,null,null,null,null,null,null,null,null,null,null,"","",false,{"$f":"CheckIzonMoji(A348)","v":false},false,{"$f":"CheckKana(B348)","v":false},false,false,false,false,false,false,false,false,false,false,false,false,{"$f":"IF(R348,IF(AND(LEN(P348)=7,COUNTIF(集荷不可!$A:$A,P348)=0),FALSE,TRUE),FALSE)","v":false},false,false]
[null,null,null,null,null,null,null,null,null,null,null,null,null,null,null,"","",false,{"$f":"CheckIzonMoji(A349)","v":false},false,{"$f":"CheckKana(B349)","v":false},false,false,false,false,false,false,false,false,false,false,false,false,{"$f":"IF(R349,IF(AND(LEN(P349)=7,COUNTIF(集荷不可!$A:$A,P349)=0),FALSE,TRUE),FALSE)","v":false},false,false]
[null,null,null,null,null,null,null,null,null,null,null,null,null,null,null,"","",false,{"$f":"CheckIzonMoji(A350)","v":false},false,{"$f":"CheckKana(B350)","v":false},false,false,false,false,false,false,false,false,false,false,false,false,{"$f":"IF(R350,IF(AND(LEN(P350)=7,COUNTIF(集荷不可!$A:$A,P350)=0),FALSE,TRUE),FALSE)","v":false},false,false]
[null,null,null,null,null,null,null,null,null,null,null,null,null,null,null,"","",false,{"$f":"CheckIzonMoji(A351)","v":false},false,{"$f":"CheckKana(B351)","v":false},false,false,false,false,false,false,false,false,false,false,false,false,{"$f":"IF(R351,IF(AND(LEN(P351)=7,COUNTIF(集荷不可!$A:$A,P351)=0),FALSE,TRUE),FALSE)","v":false},false,false]
[null,null,null,null,null,null,null,null,null,null,null,null,null,null,null,"","",false,{"$f":"CheckIzonMoji(A352)","v":false},false,{"$f":"CheckKana(B352)","v":false},false,false,false,false,false,false,false,false,false,false,false,false,{"$f":"IF(R352,IF(AND(LEN(P352)=7,COUNTIF(集荷不可!$A:$A,P352)=0),FALSE,TRUE),FALSE)","v":false},false,false]
[null,null,null,null,null,null,null,null,null,null,null,null,null,null,null,"","",false,{"$f":"CheckIzonMoji(A353)","v":false},false,{"$f":"CheckKana(B353)","v":false},false,false,false,false,false,false,false,false,false,false,false,false,{"$f":"IF(R353,IF(AND(LEN(P353)=7,COUNTIF(集荷不可!$A:$A,P353)=0),FALSE,TRUE),FALSE)","v":false},false,false]
[null,null,null,null,null,null,null,null,null,null,null,null,null,null,null,"","",false,{"$f":"CheckIzonMoji(A354)","v":false},false,{"$f":"CheckKana(B354)","v":false},false,false,false,false,false,false,false,false,false,false,false,false,{"$f":"IF(R354,IF(AND(LEN(P354)=7,COUNTIF(集荷不可!$A:$A,P354)=0),FALSE,TRUE),FALSE)","v":false},false,false]
[null,null,null,null,null,null,null,null,null,null,null,null,null,null,null,"","",false,{"$f":"CheckIzonMoji(A355)","v":false},false,{"$f":"CheckKana(B355)","v":false},false,false,false,false,false,false,false,false,false,false,false,false,{"$f":"IF(R355,IF(AND(LEN(P355)=7,COUNTIF(集荷不可!$A:$A,P355)=0),FALSE,TRUE),FALSE)","v":false},false,false]
[null,null,null,null,null,null,null,null,null,null,null,null,null,null,null,"","",false,{"$f":"CheckIzonMoji(A356)","v":false},false,{"$f":"CheckKana(B356)","v":false},false,false,false,false,false,false,false,false,false,false,false,false,{"$f":"IF(R356,IF(AND(LEN(P356)=7,COUNTIF(集荷不可!$A:$A,P356)=0),FALSE,TRUE),FALSE)","v":false},false,false]
[null,null,null,null,null,null,null,null,null,null,null,null,null,null,null,"","",false,{"$f":"CheckIzonMoji(A357)","v":false},false,{"$f":"CheckKana(B357)","v":false},false,false,false,false,false,false,false,false,false,false,false,false,{"$f":"IF(R357,IF(AND(LEN(P357)=7,COUNTIF(集荷不可!$A:$A,P357)=0),FALSE,TRUE),FALSE)","v":false},false,false]
[null,null,null,null,null,null,null,null,null,null,null,null,null,null,null,"","",false,{"$f":"CheckIzonMoji(A358)","v":false},false,{"$f":"CheckKana(B358)","v":false},false,false,false,false,false,false,false,false,false,false,false,false,{"$f":"IF(R358,IF(AND(LEN(P358)=7,COUNTIF(集荷不可!$A:$A,P358)=0),FALSE,TRUE),FALSE)","v":false},false,false]
[null,null,null,null,null,null,null,null,null,null,null,null,null,null,null,"","",false,{"$f":"CheckIzonMoji(A359)","v":false},false,{"$f":"CheckKana(B359)","v":false},false,false,false,false,false,false,false,false,false,false,false,false,{"$f":"IF(R359,IF(AND(LEN(P359)=7,COUNTIF(集荷不可!$A:$A,P359)=0),FALSE,TRUE),FALSE)","v":false},false,false]
[null,null,null,null,null,null,null,null,null,null,null,null,null,null,null,"","",false,{"$f":"CheckIzonMoji(A360)","v":false},false,{"$f":"CheckKana(B360)","v":false},false,false,false,false,false,false,false,false,false,false,false,false,{"$f":"IF(R360,IF(AND(LEN(P360)=7,COUNTIF(集荷不可!$A:$A,P360)=0),FALSE,TRUE),FALSE)","v":false},false,false]
[null,null,null,null,null,null,null,null,null,null,null,null,null,null,null,"","",false,{"$f":"CheckIzonMoji(A361)","v":false},false,{"$f":"CheckKana(B361)","v":false},false,false,false,false,false,false,false,false,false,false,false,false,{"$f":"IF(R361,IF(AND(LEN(P361)=7,COUNTIF(集荷不可!$A:$A,P361)=0),FALSE,TRUE),FALSE)","v":false},false,false]
[null,null,null,null,null,null,null,null,null,null,null,null,null,null,null,"","",false,{"$f":"CheckIzonMoji(A362)","v":false},false,{"$f":"CheckKana(B362)","v":false},false,false,false,false,false,false,false,false,false,false,false,false,{"$f":"IF(R362,IF(AND(LEN(P362)=7,COUNTIF(集荷不可!$A:$A,P362)=0),FALSE,TRUE),FALSE)","v":false},false,false]
[null,null,null,null,null,null,null,null,null,null,null,null,null,null,null,"","",false,{"$f":"CheckIzonMoji(A363)","v":false},false,{"$f":"CheckKana(B363)","v":false},false,false,false,false,false,false,false,false,false,false,false,false,{"$f":"IF(R363,IF(AND(LEN(P363)=7,COUNTIF(集荷不可!$A:$A,P363)=0),FALSE,TRUE),FALSE)","v":false},false,false]
[null,null,null,null,null,null,null,null,null,null,null,null,null,null,null,"","",false,{"$f":"CheckIzonMoji(A364)","v":false},false,{"$f":"CheckKana(B364)","v":false},false,false,false,false,false,false,false,false,false,false,false,false,{"$f":"IF(R364,IF(AND(LEN(P364)=7,COUNTIF(集荷不可!$A:$A,P364)=0),FALSE,TRUE),FALSE)","v":false},false,false]
[null,null,null,null,null,null,null,null,null,null,null,null,null,null,null,"","",false,{"$f":"CheckIzonMoji(A365)","v":false},false,{"$f":"CheckKana(B365)","v":false},false,false,false,false,false,false,false,false,false,false,false,false,{"$f":"IF(R365,IF(AND(LEN(P365)=7,COUNTIF(集荷不可!$A:$A,P365)=0),FALSE,TRUE),FALSE)","v":false},false,false]
[null,null,null,null,null,null,null,null,null,null,null,null,null,null,null,"","",false,{"$f":"CheckIzonMoji(A366)","v":false},false,{"$f":"CheckKana(B366)","v":false},false,false,false,false,false,false,false,false,false,false,false,false,{"$f":"IF(R366,IF(AND(LEN(P366)=7,COUNTIF(集荷不可!$A:$A,P366)=0),FALSE,TRUE),FALSE)","v":false},false,false]
[null,null,null,null,null,null,null,null,null,null,null,null,null,null,null,"","",false,{"$f":"CheckIzonMoji(A367)","v":false},false,{"$f":"CheckKana(B367)","v":false},false,false,false,false,false,false,false,false,false,false,false,false,{"$f":"IF(R367,IF(AND(LEN(P367)=7,COUNTIF(集荷不可!$A:$A,P367)=0),FALSE,TRUE),FALSE)","v":false},false,false]
[null,null,null,null,null,null,null,null,null,null,null,null,null,null,null,"","",false,{"$f":"CheckIzonMoji(A368)","v":false},false,{"$f":"CheckKana(B368)","v":false},false,false,false,false,false,false,false,false,false,false,false,false,{"$f":"IF(R368,IF(AND(LEN(P368)=7,COUNTIF(集荷不可!$A:$A,P368)=0),FALSE,TRUE),FALSE)","v":false},false,false]
[null,null,null,null,null,null,null,null,null,null,null,null,null,null,null,"","",false,{"$f":"CheckIzonMoji(A369)","v":false},false,{"$f":"CheckKana(B369)","v":false},false,false,false,false,false,false,false,false,false,false,false,false,{"$f":"IF(R369,IF(AND(LEN(P369)=7,COUNTIF(集荷不可!$A:$A,P369)=0),FALSE,TRUE),FALSE)","v":false},false,false]
[null,null,null,null,null,null,null,null,null,null,null,null,null,null,null,"","",false,{"$f":"CheckIzonMoji(A370)","v":false},false,{"$f":"CheckKana(B370)","v":false},false,false,false,false,false,false,false,false,false,false,false,false,{"$f":"IF(R370,IF(AND(LEN(P370)=7,COUNTIF(集荷不可!$A:$A,P370)=0),FALSE,TRUE),FALSE)","v":false},false,false]
[null,null,null,null,null,null,null,null,null,null,null,null,null,null,null,"","",false,{"$f":"CheckIzonMoji(A371)","v":false},false,{"$f":"CheckKana(B371)","v":false},false,false,false,false,false,false,false,false,false,false,false,false,{"$f":"IF(R371,IF(AND(LEN(P371)=7,COUNTIF(集荷不可!$A:$A,P371)=0),FALSE,TRUE),FALSE)","v":false},false,false]
[null,null,null,null,null,null,null,null,null,null,null,null,null,null,null,"","",false,{"$f":"CheckIzonMoji(A372)","v":false},false,{"$f":"CheckKana(B372)","v":false},false,false,false,false,false,false,false,false,false,false,false,false,{"$f":"IF(R372,IF(AND(LEN(P372)=7,COUNTIF(集荷不可!$A:$A,P372)=0),FALSE,TRUE),FALSE)","v":false},false,false]
[null,null,null,null,null,null,null,null,null,null,null,null,null,null,null,"","",false,{"$f":"CheckIzonMoji(A373)","v":false},false,{"$f":"CheckKana(B373)","v":false},false,false,false,false,false,false,false,false,false,false,false,false,{"$f":"IF(R373,IF(AND(LEN(P373)=7,COUNTIF(集荷不可!$A:$A,P373)=0),FALSE,TRUE),FALSE)","v":false},false,false]
[null,null,null,null,null,null,null,null,null,null,null,null,null,null,null,"","",false,{"$f":"CheckIzonMoji(A374)","v":false},false,{"$f":"CheckKana(B374)","v":false},false,false,false,false,false,false,false,false,false,false,false,false,{"$f":"IF(R374,IF(AND(LEN(P374)=7,COUNTIF(集荷不可!$A:$A,P374)=0),FALSE,TRUE),FALSE)","v":false},false,false]
[null,null,null,null,null,null,null,null,null,null,null,null,null,null,null,"","",false,{"$f":"CheckIzonMoji(A375)","v":false},false,{"$f":"CheckKana(B375)","v":false},false,false,false,false,false,false,false,false,false,false,false,false,{"$f":"IF(R375,IF(AND(LEN(P375)=7,COUNTIF(集荷不可!$A:$A,P375)=0),FALSE,TRUE),FALSE)","v":false},false,false]
[null,null,null,null,null,null,null,null,null,null,null,null,null,null,null,"","",false,{"$f":"CheckIzonMoji(A376)","v":false},false,{"$f":"CheckKana(B376)","v":false},false,false,false,false,false,false,false,false,false,false,false,false,{"$f":"IF(R376,IF(AND(LEN(P376)=7,COUNTIF(集荷不可!$A:$A,P376)=0),FALSE,TRUE),FALSE)","v":false},false,false]
[null,null,null,null,null,null,null,null,null,null,null,null,null,null,null,"","",false,{"$f":"CheckIzonMoji(A377)","v":false},false,{"$f":"CheckKana(B377)","v":false},false,false,false,false,false,false,false,false,false,false,false,false,{"$f":"IF(R377,IF(AND(LEN(P377)=7,COUNTIF(集荷不可!$A:$A,P377)=0),FALSE,TRUE),FALSE)","v":false},false,false]
[null,null,null,null,null,null,null,null,null,null,null,null,null,null,null,"","",false,{"$f":"CheckIzonMoji(A378)","v":false},false,{"$f":"CheckKana(B378)","v":false},false,false,false,false,false,false,false,false,false,false,false,false,{"$f":"IF(R378,IF(AND(LEN(P378)=7,COUNTIF(集荷不可!$A:$A,P378)=0),FALSE,TRUE),FALSE)","v":false},false,false]
[null,null,null,null,null,null,null,null,null,null,null,null,null,null,null,"","",false,{"$f":"CheckIzonMoji(A379)","v":false},false,{"$f":"CheckKana(B379)","v":false},false,false,false,false,false,false,false,false,false,false,false,false,{"$f":"IF(R379,IF(AND(LEN(P379)=7,COUNTIF(集荷不可!$A:$A,P379)=0),FALSE,TRUE),FALSE)","v":false},false,false]
[null,null,null,null,null,null,null,null,null,null,null,null,null,null,null,"","",false,{"$f":"CheckIzonMoji(A380)","v":false},false,{"$f":"CheckKana(B380)","v":false},false,false,false,false,false,false,false,false,false,false,false,false,{"$f":"IF(R380,IF(AND(LEN(P380)=7,COUNTIF(集荷不可!$A:$A,P380)=0),FALSE,TRUE),FALSE)","v":false},false,false]
[null,null,null,null,null,null,null,null,null,null,null,null,null,null,null,"","",false,{"$f":"CheckIzonMoji(A381)","v":false},false,{"$f":"CheckKana(B381)","v":false},false,false,false,false,false,false,false,false,false,false,false,false,{"$f":"IF(R381,IF(AND(LEN(P381)=7,COUNTIF(集荷不可!$A:$A,P381)=0),FALSE,TRUE),FALSE)","v":false},false,false]
[null,null,null,null,null,null,null,null,null,null,null,null,null,null,null,"","",false,{"$f":"CheckIzonMoji(A382)","v":false},false,{"$f":"CheckKana(B382)","v":false},false,false,false,false,false,false,false,false,false,false,false,false,{"$f":"IF(R382,IF(AND(LEN(P382)=7,COUNTIF(集荷不可!$A:$A,P382)=0),FALSE,TRUE),FALSE)","v":false},false,false]
[null,null,null,null,null,null,null,null,null,null,null,null,null,null,null,"","",false,{"$f":"CheckIzonMoji(A383)","v":false},false,{"$f":"CheckKana(B383)","v":false},false,false,false,false,false,false,false,false,false,false,false,false,{"$f":"IF(R383,IF(AND(LEN(P383)=7,COUNTIF(集荷不可!$A:$A,P383)=0),FALSE,TRUE),FALSE)","v":false},false,false]
[null,null,null,null,null,null,null,null,null,null,null,null,null,null,null,"","",false,{"$f":"CheckIzonMoji(A384)","v":false},false,{"$f":"CheckKana(B384)","v":false},false,false,false,false,false,false,false,false,false,false,false,false,{"$f":"IF(R384,IF(AND(LEN(P384)=7,COUNTIF(集荷不可!$A:$A,P384)=0),FALSE,TRUE),FALSE)","v":false},false,false]
[null,null,null,null,null,null,null,null,null,null,null,null,null,null,null,"","",false,{"$f":"CheckIzonMoji(A385)","v":false},false,{"$f":"CheckKana(B385)","v":false},false,false,false,false,false,false,false,false,false,false,false,false,{"$f":"IF(R385,IF(AND(LEN(P385)=7,COUNTIF(集荷不可!$A:$A,P385)=0),FALSE,TRUE),FALSE)","v":false},false,false]
[null,null,null,null,null,null,null,null,null,null,null,null,null,null,null,"","",false,{"$f":"CheckIzonMoji(A386)","v":false},false,{"$f":"CheckKana(B386)","v":false},false,false,false,false,false,false,false,false,false,false,false,false,{"$f":"IF(R386,IF(AND(LEN(P386)=7,COUNTIF(集荷不可!$A:$A,P386)=0),FALSE,TRUE),FALSE)","v":false},false,false]
[null,null,null,null,null,null,null,null,null,null,null,null,null,null,null,"","",false,{"$f":"CheckIzonMoji(A387)","v":false},false,{"$f":"CheckKana(B387)","v":false},false,false,false,false,false,false,false,false,false,false,false,false,{"$f":"IF(R387,IF(AND(LEN(P387)=7,COUNTIF(集荷不可!$A:$A,P387)=0),FALSE,TRUE),FALSE)","v":false},false,false]
[null,null,null,null,null,null,null,null,null,null,null,null,null,null,null,"","",false,{"$f":"CheckIzonMoji(A388)","v":false},false,{"$f":"CheckKana(B388)","v":false},false,false,false,false,false,false,false,false,false,false,false,false,{"$f":"IF(R388,IF(AND(LEN(P388)=7,COUNTIF(集荷不可!$A:$A,P388)=0),FALSE,TRUE),FALSE)","v":false},false,false]
[null,null,null,null,null,null,null,null,null,null,null,null,null,null,null,"","",false,{"$f":"CheckIzonMoji(A389)","v":false},false,{"$f":"CheckKana(B389)","v":false},false,false,false,false,false,false,false,false,false,false,false,false,{"$f":"IF(R389,IF(AND(LEN(P389)=7,COUNTIF(集荷不可!$A:$A,P389)=0),FALSE,TRUE),FALSE)","v":false},false,false]
[null,null,null,null,null,null,null,null,null,null,null,null,null,null,null,"","",false,{"$f":"CheckIzonMoji(A390)","v":false},false,{"$f":"CheckKana(B390)","v":false},false,false,false,false,false,false,false,false,false,false,false,false,{"$f":"IF(R390,IF(AND(LEN(P390)=7,COUNTIF(集荷不可!$A:$A,P390)=0),FALSE,TRUE),FALSE)","v":false},false,false]
[null,null,null,null,null,null,null,null,null,null,null,null,null,null,null,"","",{"$f":"IF(LEN(A391&B391&C391&D391&E391&F391&G391&H391&I391&J391&K391&L391&M391&N391&O391)=0,FALSE,TRUE)","v":false},{"$f":"CheckIzonMoji(A391)","v":false},{"$f":"IF(R391,IF(AND(0<LENB(A391),LENB(A391)<33),FALSE,TRUE),FALSE)","v":false},{"$f":"CheckKana(B391)","v":false},{"$f":"IF(R391,IF(AND(0<LENB(B391),LENB(B391)<33),FALSE,TRUE),FALSE)","v":false},{"$f":"IF(R391,IF(C391=\"\",TRUE,FALSE),FALSE)","v":false},{"$f":"IF(R391,IF(OR(D391=\"\",ISERR(DAY(D391))),TRUE,FALSE),FALSE)","v":false},{"$f":"IF(R391,IF(E391=\"\",TRUE,FALSE),FALSE)","v":false},{"$f":"IF(R391,IF(AND(LENB(G391)>1,LENB(G391)<65),FALSE,TRUE),FALSE)","v":false},{"$f":"IF(LENB(H391)<33,FALSE,TRUE)","v":false},{"$f":"IF(LENB(I391)<51,FALSE,TRUE)","v":false},{"$f":"IF(LENB(J391)<51,FALSE,TRUE)","v":false},{"$f":"IF(R391,IF(AND(LENB(K391)>2,LENB(K391)<16),FALSE,TRUE),FALSE)","v":false},{"$f":"IF(R391,IF(AND(0<LENB(L391),LENB(L391)<61),FALSE,TRUE),FALSE)","v":false},{"$f":"IF(R391,IF(AND(LENB(M391)<9),FALSE,TRUE),FALSE)","v":false},{"$f":"IF(R391,IF(O391=\"\",TRUE,FALSE),FALSE)","v":false},{"$f":"IF(R391,IF(AND(LEN(P391)=7,COUNTIF(集荷不可!$A:$A,P391)=0),FALSE,TRUE),FALSE)","v":false},{"$f":"IF(ISERROR(FIND(\".@\",L391)),FALSE,TRUE)","v":false},{"$f":"IF(LENB(N391)<9,FALSE,TRUE)","v":false}]
[null,null,null,null,null,null,null,null,null,null,null,null,null,null,null,"","",false,{"$f":"CheckIzonMoji(A392)","v":false},false,{"$f":"CheckKana(B392)","v":false},false,false,false,false,false,false,false,false,false,false,false,false,{"$f":"IF(R392,IF(AND(LEN(P392)=7,COUNTIF(集荷不可!$A:$A,P392)=0),FALSE,TRUE),FALSE)","v":false},false,false]
[null,null,null,null,null,null,null,null,null,null,null,null,null,null,null,{"$f":"SUBSTITUTE(F393,\"-\",\"\")","v":""},{"$f":"LEFT(O393,1)","v":""},false,{"$f":"CheckIzonMoji(A393)","v":false},false,{"$f":"CheckKana(B393)","v":false},false,false,false,false,false,false,false,false,false,false,false,false,{"$f":"IF(R393,IF(AND(LEN(P393)=7,COUNTIF(集荷不可!$A:$A,P393)=0),FALSE,TRUE),FALSE)","v":false},false,false]
[null,null,null,null,null,null,null,null,null,null,null,null,null,null,null,"","",false,{"$f":"CheckIzonMoji(A394)","v":false},false,{"$f":"CheckKana(B394)","v":false},false,false,false,false,false,false,false,false,false,false,false,false,{"$f":"IF(R394,IF(AND(LEN(P394)=7,COUNTIF(集荷不可!$A:$A,P394)=0),FALSE,TRUE),FALSE)","v":false},false,false]
[null,null,null,null,null,null,null,null,null,null,null,null,null,null,null,"","",false,{"$f":"CheckIzonMoji(A395)","v":false},false,{"$f":"CheckKana(B395)","v":false},false,false,false,false,false,false,false,false,false,false,false,false,{"$f":"IF(R395,IF(AND(LEN(P395)=7,COUNTIF(集荷不可!$A:$A,P395)=0),FALSE,TRUE),FALSE)","v":false},false,false]
[null,null,null,null,null,null,null,null,null,null,null,null,null,null,null,"","",false,{"$f":"CheckIzonMoji(A396)","v":false},false,{"$f":"CheckKana(B396)","v":false},false,false,false,false,false,false,false,false,false,false,false,false,{"$f":"IF(R396,IF(AND(LEN(P396)=7,COUNTIF(集荷不可!$A:$A,P396)=0),FALSE,TRUE),FALSE)","v":false},false,false]
[null,null,null,null,null,null,null,null,null,null,null,null,null,null,null,"","",false,{"$f":"CheckIzonMoji(A397)","v":false},false,{"$f":"CheckKana(B397)","v":false},false,false,false,false,false,false,false,false,false,false,false,false,{"$f":"IF(R397,IF(AND(LEN(P397)=7,COUNTIF(集荷不可!$A:$A,P397)=0),FALSE,TRUE),FALSE)","v":false},false,false]
[null,null,null,null,null,null,null,null,null,null,null,null,null,null,null,"","",false,{"$f":"CheckIzonMoji(A398)","v":false},false,{"$f":"CheckKana(B398)","v":false},false,false,false,false,false,false,false,false,false,false,false,false,{"$f":"IF(R398,IF(AND(LEN(P398)=7,COUNTIF(集荷不可!$A:$A,P398)=0),FALSE,TRUE),FALSE)","v":false},false,false]
[null,null,null,null,null,null,null,null,null,null,null,null,null,null,null,"","",false,{"$f":"CheckIzonMoji(A399)","v":false},false,{"$f":"CheckKana(B399)","v":false},false,false,false,false,false,false,false,false,false,false,false,false,{"$f":"IF(R399,IF(AND(LEN(P399)=7,COUNTIF(集荷不可!$A:$A,P399)=0),FALSE,TRUE),FALSE)","v":false},false,false]
[null,null,null,null,null,null,null,null,null,null,null,null,null,null,null,"","",false,{"$f":"CheckIzonMoji(A400)","v":false},false,{"$f":"CheckKana(B400)","v":false},false,false,false,false,false,false,false,false,false,false,false,false,{"$f":"IF(R400,IF(AND(LEN(P400)=7,COUNTIF(集荷不可!$A:$A,P400)=0),FALSE,TRUE),FALSE)","v":false},false,false]
[null,null,null,null,null,null,null,null,null,null,null,null,null,null,null,"","",false,{"$f":"CheckIzonMoji(A401)","v":false},false,{"$f":"CheckKana(B401)","v":false},false,false,false,false,false,false,false,false,false,false,false,false,{"$f":"IF(R401,IF(AND(LEN(P401)=7,COUNTIF(集荷不可!$A:$A,P401)=0),FALSE,TRUE),FALSE)","v":false},false,false]
[null,null,null,null,null,null,null,null,null,null,null,null,null,null,null,"","",false,{"$f":"CheckIzonMoji(A402)","v":false},false,{"$f":"CheckKana(B402)","v":false},false,false,false,false,false,false,false,false,false,false,false,false,{"$f":"IF(R402,IF(AND(LEN(P402)=7,COUNTIF(集荷不可!$A:$A,P402)=0),FALSE,TRUE),FALSE)","v":false},false,false]
[null,null,null,null,null,null,null,null,null,null,null,null,null,null,null,"","",false,{"$f":"CheckIzonMoji(A403)","v":false},false,{"$f":"CheckKana(B403)","v":false},false,false,false,false,false,false,false,false,false,false,false,false,{"$f":"IF(R403,IF(AND(LEN(P403)=7,COUNTIF(集荷不可!$A:$A,P403)=0),FALSE,TRUE),FALSE)","v":false},false,false]
[null,null,null,null,null,null,null,null,null,null,null,null,null,null,null,"","",false,{"$f":"CheckIzonMoji(A404)","v":false},false,{"$f":"CheckKana(B404)","v":false},false,false,false,false,false,false,false,false,false,false,false,false,{"$f":"IF(R404,IF(AND(LEN(P404)=7,COUNTIF(集荷不可!$A:$A,P404)=0),FALSE,TRUE),FALSE)","v":false},false,false]
[null,null,null,null,null,null,null,null,null,null,null,null,null,null,null,"","",false,{"$f":"CheckIzonMoji(A405)","v":false},false,{"$f":"CheckKana(B405)","v":false},false,false,false,false,false,false,false,false,false,false,false,false,{"$f":"IF(R405,IF(AND(LEN(P405)=7,COUNTIF(集荷不可!$A:$A,P405)=0),FALSE,TRUE),FALSE)","v":false},false,false]
[null,null,null,null,null,null,null,null,null,null,null,null,null,null,null,"","",false,{"$f":"CheckIzonMoji(A406)","v":false},false,{"$f":"CheckKana(B406)","v":false},false,false,false,false,false,false,false,false,false,false,false,false,{"$f":"IF(R406,IF(AND(LEN(P406)=7,COUNTIF(集荷不可!$A:$A,P406)=0),FALSE,TRUE),FALSE)","v":false},false,false]
[null,null,null,null,null,null,null,null,null,null,null,null,null,null,null,"","",false,{"$f":"CheckIzonMoji(A407)","v":false},false,{"$f":"CheckKana(B407)","v":false},false,false,false,false,false,false,false,false,false,false,false,false,{"$f":"IF(R407,IF(AND(LEN(P407)=7,COUNTIF(集荷不可!$A:$A,P407)=0),FALSE,TRUE),FALSE)","v":false},false,false]
[null,null,null,null,null,null,null,null,null,null,null,null,null,null,null,"","",false,{"$f":"CheckIzonMoji(A408)","v":false},false,{"$f":"CheckKana(B408)","v":false},false,false,false,false,false,false,false,false,false,false,false,false,{"$f":"IF(R408,IF(AND(LEN(P408)=7,COUNTIF(集荷不可!$A:$A,P408)=0),FALSE,TRUE),FALSE)","v":false},false,false]
[null,null,null,null,null,null,null,null,null,null,null,null,null,null,null,"","",false,{"$f":"CheckIzonMoji(A409)","v":false},false,{"$f":"CheckKana(B409)","v":false},false,false,false,false,false,false,false,false,false,false,false,false,{"$f":"IF(R409,IF(AND(LEN(P409)=7,COUNTIF(集荷不可!$A:$A,P409)=0),FALSE,TRUE),FALSE)","v":false},false,false]
[null,null,null,null,null,null,null,null,null,null,null,null,null,null,null,"","",false,{"$f":"CheckIzonMoji(A410)","v":false},false,{"$f":"CheckKana(B410)","v":false},false,false,false,false,false,false,false,false,false,false,false,false,{"$f":"IF(R410,IF(AND(LEN(P410)=7,COUNTIF(集荷不可!$A:$A,P410)=0),FALSE,TRUE),FALSE)","v":false},false,false]
[null,null,null,null,null,null,null,null,null,null,null,null,null,null,null,"","",false,{"$f":"CheckIzonMoji(A411)","v":false},false,{"$f":"CheckKana(B411)","v":false},false,false,false,false,false,false,false,false,false,false,false,false,{"$f":"IF(R411,IF(AND(LEN(P411)=7,COUNTIF(集荷不可!$A:$A,P411)=0),FALSE,TRUE),FALSE)","v":false},false,false]
[null,null,null,null,null,null,null,null,null,null,null,null,null,null,null,"","",false,{"$f":"CheckIzonMoji(A412)","v":false},false,{"$f":"CheckKana(B412)","v":false},false,false,false,false,false,false,false,false,false,false,false,false,{"$f":"IF(R412,IF(AND(LEN(P412)=7,COUNTIF(集荷不可!$A:$A,P412)=0),FALSE,TRUE),FALSE)","v":false},false,false]
[null,null,null,null,null,null,null,null,null,null,null,null,null,null,null,"","",false,{"$f":"CheckIzonMoji(A413)","v":false},false,{"$f":"CheckKana(B413)","v":false},false,false,false,false,false,false,false,false,false,false,false,false,{"$f":"IF(R413,IF(AND(LEN(P413)=7,COUNTIF(集荷不可!$A:$A,P413)=0),FALSE,TRUE),FALSE)","v":false},false,false]
[null,null,null,null,null,null,null,null,null,null,null,null,null,null,null,"","",false,{"$f":"CheckIzonMoji(A414)","v":false},false,{"$f":"CheckKana(B414)","v":false},false,false,false,false,false,false,false,false,false,false,false,false,{"$f":"IF(R414,IF(AND(LEN(P414)=7,COUNTIF(集荷不可!$A:$A,P414)=0),FALSE,TRUE),FALSE)","v":false},false,false]
[null,null,null,null,null,null,null,null,null,null,null,null,null,null,null,"","",false,{"$f":"CheckIzonMoji(A415)","v":false},false,{"$f":"CheckKana(B415)","v":false},false,false,false,false,false,false,false,false,false,false,false,false,{"$f":"IF(R415,IF(AND(LEN(P415)=7,COUNTIF(集荷不可!$A:$A,P415)=0),FALSE,TRUE),FALSE)","v":false},false,false]
[null,null,null,null,null,null,null,null,null,null,null,null,null,null,null,"","",false,{"$f":"CheckIzonMoji(A416)","v":false},false,{"$f":"CheckKana(B416)","v":false},false,false,false,false,false,false,false,false,false,false,false,false,{"$f":"IF(R416,IF(AND(LEN(P416)=7,COUNTIF(集荷不可!$A:$A,P416)=0),FALSE,TRUE),FALSE)","v":false},false,false]
[null,null,null,null,null,null,null,null,null,null,null,null,null,null,null,"","",false,{"$f":"CheckIzonMoji(A417)","v":false},false,{"$f":"CheckKana(B417)","v":false},false,false,false,false,false,false,false,false,false,false,false,false,{"$f":"IF(R417,IF(AND(LEN(P417)=7,COUNTIF(集荷不可!$A:$A,P417)=0),FALSE,TRUE),FALSE)","v":false},false,false]
[null,null,null,null,null,null,null,null,null,null,null,null,null,null,null,"","",false,{"$f":"CheckIzonMoji(A418)","v":false},false,{"$f":"CheckKana(B418)","v":false},false,false,false,false,false,false,false,false,false,false,false,false,{"$f":"IF(R418,IF(AND(LEN(P418)=7,COUNTIF(集荷不可!$A:$A,P418)=0),FALSE,TRUE),FALSE)","v":false},false,false]
[null,null,null,null,null,null,null,null,null,null,null,null,null,null,null,"","",false,{"$f":"CheckIzonMoji(A419)","v":false},false,{"$f":"CheckKana(B419)","v":false},false,false,false,false,false,false,false,false,false,false,false,false,{"$f":"IF(R419,IF(AND(LEN(P419)=7,COUNTIF(集荷不可!$A:$A,P419)=0),FALSE,TRUE),FALSE)","v":false},false,false]
[null,null,null,null,null,null,null,null,null,null,null,null,null,null,null,"","",false,{"$f":"CheckIzonMoji(A420)","v":false},false,{"$f":"CheckKana(B420)","v":false},false,false,false,false,false,false,false,false,false,false,false,false,{"$f":"IF(R420,IF(AND(LEN(P420)=7,COUNTIF(集荷不可!$A:$A,P420)=0),FALSE,TRUE),FALSE)","v":false},false,false]
[null,null,null,null,null,null,null,null,null,null,null,null,null,null,null,"","",false,{"$f":"CheckIzonMoji(A421)","v":false},false,{"$f":"CheckKana(B421)","v":false},false,false,false,false,false,false,false,false,false,false,false,false,{"$f":"IF(R421,IF(AND(LEN(P421)=7,COUNTIF(集荷不可!$A:$A,P421)=0),FALSE,TRUE),FALSE)","v":false},false,false]
[null,null,null,null,null,null,null,null,null,null,null,null,null,null,null,"","",false,{"$f":"CheckIzonMoji(A422)","v":false},false,{"$f":"CheckKana(B422)","v":false},false,false,false,false,false,false,false,false,false,false,false,false,{"$f":"IF(R422,IF(AND(LEN(P422)=7,COUNTIF(集荷不可!$A:$A,P422)=0),FALSE,TRUE),FALSE)","v":false},false,false]
[null,null,null,null,null,null,null,null,null,null,null,null,null,null,null,"","",false,{"$f":"CheckIzonMoji(A423)","v":false},false,{"$f":"CheckKana(B423)","v":false},false,false,false,false,false,false,false,false,false,false,false,false,{"$f":"IF(R423,IF(AND(LEN(P423)=7,COUNTIF(集荷不可!$A:$A,P423)=0),FALSE,TRUE),FALSE)","v":false},false,false]
[null,null,null,null,null,null,null,null,null,null,null,null,null,null,null,"","",false,{"$f":"CheckIzonMoji(A424)","v":false},false,{"$f":"CheckKana(B424)","v":false},false,false,false,false,false,false,false,false,false,false,false,false,{"$f":"IF(R424,IF(AND(LEN(P424)=7,COUNTIF(集荷不可!$A:$A,P424)=0),FALSE,TRUE),FALSE)","v":false},false,false]
[null,null,null,null,null,null,null,null,null,null,null,null,null,null,null,"","",false,{"$f":"CheckIzonMoji(A425)","v":false},false,{"$f":"CheckKana(B425)","v":false},false,false,false,false,false,false,false,false,false,false,false,false,{"$f":"IF(R425,IF(AND(LEN(P425)=7,COUNTIF(集荷不可!$A:$A,P425)=0),FALSE,TRUE),FALSE)","v":false},false,false]
[null,null,null,null,null,null,null,null,null,null,null,null,null,null,null,"","",false,{"$f":"CheckIzonMoji(A426)","v":false},false,{"$f":"CheckKana(B426)","v":false},false,false,false,false,false,false,false,false,false,false,false,false,{"$f":"IF(R426,IF(AND(LEN(P426)=7,COUNTIF(集荷不可!$A:$A,P426)=0),FALSE,TRUE),FALSE)","v":false},false,false]
[null,null,null,null,null,null,null,null,null,null,null,null,null,null,null,"","",false,{"$f":"CheckIzonMoji(A427)","v":false},false,{"$f":"CheckKana(B427)","v":false},false,false,false,false,false,false,false,false,false,false,false,false,{"$f":"IF(R427,IF(AND(LEN(P427)=7,COUNTIF(集荷不可!$A:$A,P427)=0),FALSE,TRUE),FALSE)","v":false},false,false]
[null,null,null,null,null,null,null,null,null,null,null,null,null,null,null,"","",false,{"$f":"CheckIzonMoji(A428)","v":false},false,{"$f":"CheckKana(B428)","v":false},false,false,false,false,false,false,false,false,false,false,false,false,{"$f":"IF(R428,IF(AND(LEN(P428)=7,COUNTIF(集荷不可!$A:$A,P428)=0),FALSE,TRUE),FALSE)","v":false},false,false]
[null,null,null,null,null,null,null,null,null,null,null,null,null,null,null,"","",false,{"$f":"CheckIzonMoji(A429)","v":false},false,{"$f":"CheckKana(B429)","v":false},false,false,false,false,false,false,false,false,false,false,false,false,{"$f":"IF(R429,IF(AND(LEN(P429)=7,COUNTIF(集荷不可!$A:$A,P429)=0),FALSE,TRUE),FALSE)","v":false},false,false]
[null,null,null,null,null,null,null,null,null,null,null,null,null,null,null,"","",false,{"$f":"CheckIzonMoji(A430)","v":false},false,{"$f":"CheckKana(B430)","v":false},false,false,false,false,false,false,false,false,false,false,false,false,{"$f":"IF(R430,IF(AND(LEN(P430)=7,COUNTIF(集荷不可!$A:$A,P430)=0),FALSE,TRUE),FALSE)","v":false},false,false]
[null,null,null,null,null,null,null,null,null,null,null,null,null,null,null,"","",false,{"$f":"CheckIzonMoji(A431)","v":false},false,{"$f":"CheckKana(B431)","v":false},false,false,false,false,false,false,false,false,false,false,false,false,{"$f":"IF(R431,IF(AND(LEN(P431)=7,COUNTIF(集荷不可!$A:$A,P431)=0),FALSE,TRUE),FALSE)","v":false},false,false]
[null,null,null,null,null,null,null,null,null,null,null,null,null,null,null,"","",false,{"$f":"CheckIzonMoji(A432)","v":false},false,{"$f":"CheckKana(B432)","v":false},false,false,false,false,false,false,false,false,false,false,false,false,{"$f":"IF(R432,IF(AND(LEN(P432)=7,COUNTIF(集荷不可!$A:$A,P432)=0),FALSE,TRUE),FALSE)","v":false},false,false]
[null,null,null,null,null,null,null,null,null,null,null,null,null,null,null,"","",false,{"$f":"CheckIzonMoji(A433)","v":false},false,{"$f":"CheckKana(B433)","v":false},false,false,false,false,false,false,false,false,false,false,false,false,{"$f":"IF(R433,IF(AND(LEN(P433)=7,COUNTIF(集荷不可!$A:$A,P433)=0),FALSE,TRUE),FALSE)","v":false},false,false]
[null,null,null,null,null,null,null,null,null,null,null,null,null,null,null,"","",false,{"$f":"CheckIzonMoji(A434)","v":false},false,{"$f":"CheckKana(B434)","v":false},false,false,false,false,false,false,false,false,false,false,false,false,{"$f":"IF(R434,IF(AND(LEN(P434)=7,COUNTIF(集荷不可!$A:$A,P434)=0),FALSE,TRUE),FALSE)","v":false},false,false]
[null,null,null,null,null,null,null,null,null,null,null,null,null,null,null,"","",false,{"$f":"CheckIzonMoji(A435)","v":false},false,{"$f":"CheckKana(B435)","v":false},false,false,false,false,false,false,false,false,false,false,false,false,{"$f":"IF(R435,IF(AND(LEN(P435)=7,COUNTIF(集荷不可!$A:$A,P435)=0),FALSE,TRUE),FALSE)","v":false},false,false]
[null,null,null,null,null,null,null,null,null,null,null,null,null,null,null,"","",false,{"$f":"CheckIzonMoji(A436)","v":false},false,{"$f":"CheckKana(B436)","v":false},false,false,false,false,false,false,false,false,false,false,false,false,{"$f":"IF(R436,IF(AND(LEN(P436)=7,COUNTIF(集荷不可!$A:$A,P436)=0),FALSE,TRUE),FALSE)","v":false},false,false]
[null,null,null,null,null,null,null,null,null,null,null,null,null,null,null,"","",false,{"$f":"CheckIzonMoji(A437)","v":false},false,{"$f":"CheckKana(B437)","v":false},false,false,false,false,false,false,false,false,false,false,false,false,{"$f":"IF(R437,IF(AND(LEN(P437)=7,COUNTIF(集荷不可!$A:$A,P437)=0),FALSE,TRUE),FALSE)","v":false},false,false]
[null,null,null,null,null,null,null,null,null,null,null,null,null,null,null,"","",false,{"$f":"CheckIzonMoji(A438)","v":false},false,{"$f":"CheckKana(B438)","v":false},false,false,false,false,false,false,false,false,false,false,false,false,{"$f":"IF(R438,IF(AND(LEN(P438)=7,COUNTIF(集荷不可!$A:$A,P438)=0),FALSE,TRUE),FALSE)","v":false},false,false]
[null,null,null,null,null,null,null,null,null,null,null,null,null,null,null,"","",false,{"$f":"CheckIzonMoji(A439)","v":false},false,{"$f":"CheckKana(B439)","v":false},false,false,false,false,false,false,false,false,false,false,false,false,{"$f":"IF(R439,IF(AND(LEN(P439)=7,COUNTIF(集荷不可!$A:$A,P439)=0),FALSE,TRUE),FALSE)","v":false},false,false]
[null,null,null,null,null,null,null,null,null,null,null,null,null,null,null,"","",false,{"$f":"CheckIzonMoji(A440)","v":false},false,{"$f":"CheckKana(B440)","v":false},false,false,false,false,false,false,false,false,false,false,false,false,{"$f":"IF(R440,IF(AND(LEN(P440)=7,COUNTIF(集荷不可!$A:$A,P440)=0),FALSE,TRUE),FALSE)","v":false},false,false]
[null,null,null,null,null,null,null,null,null,null,null,null,null,null,null,"","",false,{"$f":"CheckIzonMoji(A441)","v":false},false,{"$f":"CheckKana(B441)","v":false},false,false,false,false,false,false,false,false,false,false,false,false,{"$f":"IF(R441,IF(AND(LEN(P441)=7,COUNTIF(集荷不可!$A:$A,P441)=0),FALSE,TRUE),FALSE)","v":false},false,false]
[null,null,null,null,null,null,null,null,null,null,null,null,null,null,null,"","",false,{"$f":"CheckIzonMoji(A442)","v":false},false,{"$f":"CheckKana(B442)","v":false},false,false,false,false,false,false,false,false,false,false,false,false,{"$f":"IF(R442,IF(AND(LEN(P442)=7,COUNTIF(集荷不可!$A:$A,P442)=0),FALSE,TRUE),FALSE)","v":false},false,false]
[null,null,null,null,null,null,null,null,null,null,null,null,null,null,null,"","",false,{"$f":"CheckIzonMoji(A443)","v":false},false,{"$f":"CheckKana(B443)","v":false},false,false,false,false,false,false,false,false,false,false,false,false,{"$f":"IF(R443,IF(AND(LEN(P443)=7,COUNTIF(集荷不可!$A:$A,P443)=0),FALSE,TRUE),FALSE)","v":false},false,false]
[null,null,null,null,null,null,null,null,null,null,null,null,null,null,null,"","",false,{"$f":"CheckIzonMoji(A444)","v":false},false,{"$f":"CheckKana(B444)","v":false},false,false,false,false,false,false,false,false,false,false,false,false,{"$f":"IF(R444,IF(AND(LEN(P444)=7,COUNTIF(集荷不可!$A:$A,P444)=0),FALSE,TRUE),FALSE)","v":false},false,false]
[null,null,null,null,null,null,null,null,null,null,null,null,null,null,null,"","",false,{"$f":"CheckIzonMoji(A445)","v":false},false,{"$f":"CheckKana(B445)","v":false},false,false,false,false,false,false,false,false,false,false,false,false,{"$f":"IF(R445,IF(AND(LEN(P445)=7,COUNTIF(集荷不可!$A:$A,P445)=0),FALSE,TRUE),FALSE)","v":false},false,false]
[null,null,null,null,null,null,null,null,null,null,null,null,null,null,null,"","",false,{"$f":"CheckIzonMoji(A446)","v":false},false,{"$f":"CheckKana(B446)","v":false},false,false,false,false,false,false,false,false,false,false,false,false,{"$f":"IF(R446,IF(AND(LEN(P446)=7,COUNTIF(集荷不可!$A:$A,P446)=0),FALSE,TRUE),FALSE)","v":false},false,false]
[null,null,null,null,null,null,null,null,null,null,null,null,null,null,null,"","",false,{"$f":"CheckIzonMoji(A447)","v":false},false,{"$f":"CheckKana(B447)","v":false},false,false,false,false,false,false,false,false,false,false,false,false,{"$f":"IF(R447,IF(AND(LEN(P447)=7,COUNTIF(集荷不可!$A:$A,P447)=0),FALSE,TRUE),FALSE)","v":false},false,false]
[null,null,null,null,null,null,null,null,null,null,null,null,null,null,null,"","",false,{"$f":"CheckIzonMoji(A448)","v":false},false,{"$f":"CheckKana(B448)","v":false},false,false,false,false,false,false,false,false,false,false,false,false,{"$f":"IF(R448,IF(AND(LEN(P448)=7,COUNTIF(集荷不可!$A:$A,P448)=0),FALSE,TRUE),FALSE)","v":false},false,false]
[null,null,null,null,null,null,null,null,null,null,null,null,null,null,null,"","",false,{"$f":"CheckIzonMoji(A449)","v":false},false,{"$f":"CheckKana(B449)","v":false},false,false,false,false,false,false,false,false,false,false,false,false,{"$f":"IF(R449,IF(AND(LEN(P449)=7,COUNTIF(集荷不可!$A:$A,P449)=0),FALSE,TRUE),FALSE)","v":false},false,false]
[null,null,null,null,null,null,null,null,null,null,null,null,null,null,null,"","",false,{"$f":"CheckIzonMoji(A450)","v":false},false,{"$f":"CheckKana(B450)","v":false},false,false,false,false,false,false,false,false,false,false,false,false,{"$f":"IF(R450,IF(AND(LEN(P450)=7,COUNTIF(集荷不可!$A:$A,P450)=0),FALSE,TRUE),FALSE)","v":false},false,false]
[null,null,null,null,null,null,null,null,null,null,null,null,null,null,null,"","",false,{"$f":"CheckIzonMoji(A451)","v":false},false,{"$f":"CheckKana(B451)","v":false},false,false,false,false,false,false,false,false,false,false,false,false,{"$f":"IF(R451,IF(AND(LEN(P451)=7,COUNTIF(集荷不可!$A:$A,P451)=0),FALSE,TRUE),FALSE)","v":false},false,false]
[null,null,null,null,null,null,null,null,null,null,null,null,null,null,null,"","",false,{"$f":"CheckIzonMoji(A452)","v":false},false,{"$f":"CheckKana(B452)","v":false},false,false,false,false,false,false,false,false,false,false,false,false,{"$f":"IF(R452,IF(AND(LEN(P452)=7,COUNTIF(集荷不可!$A:$A,P452)=0),FALSE,TRUE),FALSE)","v":false},false,false]
[null,null,null,null,null,null,null,null,null,null,null,null,null,null,null,"","",false,{"$f":"CheckIzonMoji(A453)","v":false},false,{"$f":"CheckKana(B453)","v":false},false,false,false,false,false,false,false,false,false,false,false,false,{"$f":"IF(R453,IF(AND(LEN(P453)=7,COUNTIF(集荷不可!$A:$A,P453)=0),FALSE,TRUE),FALSE)","v":false},false,false]
[null,null,null,null,null,null,null,null,null,null,null,null,null,null,null,"","",false,{"$f":"CheckIzonMoji(A454)","v":false},false,{"$f":"CheckKana(B454)","v":false},false,false,false,false,false,false,false,false,false,false,false,false,{"$f":"IF(R454,IF(AND(LEN(P454)=7,COUNTIF(集荷不可!$A:$A,P454)=0),FALSE,TRUE),FALSE)","v":false},false,false]
[null,null,null,null,null,null,null,null,null,null,null,null,null,null,null,"","",{"$f":"IF(LEN(A455&B455&C455&D455&E455&F455&G455&H455&I455&J455&K455&L455&M455&N455&O455)=0,FALSE,TRUE)","v":false},{"$f":"CheckIzonMoji(A455)","v":false},{"$f":"IF(R455,IF(AND(0<LENB(A455),LENB(A455)<33),FALSE,TRUE),FALSE)","v":false},{"$f":"CheckKana(B455)","v":false},{"$f":"IF(R455,IF(AND(0<LENB(B455),LENB(B455)<33),FALSE,TRUE),FALSE)","v":false},{"$f":"IF(R455,IF(C455=\"\",TRUE,FALSE),FALSE)","v":false},{"$f":"IF(R455,IF(OR(D455=\"\",ISERR(DAY(D455))),TRUE,FALSE),FALSE)","v":false},{"$f":"IF(R455,IF(E455=\"\",TRUE,FALSE),FALSE)","v":false},{"$f":"IF(R455,IF(AND(LENB(G455)>1,LENB(G455)<65),FALSE,TRUE),FALSE)","v":false},{"$f":"IF(LENB(H455)<33,FALSE,TRUE)","v":false},{"$f":"IF(LENB(I455)<51,FALSE,TRUE)","v":false},{"$f":"IF(LENB(J455)<51,FALSE,TRUE)","v":false},{"$f":"IF(R455,IF(AND(LENB(K455)>2,LENB(K455)<16),FALSE,TRUE),FALSE)","v":false},{"$f":"IF(R455,IF(AND(0<LENB(L455),LENB(L455)<61),FALSE,TRUE),FALSE)","v":false},{"$f":"IF(R455,IF(AND(LENB(M455)<9),FALSE,TRUE),FALSE)","v":false},{"$f":"IF(R455,IF(O455=\"\",TRUE,FALSE),FALSE)","v":false},{"$f":"IF(R455,IF(AND(LEN(P455)=7,COUNTIF(集荷不可!$A:$A,P455)=0),FALSE,TRUE),FALSE)","v":false},{"$f":"IF(ISERROR(FIND(\".@\",L455)),FALSE,TRUE)","v":false},{"$f":"IF(LENB(N455)<9,FALSE,TRUE)","v":false}]
[null,null,null,null,null,null,null,null,null,null,null,null,null,null,null,"","",false,{"$f":"CheckIzonMoji(A456)","v":false},false,{"$f":"CheckKana(B456)","v":false},false,false,false,false,false,false,false,false,false,false,false,false,{"$f":"IF(R456,IF(AND(LEN(P456)=7,COUNTIF(集荷不可!$A:$A,P456)=0),FALSE,TRUE),FALSE)","v":false},false,false]
[null,null,null,null,null,null,null,null,null,null,null,null,null,null,null,{"$f":"SUBSTITUTE(F457,\"-\",\"\")","v":""},{"$f":"LEFT(O457,1)","v":""},false,{"$f":"CheckIzonMoji(A457)","v":false},false,{"$f":"CheckKana(B457)","v":false},false,false,false,false,false,false,false,false,false,false,false,false,{"$f":"IF(R457,IF(AND(LEN(P457)=7,COUNTIF(集荷不可!$A:$A,P457)=0),FALSE,TRUE),FALSE)","v":false},false,false]
[null,null,null,null,null,null,null,null,null,null,null,null,null,null,null,"","",false,{"$f":"CheckIzonMoji(A458)","v":false},false,{"$f":"CheckKana(B458)","v":false},false,false,false,false,false,false,false,false,false,false,false,false,{"$f":"IF(R458,IF(AND(LEN(P458)=7,COUNTIF(集荷不可!$A:$A,P458)=0),FALSE,TRUE),FALSE)","v":false},false,false]
[null,null,null,null,null,null,null,null,null,null,null,null,null,null,null,"","",false,{"$f":"CheckIzonMoji(A459)","v":false},false,{"$f":"CheckKana(B459)","v":false},false,false,false,false,false,false,false,false,false,false,false,false,{"$f":"IF(R459,IF(AND(LEN(P459)=7,COUNTIF(集荷不可!$A:$A,P459)=0),FALSE,TRUE),FALSE)","v":false},false,false]
[null,null,null,null,null,null,null,null,null,null,null,null,null,null,null,"","",false,{"$f":"CheckIzonMoji(A460)","v":false},false,{"$f":"CheckKana(B460)","v":false},false,false,false,false,false,false,false,false,false,false,false,false,{"$f":"IF(R460,IF(AND(LEN(P460)=7,COUNTIF(集荷不可!$A:$A,P460)=0),FALSE,TRUE),FALSE)","v":false},false,false]
[null,null,null,null,null,null,null,null,null,null,null,null,null,null,null,"","",false,{"$f":"CheckIzonMoji(A461)","v":false},false,{"$f":"CheckKana(B461)","v":false},false,false,false,false,false,false,false,false,false,false,false,false,{"$f":"IF(R461,IF(AND(LEN(P461)=7,COUNTIF(集荷不可!$A:$A,P461)=0),FALSE,TRUE),FALSE)","v":false},false,false]
[null,null,null,null,null,null,null,null,null,null,null,null,null,null,null,"","",false,{"$f":"CheckIzonMoji(A462)","v":false},false,{"$f":"CheckKana(B462)","v":false},false,false,false,false,false,false,false,false,false,false,false,false,{"$f":"IF(R462,IF(AND(LEN(P462)=7,COUNTIF(集荷不可!$A:$A,P462)=0),FALSE,TRUE),FALSE)","v":false},false,false]
[null,null,null,null,null,null,null,null,null,null,null,null,null,null,null,"","",false,{"$f":"CheckIzonMoji(A463)","v":false},false,{"$f":"CheckKana(B463)","v":false},false,false,false,false,false,false,false,false,false,false,false,false,{"$f":"IF(R463,IF(AND(LEN(P463)=7,COUNTIF(集荷不可!$A:$A,P463)=0),FALSE,TRUE),FALSE)","v":false},false,false]
[null,null,null,null,null,null,null,null,null,null,null,null,null,null,null,"","",false,{"$f":"CheckIzonMoji(A464)","v":false},false,{"$f":"CheckKana(B464)","v":false},false,false,false,false,false,false,false,false,false,false,false,false,{"$f":"IF(R464,IF(AND(LEN(P464)=7,COUNTIF(集荷不可!$A:$A,P464)=0),FALSE,TRUE),FALSE)","v":false},false,false]
[null,null,null,null,null,null,null,null,null,null,null,null,null,null,null,"","",false,{"$f":"CheckIzonMoji(A465)","v":false},false,{"$f":"CheckKana(B465)","v":false},false,false,false,false,false,false,false,false,false,false,false,false,{"$f":"IF(R465,IF(AND(LEN(P465)=7,COUNTIF(集荷不可!$A:$A,P465)=0),FALSE,TRUE),FALSE)","v":false},false,false]
[null,null,null,null,null,null,null,null,null,null,null,null,null,null,null,"","",false,{"$f":"CheckIzonMoji(A466)","v":false},false,{"$f":"CheckKana(B466)","v":false},false,false,false,false,false,false,false,false,false,false,false,false,{"$f":"IF(R466,IF(AND(LEN(P466)=7,COUNTIF(集荷不可!$A:$A,P466)=0),FALSE,TRUE),FALSE)","v":false},false,false]
[null,null,null,null,null,null,null,null,null,null,null,null,null,null,null,"","",false,{"$f":"CheckIzonMoji(A467)","v":false},false,{"$f":"CheckKana(B467)","v":false},false,false,false,false,false,false,false,false,false,false,false,false,{"$f":"IF(R467,IF(AND(LEN(P467)=7,COUNTIF(集荷不可!$A:$A,P467)=0),FALSE,TRUE),FALSE)","v":false},false,false]
[null,null,null,null,null,null,null,null,null,null,null,null,null,null,null,"","",false,{"$f":"CheckIzonMoji(A468)","v":false},false,{"$f":"CheckKana(B468)","v":false},false,false,false,false,false,false,false,false,false,false,false,false,{"$f":"IF(R468,IF(AND(LEN(P468)=7,COUNTIF(集荷不可!$A:$A,P468)=0),FALSE,TRUE),FALSE)","v":false},false,false]
[null,null,null,null,null,null,null,null,null,null,null,null,null,null,null,"","",false,{"$f":"CheckIzonMoji(A469)","v":false},false,{"$f":"CheckKana(B469)","v":false},false,false,false,false,false,false,false,false,false,false,false,false,{"$f":"IF(R469,IF(AND(LEN(P469)=7,COUNTIF(集荷不可!$A:$A,P469)=0),FALSE,TRUE),FALSE)","v":false},false,false]
[null,null,null,null,null,null,null,null,null,null,null,null,null,null,null,"","",false,{"$f":"CheckIzonMoji(A470)","v":false},false,{"$f":"CheckKana(B470)","v":false},false,false,false,false,false,false,false,false,false,false,false,false,{"$f":"IF(R470,IF(AND(LEN(P470)=7,COUNTIF(集荷不可!$A:$A,P470)=0),FALSE,TRUE),FALSE)","v":false},false,false]
[null,null,null,null,null,null,null,null,null,null,null,null,null,null,null,"","",false,{"$f":"CheckIzonMoji(A471)","v":false},false,{"$f":"CheckKana(B471)","v":false},false,false,false,false,false,false,false,false,false,false,false,false,{"$f":"IF(R471,IF(AND(LEN(P471)=7,COUNTIF(集荷不可!$A:$A,P471)=0),FALSE,TRUE),FALSE)","v":false},false,false]
[null,null,null,null,null,null,null,null,null,null,null,null,null,null,null,"","",false,{"$f":"CheckIzonMoji(A472)","v":false},false,{"$f":"CheckKana(B472)","v":false},false,false,false,false,false,false,false,false,false,false,false,false,{"$f":"IF(R472,IF(AND(LEN(P472)=7,COUNTIF(集荷不可!$A:$A,P472)=0),FALSE,TRUE),FALSE)","v":false},false,false]
[null,null,null,null,null,null,null,null,null,null,null,null,null,null,null,"","",false,{"$f":"CheckIzonMoji(A473)","v":false},false,{"$f":"CheckKana(B473)","v":false},false,false,false,false,false,false,false,false,false,false,false,false,{"$f":"IF(R473,IF(AND(LEN(P473)=7,COUNTIF(集荷不可!$A:$A,P473)=0),FALSE,TRUE),FALSE)","v":false},false,false]
[null,null,null,null,null,null,null,null,null,null,null,null,null,null,null,"","",false,{"$f":"CheckIzonMoji(A474)","v":false},false,{"$f":"CheckKana(B474)","v":false},false,false,false,false,false,false,false,false,false,false,false,false,{"$f":"IF(R474,IF(AND(LEN(P474)=7,COUNTIF(集荷不可!$A:$A,P474)=0),FALSE,TRUE),FALSE)","v":false},false,false]
[null,null,null,null,null,null,null,null,null,null,null,null,null,null,null,"","",false,{"$f":"CheckIzonMoji(A475)","v":false},false,{"$f":"CheckKana(B475)","v":false},false,false,false,false,false,false,false,false,false,false,false,false,{"$f":"IF(R475,IF(AND(LEN(P475)=7,COUNTIF(集荷不可!$A:$A,P475)=0),FALSE,TRUE),FALSE)","v":false},false,false]
[null,null,null,null,null,null,null,null,null,null,null,null,null,null,null,"","",false,{"$f":"CheckIzonMoji(A476)","v":false},false,{"$f":"CheckKana(B476)","v":false},false,false,false,false,false,false,false,false,false,false,false,false,{"$f":"IF(R476,IF(AND(LEN(P476)=7,COUNTIF(集荷不可!$A:$A,P476)=0),FALSE,TRUE),FALSE)","v":false},false,false]
[null,null,null,null,null,null,null,null,null,null,null,null,null,null,null,"","",false,{"$f":"CheckIzonMoji(A477)","v":false},false,{"$f":"CheckKana(B477)","v":false},false,false,false,false,false,false,false,false,false,false,false,false,{"$f":"IF(R477,IF(AND(LEN(P477)=7,COUNTIF(集荷不可!$A:$A,P477)=0),FALSE,TRUE),FALSE)","v":false},false,false]
[null,null,null,null,null,null,null,null,null,null,null,null,null,null,null,"","",false,{"$f":"CheckIzonMoji(A478)","v":false},false,{"$f":"CheckKana(B478)","v":false},false,false,false,false,false,false,false,false,false,false,false,false,{"$f":"IF(R478,IF(AND(LEN(P478)=7,COUNTIF(集荷不可!$A:$A,P478)=0),FALSE,TRUE),FALSE)","v":false},false,false]
[null,null,null,null,null,null,null,null,null,null,null,null,null,null,null,"","",false,{"$f":"CheckIzonMoji(A479)","v":false},false,{"$f":"CheckKana(B479)","v":false},false,false,false,false,false,false,false,false,false,false,false,false,{"$f":"IF(R479,IF(AND(LEN(P479)=7,COUNTIF(集荷不可!$A:$A,P479)=0),FALSE,TRUE),FALSE)","v":false},false,false]
[null,null,null,null,null,null,null,null,null,null,null,null,null,null,null,"","",false,{"$f":"CheckIzonMoji(A480)","v":false},false,{"$f":"CheckKana(B480)","v":false},false,false,false,false,false,false,false,false,false,false,false,false,{"$f":"IF(R480,IF(AND(LEN(P480)=7,COUNTIF(集荷不可!$A:$A,P480)=0),FALSE,TRUE),FALSE)","v":false},false,false]
[null,null,null,null,null,null,null,null,null,null,null,null,null,null,null,"","",false,{"$f":"CheckIzonMoji(A481)","v":false},false,{"$f":"CheckKana(B481)","v":false},false,false,false,false,false,false,false,false,false,false,false,false,{"$f":"IF(R481,IF(AND(LEN(P481)=7,COUNTIF(集荷不可!$A:$A,P481)=0),FALSE,TRUE),FALSE)","v":false},false,false]
[null,null,null,null,null,null,null,null,null,null,null,null,null,null,null,"","",false,{"$f":"CheckIzonMoji(A482)","v":false},false,{"$f":"CheckKana(B482)","v":false},false,false,false,false,false,false,false,false,false,false,false,false,{"$f":"IF(R482,IF(AND(LEN(P482)=7,COUNTIF(集荷不可!$A:$A,P482)=0),FALSE,TRUE),FALSE)","v":false},false,false]
[null,null,null,null,null,null,null,null,null,null,null,null,null,null,null,"","",false,{"$f":"CheckIzonMoji(A483)","v":false},false,{"$f":"CheckKana(B483)","v":false},false,false,false,false,false,false,false,false,false,false,false,false,{"$f":"IF(R483,IF(AND(LEN(P483)=7,COUNTIF(集荷不可!$A:$A,P483)=0),FALSE,TRUE),FALSE)","v":false},false,false]
[null,null,null,null,null,null,null,null,null,null,null,null,null,null,null,"","",false,{"$f":"CheckIzonMoji(A484)","v":false},false,{"$f":"CheckKana(B484)","v":false},false,false,false,false,false,false,false,false,false,false,false,false,{"$f":"IF(R484,IF(AND(LEN(P484)=7,COUNTIF(集荷不可!$A:$A,P484)=0),FALSE,TRUE),FALSE)","v":false},false,false]
[null,null,null,null,null,null,null,null,null,null,null,null,null,null,null,"","",false,{"$f":"CheckIzonMoji(A485)","v":false},false,{"$f":"CheckKana(B485)","v":false},false,false,false,false,false,false,false,false,false,false,false,false,{"$f":"IF(R485,IF(AND(LEN(P485)=7,COUNTIF(集荷不可!$A:$A,P485)=0),FALSE,TRUE),FALSE)","v":false},false,false]
[null,null,null,null,null,null,null,null,null,null,null,null,null,null,null,"","",false,{"$f":"CheckIzonMoji(A486)","v":false},false,{"$f":"CheckKana(B486)","v":false},false,false,false,false,false,false,false,false,false,false,false,false,{"$f":"IF(R486,IF(AND(LEN(P486)=7,COUNTIF(集荷不可!$A:$A,P486)=0),FALSE,TRUE),FALSE)","v":false},false,false]
[null,null,null,null,null,null,null,null,null,null,null,null,null,null,null,"","",false,{"$f":"CheckIzonMoji(A487)","v":false},false,{"$f":"CheckKana(B487)","v":false},false,false,false,false,false,false,false,false,false,false,false,false,{"$f":"IF(R487,IF(AND(LEN(P487)=7,COUNTIF(集荷不可!$A:$A,P487)=0),FALSE,TRUE),FALSE)","v":false},false,false]
[null,null,null,null,null,null,null,null,null,null,null,null,null,null,null,"","",false,{"$f":"CheckIzonMoji(A488)","v":false},false,{"$f":"CheckKana(B488)","v":false},false,false,false,false,false,false,false,false,false,false,false,false,{"$f":"IF(R488,IF(AND(LEN(P488)=7,COUNTIF(集荷不可!$A:$A,P488)=0),FALSE,TRUE),FALSE)","v":false},false,false]
[null,null,null,null,null,null,null,null,null,null,null,null,null,null,null,"","",false,{"$f":"CheckIzonMoji(A489)","v":false},false,{"$f":"CheckKana(B489)","v":false},false,false,false,false,false,false,false,false,false,false,false,false,{"$f":"IF(R489,IF(AND(LEN(P489)=7,COUNTIF(集荷不可!$A:$A,P489)=0),FALSE,TRUE),FALSE)","v":false},false,false]
[null,null,null,null,null,null,null,null,null,null,null,null,null,null,null,"","",false,{"$f":"CheckIzonMoji(A490)","v":false},false,{"$f":"CheckKana(B490)","v":false},false,false,false,false,false,false,false,false,false,false,false,false,{"$f":"IF(R490,IF(AND(LEN(P490)=7,COUNTIF(集荷不可!$A:$A,P490)=0),FALSE,TRUE),FALSE)","v":false},false,false]
[null,null,null,null,null,null,null,null,null,null,null,null,null,null,null,"","",false,{"$f":"CheckIzonMoji(A491)","v":false},false,{"$f":"CheckKana(B491)","v":false},false,false,false,false,false,false,false,false,false,false,false,false,{"$f":"IF(R491,IF(AND(LEN(P491)=7,COUNTIF(集荷不可!$A:$A,P491)=0),FALSE,TRUE),FALSE)","v":false},false,false]
[null,null,null,null,null,null,null,null,null,null,null,null,null,null,null,"","",false,{"$f":"CheckIzonMoji(A492)","v":false},false,{"$f":"CheckKana(B492)","v":false},false,false,false,false,false,false,false,false,false,false,false,false,{"$f":"IF(R492,IF(AND(LEN(P492)=7,COUNTIF(集荷不可!$A:$A,P492)=0),FALSE,TRUE),FALSE)","v":false},false,false]
[null,null,null,null,null,null,null,null,null,null,null,null,null,null,null,"","",false,{"$f":"CheckIzonMoji(A493)","v":false},false,{"$f":"CheckKana(B493)","v":false},false,false,false,false,false,false,false,false,false,false,false,false,{"$f":"IF(R493,IF(AND(LEN(P493)=7,COUNTIF(集荷不可!$A:$A,P493)=0),FALSE,TRUE),FALSE)","v":false},false,false]
[null,null,null,null,null,null,null,null,null,null,null,null,null,null,null,"","",false,{"$f":"CheckIzonMoji(A494)","v":false},false,{"$f":"CheckKana(B494)","v":false},false,false,false,false,false,false,false,false,false,false,false,false,{"$f":"IF(R494,IF(AND(LEN(P494)=7,COUNTIF(集荷不可!$A:$A,P494)=0),FALSE,TRUE),FALSE)","v":false},false,false]
[null,null,null,null,null,null,null,null,null,null,null,null,null,null,null,"","",false,{"$f":"CheckIzonMoji(A495)","v":false},false,{"$f":"CheckKana(B495)","v":false},false,false,false,false,false,false,false,false,false,false,false,false,{"$f":"IF(R495,IF(AND(LEN(P495)=7,COUNTIF(集荷不可!$A:$A,P495)=0),FALSE,TRUE),FALSE)","v":false},false,false]
[null,null,null,null,null,null,null,null,null,null,null,null,null,null,null,"","",false,{"$f":"CheckIzonMoji(A496)","v":false},false,{"$f":"CheckKana(B496)","v":false},false,false,false,false,false,false,false,false,false,false,false,false,{"$f":"IF(R496,IF(AND(LEN(P496)=7,COUNTIF(集荷不可!$A:$A,P496)=0),FALSE,TRUE),FALSE)","v":false},false,false]
[null,null,null,null,null,null,null,null,null,null,null,null,null,null,null,"","",false,{"$f":"CheckIzonMoji(A497)","v":false},false,{"$f":"CheckKana(B497)","v":false},false,false,false,false,false,false,false,false,false,false,false,false,{"$f":"IF(R497,IF(AND(LEN(P497)=7,COUNTIF(集荷不可!$A:$A,P497)=0),FALSE,TRUE),FALSE)","v":false},false,false]
[null,null,null,null,null,null,null,null,null,null,null,null,null,null,null,"","",false,{"$f":"CheckIzonMoji(A498)","v":false},false,{"$f":"CheckKana(B498)","v":false},false,false,false,false,false,false,false,false,false,false,false,false,{"$f":"IF(R498,IF(AND(LEN(P498)=7,COUNTIF(集荷不可!$A:$A,P498)=0),FALSE,TRUE),FALSE)","v":false},false,false]
[null,null,null,null,null,null,null,null,null,null,null,null,null,null,null,"","",false,{"$f":"CheckIzonMoji(A499)","v":false},false,{"$f":"CheckKana(B499)","v":false},false,false,false,false,false,false,false,false,false,false,false,false,{"$f":"IF(R499,IF(AND(LEN(P499)=7,COUNTIF(集荷不可!$A:$A,P499)=0),FALSE,TRUE),FALSE)","v":false},false,false]
[null,null,null,null,null,null,null,null,null,null,null,null,null,null,null,"","",false,{"$f":"CheckIzonMoji(A500)","v":false},false,{"$f":"CheckKana(B500)","v":false},false,false,false,false,false,false,false,false,false,false,false,false,{"$f":"IF(R500,IF(AND(LEN(P500)=7,COUNTIF(集荷不可!$A:$A,P500)=0),FALSE,TRUE),FALSE)","v":false},false,false]
[null,null,null,null,null,null,null,null,null,null,null,null,null,null,null,"","",false,{"$f":"CheckIzonMoji(A501)","v":false},false,{"$f":"CheckKana(B501)","v":false},false,false,false,false,false,false,false,false,false,false,false,false,{"$f":"IF(R501,IF(AND(LEN(P501)=7,COUNTIF(集荷不可!$A:$A,P501)=0),FALSE,TRUE),FALSE)","v":false},false,false]
[null,null,null,null,null,null,null,null,null,null,null,null,null,null,null,"","",false,{"$f":"CheckIzonMoji(A502)","v":false},false,{"$f":"CheckKana(B502)","v":false},false,false,false,false,false,false,false,false,false,false,false,false,{"$f":"IF(R502,IF(AND(LEN(P502)=7,COUNTIF(集荷不可!$A:$A,P502)=0),FALSE,TRUE),FALSE)","v":false},false,false]
[null,null,null,null,null,null,null,null,null,null,null,null,null,null,null,"","",false,{"$f":"CheckIzonMoji(A503)","v":false},false,{"$f":"CheckKana(B503)","v":false},false,false,false,false,false,false,false,false,false,false,false,false,{"$f":"IF(R503,IF(AND(LEN(P503)=7,COUNTIF(集荷不可!$A:$A,P503)=0),FALSE,TRUE),FALSE)","v":false},false,false]
[null,null,null,null,null,null,null,null,null,null,null,null,null,null,null,"","",false,{"$f":"CheckIzonMoji(A504)","v":false},false,{"$f":"CheckKana(B504)","v":false},false,false,false,false,false,false,false,false,false,false,false,false,{"$f":"IF(R504,IF(AND(LEN(P504)=7,COUNTIF(集荷不可!$A:$A,P504)=0),FALSE,TRUE),FALSE)","v":false},false,false]
[null,null,null,null,null,null,null,null,null,null,null,null,null,null,null,"","",false,{"$f":"CheckIzonMoji(A505)","v":false},false,{"$f":"CheckKana(B505)","v":false},false,false,false,false,false,false,false,false,false,false,false,false,{"$f":"IF(R505,IF(AND(LEN(P505)=7,COUNTIF(集荷不可!$A:$A,P505)=0),FALSE,TRUE),FALSE)","v":false},false,false]
[null,null,null,null,null,null,null,null,null,null,null,null,null,null,null,"","",false,{"$f":"CheckIzonMoji(A506)","v":false},false,{"$f":"CheckKana(B506)","v":false},false,false,false,false,false,false,false,false,false,false,false,false,{"$f":"IF(R506,IF(AND(LEN(P506)=7,COUNTIF(集荷不可!$A:$A,P506)=0),FALSE,TRUE),FALSE)","v":false},false,false]
[null,null,null,null,null,null,null,null,null,null,null,null,null,null,null,"","",false,{"$f":"CheckIzonMoji(A507)","v":false},false,{"$f":"CheckKana(B507)","v":false},false,false,false,false,false,false,false,false,false,false,false,false,{"$f":"IF(R507,IF(AND(LEN(P507)=7,COUNTIF(集荷不可!$A:$A,P507)=0),FALSE,TRUE),FALSE)","v":false},false,false]
[null,null,null,null,null,null,null,null,null,null,null,null,null,null,null,"","",false,{"$f":"CheckIzonMoji(A508)","v":false},false,{"$f":"CheckKana(B508)","v":false},false,false,false,false,false,false,false,false,false,false,false,false,{"$f":"IF(R508,IF(AND(LEN(P508)=7,COUNTIF(集荷不可!$A:$A,P508)=0),FALSE,TRUE),FALSE)","v":false},false,false]
[null,null,null,null,null,null,null,null,null,null,null,null,null,null,null,"","",false,{"$f":"CheckIzonMoji(A509)","v":false},false,{"$f":"CheckKana(B509)","v":false},false,false,false,false,false,false,false,false,false,false,false,false,{"$f":"IF(R509,IF(AND(LEN(P509)=7,COUNTIF(集荷不可!$A:$A,P509)=0),FALSE,TRUE),FALSE)","v":false},false,false]
[null,null,null,null,null,null,null,null,null,null,null,null,null,null,null,"","",false,{"$f":"CheckIzonMoji(A510)","v":false},false,{"$f":"CheckKana(B510)","v":false},false,false,false,false,false,false,false,false,false,false,false,false,{"$f":"IF(R510,IF(AND(LEN(P510)=7,COUNTIF(集荷不可!$A:$A,P510)=0),FALSE,TRUE),FALSE)","v":false},false,false]
[null,null,null,null,null,null,null,null,null,null,null,null,null,null,null,"","",false,{"$f":"CheckIzonMoji(A511)","v":false},false,{"$f":"CheckKana(B511)","v":false},false,false,false,false,false,false,false,false,false,false,false,false,{"$f":"IF(R511,IF(AND(LEN(P511)=7,COUNTIF(集荷不可!$A:$A,P511)=0),FALSE,TRUE),FALSE)","v":false},false,false]
[null,null,null,null,null,null,null,null,null,null,null,null,null,null,null,"","",false,{"$f":"CheckIzonMoji(A512)","v":false},false,{"$f":"CheckKana(B512)","v":false},false,false,false,false,false,false,false,false,false,false,false,false,{"$f":"IF(R512,IF(AND(LEN(P512)=7,COUNTIF(集荷不可!$A:$A,P512)=0),FALSE,TRUE),FALSE)","v":false},false,false]
[null,null,null,null,null,null,null,null,null,null,null,null,null,null,null,"","",false,{"$f":"CheckIzonMoji(A513)","v":false},false,{"$f":"CheckKana(B513)","v":false},false,false,false,false,false,false,false,false,false,false,false,false,{"$f":"IF(R513,IF(AND(LEN(P513)=7,COUNTIF(集荷不可!$A:$A,P513)=0),FALSE,TRUE),FALSE)","v":false},false,false]
[null,null,null,null,null,null,null,null,null,null,null,null,null,null,null,"","",false,{"$f":"CheckIzonMoji(A514)","v":false},false,{"$f":"CheckKana(B514)","v":false},false,false,false,false,false,false,false,false,false,false,false,false,{"$f":"IF(R514,IF(AND(LEN(P514)=7,COUNTIF(集荷不可!$A:$A,P514)=0),FALSE,TRUE),FALSE)","v":false},false,false]
[null,null,null,null,null,null,null,null,null,null,null,null,null,null,null,"","",false,{"$f":"CheckIzonMoji(A515)","v":false},false,{"$f":"CheckKana(B515)","v":false},false,false,false,false,false,false,false,false,false,false,false,false,{"$f":"IF(R515,IF(AND(LEN(P515)=7,COUNTIF(集荷不可!$A:$A,P515)=0),FALSE,TRUE),FALSE)","v":false},false,false]
[null,null,null,null,null,null,null,null,null,null,null,null,null,null,null,"","",false,{"$f":"CheckIzonMoji(A516)","v":false},false,{"$f":"CheckKana(B516)","v":false},false,false,false,false,false,false,false,false,false,false,false,false,{"$f":"IF(R516,IF(AND(LEN(P516)=7,COUNTIF(集荷不可!$A:$A,P516)=0),FALSE,TRUE),FALSE)","v":false},false,false]
[null,null,null,null,null,null,null,null,null,null,null,null,null,null,null,"","",false,{"$f":"CheckIzonMoji(A517)","v":false},false,{"$f":"CheckKana(B517)","v":false},false,false,false,false,false,false,false,false,false,false,false,false,{"$f":"IF(R517,IF(AND(LEN(P517)=7,COUNTIF(集荷不可!$A:$A,P517)=0),FALSE,TRUE),FALSE)","v":false},false,false]
[null,null,null,null,null,null,null,null,null,null,null,null,null,null,null,"","",false,{"$f":"CheckIzonMoji(A518)","v":false},false,{"$f":"CheckKana(B518)","v":false},false,false,false,false,false,false,false,false,false,false,false,false,{"$f":"IF(R518,IF(AND(LEN(P518)=7,COUNTIF(集荷不可!$A:$A,P518)=0),FALSE,TRUE),FALSE)","v":false},false,false]
[null,null,null,null,null,null,null,null,null,null,null,null,null,null,null,"","",{"$f":"IF(LEN(A519&B519&C519&D519&E519&F519&G519&H519&I519&J519&K519&L519&M519&N519&O519)=0,FALSE,TRUE)","v":false},{"$f":"CheckIzonMoji(A519)","v":false},{"$f":"IF(R519,IF(AND(0<LENB(A519),LENB(A519)<33),FALSE,TRUE),FALSE)","v":false},{"$f":"CheckKana(B519)","v":false},{"$f":"IF(R519,IF(AND(0<LENB(B519),LENB(B519)<33),FALSE,TRUE),FALSE)","v":false},{"$f":"IF(R519,IF(C519=\"\",TRUE,FALSE),FALSE)","v":false},{"$f":"IF(R519,IF(OR(D519=\"\",ISERR(DAY(D519))),TRUE,FALSE),FALSE)","v":false},{"$f":"IF(R519,IF(E519=\"\",TRUE,FALSE),FALSE)","v":false},{"$f":"IF(R519,IF(AND(LENB(G519)>1,LENB(G519)<65),FALSE,TRUE),FALSE)","v":false},{"$f":"IF(LENB(H519)<33,FALSE,TRUE)","v":false},{"$f":"IF(LENB(I519)<51,FALSE,TRUE)","v":false},{"$f":"IF(LENB(J519)<51,FALSE,TRUE)","v":false},{"$f":"IF(R519,IF(AND(LENB(K519)>2,LENB(K519)<16),FALSE,TRUE),FALSE)","v":false},{"$f":"IF(R519,IF(AND(0<LENB(L519),LENB(L519)<61),FALSE,TRUE),FALSE)","v":false},{"$f":"IF(R519,IF(AND(LENB(M519)<9),FALSE,TRUE),FALSE)","v":false},{"$f":"IF(R519,IF(O519=\"\",TRUE,FALSE),FALSE)","v":false},{"$f":"IF(R519,IF(AND(LEN(P519)=7,COUNTIF(集荷不可!$A:$A,P519)=0),FALSE,TRUE),FALSE)","v":false},{"$f":"IF(ISERROR(FIND(\".@\",L519)),FALSE,TRUE)","v":false},{"$f":"IF(LENB(N519)<9,FALSE,TRUE)","v":false}]
[null,null,null,null,null,null,null,null,null,null,null,null,null,null,null,"","",false,{"$f":"CheckIzonMoji(A520)","v":false},false,{"$f":"CheckKana(B520)","v":false},false,false,false,false,false,false,false,false,false,false,false,false,{"$f":"IF(R520,IF(AND(LEN(P520)=7,COUNTIF(集荷不可!$A:$A,P520)=0),FALSE,TRUE),FALSE)","v":false},false,false]
[null,null,null,null,null,null,null,null,null,null,null,null,null,null,null,{"$f":"SUBSTITUTE(F521,\"-\",\"\")","v":""},{"$f":"LEFT(O521,1)","v":""},false,{"$f":"CheckIzonMoji(A521)","v":false},false,{"$f":"CheckKana(B521)","v":false},false,false,false,false,false,false,false,false,false,false,false,false,{"$f":"IF(R521,IF(AND(LEN(P521)=7,COUNTIF(集荷不可!$A:$A,P521)=0),FALSE,TRUE),FALSE)","v":false},false,false]
[null,null,null,null,null,null,null,null,null,null,null,null,null,null,null,"","",false,{"$f":"CheckIzonMoji(A522)","v":false},false,{"$f":"CheckKana(B522)","v":false},false,false,false,false,false,false,false,false,false,false,false,false,{"$f":"IF(R522,IF(AND(LEN(P522)=7,COUNTIF(集荷不可!$A:$A,P522)=0),FALSE,TRUE),FALSE)","v":false},false,false]
[null,null,null,null,null,null,null,null,null,null,null,null,null,null,null,"","",false,{"$f":"CheckIzonMoji(A523)","v":false},false,{"$f":"CheckKana(B523)","v":false},false,false,false,false,false,false,false,false,false,false,false,false,{"$f":"IF(R523,IF(AND(LEN(P523)=7,COUNTIF(集荷不可!$A:$A,P523)=0),FALSE,TRUE),FALSE)","v":false},false,false]
[null,null,null,null,null,null,null,null,null,null,null,null,null,null,null,"","",false,{"$f":"CheckIzonMoji(A524)","v":false},false,{"$f":"CheckKana(B524)","v":false},false,false,false,false,false,false,false,false,false,false,false,false,{"$f":"IF(R524,IF(AND(LEN(P524)=7,COUNTIF(集荷不可!$A:$A,P524)=0),FALSE,TRUE),FALSE)","v":false},false,false]
[null,null,null,null,null,null,null,null,null,null,null,null,null,null,null,"","",false,{"$f":"CheckIzonMoji(A525)","v":false},false,{"$f":"CheckKana(B525)","v":false},false,false,false,false,false,false,false,false,false,false,false,false,{"$f":"IF(R525,IF(AND(LEN(P525)=7,COUNTIF(集荷不可!$A:$A,P525)=0),FALSE,TRUE),FALSE)","v":false},false,false]
[null,null,null,null,null,null,null,null,null,null,null,null,null,null,null,"","",false,{"$f":"CheckIzonMoji(A526)","v":false},false,{"$f":"CheckKana(B526)","v":false},false,false,false,false,false,false,false,false,false,false,false,false,{"$f":"IF(R526,IF(AND(LEN(P526)=7,COUNTIF(集荷不可!$A:$A,P526)=0),FALSE,TRUE),FALSE)","v":false},false,false]
[null,null,null,null,null,null,null,null,null,null,null,null,null,null,null,"","",false,{"$f":"CheckIzonMoji(A527)","v":false},false,{"$f":"CheckKana(B527)","v":false},false,false,false,false,false,false,false,false,false,false,false,false,{"$f":"IF(R527,IF(AND(LEN(P527)=7,COUNTIF(集荷不可!$A:$A,P527)=0),FALSE,TRUE),FALSE)","v":false},false,false]
[null,null,null,null,null,null,null,null,null,null,null,null,null,null,null,"","",false,{"$f":"CheckIzonMoji(A528)","v":false},false,{"$f":"CheckKana(B528)","v":false},false,false,false,false,false,false,false,false,false,false,false,false,{"$f":"IF(R528,IF(AND(LEN(P528)=7,COUNTIF(集荷不可!$A:$A,P528)=0),FALSE,TRUE),FALSE)","v":false},false,false]
[null,null,null,null,null,null,null,null,null,null,null,null,null,null,null,"","",false,{"$f":"CheckIzonMoji(A529)","v":false},false,{"$f":"CheckKana(B529)","v":false},false,false,false,false,false,false,false,false,false,false,false,false,{"$f":"IF(R529,IF(AND(LEN(P529)=7,COUNTIF(集荷不可!$A:$A,P529)=0),FALSE,TRUE),FALSE)","v":false},false,false]
[null,null,null,null,null,null,null,null,null,null,null,null,null,null,null,"","",false,{"$f":"CheckIzonMoji(A530)","v":false},false,{"$f":"CheckKana(B530)","v":false},false,false,false,false,false,false,false,false,false,false,false,false,{"$f":"IF(R530,IF(AND(LEN(P530)=7,COUNTIF(集荷不可!$A:$A,P530)=0),FALSE,TRUE),FALSE)","v":false},false,false]
[null,null,null,null,null,null,null,null,null,null,null,null,null,null,null,"","",false,{"$f":"CheckIzonMoji(A531)","v":false},false,{"$f":"CheckKana(B531)","v":false},false,false,false,false,false,false,false,false,false,false,false,false,{"$f":"IF(R531,IF(AND(LEN(P531)=7,COUNTIF(集荷不可!$A:$A,P531)=0),FALSE,TRUE),FALSE)","v":false},false,false]
[null,null,null,null,null,null,null,null,null,null,null,null,null,null,null,"","",false,{"$f":"CheckIzonMoji(A532)","v":false},false,{"$f":"CheckKana(B532)","v":false},false,false,false,false,false,false,false,false,false,false,false,false,{"$f":"IF(R532,IF(AND(LEN(P532)=7,COUNTIF(集荷不可!$A:$A,P532)=0),FALSE,TRUE),FALSE)","v":false},false,false]
[null,null,null,null,null,null,null,null,null,null,null,null,null,null,null,"","",false,{"$f":"CheckIzonMoji(A533)","v":false},false,{"$f":"CheckKana(B533)","v":false},false,false,false,false,false,false,false,false,false,false,false,false,{"$f":"IF(R533,IF(AND(LEN(P533)=7,COUNTIF(集荷不可!$A:$A,P533)=0),FALSE,TRUE),FALSE)","v":false},false,false]
[null,null,null,null,null,null,null,null,null,null,null,null,null,null,null,"","",false,{"$f":"CheckIzonMoji(A534)","v":false},false,{"$f":"CheckKana(B534)","v":false},false,false,false,false,false,false,false,false,false,false,false,false,{"$f":"IF(R534,IF(AND(LEN(P534)=7,COUNTIF(集荷不可!$A:$A,P534)=0),FALSE,TRUE),FALSE)","v":false},false,false]
[null,null,null,null,null,null,null,null,null,null,null,null,null,null,null,"","",false,{"$f":"CheckIzonMoji(A535)","v":false},false,{"$f":"CheckKana(B535)","v":false},false,false,false,false,false,false,false,false,false,false,false,false,{"$f":"IF(R535,IF(AND(LEN(P535)=7,COUNTIF(集荷不可!$A:$A,P535)=0),FALSE,TRUE),FALSE)","v":false},false,false]
[null,null,null,null,null,null,null,null,null,null,null,null,null,null,null,"","",false,{"$f":"CheckIzonMoji(A536)","v":false},false,{"$f":"CheckKana(B536)","v":false},false,false,false,false,false,false,false,false,false,false,false,false,{"$f":"IF(R536,IF(AND(LEN(P536)=7,COUNTIF(集荷不可!$A:$A,P536)=0),FALSE,TRUE),FALSE)","v":false},false,false]
[null,null,null,null,null,null,null,null,null,null,null,null,null,null,null,"","",false,{"$f":"CheckIzonMoji(A537)","v":false},false,{"$f":"CheckKana(B537)","v":false},false,false,false,false,false,false,false,false,false,false,false,false,{"$f":"IF(R537,IF(AND(LEN(P537)=7,COUNTIF(集荷不可!$A:$A,P537)=0),FALSE,TRUE),FALSE)","v":false},false,false]
[null,null,null,null,null,null,null,null,null,null,null,null,null,null,null,"","",false,{"$f":"CheckIzonMoji(A538)","v":false},false,{"$f":"CheckKana(B538)","v":false},false,false,false,false,false,false,false,false,false,false,false,false,{"$f":"IF(R538,IF(AND(LEN(P538)=7,COUNTIF(集荷不可!$A:$A,P538)=0),FALSE,TRUE),FALSE)","v":false},false,false]
[null,null,null,null,null,null,null,null,null,null,null,null,null,null,null,"","",false,{"$f":"CheckIzonMoji(A539)","v":false},false,{"$f":"CheckKana(B539)","v":false},false,false,false,false,false,false,false,false,false,false,false,false,{"$f":"IF(R539,IF(AND(LEN(P539)=7,COUNTIF(集荷不可!$A:$A,P539)=0),FALSE,TRUE),FALSE)","v":false},false,false]
[null,null,null,null,null,null,null,null,null,null,null,null,null,null,null,"","",false,{"$f":"CheckIzonMoji(A540)","v":false},false,{"$f":"CheckKana(B540)","v":false},false,false,false,false,false,false,false,false,false,false,false,false,{"$f":"IF(R540,IF(AND(LEN(P540)=7,COUNTIF(集荷不可!$A:$A,P540)=0),FALSE,TRUE),FALSE)","v":false},false,false]
[null,null,null,null,null,null,null,null,null,null,null,null,null,null,null,"","",false,{"$f":"CheckIzonMoji(A541)","v":false},false,{"$f":"CheckKana(B541)","v":false},false,false,false,false,false,false,false,false,false,false,false,false,{"$f":"IF(R541,IF(AND(LEN(P541)=7,COUNTIF(集荷不可!$A:$A,P541)=0),FALSE,TRUE),FALSE)","v":false},false,false]
[null,null,null,null,null,null,null,null,null,null,null,null,null,null,null,"","",false,{"$f":"CheckIzonMoji(A542)","v":false},false,{"$f":"CheckKana(B542)","v":false},false,false,false,false,false,false,false,false,false,false,false,false,{"$f":"IF(R542,IF(AND(LEN(P542)=7,COUNTIF(集荷不可!$A:$A,P542)=0),FALSE,TRUE),FALSE)","v":false},false,false]
[null,null,null,null,null,null,null,null,null,null,null,null,null,null,null,"","",false,{"$f":"CheckIzonMoji(A543)","v":false},false,{"$f":"CheckKana(B543)","v":false},false,false,false,false,false,false,false,false,false,false,false,false,{"$f":"IF(R543,IF(AND(LEN(P543)=7,COUNTIF(集荷不可!$A:$A,P543)=0),FALSE,TRUE),FALSE)","v":false},false,false]
[null,null,null,null,null,null,null,null,null,null,null,null,null,null,null,"","",false,{"$f":"CheckIzonMoji(A544)","v":false},false,{"$f":"CheckKana(B544)","v":false},false,false,false,false,false,false,false,false,false,false,false,false,{"$f":"IF(R544,IF(AND(LEN(P544)=7,COUNTIF(集荷不可!$A:$A,P544)=0),FALSE,TRUE),FALSE)","v":false},false,false]
[null,null,null,null,null,null,null,null,null,null,null,null,null,null,null,"","",false,{"$f":"CheckIzonMoji(A545)","v":false},false,{"$f":"CheckKana(B545)","v":false},false,false,false,false,false,false,false,false,false,false,false,false,{"$f":"IF(R545,IF(AND(LEN(P545)=7,COUNTIF(集荷不可!$A:$A,P545)=0),FALSE,TRUE),FALSE)","v":false},false,false]
[null,null,null,null,null,null,null,null,null,null,null,null,null,null,null,"","",false,{"$f":"CheckIzonMoji(A546)","v":false},false,{"$f":"CheckKana(B546)","v":false},false,false,false,false,false,false,false,false,false,false,false,false,{"$f":"IF(R546,IF(AND(LEN(P546)=7,COUNTIF(集荷不可!$A:$A,P546)=0),FALSE,TRUE),FALSE)","v":false},false,false]
[null,null,null,null,null,null,null,null,null,null,null,null,null,null,null,"","",false,{"$f":"CheckIzonMoji(A547)","v":false},false,{"$f":"CheckKana(B547)","v":false},false,false,false,false,false,false,false,false,false,false,false,false,{"$f":"IF(R547,IF(AND(LEN(P547)=7,COUNTIF(集荷不可!$A:$A,P547)=0),FALSE,TRUE),FALSE)","v":false},false,false]
[null,null,null,null,null,null,null,null,null,null,null,null,null,null,null,"","",false,{"$f":"CheckIzonMoji(A548)","v":false},false,{"$f":"CheckKana(B548)","v":false},false,false,false,false,false,false,false,false,false,false,false,false,{"$f":"IF(R548,IF(AND(LEN(P548)=7,COUNTIF(集荷不可!$A:$A,P548)=0),FALSE,TRUE),FALSE)","v":false},false,false]
[null,null,null,null,null,null,null,null,null,null,null,null,null,null,null,"","",false,{"$f":"CheckIzonMoji(A549)","v":false},false,{"$f":"CheckKana(B549)","v":false},false,false,false,false,false,false,false,false,false,false,false,false,{"$f":"IF(R549,IF(AND(LEN(P549)=7,COUNTIF(集荷不可!$A:$A,P549)=0),FALSE,TRUE),FALSE)","v":false},false,false]
[null,null,null,null,null,null,null,null,null,null,null,null,null,null,null,"","",false,{"$f":"CheckIzonMoji(A550)","v":false},false,{"$f":"CheckKana(B550)","v":false},false,false,false,false,false,false,false,false,false,false,false,false,{"$f":"IF(R550,IF(AND(LEN(P550)=7,COUNTIF(集荷不可!$A:$A,P550)=0),FALSE,TRUE),FALSE)","v":false},false,false]
[null,null,null,null,null,null,null,null,null,null,null,null,null,null,null,"","",false,{"$f":"CheckIzonMoji(A551)","v":false},false,{"$f":"CheckKana(B551)","v":false},false,false,false,false,false,false,false,false,false,false,false,false,{"$f":"IF(R551,IF(AND(LEN(P551)=7,COUNTIF(集荷不可!$A:$A,P551)=0),FALSE,TRUE),FALSE)","v":false},false,false]
[null,null,null,null,null,null,null,null,null,null,null,null,null,null,null,"","",false,{"$f":"CheckIzonMoji(A552)","v":false},false,{"$f":"CheckKana(B552)","v":false},false,false,false,false,false,false,false,false,false,false,false,false,{"$f":"IF(R552,IF(AND(LEN(P552)=7,COUNTIF(集荷不可!$A:$A,P552)=0),FALSE,TRUE),FALSE)","v":false},false,false]
[null,null,null,null,null,null,null,null,null,null,null,null,null,null,null,"","",false,{"$f":"CheckIzonMoji(A553)","v":false},false,{"$f":"CheckKana(B553)","v":false},false,false,false,false,false,false,false,false,false,false,false,false,{"$f":"IF(R553,IF(AND(LEN(P553)=7,COUNTIF(集荷不可!$A:$A,P553)=0),FALSE,TRUE),FALSE)","v":false},false,false]
[null,null,null,null,null,null,null,null,null,null,null,null,null,null,null,"","",false,{"$f":"CheckIzonMoji(A554)","v":false},false,{"$f":"CheckKana(B554)","v":false},false,false,false,false,false,false,false,false,false,false,false,false,{"$f":"IF(R554,IF(AND(LEN(P554)=7,COUNTIF(集荷不可!$A:$A,P554)=0),FALSE,TRUE),FALSE)","v":false},false,false]
[null,null,null,null,null,null,null,null,null,null,null,null,null,null,null,"","",false,{"$f":"CheckIzonMoji(A555)","v":false},false,{"$f":"CheckKana(B555)","v":false},false,false,false,false,false,false,false,false,false,false,false,false,{"$f":"IF(R555,IF(AND(LEN(P555)=7,COUNTIF(集荷不可!$A:$A,P555)=0),FALSE,TRUE),FALSE)","v":false},false,false]
[null,null,null,null,null,null,null,null,null,null,null,null,null,null,null,"","",false,{"$f":"CheckIzonMoji(A556)","v":false},false,{"$f":"CheckKana(B556)","v":false},false,false,false,false,false,false,false,false,false,false,false,false,{"$f":"IF(R556,IF(AND(LEN(P556)=7,COUNTIF(集荷不可!$A:$A,P556)=0),FALSE,TRUE),FALSE)","v":false},false,false]
[null,null,null,null,null,null,null,null,null,null,null,null,null,null,null,"","",false,{"$f":"CheckIzonMoji(A557)","v":false},false,{"$f":"CheckKana(B557)","v":false},false,false,false,false,false,false,false,false,false,false,false,false,{"$f":"IF(R557,IF(AND(LEN(P557)=7,COUNTIF(集荷不可!$A:$A,P557)=0),FALSE,TRUE),FALSE)","v":false},false,false]
[null,null,null,null,null,null,null,null,null,null,null,null,null,null,null,"","",false,{"$f":"CheckIzonMoji(A558)","v":false},false,{"$f":"CheckKana(B558)","v":false},false,false,false,false,false,false,false,false,false,false,false,false,{"$f":"IF(R558,IF(AND(LEN(P558)=7,COUNTIF(集荷不可!$A:$A,P558)=0),FALSE,TRUE),FALSE)","v":false},false,false]
[null,null,null,null,null,null,null,null,null,null,null,null,null,null,null,"","",false,{"$f":"CheckIzonMoji(A559)","v":false},false,{"$f":"CheckKana(B559)","v":false},false,false,false,false,false,false,false,false,false,false,false,false,{"$f":"IF(R559,IF(AND(LEN(P559)=7,COUNTIF(集荷不可!$A:$A,P559)=0),FALSE,TRUE),FALSE)","v":false},false,false]
[null,null,null,null,null,null,null,null,null,null,null,null,null,null,null,"","",false,{"$f":"CheckIzonMoji(A560)","v":false},false,{"$f":"CheckKana(B560)","v":false},false,false,false,false,false,false,false,false,false,false,false,false,{"$f":"IF(R560,IF(AND(LEN(P560)=7,COUNTIF(集荷不可!$A:$A,P560)=0),FALSE,TRUE),FALSE)","v":false},false,false]
[null,null,null,null,null,null,null,null,null,null,null,null,null,null,null,"","",false,{"$f":"CheckIzonMoji(A561)","v":false},false,{"$f":"CheckKana(B561)","v":false},false,false,false,false,false,false,false,false,false,false,false,false,{"$f":"IF(R561,IF(AND(LEN(P561)=7,COUNTIF(集荷不可!$A:$A,P561)=0),FALSE,TRUE),FALSE)","v":false},false,false]
[null,null,null,null,null,null,null,null,null,null,null,null,null,null,null,"","",false,{"$f":"CheckIzonMoji(A562)","v":false},false,{"$f":"CheckKana(B562)","v":false},false,false,false,false,false,false,false,false,false,false,false,false,{"$f":"IF(R562,IF(AND(LEN(P562)=7,COUNTIF(集荷不可!$A:$A,P562)=0),FALSE,TRUE),FALSE)","v":false},false,false]
[null,null,null,null,null,null,null,null,null,null,null,null,null,null,null,"","",false,{"$f":"CheckIzonMoji(A563)","v":false},false,{"$f":"CheckKana(B563)","v":false},false,false,false,false,false,false,false,false,false,false,false,false,{"$f":"IF(R563,IF(AND(LEN(P563)=7,COUNTIF(集荷不可!$A:$A,P563)=0),FALSE,TRUE),FALSE)","v":false},false,false]
[null,null,null,null,null,null,null,null,null,null,null,null,null,null,null,"","",false,{"$f":"CheckIzonMoji(A564)","v":false},false,{"$f":"CheckKana(B564)","v":false},false,false,false,false,false,false,false,false,false,false,false,false,{"$f":"IF(R564,IF(AND(LEN(P564)=7,COUNTIF(集荷不可!$A:$A,P564)=0),FALSE,TRUE),FALSE)","v":false},false,false]
[null,null,null,null,null,null,null,null,null,null,null,null,null,null,null,"","",false,{"$f":"CheckIzonMoji(A565)","v":false},false,{"$f":"CheckKana(B565)","v":false},false,false,false,false,false,false,false,false,false,false,false,false,{"$f":"IF(R565,IF(AND(LEN(P565)=7,COUNTIF(集荷不可!$A:$A,P565)=0),FALSE,TRUE),FALSE)","v":false},false,false]
[null,null,null,null,null,null,null,null,null,null,null,null,null,null,null,"","",false,{"$f":"CheckIzonMoji(A566)","v":false},false,{"$f":"CheckKana(B566)","v":false},false,false,false,false,false,false,false,false,false,false,false,false,{"$f":"IF(R566,IF(AND(LEN(P566)=7,COUNTIF(集荷不可!$A:$A,P566)=0),FALSE,TRUE),FALSE)","v":false},false,false]
[null,null,null,null,null,null,null,null,null,null,null,null,null,null,null,"","",false,{"$f":"CheckIzonMoji(A567)","v":false},false,{"$f":"CheckKana(B567)","v":false},false,false,false,false,false,false,false,false,false,false,false,false,{"$f":"IF(R567,IF(AND(LEN(P567)=7,COUNTIF(集荷不可!$A:$A,P567)=0),FALSE,TRUE),FALSE)","v":false},false,false]
[null,null,null,null,null,null,null,null,null,null,null,null,null,null,null,"","",false,{"$f":"CheckIzonMoji(A568)","v":false},false,{"$f":"CheckKana(B568)","v":false},false,false,false,false,false,false,false,false,false,false,false,false,{"$f":"IF(R568,IF(AND(LEN(P568)=7,COUNTIF(集荷不可!$A:$A,P568)=0),FALSE,TRUE),FALSE)","v":false},false,false]
[null,null,null,null,null,null,null,null,null,null,null,null,null,null,null,"","",false,{"$f":"CheckIzonMoji(A569)","v":false},false,{"$f":"CheckKana(B569)","v":false},false,false,false,false,false,false,false,false,false,false,false,false,{"$f":"IF(R569,IF(AND(LEN(P569)=7,COUNTIF(集荷不可!$A:$A,P569)=0),FALSE,TRUE),FALSE)","v":false},false,false]
[null,null,null,null,null,null,null,null,null,null,null,null,null,null,null,"","",false,{"$f":"CheckIzonMoji(A570)","v":false},false,{"$f":"CheckKana(B570)","v":false},false,false,false,false,false,false,false,false,false,false,false,false,{"$f":"IF(R570,IF(AND(LEN(P570)=7,COUNTIF(集荷不可!$A:$A,P570)=0),FALSE,TRUE),FALSE)","v":false},false,false]
[null,null,null,null,null,null,null,null,null,null,null,null,null,null,null,"","",false,{"$f":"CheckIzonMoji(A571)","v":false},false,{"$f":"CheckKana(B571)","v":false},false,false,false,false,false,false,false,false,false,false,false,false,{"$f":"IF(R571,IF(AND(LEN(P571)=7,COUNTIF(集荷不可!$A:$A,P571)=0),FALSE,TRUE),FALSE)","v":false},false,false]
[null,null,null,null,null,null,null,null,null,null,null,null,null,null,null,"","",false,{"$f":"CheckIzonMoji(A572)","v":false},false,{"$f":"CheckKana(B572)","v":false},false,false,false,false,false,false,false,false,false,false,false,false,{"$f":"IF(R572,IF(AND(LEN(P572)=7,COUNTIF(集荷不可!$A:$A,P572)=0),FALSE,TRUE),FALSE)","v":false},false,false]
[null,null,null,null,null,null,null,null,null,null,null,null,null,null,null,"","",false,{"$f":"CheckIzonMoji(A573)","v":false},false,{"$f":"CheckKana(B573)","v":false},false,false,false,false,false,false,false,false,false,false,false,false,{"$f":"IF(R573,IF(AND(LEN(P573)=7,COUNTIF(集荷不可!$A:$A,P573)=0),FALSE,TRUE),FALSE)","v":false},false,false]
[null,null,null,null,null,null,null,null,null,null,null,null,null,null,null,"","",false,{"$f":"CheckIzonMoji(A574)","v":false},false,{"$f":"CheckKana(B574)","v":false},false,false,false,false,false,false,false,false,false,false,false,false,{"$f":"IF(R574,IF(AND(LEN(P574)=7,COUNTIF(集荷不可!$A:$A,P574)=0),FALSE,TRUE),FALSE)","v":false},false,false]
[null,null,null,null,null,null,null,null,null,null,null,null,null,null,null,"","",false,{"$f":"CheckIzonMoji(A575)","v":false},false,{"$f":"CheckKana(B575)","v":false},false,false,false,false,false,false,false,false,false,false,false,false,{"$f":"IF(R575,IF(AND(LEN(P575)=7,COUNTIF(集荷不可!$A:$A,P575)=0),FALSE,TRUE),FALSE)","v":false},false,false]
[null,null,null,null,null,null,null,null,null,null,null,null,null,null,null,"","",false,{"$f":"CheckIzonMoji(A576)","v":false},false,{"$f":"CheckKana(B576)","v":false},false,false,false,false,false,false,false,false,false,false,false,false,{"$f":"IF(R576,IF(AND(LEN(P576)=7,COUNTIF(集荷不可!$A:$A,P576)=0),FALSE,TRUE),FALSE)","v":false},false,false]
[null,null,null,null,null,null,null,null,null,null,null,null,null,null,null,"","",false,{"$f":"CheckIzonMoji(A577)","v":false},false,{"$f":"CheckKana(B577)","v":false},false,false,false,false,false,false,false,false,false,false,false,false,{"$f":"IF(R577,IF(AND(LEN(P577)=7,COUNTIF(集荷不可!$A:$A,P577)=0),FALSE,TRUE),FALSE)","v":false},false,false]
[null,null,null,null,null,null,null,null,null,null,null,null,null,null,null,"","",false,{"$f":"CheckIzonMoji(A578)","v":false},false,{"$f":"CheckKana(B578)","v":false},false,false,false,false,false,false,false,false,false,false,false,false,{"$f":"IF(R578,IF(AND(LEN(P578)=7,COUNTIF(集荷不可!$A:$A,P578)=0),FALSE,TRUE),FALSE)","v":false},false,false]
[null,null,null,null,null,null,null,null,null,null,null,null,null,null,null,"","",false,{"$f":"CheckIzonMoji(A579)","v":false},false,{"$f":"CheckKana(B579)","v":false},false,false,false,false,false,false,false,false,false,false,false,false,{"$f":"IF(R579,IF(AND(LEN(P579)=7,COUNTIF(集荷不可!$A:$A,P579)=0),FALSE,TRUE),FALSE)","v":false},false,false]
[null,null,null,null,null,null,null,null,null,null,null,null,null,null,null,"","",false,{"$f":"CheckIzonMoji(A580)","v":false},false,{"$f":"CheckKana(B580)","v":false},false,false,false,false,false,false,false,false,false,false,false,false,{"$f":"IF(R580,IF(AND(LEN(P580)=7,COUNTIF(集荷不可!$A:$A,P580)=0),FALSE,TRUE),FALSE)","v":false},false,false]
[null,null,null,null,null,null,null,null,null,null,null,null,null,null,null,"","",false,{"$f":"CheckIzonMoji(A581)","v":false},false,{"$f":"CheckKana(B581)","v":false},false,false,false,false,false,false,false,false,false,false,false,false,{"$f":"IF(R581,IF(AND(LEN(P581)=7,COUNTIF(集荷不可!$A:$A,P581)=0),FALSE,TRUE),FALSE)","v":false},false,false]
[null,null,null,null,null,null,null,null,null,null,null,null,null,null,null,"","",false,{"$f":"CheckIzonMoji(A582)","v":false},false,{"$f":"CheckKana(B582)","v":false},false,false,false,false,false,false,false,false,false,false,false,false,{"$f":"IF(R582,IF(AND(LEN(P582)=7,COUNTIF(集荷不可!$A:$A,P582)=0),FALSE,TRUE),FALSE)","v":false},false,false]
[null,null,null,null,null,null,null,null,null,null,null,null,null,null,null,"","",{"$f":"IF(LEN(A583&B583&C583&D583&E583&F583&G583&H583&I583&J583&K583&L583&M583&N583&O583)=0,FALSE,TRUE)","v":false},{"$f":"CheckIzonMoji(A583)","v":false},{"$f":"IF(R583,IF(AND(0<LENB(A583),LENB(A583)<33),FALSE,TRUE),FALSE)","v":false},{"$f":"CheckKana(B583)","v":false},{"$f":"IF(R583,IF(AND(0<LENB(B583),LENB(B583)<33),FALSE,TRUE),FALSE)","v":false},{"$f":"IF(R583,IF(C583=\"\",TRUE,FALSE),FALSE)","v":false},{"$f":"IF(R583,IF(OR(D583=\"\",ISERR(DAY(D583))),TRUE,FALSE),FALSE)","v":false},{"$f":"IF(R583,IF(E583=\"\",TRUE,FALSE),FALSE)","v":false},{"$f":"IF(R583,IF(AND(LENB(G583)>1,LENB(G583)<65),FALSE,TRUE),FALSE)","v":false},{"$f":"IF(LENB(H583)<33,FALSE,TRUE)","v":false},{"$f":"IF(LENB(I583)<51,FALSE,TRUE)","v":false},{"$f":"IF(LENB(J583)<51,FALSE,TRUE)","v":false},{"$f":"IF(R583,IF(AND(LENB(K583)>2,LENB(K583)<16),FALSE,TRUE),FALSE)","v":false},{"$f":"IF(R583,IF(AND(0<LENB(L583),LENB(L583)<61),FALSE,TRUE),FALSE)","v":false},{"$f":"IF(R583,IF(AND(LENB(M583)<9),FALSE,TRUE),FALSE)","v":false},{"$f":"IF(R583,IF(O583=\"\",TRUE,FALSE),FALSE)","v":false},{"$f":"IF(R583,IF(AND(LEN(P583)=7,COUNTIF(集荷不可!$A:$A,P583)=0),FALSE,TRUE),FALSE)","v":false},{"$f":"IF(ISERROR(FIND(\".@\",L583)),FALSE,TRUE)","v":false},{"$f":"IF(LENB(N583)<9,FALSE,TRUE)","v":false}]
[null,null,null,null,null,null,null,null,null,null,null,null,null,null,null,"","",false,{"$f":"CheckIzonMoji(A584)","v":false},false,{"$f":"CheckKana(B584)","v":false},false,false,false,false,false,false,false,false,false,false,false,false,{"$f":"IF(R584,IF(AND(LEN(P584)=7,COUNTIF(集荷不可!$A:$A,P584)=0),FALSE,TRUE),FALSE)","v":false},false,false]
[null,null,null,null,null,null,null,null,null,null,null,null,null,null,null,{"$f":"SUBSTITUTE(F585,\"-\",\"\")","v":""},{"$f":"LEFT(O585,1)","v":""},false,{"$f":"CheckIzonMoji(A585)","v":false},false,{"$f":"CheckKana(B585)","v":false},false,false,false,false,false,false,false,false,false,false,false,false,{"$f":"IF(R585,IF(AND(LEN(P585)=7,COUNTIF(集荷不可!$A:$A,P585)=0),FALSE,TRUE),FALSE)","v":false},false,false]
[null,null,null,null,null,null,null,null,null,null,null,null,null,null,null,"","",false,{"$f":"CheckIzonMoji(A586)","v":false},false,{"$f":"CheckKana(B586)","v":false},false,false,false,false,false,false,false,false,false,false,false,false,{"$f":"IF(R586,IF(AND(LEN(P586)=7,COUNTIF(集荷不可!$A:$A,P586)=0),FALSE,TRUE),FALSE)","v":false},false,false]
[null,null,null,null,null,null,null,null,null,null,null,null,null,null,null,"","",false,{"$f":"CheckIzonMoji(A587)","v":false},false,{"$f":"CheckKana(B587)","v":false},false,false,false,false,false,false,false,false,false,false,false,false,{"$f":"IF(R587,IF(AND(LEN(P587)=7,COUNTIF(集荷不可!$A:$A,P587)=0),FALSE,TRUE),FALSE)","v":false},false,false]
[null,null,null,null,null,null,null,null,null,null,null,null,null,null,null,"","",false,{"$f":"CheckIzonMoji(A588)","v":false},false,{"$f":"CheckKana(B588)","v":false},false,false,false,false,false,false,false,false,false,false,false,false,{"$f":"IF(R588,IF(AND(LEN(P588)=7,COUNTIF(集荷不可!$A:$A,P588)=0),FALSE,TRUE),FALSE)","v":false},false,false]
[null,null,null,null,null,null,null,null,null,null,null,null,null,null,null,"","",false,{"$f":"CheckIzonMoji(A589)","v":false},false,{"$f":"CheckKana(B589)","v":false},false,false,false,false,false,false,false,false,false,false,false,false,{"$f":"IF(R589,IF(AND(LEN(P589)=7,COUNTIF(集荷不可!$A:$A,P589)=0),FALSE,TRUE),FALSE)","v":false},false,false]
[null,null,null,null,null,null,null,null,null,null,null,null,null,null,null,"","",false,{"$f":"CheckIzonMoji(A590)","v":false},false,{"$f":"CheckKana(B590)","v":false},false,false,false,false,false,false,false,false,false,false,false,false,{"$f":"IF(R590,IF(AND(LEN(P590)=7,COUNTIF(集荷不可!$A:$A,P590)=0),FALSE,TRUE),FALSE)","v":false},false,false]
[null,null,null,null,null,null,null,null,null,null,null,null,null,null,null,"","",false,{"$f":"CheckIzonMoji(A591)","v":false},false,{"$f":"CheckKana(B591)","v":false},false,false,false,false,false,false,false,false,false,false,false,false,{"$f":"IF(R591,IF(AND(LEN(P591)=7,COUNTIF(集荷不可!$A:$A,P591)=0),FALSE,TRUE),FALSE)","v":false},false,false]
[null,null,null,null,null,null,null,null,null,null,null,null,null,null,null,"","",false,{"$f":"CheckIzonMoji(A592)","v":false},false,{"$f":"CheckKana(B592)","v":false},false,false,false,false,false,false,false,false,false,false,false,false,{"$f":"IF(R592,IF(AND(LEN(P592)=7,COUNTIF(集荷不可!$A:$A,P592)=0),FALSE,TRUE),FALSE)","v":false},false,false]
[null,null,null,null,null,null,null,null,null,null,null,null,null,null,null,"","",false,{"$f":"CheckIzonMoji(A593)","v":false},false,{"$f":"CheckKana(B593)","v":false},false,false,false,false,false,false,false,false,false,false,false,false,{"$f":"IF(R593,IF(AND(LEN(P593)=7,COUNTIF(集荷不可!$A:$A,P593)=0),FALSE,TRUE),FALSE)","v":false},false,false]
[null,null,null,null,null,null,null,null,null,null,null,null,null,null,null,"","",false,{"$f":"CheckIzonMoji(A594)","v":false},false,{"$f":"CheckKana(B594)","v":false},false,false,false,false,false,false,false,false,false,false,false,false,{"$f":"IF(R594,IF(AND(LEN(P594)=7,COUNTIF(集荷不可!$A:$A,P594)=0),FALSE,TRUE),FALSE)","v":false},false,false]
[null,null,null,null,null,null,null,null,null,null,null,null,null,null,null,"","",false,{"$f":"CheckIzonMoji(A595)","v":false},false,{"$f":"CheckKana(B595)","v":false},false,false,false,false,false,false,false,false,false,false,false,false,{"$f":"IF(R595,IF(AND(LEN(P595)=7,COUNTIF(集荷不可!$A:$A,P595)=0),FALSE,TRUE),FALSE)","v":false},false,false]
[null,null,null,null,null,null,null,null,null,null,null,null,null,null,null,"","",false,{"$f":"CheckIzonMoji(A596)","v":false},false,{"$f":"CheckKana(B596)","v":false},false,false,false,false,false,false,false,false,false,false,false,false,{"$f":"IF(R596,IF(AND(LEN(P596)=7,COUNTIF(集荷不可!$A:$A,P596)=0),FALSE,TRUE),FALSE)","v":false},false,false]
[null,null,null,null,null,null,null,null,null,null,null,null,null,null,null,"","",false,{"$f":"CheckIzonMoji(A597)","v":false},false,{"$f":"CheckKana(B597)","v":false},false,false,false,false,false,false,false,false,false,false,false,false,{"$f":"IF(R597,IF(AND(LEN(P597)=7,COUNTIF(集荷不可!$A:$A,P597)=0),FALSE,TRUE),FALSE)","v":false},false,false]
[null,null,null,null,null,null,null,null,null,null,null,null,null,null,null,"","",false,{"$f":"CheckIzonMoji(A598)","v":false},false,{"$f":"CheckKana(B598)","v":false},false,false,false,false,false,false,false,false,false,false,false,false,{"$f":"IF(R598,IF(AND(LEN(P598)=7,COUNTIF(集荷不可!$A:$A,P598)=0),FALSE,TRUE),FALSE)","v":false},false,false]
[null,null,null,null,null,null,null,null,null,null,null,null,null,null,null,"","",false,{"$f":"CheckIzonMoji(A599)","v":false},false,{"$f":"CheckKana(B599)","v":false},false,false,false,false,false,false,false,false,false,false,false,false,{"$f":"IF(R599,IF(AND(LEN(P599)=7,COUNTIF(集荷不可!$A:$A,P599)=0),FALSE,TRUE),FALSE)","v":false},false,false]
[null,null,null,null,null,null,null,null,null,null,null,null,null,null,null,"","",false,{"$f":"CheckIzonMoji(A600)","v":false},false,{"$f":"CheckKana(B600)","v":false},false,false,false,false,false,false,false,false,false,false,false,false,{"$f":"IF(R600,IF(AND(LEN(P600)=7,COUNTIF(集荷不可!$A:$A,P600)=0),FALSE,TRUE),FALSE)","v":false},false,false]
[null,null,null,null,null,null,null,null,null,null,null,null,null,null,null,"","",false,{"$f":"CheckIzonMoji(A601)","v":false},false,{"$f":"CheckKana(B601)","v":false},false,false,false,false,false,false,false,false,false,false,false,false,{"$f":"IF(R601,IF(AND(LEN(P601)=7,COUNTIF(集荷不可!$A:$A,P601)=0),FALSE,TRUE),FALSE)","v":false},false,false]
[null,null,null,null,null,null,null,null,null,null,null,null,null,null,null,"","",false,{"$f":"CheckIzonMoji(A602)","v":false},false,{"$f":"CheckKana(B602)","v":false},false,false,false,false,false,false,false,false,false,false,false,false,{"$f":"IF(R602,IF(AND(LEN(P602)=7,COUNTIF(集荷不可!$A:$A,P602)=0),FALSE,TRUE),FALSE)","v":false},false,false]
[null,null,null,null,null,null,null,null,null,null,null,null,null,null,null,"","",false,{"$f":"CheckIzonMoji(A603)","v":false},false,{"$f":"CheckKana(B603)","v":false},false,false,false,false,false,false,false,false,false,false,false,false,{"$f":"IF(R603,IF(AND(LEN(P603)=7,COUNTIF(集荷不可!$A:$A,P603)=0),FALSE,TRUE),FALSE)","v":false},false,false]
[null,null,null,null,null,null,null,null,null,null,null,null,null,null,null,"","",false,{"$f":"CheckIzonMoji(A604)","v":false},false,{"$f":"CheckKana(B604)","v":false},false,false,false,false,false,false,false,false,false,false,false,false,{"$f":"IF(R604,IF(AND(LEN(P604)=7,COUNTIF(集荷不可!$A:$A,P604)=0),FALSE,TRUE),FALSE)","v":false},false,false]
[null,null,null,null,null,null,null,null,null,null,null,null,null,null,null,"","",false,{"$f":"CheckIzonMoji(A605)","v":false},false,{"$f":"CheckKana(B605)","v":false},false,false,false,false,false,false,false,false,false,false,false,false,{"$f":"IF(R605,IF(AND(LEN(P605)=7,COUNTIF(集荷不可!$A:$A,P605)=0),FALSE,TRUE),FALSE)","v":false},false,false]
[null,null,null,null,null,null,null,null,null,null,null,null,null,null,null,"","",false,{"$f":"CheckIzonMoji(A606)","v":false},false,{"$f":"CheckKana(B606)","v":false},false,false,false,false,false,false,false,false,false,false,false,false,{"$f":"IF(R606,IF(AND(LEN(P606)=7,COUNTIF(集荷不可!$A:$A,P606)=0),FALSE,TRUE),FALSE)","v":false},false,false]
[null,null,null,null,null,null,null,null,null,null,null,null,null,null,null,"","",false,{"$f":"CheckIzonMoji(A607)","v":false},false,{"$f":"CheckKana(B607)","v":false},false,false,false,false,false,false,false,false,false,false,false,false,{"$f":"IF(R607,IF(AND(LEN(P607)=7,COUNTIF(集荷不可!$A:$A,P607)=0),FALSE,TRUE),FALSE)","v":false},false,false]
[null,null,null,null,null,null,null,null,null,null,null,null,null,null,null,"","",false,{"$f":"CheckIzonMoji(A608)","v":false},false,{"$f":"CheckKana(B608)","v":false},false,false,false,false,false,false,false,false,false,false,false,false,{"$f":"IF(R608,IF(AND(LEN(P608)=7,COUNTIF(集荷不可!$A:$A,P608)=0),FALSE,TRUE),FALSE)","v":false},false,false]
[null,null,null,null,null,null,null,null,null,null,null,null,null,null,null,"","",false,{"$f":"CheckIzonMoji(A609)","v":false},false,{"$f":"CheckKana(B609)","v":false},false,false,false,false,false,false,false,false,false,false,false,false,{"$f":"IF(R609,IF(AND(LEN(P609)=7,COUNTIF(集荷不可!$A:$A,P609)=0),FALSE,TRUE),FALSE)","v":false},false,false]
[null,null,null,null,null,null,null,null,null,null,null,null,null,null,null,"","",false,{"$f":"CheckIzonMoji(A610)","v":false},false,{"$f":"CheckKana(B610)","v":false},false,false,false,false,false,false,false,false,false,false,false,false,{"$f":"IF(R610,IF(AND(LEN(P610)=7,COUNTIF(集荷不可!$A:$A,P610)=0),FALSE,TRUE),FALSE)","v":false},false,false]
[null,null,null,null,null,null,null,null,null,null,null,null,null,null,null,"","",false,{"$f":"CheckIzonMoji(A611)","v":false},false,{"$f":"CheckKana(B611)","v":false},false,false,false,false,false,false,false,false,false,false,false,false,{"$f":"IF(R611,IF(AND(LEN(P611)=7,COUNTIF(集荷不可!$A:$A,P611)=0),FALSE,TRUE),FALSE)","v":false},false,false]
[null,null,null,null,null,null,null,null,null,null,null,null,null,null,null,"","",false,{"$f":"CheckIzonMoji(A612)","v":false},false,{"$f":"CheckKana(B612)","v":false},false,false,false,false,false,false,false,false,false,false,false,false,{"$f":"IF(R612,IF(AND(LEN(P612)=7,COUNTIF(集荷不可!$A:$A,P612)=0),FALSE,TRUE),FALSE)","v":false},false,false]
[null,null,null,null,null,null,null,null,null,null,null,null,null,null,null,"","",false,{"$f":"CheckIzonMoji(A613)","v":false},false,{"$f":"CheckKana(B613)","v":false},false,false,false,false,false,false,false,false,false,false,false,false,{"$f":"IF(R613,IF(AND(LEN(P613)=7,COUNTIF(集荷不可!$A:$A,P613)=0),FALSE,TRUE),FALSE)","v":false},false,false]
[null,null,null,null,null,null,null,null,null,null,null,null,null,null,null,"","",false,{"$f":"CheckIzonMoji(A614)","v":false},false,{"$f":"CheckKana(B614)","v":false},false,false,false,false,false,false,false,false,false,false,false,false,{"$f":"IF(R614,IF(AND(LEN(P614)=7,COUNTIF(集荷不可!$A:$A,P614)=0),FALSE,TRUE),FALSE)","v":false},false,false]
[null,null,null,null,null,null,null,null,null,null,null,null,null,null,null,"","",false,{"$f":"CheckIzonMoji(A615)","v":false},false,{"$f":"CheckKana(B615)","v":false},false,false,false,false,false,false,false,false,false,false,false,false,{"$f":"IF(R615,IF(AND(LEN(P615)=7,COUNTIF(集荷不可!$A:$A,P615)=0),FALSE,TRUE),FALSE)","v":false},false,false]
[null,null,null,null,null,null,null,null,null,null,null,null,null,null,null,"","",false,{"$f":"CheckIzonMoji(A616)","v":false},false,{"$f":"CheckKana(B616)","v":false},false,false,false,false,false,false,false,false,false,false,false,false,{"$f":"IF(R616,IF(AND(LEN(P616)=7,COUNTIF(集荷不可!$A:$A,P616)=0),FALSE,TRUE),FALSE)","v":false},false,false]
[null,null,null,null,null,null,null,null,null,null,null,null,null,null,null,"","",false,{"$f":"CheckIzonMoji(A617)","v":false},false,{"$f":"CheckKana(B617)","v":false},false,false,false,false,false,false,false,false,false,false,false,false,{"$f":"IF(R617,IF(AND(LEN(P617)=7,COUNTIF(集荷不可!$A:$A,P617)=0),FALSE,TRUE),FALSE)","v":false},false,false]
[null,null,null,null,null,null,null,null,null,null,null,null,null,null,null,"","",false,{"$f":"CheckIzonMoji(A618)","v":false},false,{"$f":"CheckKana(B618)","v":false},false,false,false,false,false,false,false,false,false,false,false,false,{"$f":"IF(R618,IF(AND(LEN(P618)=7,COUNTIF(集荷不可!$A:$A,P618)=0),FALSE,TRUE),FALSE)","v":false},false,false]
[null,null,null,null,null,null,null,null,null,null,null,null,null,null,null,"","",false,{"$f":"CheckIzonMoji(A619)","v":false},false,{"$f":"CheckKana(B619)","v":false},false,false,false,false,false,false,false,false,false,false,false,false,{"$f":"IF(R619,IF(AND(LEN(P619)=7,COUNTIF(集荷不可!$A:$A,P619)=0),FALSE,TRUE),FALSE)","v":false},false,false]
[null,null,null,null,null,null,null,null,null,null,null,null,null,null,null,"","",false,{"$f":"CheckIzonMoji(A620)","v":false},false,{"$f":"CheckKana(B620)","v":false},false,false,false,false,false,false,false,false,false,false,false,false,{"$f":"IF(R620,IF(AND(LEN(P620)=7,COUNTIF(集荷不可!$A:$A,P620)=0),FALSE,TRUE),FALSE)","v":false},false,false]
[null,null,null,null,null,null,null,null,null,null,null,null,null,null,null,"","",false,{"$f":"CheckIzonMoji(A621)","v":false},false,{"$f":"CheckKana(B621)","v":false},false,false,false,false,false,false,false,false,false,false,false,false,{"$f":"IF(R621,IF(AND(LEN(P621)=7,COUNTIF(集荷不可!$A:$A,P621)=0),FALSE,TRUE),FALSE)","v":false},false,false]
[null,null,null,null,null,null,null,null,null,null,null,null,null,null,null,"","",false,{"$f":"CheckIzonMoji(A622)","v":false},false,{"$f":"CheckKana(B622)","v":false},false,false,false,false,false,false,false,false,false,false,false,false,{"$f":"IF(R622,IF(AND(LEN(P622)=7,COUNTIF(集荷不可!$A:$A,P622)=0),FALSE,TRUE),FALSE)","v":false},false,false]
[null,null,null,null,null,null,null,null,null,null,null,null,null,null,null,"","",false,{"$f":"CheckIzonMoji(A623)","v":false},false,{"$f":"CheckKana(B623)","v":false},false,false,false,false,false,false,false,false,false,false,false,false,{"$f":"IF(R623,IF(AND(LEN(P623)=7,COUNTIF(集荷不可!$A:$A,P623)=0),FALSE,TRUE),FALSE)","v":false},false,false]
[null,null,null,null,null,null,null,null,null,null,null,null,null,null,null,"","",false,{"$f":"CheckIzonMoji(A624)","v":false},false,{"$f":"CheckKana(B624)","v":false},false,false,false,false,false,false,false,false,false,false,false,false,{"$f":"IF(R624,IF(AND(LEN(P624)=7,COUNTIF(集荷不可!$A:$A,P624)=0),FALSE,TRUE),FALSE)","v":false},false,false]
[null,null,null,null,null,null,null,null,null,null,null,null,null,null,null,"","",false,{"$f":"CheckIzonMoji(A625)","v":false},false,{"$f":"CheckKana(B625)","v":false},false,false,false,false,false,false,false,false,false,false,false,false,{"$f":"IF(R625,IF(AND(LEN(P625)=7,COUNTIF(集荷不可!$A:$A,P625)=0),FALSE,TRUE),FALSE)","v":false},false,false]
[null,null,null,null,null,null,null,null,null,null,null,null,null,null,null,"","",false,{"$f":"CheckIzonMoji(A626)","v":false},false,{"$f":"CheckKana(B626)","v":false},false,false,false,false,false,false,false,false,false,false,false,false,{"$f":"IF(R626,IF(AND(LEN(P626)=7,COUNTIF(集荷不可!$A:$A,P626)=0),FALSE,TRUE),FALSE)","v":false},false,false]
[null,null,null,null,null,null,null,null,null,null,null,null,null,null,null,"","",false,{"$f":"CheckIzonMoji(A627)","v":false},false,{"$f":"CheckKana(B627)","v":false},false,false,false,false,false,false,false,false,false,false,false,false,{"$f":"IF(R627,IF(AND(LEN(P627)=7,COUNTIF(集荷不可!$A:$A,P627)=0),FALSE,TRUE),FALSE)","v":false},false,false]
[null,null,null,null,null,null,null,null,null,null,null,null,null,null,null,"","",false,{"$f":"CheckIzonMoji(A628)","v":false},false,{"$f":"CheckKana(B628)","v":false},false,false,false,false,false,false,false,false,false,false,false,false,{"$f":"IF(R628,IF(AND(LEN(P628)=7,COUNTIF(集荷不可!$A:$A,P628)=0),FALSE,TRUE),FALSE)","v":false},false,false]
[null,null,null,null,null,null,null,null,null,null,null,null,null,null,null,"","",false,{"$f":"CheckIzonMoji(A629)","v":false},false,{"$f":"CheckKana(B629)","v":false},false,false,false,false,false,false,false,false,false,false,false,false,{"$f":"IF(R629,IF(AND(LEN(P629)=7,COUNTIF(集荷不可!$A:$A,P629)=0),FALSE,TRUE),FALSE)","v":false},false,false]
[null,null,null,null,null,null,null,null,null,null,null,null,null,null,null,"","",false,{"$f":"CheckIzonMoji(A630)","v":false},false,{"$f":"CheckKana(B630)","v":false},false,false,false,false,false,false,false,false,false,false,false,false,{"$f":"IF(R630,IF(AND(LEN(P630)=7,COUNTIF(集荷不可!$A:$A,P630)=0),FALSE,TRUE),FALSE)","v":false},false,false]
[null,null,null,null,null,null,null,null,null,null,null,null,null,null,null,"","",false,{"$f":"CheckIzonMoji(A631)","v":false},false,{"$f":"CheckKana(B631)","v":false},false,false,false,false,false,false,false,false,false,false,false,false,{"$f":"IF(R631,IF(AND(LEN(P631)=7,COUNTIF(集荷不可!$A:$A,P631)=0),FALSE,TRUE),FALSE)","v":false},false,false]
[null,null,null,null,null,null,null,null,null,null,null,null,null,null,null,"","",false,{"$f":"CheckIzonMoji(A632)","v":false},false,{"$f":"CheckKana(B632)","v":false},false,false,false,false,false,false,false,false,false,false,false,false,{"$f":"IF(R632,IF(AND(LEN(P632)=7,COUNTIF(集荷不可!$A:$A,P632)=0),FALSE,TRUE),FALSE)","v":false},false,false]
[null,null,null,null,null,null,null,null,null,null,null,null,null,null,null,"","",false,{"$f":"CheckIzonMoji(A633)","v":false},false,{"$f":"CheckKana(B633)","v":false},false,false,false,false,false,false,false,false,false,false,false,false,{"$f":"IF(R633,IF(AND(LEN(P633)=7,COUNTIF(集荷不可!$A:$A,P633)=0),FALSE,TRUE),FALSE)","v":false},false,false]
[null,null,null,null,null,null,null,null,null,null,null,null,null,null,null,"","",false,{"$f":"CheckIzonMoji(A634)","v":false},false,{"$f":"CheckKana(B634)","v":false},false,false,false,false,false,false,false,false,false,false,false,false,{"$f":"IF(R634,IF(AND(LEN(P634)=7,COUNTIF(集荷不可!$A:$A,P634)=0),FALSE,TRUE),FALSE)","v":false},false,false]
[null,null,null,null,null,null,null,null,null,null,null,null,null,null,null,"","",false,{"$f":"CheckIzonMoji(A635)","v":false},false,{"$f":"CheckKana(B635)","v":false},false,false,false,false,false,false,false,false,false,false,false,false,{"$f":"IF(R635,IF(AND(LEN(P635)=7,COUNTIF(集荷不可!$A:$A,P635)=0),FALSE,TRUE),FALSE)","v":false},false,false]
[null,null,null,null,null,null,null,null,null,null,null,null,null,null,null,"","",false,{"$f":"CheckIzonMoji(A636)","v":false},false,{"$f":"CheckKana(B636)","v":false},false,false,false,false,false,false,false,false,false,false,false,false,{"$f":"IF(R636,IF(AND(LEN(P636)=7,COUNTIF(集荷不可!$A:$A,P636)=0),FALSE,TRUE),FALSE)","v":false},false,false]
[null,null,null,null,null,null,null,null,null,null,null,null,null,null,null,"","",false,{"$f":"CheckIzonMoji(A637)","v":false},false,{"$f":"CheckKana(B637)","v":false},false,false,false,false,false,false,false,false,false,false,false,false,{"$f":"IF(R637,IF(AND(LEN(P637)=7,COUNTIF(集荷不可!$A:$A,P637)=0),FALSE,TRUE),FALSE)","v":false},false,false]
[null,null,null,null,null,null,null,null,null,null,null,null,null,null,null,"","",false,{"$f":"CheckIzonMoji(A638)","v":false},false,{"$f":"CheckKana(B638)","v":false},false,false,false,false,false,false,false,false,false,false,false,false,{"$f":"IF(R638,IF(AND(LEN(P638)=7,COUNTIF(集荷不可!$A:$A,P638)=0),FALSE,TRUE),FALSE)","v":false},false,false]
[null,null,null,null,null,null,null,null,null,null,null,null,null,null,null,"","",false,{"$f":"CheckIzonMoji(A639)","v":false},false,{"$f":"CheckKana(B639)","v":false},false,false,false,false,false,false,false,false,false,false,false,false,{"$f":"IF(R639,IF(AND(LEN(P639)=7,COUNTIF(集荷不可!$A:$A,P639)=0),FALSE,TRUE),FALSE)","v":false},false,false]
[null,null,null,null,null,null,null,null,null,null,null,null,null,null,null,"","",false,{"$f":"CheckIzonMoji(A640)","v":false},false,{"$f":"CheckKana(B640)","v":false},false,false,false,false,false,false,false,false,false,false,false,false,{"$f":"IF(R640,IF(AND(LEN(P640)=7,COUNTIF(集荷不可!$A:$A,P640)=0),FALSE,TRUE),FALSE)","v":false},false,false]
[null,null,null,null,null,null,null,null,null,null,null,null,null,null,null,"","",false,{"$f":"CheckIzonMoji(A641)","v":false},false,{"$f":"CheckKana(B641)","v":false},false,false,false,false,false,false,false,false,false,false,false,false,{"$f":"IF(R641,IF(AND(LEN(P641)=7,COUNTIF(集荷不可!$A:$A,P641)=0),FALSE,TRUE),FALSE)","v":false},false,false]
[null,null,null,null,null,null,null,null,null,null,null,null,null,null,null,"","",false,{"$f":"CheckIzonMoji(A642)","v":false},false,{"$f":"CheckKana(B642)","v":false},false,false,false,false,false,false,false,false,false,false,false,false,{"$f":"IF(R642,IF(AND(LEN(P642)=7,COUNTIF(集荷不可!$A:$A,P642)=0),FALSE,TRUE),FALSE)","v":false},false,false]
[null,null,null,null,null,null,null,null,null,null,null,null,null,null,null,"","",false,{"$f":"CheckIzonMoji(A643)","v":false},false,{"$f":"CheckKana(B643)","v":false},false,false,false,false,false,false,false,false,false,false,false,false,{"$f":"IF(R643,IF(AND(LEN(P643)=7,COUNTIF(集荷不可!$A:$A,P643)=0),FALSE,TRUE),FALSE)","v":false},false,false]
[null,null,null,null,null,null,null,null,null,null,null,null,null,null,null,"","",false,{"$f":"CheckIzonMoji(A644)","v":false},false,{"$f":"CheckKana(B644)","v":false},false,false,false,false,false,false,false,false,false,false,false,false,{"$f":"IF(R644,IF(AND(LEN(P644)=7,COUNTIF(集荷不可!$A:$A,P644)=0),FALSE,TRUE),FALSE)","v":false},false,false]
[null,null,null,null,null,null,null,null,null,null,null,null,null,null,null,"","",false,{"$f":"CheckIzonMoji(A645)","v":false},false,{"$f":"CheckKana(B645)","v":false},false,false,false,false,false,false,false,false,false,false,false,false,{"$f":"IF(R645,IF(AND(LEN(P645)=7,COUNTIF(集荷不可!$A:$A,P645)=0),FALSE,TRUE),FALSE)","v":false},false,false]
[null,null,null,null,null,null,null,null,null,null,null,null,null,null,null,"","",false,{"$f":"CheckIzonMoji(A646)","v":false},false,{"$f":"CheckKana(B646)","v":false},false,false,false,false,false,false,false,false,false,false,false,false,{"$f":"IF(R646,IF(AND(LEN(P646)=7,COUNTIF(集荷不可!$A:$A,P646)=0),FALSE,TRUE),FALSE)","v":false},false,false]
[null,null,null,null,null,null,null,null,null,null,null,null,null,null,null,"","",{"$f":"IF(LEN(A647&B647&C647&D647&E647&F647&G647&H647&I647&J647&K647&L647&M647&N647&O647)=0,FALSE,TRUE)","v":false},{"$f":"CheckIzonMoji(A647)","v":false},{"$f":"IF(R647,IF(AND(0<LENB(A647),LENB(A647)<33),FALSE,TRUE),FALSE)","v":false},{"$f":"CheckKana(B647)","v":false},{"$f":"IF(R647,IF(AND(0<LENB(B647),LENB(B647)<33),FALSE,TRUE),FALSE)","v":false},{"$f":"IF(R647,IF(C647=\"\",TRUE,FALSE),FALSE)","v":false},{"$f":"IF(R647,IF(OR(D647=\"\",ISERR(DAY(D647))),TRUE,FALSE),FALSE)","v":false},{"$f":"IF(R647,IF(E647=\"\",TRUE,FALSE),FALSE)","v":false},{"$f":"IF(R647,IF(AND(LENB(G647)>1,LENB(G647)<65),FALSE,TRUE),FALSE)","v":false},{"$f":"IF(LENB(H647)<33,FALSE,TRUE)","v":false},{"$f":"IF(LENB(I647)<51,FALSE,TRUE)","v":false},{"$f":"IF(LENB(J647)<51,FALSE,TRUE)","v":false},{"$f":"IF(R647,IF(AND(LENB(K647)>2,LENB(K647)<16),FALSE,TRUE),FALSE)","v":false},{"$f":"IF(R647,IF(AND(0<LENB(L647),LENB(L647)<61),FALSE,TRUE),FALSE)","v":false},{"$f":"IF(R647,IF(AND(LENB(M647)<9),FALSE,TRUE),FALSE)","v":false},{"$f":"IF(R647,IF(O647=\"\",TRUE,FALSE),FALSE)","v":false},{"$f":"IF(R647,IF(AND(LEN(P647)=7,COUNTIF(集荷不可!$A:$A,P647)=0),FALSE,TRUE),FALSE)","v":false},{"$f":"IF(ISERROR(FIND(\".@\",L647)),FALSE,TRUE)","v":false},{"$f":"IF(LENB(N647)<9,FALSE,TRUE)","v":false}]
[null,null,null,null,null,null,null,null,null,null,null,null,null,null,null,"","",false,{"$f":"CheckIzonMoji(A648)","v":false},false,{"$f":"CheckKana(B648)","v":false},false,false,false,false,false,false,false,false,false,false,false,false,{"$f":"IF(R648,IF(AND(LEN(P648)=7,COUNTIF(集荷不可!$A:$A,P648)=0),FALSE,TRUE),FALSE)","v":false},false,false]
[null,null,null,null,null,null,null,null,null,null,null,null,null,null,null,{"$f":"SUBSTITUTE(F649,\"-\",\"\")","v":""},{"$f":"LEFT(O649,1)","v":""},false,{"$f":"CheckIzonMoji(A649)","v":false},false,{"$f":"CheckKana(B649)","v":false},false,false,false,false,false,false,false,false,false,false,false,false,{"$f":"IF(R649,IF(AND(LEN(P649)=7,COUNTIF(集荷不可!$A:$A,P649)=0),FALSE,TRUE),FALSE)","v":false},false,false]
[null,null,null,null,null,null,null,null,null,null,null,null,null,null,null,"","",false,{"$f":"CheckIzonMoji(A650)","v":false},false,{"$f":"CheckKana(B650)","v":false},false,false,false,false,false,false,false,false,false,false,false,false,{"$f":"IF(R650,IF(AND(LEN(P650)=7,COUNTIF(集荷不可!$A:$A,P650)=0),FALSE,TRUE),FALSE)","v":false},false,false]
[null,null,null,null,null,null,null,null,null,null,null,null,null,null,null,"","",false,{"$f":"CheckIzonMoji(A651)","v":false},false,{"$f":"CheckKana(B651)","v":false},false,false,false,false,false,false,false,false,false,false,false,false,{"$f":"IF(R651,IF(AND(LEN(P651)=7,COUNTIF(集荷不可!$A:$A,P651)=0),FALSE,TRUE),FALSE)","v":false},false,false]
[null,null,null,null,null,null,null,null,null,null,null,null,null,null,null,"","",false,{"$f":"CheckIzonMoji(A652)","v":false},false,{"$f":"CheckKana(B652)","v":false},false,false,false,false,false,false,false,false,false,false,false,false,{"$f":"IF(R652,IF(AND(LEN(P652)=7,COUNTIF(集荷不可!$A:$A,P652)=0),FALSE,TRUE),FALSE)","v":false},false,false]
[null,null,null,null,null,null,null,null,null,null,null,null,null,null,null,"","",false,{"$f":"CheckIzonMoji(A653)","v":false},false,{"$f":"CheckKana(B653)","v":false},false,false,false,false,false,false,false,false,false,false,false,false,{"$f":"IF(R653,IF(AND(LEN(P653)=7,COUNTIF(集荷不可!$A:$A,P653)=0),FALSE,TRUE),FALSE)","v":false},false,false]
[null,null,null,null,null,null,null,null,null,null,null,null,null,null,null,"","",false,{"$f":"CheckIzonMoji(A654)","v":false},false,{"$f":"CheckKana(B654)","v":false},false,false,false,false,false,false,false,false,false,false,false,false,{"$f":"IF(R654,IF(AND(LEN(P654)=7,COUNTIF(集荷不可!$A:$A,P654)=0),FALSE,TRUE),FALSE)","v":false},false,false]
[null,null,null,null,null,null,null,null,null,null,null,null,null,null,null,"","",false,{"$f":"CheckIzonMoji(A655)","v":false},false,{"$f":"CheckKana(B655)","v":false},false,false,false,false,false,false,false,false,false,false,false,false,{"$f":"IF(R655,IF(AND(LEN(P655)=7,COUNTIF(集荷不可!$A:$A,P655)=0),FALSE,TRUE),FALSE)","v":false},false,false]
[null,null,null,null,null,null,null,null,null,null,null,null,null,null,null,"","",false,{"$f":"CheckIzonMoji(A656)","v":false},false,{"$f":"CheckKana(B656)","v":false},false,false,false,false,false,false,false,false,false,false,false,false,{"$f":"IF(R656,IF(AND(LEN(P656)=7,COUNTIF(集荷不可!$A:$A,P656)=0),FALSE,TRUE),FALSE)","v":false},false,false]
[null,null,null,null,null,null,null,null,null,null,null,null,null,null,null,"","",false,{"$f":"CheckIzonMoji(A657)","v":false},false,{"$f":"CheckKana(B657)","v":false},false,false,false,false,false,false,false,false,false,false,false,false,{"$f":"IF(R657,IF(AND(LEN(P657)=7,COUNTIF(集荷不可!$A:$A,P657)=0),FALSE,TRUE),FALSE)","v":false},false,false]
[null,null,null,null,null,null,null,null,null,null,null,null,null,null,null,"","",false,{"$f":"CheckIzonMoji(A658)","v":false},false,{"$f":"CheckKana(B658)","v":false},false,false,false,false,false,false,false,false,false,false,false,false,{"$f":"IF(R658,IF(AND(LEN(P658)=7,COUNTIF(集荷不可!$A:$A,P658)=0),FALSE,TRUE),FALSE)","v":false},false,false]
[null,null,null,null,null,null,null,null,null,null,null,null,null,null,null,"","",false,{"$f":"CheckIzonMoji(A659)","v":false},false,{"$f":"CheckKana(B659)","v":false},false,false,false,false,false,false,false,false,false,false,false,false,{"$f":"IF(R659,IF(AND(LEN(P659)=7,COUNTIF(集荷不可!$A:$A,P659)=0),FALSE,TRUE),FALSE)","v":false},false,false]
[null,null,null,null,null,null,null,null,null,null,null,null,null,null,null,"","",false,{"$f":"CheckIzonMoji(A660)","v":false},false,{"$f":"CheckKana(B660)","v":false},false,false,false,false,false,false,false,false,false,false,false,false,{"$f":"IF(R660,IF(AND(LEN(P660)=7,COUNTIF(集荷不可!$A:$A,P660)=0),FALSE,TRUE),FALSE)","v":false},false,false]
[null,null,null,null,null,null,null,null,null,null,null,null,null,null,null,"","",false,{"$f":"CheckIzonMoji(A661)","v":false},false,{"$f":"CheckKana(B661)","v":false},false,false,false,false,false,false,false,false,false,false,false,false,{"$f":"IF(R661,IF(AND(LEN(P661)=7,COUNTIF(集荷不可!$A:$A,P661)=0),FALSE,TRUE),FALSE)","v":false},false,false]
[null,null,null,null,null,null,null,null,null,null,null,null,null,null,null,"","",false,{"$f":"CheckIzonMoji(A662)","v":false},false,{"$f":"CheckKana(B662)","v":false},false,false,false,false,false,false,false,false,false,false,false,false,{"$f":"IF(R662,IF(AND(LEN(P662)=7,COUNTIF(集荷不可!$A:$A,P662)=0),FALSE,TRUE),FALSE)","v":false},false,false]
[null,null,null,null,null,null,null,null,null,null,null,null,null,null,null,"","",false,{"$f":"CheckIzonMoji(A663)","v":false},false,{"$f":"CheckKana(B663)","v":false},false,false,false,false,false,false,false,false,false,false,false,false,{"$f":"IF(R663,IF(AND(LEN(P663)=7,COUNTIF(集荷不可!$A:$A,P663)=0),FALSE,TRUE),FALSE)","v":false},false,false]
[null,null,null,null,null,null,null,null,null,null,null,null,null,null,null,"","",false,{"$f":"CheckIzonMoji(A664)","v":false},false,{"$f":"CheckKana(B664)","v":false},false,false,false,false,false,false,false,false,false,false,false,false,{"$f":"IF(R664,IF(AND(LEN(P664)=7,COUNTIF(集荷不可!$A:$A,P664)=0),FALSE,TRUE),FALSE)","v":false},false,false]
[null,null,null,null,null,null,null,null,null,null,null,null,null,null,null,"","",false,{"$f":"CheckIzonMoji(A665)","v":false},false,{"$f":"CheckKana(B665)","v":false},false,false,false,false,false,false,false,false,false,false,false,false,{"$f":"IF(R665,IF(AND(LEN(P665)=7,COUNTIF(集荷不可!$A:$A,P665)=0),FALSE,TRUE),FALSE)","v":false},false,false]
[null,null,null,null,null,null,null,null,null,null,null,null,null,null,null,"","",false,{"$f":"CheckIzonMoji(A666)","v":false},false,{"$f":"CheckKana(B666)","v":false},false,false,false,false,false,false,false,false,false,false,false,false,{"$f":"IF(R666,IF(AND(LEN(P666)=7,COUNTIF(集荷不可!$A:$A,P666)=0),FALSE,TRUE),FALSE)","v":false},false,false]
[null,null,null,null,null,null,null,null,null,null,null,null,null,null,null,"","",false,{"$f":"CheckIzonMoji(A667)","v":false},false,{"$f":"CheckKana(B667)","v":false},false,false,false,false,false,false,false,false,false,false,false,false,{"$f":"IF(R667,IF(AND(LEN(P667)=7,COUNTIF(集荷不可!$A:$A,P667)=0),FALSE,TRUE),FALSE)","v":false},false,false]
[null,null,null,null,null,null,null,null,null,null,null,null,null,null,null,"","",false,{"$f":"CheckIzonMoji(A668)","v":false},false,{"$f":"CheckKana(B668)","v":false},false,false,false,false,false,false,false,false,false,false,false,false,{"$f":"IF(R668,IF(AND(LEN(P668)=7,COUNTIF(集荷不可!$A:$A,P668)=0),FALSE,TRUE),FALSE)","v":false},false,false]
[null,null,null,null,null,null,null,null,null,null,null,null,null,null,null,"","",false,{"$f":"CheckIzonMoji(A669)","v":false},false,{"$f":"CheckKana(B669)","v":false},false,false,false,false,false,false,false,false,false,false,false,false,{"$f":"IF(R669,IF(AND(LEN(P669)=7,COUNTIF(集荷不可!$A:$A,P669)=0),FALSE,TRUE),FALSE)","v":false},false,false]
[null,null,null,null,null,null,null,null,null,null,null,null,null,null,null,"","",false,{"$f":"CheckIzonMoji(A670)","v":false},false,{"$f":"CheckKana(B670)","v":false},false,false,false,false,false,false,false,false,false,false,false,false,{"$f":"IF(R670,IF(AND(LEN(P670)=7,COUNTIF(集荷不可!$A:$A,P670)=0),FALSE,TRUE),FALSE)","v":false},false,false]
[null,null,null,null,null,null,null,null,null,null,null,null,null,null,null,"","",false,{"$f":"CheckIzonMoji(A671)","v":false},false,{"$f":"CheckKana(B671)","v":false},false,false,false,false,false,false,false,false,false,false,false,false,{"$f":"IF(R671,IF(AND(LEN(P671)=7,COUNTIF(集荷不可!$A:$A,P671)=0),FALSE,TRUE),FALSE)","v":false},false,false]
[null,null,null,null,null,null,null,null,null,null,null,null,null,null,null,"","",false,{"$f":"CheckIzonMoji(A672)","v":false},false,{"$f":"CheckKana(B672)","v":false},false,false,false,false,false,false,false,false,false,false,false,false,{"$f":"IF(R672,IF(AND(LEN(P672)=7,COUNTIF(集荷不可!$A:$A,P672)=0),FALSE,TRUE),FALSE)","v":false},false,false]
[null,null,null,null,null,null,null,null,null,null,null,null,null,null,null,"","",false,{"$f":"CheckIzonMoji(A673)","v":false},false,{"$f":"CheckKana(B673)","v":false},false,false,false,false,false,false,false,false,false,false,false,false,{"$f":"IF(R673,IF(AND(LEN(P673)=7,COUNTIF(集荷不可!$A:$A,P673)=0),FALSE,TRUE),FALSE)","v":false},false,false]
[null,null,null,null,null,null,null,null,null,null,null,null,null,null,null,"","",false,{"$f":"CheckIzonMoji(A674)","v":false},false,{"$f":"CheckKana(B674)","v":false},false,false,false,false,false,false,false,false,false,false,false,false,{"$f":"IF(R674,IF(AND(LEN(P674)=7,COUNTIF(集荷不可!$A:$A,P674)=0),FALSE,TRUE),FALSE)","v":false},false,false]
[null,null,null,null,null,null,null,null,null,null,null,null,null,null,null,"","",false,{"$f":"CheckIzonMoji(A675)","v":false},false,{"$f":"CheckKana(B675)","v":false},false,false,false,false,false,false,false,false,false,false,false,false,{"$f":"IF(R675,IF(AND(LEN(P675)=7,COUNTIF(集荷不可!$A:$A,P675)=0),FALSE,TRUE),FALSE)","v":false},false,false]
[null,null,null,null,null,null,null,null,null,null,null,null,null,null,null,"","",false,{"$f":"CheckIzonMoji(A676)","v":false},false,{"$f":"CheckKana(B676)","v":false},false,false,false,false,false,false,false,false,false,false,false,false,{"$f":"IF(R676,IF(AND(LEN(P676)=7,COUNTIF(集荷不可!$A:$A,P676)=0),FALSE,TRUE),FALSE)","v":false},false,false]
[null,null,null,null,null,null,null,null,null,null,null,null,null,null,null,"","",false,{"$f":"CheckIzonMoji(A677)","v":false},false,{"$f":"CheckKana(B677)","v":false},false,false,false,false,false,false,false,false,false,false,false,false,{"$f":"IF(R677,IF(AND(LEN(P677)=7,COUNTIF(集荷不可!$A:$A,P677)=0),FALSE,TRUE),FALSE)","v":false},false,false]
[null,null,null,null,null,null,null,null,null,null,null,null,null,null,null,"","",false,{"$f":"CheckIzonMoji(A678)","v":false},false,{"$f":"CheckKana(B678)","v":false},false,false,false,false,false,false,false,false,false,false,false,false,{"$f":"IF(R678,IF(AND(LEN(P678)=7,COUNTIF(集荷不可!$A:$A,P678)=0),FALSE,TRUE),FALSE)","v":false},false,false]
[null,null,null,null,null,null,null,null,null,null,null,null,null,null,null,"","",false,{"$f":"CheckIzonMoji(A679)","v":false},false,{"$f":"CheckKana(B679)","v":false},false,false,false,false,false,false,false,false,false,false,false,false,{"$f":"IF(R679,IF(AND(LEN(P679)=7,COUNTIF(集荷不可!$A:$A,P679)=0),FALSE,TRUE),FALSE)","v":false},false,false]
[null,null,null,null,null,null,null,null,null,null,null,null,null,null,null,"","",false,{"$f":"CheckIzonMoji(A680)","v":false},false,{"$f":"CheckKana(B680)","v":false},false,false,false,false,false,false,false,false,false,false,false,false,{"$f":"IF(R680,IF(AND(LEN(P680)=7,COUNTIF(集荷不可!$A:$A,P680)=0),FALSE,TRUE),FALSE)","v":false},false,false]
[null,null,null,null,null,null,null,null,null,null,null,null,null,null,null,"","",false,{"$f":"CheckIzonMoji(A681)","v":false},false,{"$f":"CheckKana(B681)","v":false},false,false,false,false,false,false,false,false,false,false,false,false,{"$f":"IF(R681,IF(AND(LEN(P681)=7,COUNTIF(集荷不可!$A:$A,P681)=0),FALSE,TRUE),FALSE)","v":false},false,false]
[null,null,null,null,null,null,null,null,null,null,null,null,null,null,null,"","",false,{"$f":"CheckIzonMoji(A682)","v":false},false,{"$f":"CheckKana(B682)","v":false},false,false,false,false,false,false,false,false,false,false,false,false,{"$f":"IF(R682,IF(AND(LEN(P682)=7,COUNTIF(集荷不可!$A:$A,P682)=0),FALSE,TRUE),FALSE)","v":false},false,false]
[null,null,null,null,null,null,null,null,null,null,null,null,null,null,null,"","",false,{"$f":"CheckIzonMoji(A683)","v":false},false,{"$f":"CheckKana(B683)","v":false},false,false,false,false,false,false,false,false,false,false,false,false,{"$f":"IF(R683,IF(AND(LEN(P683)=7,COUNTIF(集荷不可!$A:$A,P683)=0),FALSE,TRUE),FALSE)","v":false},false,false]
[null,null,null,null,null,null,null,null,null,null,null,null,null,null,null,"","",false,{"$f":"CheckIzonMoji(A684)","v":false},false,{"$f":"CheckKana(B684)","v":false},false,false,false,false,false,false,false,false,false,false,false,false,{"$f":"IF(R684,IF(AND(LEN(P684)=7,COUNTIF(集荷不可!$A:$A,P684)=0),FALSE,TRUE),FALSE)","v":false},false,false]
[null,null,null,null,null,null,null,null,null,null,null,null,null,null,null,"","",false,{"$f":"CheckIzonMoji(A685)","v":false},false,{"$f":"CheckKana(B685)","v":false},false,false,false,false,false,false,false,false,false,false,false,false,{"$f":"IF(R685,IF(AND(LEN(P685)=7,COUNTIF(集荷不可!$A:$A,P685)=0),FALSE,TRUE),FALSE)","v":false},false,false]
[null,null,null,null,null,null,null,null,null,null,null,null,null,null,null,"","",false,{"$f":"CheckIzonMoji(A686)","v":false},false,{"$f":"CheckKana(B686)","v":false},false,false,false,false,false,false,false,false,false,false,false,false,{"$f":"IF(R686,IF(AND(LEN(P686)=7,COUNTIF(集荷不可!$A:$A,P686)=0),FALSE,TRUE),FALSE)","v":false},false,false]
[null,null,null,null,null,null,null,null,null,null,null,null,null,null,null,"","",false,{"$f":"CheckIzonMoji(A687)","v":false},false,{"$f":"CheckKana(B687)","v":false},false,false,false,false,false,false,false,false,false,false,false,false,{"$f":"IF(R687,IF(AND(LEN(P687)=7,COUNTIF(集荷不可!$A:$A,P687)=0),FALSE,TRUE),FALSE)","v":false},false,false]
[null,null,null,null,null,null,null,null,null,null,null,null,null,null,null,"","",false,{"$f":"CheckIzonMoji(A688)","v":false},false,{"$f":"CheckKana(B688)","v":false},false,false,false,false,false,false,false,false,false,false,false,false,{"$f":"IF(R688,IF(AND(LEN(P688)=7,COUNTIF(集荷不可!$A:$A,P688)=0),FALSE,TRUE),FALSE)","v":false},false,false]
[null,null,null,null,null,null,null,null,null,null,null,null,null,null,null,"","",false,{"$f":"CheckIzonMoji(A689)","v":false},false,{"$f":"CheckKana(B689)","v":false},false,false,false,false,false,false,false,false,false,false,false,false,{"$f":"IF(R689,IF(AND(LEN(P689)=7,COUNTIF(集荷不可!$A:$A,P689)=0),FALSE,TRUE),FALSE)","v":false},false,false]
[null,null,null,null,null,null,null,null,null,null,null,null,null,null,null,"","",false,{"$f":"CheckIzonMoji(A690)","v":false},false,{"$f":"CheckKana(B690)","v":false},false,false,false,false,false,false,false,false,false,false,false,false,{"$f":"IF(R690,IF(AND(LEN(P690)=7,COUNTIF(集荷不可!$A:$A,P690)=0),FALSE,TRUE),FALSE)","v":false},false,false]
[null,null,null,null,null,null,null,null,null,null,null,null,null,null,null,"","",false,{"$f":"CheckIzonMoji(A691)","v":false},false,{"$f":"CheckKana(B691)","v":false},false,false,false,false,false,false,false,false,false,false,false,false,{"$f":"IF(R691,IF(AND(LEN(P691)=7,COUNTIF(集荷不可!$A:$A,P691)=0),FALSE,TRUE),FALSE)","v":false},false,false]
[null,null,null,null,null,null,null,null,null,null,null,null,null,null,null,"","",false,{"$f":"CheckIzonMoji(A692)","v":false},false,{"$f":"CheckKana(B692)","v":false},false,false,false,false,false,false,false,false,false,false,false,false,{"$f":"IF(R692,IF(AND(LEN(P692)=7,COUNTIF(集荷不可!$A:$A,P692)=0),FALSE,TRUE),FALSE)","v":false},false,false]
[null,null,null,null,null,null,null,null,null,null,null,null,null,null,null,"","",false,{"$f":"CheckIzonMoji(A693)","v":false},false,{"$f":"CheckKana(B693)","v":false},false,false,false,false,false,false,false,false,false,false,false,false,{"$f":"IF(R693,IF(AND(LEN(P693)=7,COUNTIF(集荷不可!$A:$A,P693)=0),FALSE,TRUE),FALSE)","v":false},false,false]
[null,null,null,null,null,null,null,null,null,null,null,null,null,null,null,"","",false,{"$f":"CheckIzonMoji(A694)","v":false},false,{"$f":"CheckKana(B694)","v":false},false,false,false,false,false,false,false,false,false,false,false,false,{"$f":"IF(R694,IF(AND(LEN(P694)=7,COUNTIF(集荷不可!$A:$A,P694)=0),FALSE,TRUE),FALSE)","v":false},false,false]
[null,null,null,null,null,null,null,null,null,null,null,null,null,null,null,"","",false,{"$f":"CheckIzonMoji(A695)","v":false},false,{"$f":"CheckKana(B695)","v":false},false,false,false,false,false,false,false,false,false,false,false,false,{"$f":"IF(R695,IF(AND(LEN(P695)=7,COUNTIF(集荷不可!$A:$A,P695)=0),FALSE,TRUE),FALSE)","v":false},false,false]
[null,null,null,null,null,null,null,null,null,null,null,null,null,null,null,"","",false,{"$f":"CheckIzonMoji(A696)","v":false},false,{"$f":"CheckKana(B696)","v":false},false,false,false,false,false,false,false,false,false,false,false,false,{"$f":"IF(R696,IF(AND(LEN(P696)=7,COUNTIF(集荷不可!$A:$A,P696)=0),FALSE,TRUE),FALSE)","v":false},false,false]
[null,null,null,null,null,null,null,null,null,null,null,null,null,null,null,"","",false,{"$f":"CheckIzonMoji(A697)","v":false},false,{"$f":"CheckKana(B697)","v":false},false,false,false,false,false,false,false,false,false,false,false,false,{"$f":"IF(R697,IF(AND(LEN(P697)=7,COUNTIF(集荷不可!$A:$A,P697)=0),FALSE,TRUE),FALSE)","v":false},false,false]
[null,null,null,null,null,null,null,null,null,null,null,null,null,null,null,"","",false,{"$f":"CheckIzonMoji(A698)","v":false},false,{"$f":"CheckKana(B698)","v":false},false,false,false,false,false,false,false,false,false,false,false,false,{"$f":"IF(R698,IF(AND(LEN(P698)=7,COUNTIF(集荷不可!$A:$A,P698)=0),FALSE,TRUE),FALSE)","v":false},false,false]
[null,null,null,null,null,null,null,null,null,null,null,null,null,null,null,"","",false,{"$f":"CheckIzonMoji(A699)","v":false},false,{"$f":"CheckKana(B699)","v":false},false,false,false,false,false,false,false,false,false,false,false,false,{"$f":"IF(R699,IF(AND(LEN(P699)=7,COUNTIF(集荷不可!$A:$A,P699)=0),FALSE,TRUE),FALSE)","v":false},false,false]
[null,null,null,null,null,null,null,null,null,null,null,null,null,null,null,"","",false,{"$f":"CheckIzonMoji(A700)","v":false},false,{"$f":"CheckKana(B700)","v":false},false,false,false,false,false,false,false,false,false,false,false,false,{"$f":"IF(R700,IF(AND(LEN(P700)=7,COUNTIF(集荷不可!$A:$A,P700)=0),FALSE,TRUE),FALSE)","v":false},false,false]
[null,null,null,null,null,null,null,null,null,null,null,null,null,null,null,"","",false,{"$f":"CheckIzonMoji(A701)","v":false},false,{"$f":"CheckKana(B701)","v":false},false,false,false,false,false,false,false,false,false,false,false,false,{"$f":"IF(R701,IF(AND(LEN(P701)=7,COUNTIF(集荷不可!$A:$A,P701)=0),FALSE,TRUE),FALSE)","v":false},false,false]
[null,null,null,null,null,null,null,null,null,null,null,null,null,null,null,"","",false,{"$f":"CheckIzonMoji(A702)","v":false},false,{"$f":"CheckKana(B702)","v":false},false,false,false,false,false,false,false,false,false,false,false,false,{"$f":"IF(R702,IF(AND(LEN(P702)=7,COUNTIF(集荷不可!$A:$A,P702)=0),FALSE,TRUE),FALSE)","v":false},false,false]
[null,null,null,null,null,null,null,null,null,null,null,null,null,null,null,"","",false,{"$f":"CheckIzonMoji(A703)","v":false},false,{"$f":"CheckKana(B703)","v":false},false,false,false,false,false,false,false,false,false,false,false,false,{"$f":"IF(R703,IF(AND(LEN(P703)=7,COUNTIF(集荷不可!$A:$A,P703)=0),FALSE,TRUE),FALSE)","v":false},false,false]
[null,null,null,null,null,null,null,null,null,null,null,null,null,null,null,"","",false,{"$f":"CheckIzonMoji(A704)","v":false},false,{"$f":"CheckKana(B704)","v":false},false,false,false,false,false,false,false,false,false,false,false,false,{"$f":"IF(R704,IF(AND(LEN(P704)=7,COUNTIF(集荷不可!$A:$A,P704)=0),FALSE,TRUE),FALSE)","v":false},false,false]
[null,null,null,null,null,null,null,null,null,null,null,null,null,null,null,"","",false,{"$f":"CheckIzonMoji(A705)","v":false},false,{"$f":"CheckKana(B705)","v":false},false,false,false,false,false,false,false,false,false,false,false,false,{"$f":"IF(R705,IF(AND(LEN(P705)=7,COUNTIF(集荷不可!$A:$A,P705)=0),FALSE,TRUE),FALSE)","v":false},false,false]
[null,null,null,null,null,null,null,null,null,null,null,null,null,null,null,"","",false,{"$f":"CheckIzonMoji(A706)","v":false},false,{"$f":"CheckKana(B706)","v":false},false,false,false,false,false,false,false,false,false,false,false,false,{"$f":"IF(R706,IF(AND(LEN(P706)=7,COUNTIF(集荷不可!$A:$A,P706)=0),FALSE,TRUE),FALSE)","v":false},false,false]
[null,null,null,null,null,null,null,null,null,null,null,null,null,null,null,"","",false,{"$f":"CheckIzonMoji(A707)","v":false},false,{"$f":"CheckKana(B707)","v":false},false,false,false,false,false,false,false,false,false,false,false,false,{"$f":"IF(R707,IF(AND(LEN(P707)=7,COUNTIF(集荷不可!$A:$A,P707)=0),FALSE,TRUE),FALSE)","v":false},false,false]
[null,null,null,null,null,null,null,null,null,null,null,null,null,null,null,"","",false,{"$f":"CheckIzonMoji(A708)","v":false},false,{"$f":"CheckKana(B708)","v":false},false,false,false,false,false,false,false,false,false,false,false,false,{"$f":"IF(R708,IF(AND(LEN(P708)=7,COUNTIF(集荷不可!$A:$A,P708)=0),FALSE,TRUE),FALSE)","v":false},false,false]
[null,null,null,null,null,null,null,null,null,null,null,null,null,null,null,"","",false,{"$f":"CheckIzonMoji(A709)","v":false},false,{"$f":"CheckKana(B709)","v":false},false,false,false,false,false,false,false,false,false,false,false,false,{"$f":"IF(R709,IF(AND(LEN(P709)=7,COUNTIF(集荷不可!$A:$A,P709)=0),FALSE,TRUE),FALSE)","v":false},false,false]
[null,null,null,null,null,null,null,null,null,null,null,null,null,null,null,"","",false,{"$f":"CheckIzonMoji(A710)","v":false},false,{"$f":"CheckKana(B710)","v":false},false,false,false,false,false,false,false,false,false,false,false,false,{"$f":"IF(R710,IF(AND(LEN(P710)=7,COUNTIF(集荷不可!$A:$A,P710)=0),FALSE,TRUE),FALSE)","v":false},false,false]
[null,null,null,null,null,null,null,null,null,null,null,null,null,null,null,"","",{"$f":"IF(LEN(A711&B711&C711&D711&E711&F711&G711&H711&I711&J711&K711&L711&M711&N711&O711)=0,FALSE,TRUE)","v":false},{"$f":"CheckIzonMoji(A711)","v":false},{"$f":"IF(R711,IF(AND(0<LENB(A711),LENB(A711)<33),FALSE,TRUE),FALSE)","v":false},{"$f":"CheckKana(B711)","v":false},{"$f":"IF(R711,IF(AND(0<LENB(B711),LENB(B711)<33),FALSE,TRUE),FALSE)","v":false},{"$f":"IF(R711,IF(C711=\"\",TRUE,FALSE),FALSE)","v":false},{"$f":"IF(R711,IF(OR(D711=\"\",ISERR(DAY(D711))),TRUE,FALSE),FALSE)","v":false},{"$f":"IF(R711,IF(E711=\"\",TRUE,FALSE),FALSE)","v":false},{"$f":"IF(R711,IF(AND(LENB(G711)>1,LENB(G711)<65),FALSE,TRUE),FALSE)","v":false},{"$f":"IF(LENB(H711)<33,FALSE,TRUE)","v":false},{"$f":"IF(LENB(I711)<51,FALSE,TRUE)","v":false},{"$f":"IF(LENB(J711)<51,FALSE,TRUE)","v":false},{"$f":"IF(R711,IF(AND(LENB(K711)>2,LENB(K711)<16),FALSE,TRUE),FALSE)","v":false},{"$f":"IF(R711,IF(AND(0<LENB(L711),LENB(L711)<61),FALSE,TRUE),FALSE)","v":false},{"$f":"IF(R711,IF(AND(LENB(M711)<9),FALSE,TRUE),FALSE)","v":false},{"$f":"IF(R711,IF(O711=\"\",TRUE,FALSE),FALSE)","v":false},{"$f":"IF(R711,IF(AND(LEN(P711)=7,COUNTIF(集荷不可!$A:$A,P711)=0),FALSE,TRUE),FALSE)","v":false},{"$f":"IF(ISERROR(FIND(\".@\",L711)),FALSE,TRUE)","v":false},{"$f":"IF(LENB(N711)<9,FALSE,TRUE)","v":false}]
[null,null,null,null,null,null,null,null,null,null,null,null,null,null,null,"","",false,{"$f":"CheckIzonMoji(A712)","v":false},false,{"$f":"CheckKana(B712)","v":false},false,false,false,false,false,false,false,false,false,false,false,false,{"$f":"IF(R712,IF(AND(LEN(P712)=7,COUNTIF(集荷不可!$A:$A,P712)=0),FALSE,TRUE),FALSE)","v":false},false,false]
[null,null,null,null,null,null,null,null,null,null,null,null,null,null,null,{"$f":"SUBSTITUTE(F713,\"-\",\"\")","v":""},{"$f":"LEFT(O713,1)","v":""},false,{"$f":"CheckIzonMoji(A713)","v":false},false,{"$f":"CheckKana(B713)","v":false},false,false,false,false,false,false,false,false,false,false,false,false,{"$f":"IF(R713,IF(AND(LEN(P713)=7,COUNTIF(集荷不可!$A:$A,P713)=0),FALSE,TRUE),FALSE)","v":false},false,false]
[null,null,null,null,null,null,null,null,null,null,null,null,null,null,null,"","",false,{"$f":"CheckIzonMoji(A714)","v":false},false,{"$f":"CheckKana(B714)","v":false},false,false,false,false,false,false,false,false,false,false,false,false,{"$f":"IF(R714,IF(AND(LEN(P714)=7,COUNTIF(集荷不可!$A:$A,P714)=0),FALSE,TRUE),FALSE)","v":false},false,false]
[null,null,null,null,null,null,null,null,null,null,null,null,null,null,null,"","",false,{"$f":"CheckIzonMoji(A715)","v":false},false,{"$f":"CheckKana(B715)","v":false},false,false,false,false,false,false,false,false,false,false,false,false,{"$f":"IF(R715,IF(AND(LEN(P715)=7,COUNTIF(集荷不可!$A:$A,P715)=0),FALSE,TRUE),FALSE)","v":false},false,false]
[null,null,null,null,null,null,null,null,null,null,null,null,null,null,null,"","",false,{"$f":"CheckIzonMoji(A716)","v":false},false,{"$f":"CheckKana(B716)","v":false},false,false,false,false,false,false,false,false,false,false,false,false,{"$f":"IF(R716,IF(AND(LEN(P716)=7,COUNTIF(集荷不可!$A:$A,P716)=0),FALSE,TRUE),FALSE)","v":false},false,false]
[null,null,null,null,null,null,null,null,null,null,null,null,null,null,null,"","",false,{"$f":"CheckIzonMoji(A717)","v":false},false,{"$f":"CheckKana(B717)","v":false},false,false,false,false,false,false,false,false,false,false,false,false,{"$f":"IF(R717,IF(AND(LEN(P717)=7,COUNTIF(集荷不可!$A:$A,P717)=0),FALSE,TRUE),FALSE)","v":false},false,false]
[null,null,null,null,null,null,null,null,null,null,null,null,null,null,null,"","",false,{"$f":"CheckIzonMoji(A718)","v":false},false,{"$f":"CheckKana(B718)","v":false},false,false,false,false,false,false,false,false,false,false,false,false,{"$f":"IF(R718,IF(AND(LEN(P718)=7,COUNTIF(集荷不可!$A:$A,P718)=0),FALSE,TRUE),FALSE)","v":false},false,false]
[null,null,null,null,null,null,null,null,null,null,null,null,null,null,null,"","",false,{"$f":"CheckIzonMoji(A719)","v":false},false,{"$f":"CheckKana(B719)","v":false},false,false,false,false,false,false,false,false,false,false,false,false,{"$f":"IF(R719,IF(AND(LEN(P719)=7,COUNTIF(集荷不可!$A:$A,P719)=0),FALSE,TRUE),FALSE)","v":false},false,false]
[null,null,null,null,null,null,null,null,null,null,null,null,null,null,null,"","",false,{"$f":"CheckIzonMoji(A720)","v":false},false,{"$f":"CheckKana(B720)","v":false},false,false,false,false,false,false,false,false,false,false,false,false,{"$f":"IF(R720,IF(AND(LEN(P720)=7,COUNTIF(集荷不可!$A:$A,P720)=0),FALSE,TRUE),FALSE)","v":false},false,false]
[null,null,null,null,null,null,null,null,null,null,null,null,null,null,null,"","",false,{"$f":"CheckIzonMoji(A721)","v":false},false,{"$f":"CheckKana(B721)","v":false},false,false,false,false,false,false,false,false,false,false,false,false,{"$f":"IF(R721,IF(AND(LEN(P721)=7,COUNTIF(集荷不可!$A:$A,P721)=0),FALSE,TRUE),FALSE)","v":false},false,false]
[null,null,null,null,null,null,null,null,null,null,null,null,null,null,null,"","",false,{"$f":"CheckIzonMoji(A722)","v":false},false,{"$f":"CheckKana(B722)","v":false},false,false,false,false,false,false,false,false,false,false,false,false,{"$f":"IF(R722,IF(AND(LEN(P722)=7,COUNTIF(集荷不可!$A:$A,P722)=0),FALSE,TRUE),FALSE)","v":false},false,false]
[null,null,null,null,null,null,null,null,null,null,null,null,null,null,null,"","",false,{"$f":"CheckIzonMoji(A723)","v":false},false,{"$f":"CheckKana(B723)","v":false},false,false,false,false,false,false,false,false,false,false,false,false,{"$f":"IF(R723,IF(AND(LEN(P723)=7,COUNTIF(集荷不可!$A:$A,P723)=0),FALSE,TRUE),FALSE)","v":false},false,false]
[null,null,null,null,null,null,null,null,null,null,null,null,null,null,null,"","",false,{"$f":"CheckIzonMoji(A724)","v":false},false,{"$f":"CheckKana(B724)","v":false},false,false,false,false,false,false,false,false,false,false,false,false,{"$f":"IF(R724,IF(AND(LEN(P724)=7,COUNTIF(集荷不可!$A:$A,P724)=0),FALSE,TRUE),FALSE)","v":false},false,false]
[null,null,null,null,null,null,null,null,null,null,null,null,null,null,null,"","",false,{"$f":"CheckIzonMoji(A725)","v":false},false,{"$f":"CheckKana(B725)","v":false},false,false,false,false,false,false,false,false,false,false,false,false,{"$f":"IF(R725,IF(AND(LEN(P725)=7,COUNTIF(集荷不可!$A:$A,P725)=0),FALSE,TRUE),FALSE)","v":false},false,false]
[null,null,null,null,null,null,null,null,null,null,null,null,null,null,null,"","",false,{"$f":"CheckIzonMoji(A726)","v":false},false,{"$f":"CheckKana(B726)","v":false},false,false,false,false,false,false,false,false,false,false,false,false,{"$f":"IF(R726,IF(AND(LEN(P726)=7,COUNTIF(集荷不可!$A:$A,P726)=0),FALSE,TRUE),FALSE)","v":false},false,false]
[null,null,null,null,null,null,null,null,null,null,null,null,null,null,null,"","",false,{"$f":"CheckIzonMoji(A727)","v":false},false,{"$f":"CheckKana(B727)","v":false},false,false,false,false,false,false,false,false,false,false,false,false,{"$f":"IF(R727,IF(AND(LEN(P727)=7,COUNTIF(集荷不可!$A:$A,P727)=0),FALSE,TRUE),FALSE)","v":false},false,false]
[null,null,null,null,null,null,null,null,null,null,null,null,null,null,null,"","",false,{"$f":"CheckIzonMoji(A728)","v":false},false,{"$f":"CheckKana(B728)","v":false},false,false,false,false,false,false,false,false,false,false,false,false,{"$f":"IF(R728,IF(AND(LEN(P728)=7,COUNTIF(集荷不可!$A:$A,P728)=0),FALSE,TRUE),FALSE)","v":false},false,false]
[null,null,null,null,null,null,null,null,null,null,null,null,null,null,null,"","",false,{"$f":"CheckIzonMoji(A729)","v":false},false,{"$f":"CheckKana(B729)","v":false},false,false,false,false,false,false,false,false,false,false,false,false,{"$f":"IF(R729,IF(AND(LEN(P729)=7,COUNTIF(集荷不可!$A:$A,P729)=0),FALSE,TRUE),FALSE)","v":false},false,false]
[null,null,null,null,null,null,null,null,null,null,null,null,null,null,null,"","",false,{"$f":"CheckIzonMoji(A730)","v":false},false,{"$f":"CheckKana(B730)","v":false},false,false,false,false,false,false,false,false,false,false,false,false,{"$f":"IF(R730,IF(AND(LEN(P730)=7,COUNTIF(集荷不可!$A:$A,P730)=0),FALSE,TRUE),FALSE)","v":false},false,false]
[null,null,null,null,null,null,null,null,null,null,null,null,null,null,null,"","",false,{"$f":"CheckIzonMoji(A731)","v":false},false,{"$f":"CheckKana(B731)","v":false},false,false,false,false,false,false,false,false,false,false,false,false,{"$f":"IF(R731,IF(AND(LEN(P731)=7,COUNTIF(集荷不可!$A:$A,P731)=0),FALSE,TRUE),FALSE)","v":false},false,false]
[null,null,null,null,null,null,null,null,null,null,null,null,null,null,null,"","",false,{"$f":"CheckIzonMoji(A732)","v":false},false,{"$f":"CheckKana(B732)","v":false},false,false,false,false,false,false,false,false,false,false,false,false,{"$f":"IF(R732,IF(AND(LEN(P732)=7,COUNTIF(集荷不可!$A:$A,P732)=0),FALSE,TRUE),FALSE)","v":false},false,false]
[null,null,null,null,null,null,null,null,null,null,null,null,null,null,null,"","",false,{"$f":"CheckIzonMoji(A733)","v":false},false,{"$f":"CheckKana(B733)","v":false},false,false,false,false,false,false,false,false,false,false,false,false,{"$f":"IF(R733,IF(AND(LEN(P733)=7,COUNTIF(集荷不可!$A:$A,P733)=0),FALSE,TRUE),FALSE)","v":false},false,false]
[null,null,null,null,null,null,null,null,null,null,null,null,null,null,null,"","",false,{"$f":"CheckIzonMoji(A734)","v":false},false,{"$f":"CheckKana(B734)","v":false},false,false,false,false,false,false,false,false,false,false,false,false,{"$f":"IF(R734,IF(AND(LEN(P734)=7,COUNTIF(集荷不可!$A:$A,P734)=0),FALSE,TRUE),FALSE)","v":false},false,false]
[null,null,null,null,null,null,null,null,null,null,null,null,null,null,null,"","",false,{"$f":"CheckIzonMoji(A735)","v":false},false,{"$f":"CheckKana(B735)","v":false},false,false,false,false,false,false,false,false,false,false,false,false,{"$f":"IF(R735,IF(AND(LEN(P735)=7,COUNTIF(集荷不可!$A:$A,P735)=0),FALSE,TRUE),FALSE)","v":false},false,false]
[null,null,null,null,null,null,null,null,null,null,null,null,null,null,null,"","",false,{"$f":"CheckIzonMoji(A736)","v":false},false,{"$f":"CheckKana(B736)","v":false},false,false,false,false,false,false,false,false,false,false,false,false,{"$f":"IF(R736,IF(AND(LEN(P736)=7,COUNTIF(集荷不可!$A:$A,P736)=0),FALSE,TRUE),FALSE)","v":false},false,false]
[null,null,null,null,null,null,null,null,null,null,null,null,null,null,null,"","",false,{"$f":"CheckIzonMoji(A737)","v":false},false,{"$f":"CheckKana(B737)","v":false},false,false,false,false,false,false,false,false,false,false,false,false,{"$f":"IF(R737,IF(AND(LEN(P737)=7,COUNTIF(集荷不可!$A:$A,P737)=0),FALSE,TRUE),FALSE)","v":false},false,false]
[null,null,null,null,null,null,null,null,null,null,null,null,null,null,null,"","",false,{"$f":"CheckIzonMoji(A738)","v":false},false,{"$f":"CheckKana(B738)","v":false},false,false,false,false,false,false,false,false,false,false,false,false,{"$f":"IF(R738,IF(AND(LEN(P738)=7,COUNTIF(集荷不可!$A:$A,P738)=0),FALSE,TRUE),FALSE)","v":false},false,false]
[null,null,null,null,null,null,null,null,null,null,null,null,null,null,null,"","",false,{"$f":"CheckIzonMoji(A739)","v":false},false,{"$f":"CheckKana(B739)","v":false},false,false,false,false,false,false,false,false,false,false,false,false,{"$f":"IF(R739,IF(AND(LEN(P739)=7,COUNTIF(集荷不可!$A:$A,P739)=0),FALSE,TRUE),FALSE)","v":false},false,false]
[null,null,null,null,null,null,null,null,null,null,null,null,null,null,null,"","",false,{"$f":"CheckIzonMoji(A740)","v":false},false,{"$f":"CheckKana(B740)","v":false},false,false,false,false,false,false,false,false,false,false,false,false,{"$f":"IF(R740,IF(AND(LEN(P740)=7,COUNTIF(集荷不可!$A:$A,P740)=0),FALSE,TRUE),FALSE)","v":false},false,false]
[null,null,null,null,null,null,null,null,null,null,null,null,null,null,null,"","",false,{"$f":"CheckIzonMoji(A741)","v":false},false,{"$f":"CheckKana(B741)","v":false},false,false,false,false,false,false,false,false,false,false,false,false,{"$f":"IF(R741,IF(AND(LEN(P741)=7,COUNTIF(集荷不可!$A:$A,P741)=0),FALSE,TRUE),FALSE)","v":false},false,false]
[null,null,null,null,null,null,null,null,null,null,null,null,null,null,null,"","",false,{"$f":"CheckIzonMoji(A742)","v":false},false,{"$f":"CheckKana(B742)","v":false},false,false,false,false,false,false,false,false,false,false,false,false,{"$f":"IF(R742,IF(AND(LEN(P742)=7,COUNTIF(集荷不可!$A:$A,P742)=0),FALSE,TRUE),FALSE)","v":false},false,false]
[null,null,null,null,null,null,null,null,null,null,null,null,null,null,null,"","",false,{"$f":"CheckIzonMoji(A743)","v":false},false,{"$f":"CheckKana(B743)","v":false},false,false,false,false,false,false,false,false,false,false,false,false,{"$f":"IF(R743,IF(AND(LEN(P743)=7,COUNTIF(集荷不可!$A:$A,P743)=0),FALSE,TRUE),FALSE)","v":false},false,false]
[null,null,null,null,null,null,null,null,null,null,null,null,null,null,null,"","",false,{"$f":"CheckIzonMoji(A744)","v":false},false,{"$f":"CheckKana(B744)","v":false},false,false,false,false,false,false,false,false,false,false,false,false,{"$f":"IF(R744,IF(AND(LEN(P744)=7,COUNTIF(集荷不可!$A:$A,P744)=0),FALSE,TRUE),FALSE)","v":false},false,false]
[null,null,null,null,null,null,null,null,null,null,null,null,null,null,null,"","",false,{"$f":"CheckIzonMoji(A745)","v":false},false,{"$f":"CheckKana(B745)","v":false},false,false,false,false,false,false,false,false,false,false,false,false,{"$f":"IF(R745,IF(AND(LEN(P745)=7,COUNTIF(集荷不可!$A:$A,P745)=0),FALSE,TRUE),FALSE)","v":false},false,false]
[null,null,null,null,null,null,null,null,null,null,null,null,null,null,null,"","",false,{"$f":"CheckIzonMoji(A746)","v":false},false,{"$f":"CheckKana(B746)","v":false},false,false,false,false,false,false,false,false,false,false,false,false,{"$f":"IF(R746,IF(AND(LEN(P746)=7,COUNTIF(集荷不可!$A:$A,P746)=0),FALSE,TRUE),FALSE)","v":false},false,false]
[null,null,null,null,null,null,null,null,null,null,null,null,null,null,null,"","",false,{"$f":"CheckIzonMoji(A747)","v":false},false,{"$f":"CheckKana(B747)","v":false},false,false,false,false,false,false,false,false,false,false,false,false,{"$f":"IF(R747,IF(AND(LEN(P747)=7,COUNTIF(集荷不可!$A:$A,P747)=0),FALSE,TRUE),FALSE)","v":false},false,false]
[null,null,null,null,null,null,null,null,null,null,null,null,null,null,null,"","",false,{"$f":"CheckIzonMoji(A748)","v":false},false,{"$f":"CheckKana(B748)","v":false},false,false,false,false,false,false,false,false,false,false,false,false,{"$f":"IF(R748,IF(AND(LEN(P748)=7,COUNTIF(集荷不可!$A:$A,P748)=0),FALSE,TRUE),FALSE)","v":false},false,false]
[null,null,null,null,null,null,null,null,null,null,null,null,null,null,null,"","",false,{"$f":"CheckIzonMoji(A749)","v":false},false,{"$f":"CheckKana(B749)","v":false},false,false,false,false,false,false,false,false,false,false,false,false,{"$f":"IF(R749,IF(AND(LEN(P749)=7,COUNTIF(集荷不可!$A:$A,P749)=0),FALSE,TRUE),FALSE)","v":false},false,false]
[null,null,null,null,null,null,null,null,null,null,null,null,null,null,null,"","",false,{"$f":"CheckIzonMoji(A750)","v":false},false,{"$f":"CheckKana(B750)","v":false},false,false,false,false,false,false,false,false,false,false,false,false,{"$f":"IF(R750,IF(AND(LEN(P750)=7,COUNTIF(集荷不可!$A:$A,P750)=0),FALSE,TRUE),FALSE)","v":false},false,false]
[null,null,null,null,null,null,null,null,null,null,null,null,null,null,null,"","",false,{"$f":"CheckIzonMoji(A751)","v":false},false,{"$f":"CheckKana(B751)","v":false},false,false,false,false,false,false,false,false,false,false,false,false,{"$f":"IF(R751,IF(AND(LEN(P751)=7,COUNTIF(集荷不可!$A:$A,P751)=0),FALSE,TRUE),FALSE)","v":false},false,false]
[null,null,null,null,null,null,null,null,null,null,null,null,null,null,null,"","",false,{"$f":"CheckIzonMoji(A752)","v":false},false,{"$f":"CheckKana(B752)","v":false},false,false,false,false,false,false,false,false,false,false,false,false,{"$f":"IF(R752,IF(AND(LEN(P752)=7,COUNTIF(集荷不可!$A:$A,P752)=0),FALSE,TRUE),FALSE)","v":false},false,false]
[null,null,null,null,null,null,null,null,null,null,null,null,null,null,null,"","",false,{"$f":"CheckIzonMoji(A753)","v":false},false,{"$f":"CheckKana(B753)","v":false},false,false,false,false,false,false,false,false,false,false,false,false,{"$f":"IF(R753,IF(AND(LEN(P753)=7,COUNTIF(集荷不可!$A:$A,P753)=0),FALSE,TRUE),FALSE)","v":false},false,false]
[null,null,null,null,null,null,null,null,null,null,null,null,null,null,null,"","",false,{"$f":"CheckIzonMoji(A754)","v":false},false,{"$f":"CheckKana(B754)","v":false},false,false,false,false,false,false,false,false,false,false,false,false,{"$f":"IF(R754,IF(AND(LEN(P754)=7,COUNTIF(集荷不可!$A:$A,P754)=0),FALSE,TRUE),FALSE)","v":false},false,false]
[null,null,null,null,null,null,null,null,null,null,null,null,null,null,null,"","",false,{"$f":"CheckIzonMoji(A755)","v":false},false,{"$f":"CheckKana(B755)","v":false},false,false,false,false,false,false,false,false,false,false,false,false,{"$f":"IF(R755,IF(AND(LEN(P755)=7,COUNTIF(集荷不可!$A:$A,P755)=0),FALSE,TRUE),FALSE)","v":false},false,false]
[null,null,null,null,null,null,null,null,null,null,null,null,null,null,null,"","",false,{"$f":"CheckIzonMoji(A756)","v":false},false,{"$f":"CheckKana(B756)","v":false},false,false,false,false,false,false,false,false,false,false,false,false,{"$f":"IF(R756,IF(AND(LEN(P756)=7,COUNTIF(集荷不可!$A:$A,P756)=0),FALSE,TRUE),FALSE)","v":false},false,false]
[null,null,null,null,null,null,null,null,null,null,null,null,null,null,null,"","",false,{"$f":"CheckIzonMoji(A757)","v":false},false,{"$f":"CheckKana(B757)","v":false},false,false,false,false,false,false,false,false,false,false,false,false,{"$f":"IF(R757,IF(AND(LEN(P757)=7,COUNTIF(集荷不可!$A:$A,P757)=0),FALSE,TRUE),FALSE)","v":false},false,false]
[null,null,null,null,null,null,null,null,null,null,null,null,null,null,null,"","",false,{"$f":"CheckIzonMoji(A758)","v":false},false,{"$f":"CheckKana(B758)","v":false},false,false,false,false,false,false,false,false,false,false,false,false,{"$f":"IF(R758,IF(AND(LEN(P758)=7,COUNTIF(集荷不可!$A:$A,P758)=0),FALSE,TRUE),FALSE)","v":false},false,false]
[null,null,null,null,null,null,null,null,null,null,null,null,null,null,null,"","",false,{"$f":"CheckIzonMoji(A759)","v":false},false,{"$f":"CheckKana(B759)","v":false},false,false,false,false,false,false,false,false,false,false,false,false,{"$f":"IF(R759,IF(AND(LEN(P759)=7,COUNTIF(集荷不可!$A:$A,P759)=0),FALSE,TRUE),FALSE)","v":false},false,false]
[null,null,null,null,null,null,null,null,null,null,null,null,null,null,null,"","",false,{"$f":"CheckIzonMoji(A760)","v":false},false,{"$f":"CheckKana(B760)","v":false},false,false,false,false,false,false,false,false,false,false,false,false,{"$f":"IF(R760,IF(AND(LEN(P760)=7,COUNTIF(集荷不可!$A:$A,P760)=0),FALSE,TRUE),FALSE)","v":false},false,false]
[null,null,null,null,null,null,null,null,null,null,null,null,null,null,null,"","",false,{"$f":"CheckIzonMoji(A761)","v":false},false,{"$f":"CheckKana(B761)","v":false},false,false,false,false,false,false,false,false,false,false,false,false,{"$f":"IF(R761,IF(AND(LEN(P761)=7,COUNTIF(集荷不可!$A:$A,P761)=0),FALSE,TRUE),FALSE)","v":false},false,false]
[null,null,null,null,null,null,null,null,null,null,null,null,null,null,null,"","",false,{"$f":"CheckIzonMoji(A762)","v":false},false,{"$f":"CheckKana(B762)","v":false},false,false,false,false,false,false,false,false,false,false,false,false,{"$f":"IF(R762,IF(AND(LEN(P762)=7,COUNTIF(集荷不可!$A:$A,P762)=0),FALSE,TRUE),FALSE)","v":false},false,false]
[null,null,null,null,null,null,null,null,null,null,null,null,null,null,null,"","",false,{"$f":"CheckIzonMoji(A763)","v":false},false,{"$f":"CheckKana(B763)","v":false},false,false,false,false,false,false,false,false,false,false,false,false,{"$f":"IF(R763,IF(AND(LEN(P763)=7,COUNTIF(集荷不可!$A:$A,P763)=0),FALSE,TRUE),FALSE)","v":false},false,false]
[null,null,null,null,null,null,null,null,null,null,null,null,null,null,null,"","",false,{"$f":"CheckIzonMoji(A764)","v":false},false,{"$f":"CheckKana(B764)","v":false},false,false,false,false,false,false,false,false,false,false,false,false,{"$f":"IF(R764,IF(AND(LEN(P764)=7,COUNTIF(集荷不可!$A:$A,P764)=0),FALSE,TRUE),FALSE)","v":false},false,false]
[null,null,null,null,null,null,null,null,null,null,null,null,null,null,null,"","",false,{"$f":"CheckIzonMoji(A765)","v":false},false,{"$f":"CheckKana(B765)","v":false},false,false,false,false,false,false,false,false,false,false,false,false,{"$f":"IF(R765,IF(AND(LEN(P765)=7,COUNTIF(集荷不可!$A:$A,P765)=0),FALSE,TRUE),FALSE)","v":false},false,false]
[null,null,null,null,null,null,null,null,null,null,null,null,null,null,null,"","",false,{"$f":"CheckIzonMoji(A766)","v":false},false,{"$f":"CheckKana(B766)","v":false},false,false,false,false,false,false,false,false,false,false,false,false,{"$f":"IF(R766,IF(AND(LEN(P766)=7,COUNTIF(集荷不可!$A:$A,P766)=0),FALSE,TRUE),FALSE)","v":false},false,false]
[null,null,null,null,null,null,null,null,null,null,null,null,null,null,null,"","",false,{"$f":"CheckIzonMoji(A767)","v":false},false,{"$f":"CheckKana(B767)","v":false},false,false,false,false,false,false,false,false,false,false,false,false,{"$f":"IF(R767,IF(AND(LEN(P767)=7,COUNTIF(集荷不可!$A:$A,P767)=0),FALSE,TRUE),FALSE)","v":false},false,false]
[null,null,null,null,null,null,null,null,null,null,null,null,null,null,null,"","",false,{"$f":"CheckIzonMoji(A768)","v":false},false,{"$f":"CheckKana(B768)","v":false},false,false,false,false,false,false,false,false,false,false,false,false,{"$f":"IF(R768,IF(AND(LEN(P768)=7,COUNTIF(集荷不可!$A:$A,P768)=0),FALSE,TRUE),FALSE)","v":false},false,false]
[null,null,null,null,null,null,null,null,null,null,null,null,null,null,null,"","",false,{"$f":"CheckIzonMoji(A769)","v":false},false,{"$f":"CheckKana(B769)","v":false},false,false,false,false,false,false,false,false,false,false,false,false,{"$f":"IF(R769,IF(AND(LEN(P769)=7,COUNTIF(集荷不可!$A:$A,P769)=0),FALSE,TRUE),FALSE)","v":false},false,false]
[null,null,null,null,null,null,null,null,null,null,null,null,null,null,null,"","",false,{"$f":"CheckIzonMoji(A770)","v":false},false,{"$f":"CheckKana(B770)","v":false},false,false,false,false,false,false,false,false,false,false,false,false,{"$f":"IF(R770,IF(AND(LEN(P770)=7,COUNTIF(集荷不可!$A:$A,P770)=0),FALSE,TRUE),FALSE)","v":false},false,false]
[null,null,null,null,null,null,null,null,null,null,null,null,null,null,null,"","",false,{"$f":"CheckIzonMoji(A771)","v":false},false,{"$f":"CheckKana(B771)","v":false},false,false,false,false,false,false,false,false,false,false,false,false,{"$f":"IF(R771,IF(AND(LEN(P771)=7,COUNTIF(集荷不可!$A:$A,P771)=0),FALSE,TRUE),FALSE)","v":false},false,false]
[null,null,null,null,null,null,null,null,null,null,null,null,null,null,null,"","",false,{"$f":"CheckIzonMoji(A772)","v":false},false,{"$f":"CheckKana(B772)","v":false},false,false,false,false,false,false,false,false,false,false,false,false,{"$f":"IF(R772,IF(AND(LEN(P772)=7,COUNTIF(集荷不可!$A:$A,P772)=0),FALSE,TRUE),FALSE)","v":false},false,false]
[null,null,null,null,null,null,null,null,null,null,null,null,null,null,null,"","",false,{"$f":"CheckIzonMoji(A773)","v":false},false,{"$f":"CheckKana(B773)","v":false},false,false,false,false,false,false,false,false,false,false,false,false,{"$f":"IF(R773,IF(AND(LEN(P773)=7,COUNTIF(集荷不可!$A:$A,P773)=0),FALSE,TRUE),FALSE)","v":false},false,false]
[null,null,null,null,null,null,null,null,null,null,null,null,null,null,null,"","",false,{"$f":"CheckIzonMoji(A774)","v":false},false,{"$f":"CheckKana(B774)","v":false},false,false,false,false,false,false,false,false,false,false,false,false,{"$f":"IF(R774,IF(AND(LEN(P774)=7,COUNTIF(集荷不可!$A:$A,P774)=0),FALSE,TRUE),FALSE)","v":false},false,false]
[null,null,null,null,null,null,null,null,null,null,null,null,null,null,null,"","",{"$f":"IF(LEN(A775&B775&C775&D775&E775&F775&G775&H775&I775&J775&K775&L775&M775&N775&O775)=0,FALSE,TRUE)","v":false},{"$f":"CheckIzonMoji(A775)","v":false},{"$f":"IF(R775,IF(AND(0<LENB(A775),LENB(A775)<33),FALSE,TRUE),FALSE)","v":false},{"$f":"CheckKana(B775)","v":false},{"$f":"IF(R775,IF(AND(0<LENB(B775),LENB(B775)<33),FALSE,TRUE),FALSE)","v":false},{"$f":"IF(R775,IF(C775=\"\",TRUE,FALSE),FALSE)","v":false},{"$f":"IF(R775,IF(OR(D775=\"\",ISERR(DAY(D775))),TRUE,FALSE),FALSE)","v":false},{"$f":"IF(R775,IF(E775=\"\",TRUE,FALSE),FALSE)","v":false},{"$f":"IF(R775,IF(AND(LENB(G775)>1,LENB(G775)<65),FALSE,TRUE),FALSE)","v":false},{"$f":"IF(LENB(H775)<33,FALSE,TRUE)","v":false},{"$f":"IF(LENB(I775)<51,FALSE,TRUE)","v":false},{"$f":"IF(LENB(J775)<51,FALSE,TRUE)","v":false},{"$f":"IF(R775,IF(AND(LENB(K775)>2,LENB(K775)<16),FALSE,TRUE),FALSE)","v":false},{"$f":"IF(R775,IF(AND(0<LENB(L775),LENB(L775)<61),FALSE,TRUE),FALSE)","v":false},{"$f":"IF(R775,IF(AND(LENB(M775)<9),FALSE,TRUE),FALSE)","v":false},{"$f":"IF(R775,IF(O775=\"\",TRUE,FALSE),FALSE)","v":false},{"$f":"IF(R775,IF(AND(LEN(P775)=7,COUNTIF(集荷不可!$A:$A,P775)=0),FALSE,TRUE),FALSE)","v":false},{"$f":"IF(ISERROR(FIND(\".@\",L775)),FALSE,TRUE)","v":false},{"$f":"IF(LENB(N775)<9,FALSE,TRUE)","v":false}]
[null,null,null,null,null,null,null,null,null,null,null,null,null,null,null,"","",false,{"$f":"CheckIzonMoji(A776)","v":false},false,{"$f":"CheckKana(B776)","v":false},false,false,false,false,false,false,false,false,false,false,false,false,{"$f":"IF(R776,IF(AND(LEN(P776)=7,COUNTIF(集荷不可!$A:$A,P776)=0),FALSE,TRUE),FALSE)","v":false},false,false]
[null,null,null,null,null,null,null,null,null,null,null,null,null,null,null,{"$f":"SUBSTITUTE(F777,\"-\",\"\")","v":""},{"$f":"LEFT(O777,1)","v":""},false,{"$f":"CheckIzonMoji(A777)","v":false},false,{"$f":"CheckKana(B777)","v":false},false,false,false,false,false,false,false,false,false,false,false,false,{"$f":"IF(R777,IF(AND(LEN(P777)=7,COUNTIF(集荷不可!$A:$A,P777)=0),FALSE,TRUE),FALSE)","v":false},false,false]
[null,null,null,null,null,null,null,null,null,null,null,null,null,null,null,"","",false,{"$f":"CheckIzonMoji(A778)","v":false},false,{"$f":"CheckKana(B778)","v":false},false,false,false,false,false,false,false,false,false,false,false,false,{"$f":"IF(R778,IF(AND(LEN(P778)=7,COUNTIF(集荷不可!$A:$A,P778)=0),FALSE,TRUE),FALSE)","v":false},false,false]
[null,null,null,null,null,null,null,null,null,null,null,null,null,null,null,"","",false,{"$f":"CheckIzonMoji(A779)","v":false},false,{"$f":"CheckKana(B779)","v":false},false,false,false,false,false,false,false,false,false,false,false,false,{"$f":"IF(R779,IF(AND(LEN(P779)=7,COUNTIF(集荷不可!$A:$A,P779)=0),FALSE,TRUE),FALSE)","v":false},false,false]
[null,null,null,null,null,null,null,null,null,null,null,null,null,null,null,"","",false,{"$f":"CheckIzonMoji(A780)","v":false},false,{"$f":"CheckKana(B780)","v":false},false,false,false,false,false,false,false,false,false,false,false,false,{"$f":"IF(R780,IF(AND(LEN(P780)=7,COUNTIF(集荷不可!$A:$A,P780)=0),FALSE,TRUE),FALSE)","v":false},false,false]
[null,null,null,null,null,null,null,null,null,null,null,null,null,null,null,"","",false,{"$f":"CheckIzonMoji(A781)","v":false},false,{"$f":"CheckKana(B781)","v":false},false,false,false,false,false,false,false,false,false,false,false,false,{"$f":"IF(R781,IF(AND(LEN(P781)=7,COUNTIF(集荷不可!$A:$A,P781)=0),FALSE,TRUE),FALSE)","v":false},false,false]
[null,null,null,null,null,null,null,null,null,null,null,null,null,null,null,"","",false,{"$f":"CheckIzonMoji(A782)","v":false},false,{"$f":"CheckKana(B782)","v":false},false,false,false,false,false,false,false,false,false,false,false,false,{"$f":"IF(R782,IF(AND(LEN(P782)=7,COUNTIF(集荷不可!$A:$A,P782)=0),FALSE,TRUE),FALSE)","v":false},false,false]
[null,null,null,null,null,null,null,null,null,null,null,null,null,null,null,"","",false,{"$f":"CheckIzonMoji(A783)","v":false},false,{"$f":"CheckKana(B783)","v":false},false,false,false,false,false,false,false,false,false,false,false,false,{"$f":"IF(R783,IF(AND(LEN(P783)=7,COUNTIF(集荷不可!$A:$A,P783)=0),FALSE,TRUE),FALSE)","v":false},false,false]
[null,null,null,null,null,null,null,null,null,null,null,null,null,null,null,"","",false,{"$f":"CheckIzonMoji(A784)","v":false},false,{"$f":"CheckKana(B784)","v":false},false,false,false,false,false,false,false,false,false,false,false,false,{"$f":"IF(R784,IF(AND(LEN(P784)=7,COUNTIF(集荷不可!$A:$A,P784)=0),FALSE,TRUE),FALSE)","v":false},false,false]
[null,null,null,null,null,null,null,null,null,null,null,null,null,null,null,"","",false,{"$f":"CheckIzonMoji(A785)","v":false},false,{"$f":"CheckKana(B785)","v":false},false,false,false,false,false,false,false,false,false,false,false,false,{"$f":"IF(R785,IF(AND(LEN(P785)=7,COUNTIF(集荷不可!$A:$A,P785)=0),FALSE,TRUE),FALSE)","v":false},false,false]
[null,null,null,null,null,null,null,null,null,null,null,null,null,null,null,"","",false,{"$f":"CheckIzonMoji(A786)","v":false},false,{"$f":"CheckKana(B786)","v":false},false,false,false,false,false,false,false,false,false,false,false,false,{"$f":"IF(R786,IF(AND(LEN(P786)=7,COUNTIF(集荷不可!$A:$A,P786)=0),FALSE,TRUE),FALSE)","v":false},false,false]
[null,null,null,null,null,null,null,null,null,null,null,null,null,null,null,"","",false,{"$f":"CheckIzonMoji(A787)","v":false},false,{"$f":"CheckKana(B787)","v":false},false,false,false,false,false,false,false,false,false,false,false,false,{"$f":"IF(R787,IF(AND(LEN(P787)=7,COUNTIF(集荷不可!$A:$A,P787)=0),FALSE,TRUE),FALSE)","v":false},false,false]
[null,null,null,null,null,null,null,null,null,null,null,null,null,null,null,"","",false,{"$f":"CheckIzonMoji(A788)","v":false},false,{"$f":"CheckKana(B788)","v":false},false,false,false,false,false,false,false,false,false,false,false,false,{"$f":"IF(R788,IF(AND(LEN(P788)=7,COUNTIF(集荷不可!$A:$A,P788)=0),FALSE,TRUE),FALSE)","v":false},false,false]
[null,null,null,null,null,null,null,null,null,null,null,null,null,null,null,"","",false,{"$f":"CheckIzonMoji(A789)","v":false},false,{"$f":"CheckKana(B789)","v":false},false,false,false,false,false,false,false,false,false,false,false,false,{"$f":"IF(R789,IF(AND(LEN(P789)=7,COUNTIF(集荷不可!$A:$A,P789)=0),FALSE,TRUE),FALSE)","v":false},false,false]
[null,null,null,null,null,null,null,null,null,null,null,null,null,null,null,"","",false,{"$f":"CheckIzonMoji(A790)","v":false},false,{"$f":"CheckKana(B790)","v":false},false,false,false,false,false,false,false,false,false,false,false,false,{"$f":"IF(R790,IF(AND(LEN(P790)=7,COUNTIF(集荷不可!$A:$A,P790)=0),FALSE,TRUE),FALSE)","v":false},false,false]
[null,null,null,null,null,null,null,null,null,null,null,null,null,null,null,"","",false,{"$f":"CheckIzonMoji(A791)","v":false},false,{"$f":"CheckKana(B791)","v":false},false,false,false,false,false,false,false,false,false,false,false,false,{"$f":"IF(R791,IF(AND(LEN(P791)=7,COUNTIF(集荷不可!$A:$A,P791)=0),FALSE,TRUE),FALSE)","v":false},false,false]
[null,null,null,null,null,null,null,null,null,null,null,null,null,null,null,"","",false,{"$f":"CheckIzonMoji(A792)","v":false},false,{"$f":"CheckKana(B792)","v":false},false,false,false,false,false,false,false,false,false,false,false,false,{"$f":"IF(R792,IF(AND(LEN(P792)=7,COUNTIF(集荷不可!$A:$A,P792)=0),FALSE,TRUE),FALSE)","v":false},false,false]
[null,null,null,null,null,null,null,null,null,null,null,null,null,null,null,"","",false,{"$f":"CheckIzonMoji(A793)","v":false},false,{"$f":"CheckKana(B793)","v":false},false,false,false,false,false,false,false,false,false,false,false,false,{"$f":"IF(R793,IF(AND(LEN(P793)=7,COUNTIF(集荷不可!$A:$A,P793)=0),FALSE,TRUE),FALSE)","v":false},false,false]
[null,null,null,null,null,null,null,null,null,null,null,null,null,null,null,"","",false,{"$f":"CheckIzonMoji(A794)","v":false},false,{"$f":"CheckKana(B794)","v":false},false,false,false,false,false,false,false,false,false,false,false,false,{"$f":"IF(R794,IF(AND(LEN(P794)=7,COUNTIF(集荷不可!$A:$A,P794)=0),FALSE,TRUE),FALSE)","v":false},false,false]
[null,null,null,null,null,null,null,null,null,null,null,null,null,null,null,"","",false,{"$f":"CheckIzonMoji(A795)","v":false},false,{"$f":"CheckKana(B795)","v":false},false,false,false,false,false,false,false,false,false,false,false,false,{"$f":"IF(R795,IF(AND(LEN(P795)=7,COUNTIF(集荷不可!$A:$A,P795)=0),FALSE,TRUE),FALSE)","v":false},false,false]
[null,null,null,null,null,null,null,null,null,null,null,null,null,null,null,"","",false,{"$f":"CheckIzonMoji(A796)","v":false},false,{"$f":"CheckKana(B796)","v":false},false,false,false,false,false,false,false,false,false,false,false,false,{"$f":"IF(R796,IF(AND(LEN(P796)=7,COUNTIF(集荷不可!$A:$A,P796)=0),FALSE,TRUE),FALSE)","v":false},false,false]
[null,null,null,null,null,null,null,null,null,null,null,null,null,null,null,"","",false,{"$f":"CheckIzonMoji(A797)","v":false},false,{"$f":"CheckKana(B797)","v":false},false,false,false,false,false,false,false,false,false,false,false,false,{"$f":"IF(R797,IF(AND(LEN(P797)=7,COUNTIF(集荷不可!$A:$A,P797)=0),FALSE,TRUE),FALSE)","v":false},false,false]
[null,null,null,null,null,null,null,null,null,null,null,null,null,null,null,"","",false,{"$f":"CheckIzonMoji(A798)","v":false},false,{"$f":"CheckKana(B798)","v":false},false,false,false,false,false,false,false,false,false,false,false,false,{"$f":"IF(R798,IF(AND(LEN(P798)=7,COUNTIF(集荷不可!$A:$A,P798)=0),FALSE,TRUE),FALSE)","v":false},false,false]
[null,null,null,null,null,null,null,null,null,null,null,null,null,null,null,"","",false,{"$f":"CheckIzonMoji(A799)","v":false},false,{"$f":"CheckKana(B799)","v":false},false,false,false,false,false,false,false,false,false,false,false,false,{"$f":"IF(R799,IF(AND(LEN(P799)=7,COUNTIF(集荷不可!$A:$A,P799)=0),FALSE,TRUE),FALSE)","v":false},false,false]
[null,null,null,null,null,null,null,null,null,null,null,null,null,null,null,"","",false,{"$f":"CheckIzonMoji(A800)","v":false},false,{"$f":"CheckKana(B800)","v":false},false,false,false,false,false,false,false,false,false,false,false,false,{"$f":"IF(R800,IF(AND(LEN(P800)=7,COUNTIF(集荷不可!$A:$A,P800)=0),FALSE,TRUE),FALSE)","v":false},false,false]
[null,null,null,null,null,null,null,null,null,null,null,null,null,null,null,"","",false,{"$f":"CheckIzonMoji(A801)","v":false},false,{"$f":"CheckKana(B801)","v":false},false,false,false,false,false,false,false,false,false,false,false,false,{"$f":"IF(R801,IF(AND(LEN(P801)=7,COUNTIF(集荷不可!$A:$A,P801)=0),FALSE,TRUE),FALSE)","v":false},false,false]
[null,null,null,null,null,null,null,null,null,null,null,null,null,null,null,"","",false,{"$f":"CheckIzonMoji(A802)","v":false},false,{"$f":"CheckKana(B802)","v":false},false,false,false,false,false,false,false,false,false,false,false,false,{"$f":"IF(R802,IF(AND(LEN(P802)=7,COUNTIF(集荷不可!$A:$A,P802)=0),FALSE,TRUE),FALSE)","v":false},false,false]
[null,null,null,null,null,null,null,null,null,null,null,null,null,null,null,"","",false,{"$f":"CheckIzonMoji(A803)","v":false},false,{"$f":"CheckKana(B803)","v":false},false,false,false,false,false,false,false,false,false,false,false,false,{"$f":"IF(R803,IF(AND(LEN(P803)=7,COUNTIF(集荷不可!$A:$A,P803)=0),FALSE,TRUE),FALSE)","v":false},false,false]
[null,null,null,null,null,null,null,null,null,null,null,null,null,null,null,"","",false,{"$f":"CheckIzonMoji(A804)","v":false},false,{"$f":"CheckKana(B804)","v":false},false,false,false,false,false,false,false,false,false,false,false,false,{"$f":"IF(R804,IF(AND(LEN(P804)=7,COUNTIF(集荷不可!$A:$A,P804)=0),FALSE,TRUE),FALSE)","v":false},false,false]
[null,null,null,null,null,null,null,null,null,null,null,null,null,null,null,"","",false,{"$f":"CheckIzonMoji(A805)","v":false},false,{"$f":"CheckKana(B805)","v":false},false,false,false,false,false,false,false,false,false,false,false,false,{"$f":"IF(R805,IF(AND(LEN(P805)=7,COUNTIF(集荷不可!$A:$A,P805)=0),FALSE,TRUE),FALSE)","v":false},false,false]
[null,null,null,null,null,null,null,null,null,null,null,null,null,null,null,"","",false,{"$f":"CheckIzonMoji(A806)","v":false},false,{"$f":"CheckKana(B806)","v":false},false,false,false,false,false,false,false,false,false,false,false,false,{"$f":"IF(R806,IF(AND(LEN(P806)=7,COUNTIF(集荷不可!$A:$A,P806)=0),FALSE,TRUE),FALSE)","v":false},false,false]
[null,null,null,null,null,null,null,null,null,null,null,null,null,null,null,"","",false,{"$f":"CheckIzonMoji(A807)","v":false},false,{"$f":"CheckKana(B807)","v":false},false,false,false,false,false,false,false,false,false,false,false,false,{"$f":"IF(R807,IF(AND(LEN(P807)=7,COUNTIF(集荷不可!$A:$A,P807)=0),FALSE,TRUE),FALSE)","v":false},false,false]
[null,null,null,null,null,null,null,null,null,null,null,null,null,null,null,"","",false,{"$f":"CheckIzonMoji(A808)","v":false},false,{"$f":"CheckKana(B808)","v":false},false,false,false,false,false,false,false,false,false,false,false,false,{"$f":"IF(R808,IF(AND(LEN(P808)=7,COUNTIF(集荷不可!$A:$A,P808)=0),FALSE,TRUE),FALSE)","v":false},false,false]
[null,null,null,null,null,null,null,null,null,null,null,null,null,null,null,"","",false,{"$f":"CheckIzonMoji(A809)","v":false},false,{"$f":"CheckKana(B809)","v":false},false,false,false,false,false,false,false,false,false,false,false,false,{"$f":"IF(R809,IF(AND(LEN(P809)=7,COUNTIF(集荷不可!$A:$A,P809)=0),FALSE,TRUE),FALSE)","v":false},false,false]
[null,null,null,null,null,null,null,null,null,null,null,null,null,null,null,"","",false,{"$f":"CheckIzonMoji(A810)","v":false},false,{"$f":"CheckKana(B810)","v":false},false,false,false,false,false,false,false,false,false,false,false,false,{"$f":"IF(R810,IF(AND(LEN(P810)=7,COUNTIF(集荷不可!$A:$A,P810)=0),FALSE,TRUE),FALSE)","v":false},false,false]
[null,null,null,null,null,null,null,null,null,null,null,null,null,null,null,"","",false,{"$f":"CheckIzonMoji(A811)","v":false},false,{"$f":"CheckKana(B811)","v":false},false,false,false,false,false,false,false,false,false,false,false,false,{"$f":"IF(R811,IF(AND(LEN(P811)=7,COUNTIF(集荷不可!$A:$A,P811)=0),FALSE,TRUE),FALSE)","v":false},false,false]
[null,null,null,null,null,null,null,null,null,null,null,null,null,null,null,"","",false,{"$f":"CheckIzonMoji(A812)","v":false},false,{"$f":"CheckKana(B812)","v":false},false,false,false,false,false,false,false,false,false,false,false,false,{"$f":"IF(R812,IF(AND(LEN(P812)=7,COUNTIF(集荷不可!$A:$A,P812)=0),FALSE,TRUE),FALSE)","v":false},false,false]
[null,null,null,null,null,null,null,null,null,null,null,null,null,null,null,"","",false,{"$f":"CheckIzonMoji(A813)","v":false},false,{"$f":"CheckKana(B813)","v":false},false,false,false,false,false,false,false,false,false,false,false,false,{"$f":"IF(R813,IF(AND(LEN(P813)=7,COUNTIF(集荷不可!$A:$A,P813)=0),FALSE,TRUE),FALSE)","v":false},false,false]
[null,null,null,null,null,null,null,null,null,null,null,null,null,null,null,"","",false,{"$f":"CheckIzonMoji(A814)","v":false},false,{"$f":"CheckKana(B814)","v":false},false,false,false,false,false,false,false,false,false,false,false,false,{"$f":"IF(R814,IF(AND(LEN(P814)=7,COUNTIF(集荷不可!$A:$A,P814)=0),FALSE,TRUE),FALSE)","v":false},false,false]
[null,null,null,null,null,null,null,null,null,null,null,null,null,null,null,"","",false,{"$f":"CheckIzonMoji(A815)","v":false},false,{"$f":"CheckKana(B815)","v":false},false,false,false,false,false,false,false,false,false,false,false,false,{"$f":"IF(R815,IF(AND(LEN(P815)=7,COUNTIF(集荷不可!$A:$A,P815)=0),FALSE,TRUE),FALSE)","v":false},false,false]
[null,null,null,null,null,null,null,null,null,null,null,null,null,null,null,"","",false,{"$f":"CheckIzonMoji(A816)","v":false},false,{"$f":"CheckKana(B816)","v":false},false,false,false,false,false,false,false,false,false,false,false,false,{"$f":"IF(R816,IF(AND(LEN(P816)=7,COUNTIF(集荷不可!$A:$A,P816)=0),FALSE,TRUE),FALSE)","v":false},false,false]
[null,null,null,null,null,null,null,null,null,null,null,null,null,null,null,"","",false,{"$f":"CheckIzonMoji(A817)","v":false},false,{"$f":"CheckKana(B817)","v":false},false,false,false,false,false,false,false,false,false,false,false,false,{"$f":"IF(R817,IF(AND(LEN(P817)=7,COUNTIF(集荷不可!$A:$A,P817)=0),FALSE,TRUE),FALSE)","v":false},false,false]
[null,null,null,null,null,null,null,null,null,null,null,null,null,null,null,"","",false,{"$f":"CheckIzonMoji(A818)","v":false},false,{"$f":"CheckKana(B818)","v":false},false,false,false,false,false,false,false,false,false,false,false,false,{"$f":"IF(R818,IF(AND(LEN(P818)=7,COUNTIF(集荷不可!$A:$A,P818)=0),FALSE,TRUE),FALSE)","v":false},false,false]
[null,null,null,null,null,null,null,null,null,null,null,null,null,null,null,"","",false,{"$f":"CheckIzonMoji(A819)","v":false},false,{"$f":"CheckKana(B819)","v":false},false,false,false,false,false,false,false,false,false,false,false,false,{"$f":"IF(R819,IF(AND(LEN(P819)=7,COUNTIF(集荷不可!$A:$A,P819)=0),FALSE,TRUE),FALSE)","v":false},false,false]
[null,null,null,null,null,null,null,null,null,null,null,null,null,null,null,"","",false,{"$f":"CheckIzonMoji(A820)","v":false},false,{"$f":"CheckKana(B820)","v":false},false,false,false,false,false,false,false,false,false,false,false,false,{"$f":"IF(R820,IF(AND(LEN(P820)=7,COUNTIF(集荷不可!$A:$A,P820)=0),FALSE,TRUE),FALSE)","v":false},false,false]
[null,null,null,null,null,null,null,null,null,null,null,null,null,null,null,"","",false,{"$f":"CheckIzonMoji(A821)","v":false},false,{"$f":"CheckKana(B821)","v":false},false,false,false,false,false,false,false,false,false,false,false,false,{"$f":"IF(R821,IF(AND(LEN(P821)=7,COUNTIF(集荷不可!$A:$A,P821)=0),FALSE,TRUE),FALSE)","v":false},false,false]
[null,null,null,null,null,null,null,null,null,null,null,null,null,null,null,"","",false,{"$f":"CheckIzonMoji(A822)","v":false},false,{"$f":"CheckKana(B822)","v":false},false,false,false,false,false,false,false,false,false,false,false,false,{"$f":"IF(R822,IF(AND(LEN(P822)=7,COUNTIF(集荷不可!$A:$A,P822)=0),FALSE,TRUE),FALSE)","v":false},false,false]
[null,null,null,null,null,null,null,null,null,null,null,null,null,null,null,"","",false,{"$f":"CheckIzonMoji(A823)","v":false},false,{"$f":"CheckKana(B823)","v":false},false,false,false,false,false,false,false,false,false,false,false,false,{"$f":"IF(R823,IF(AND(LEN(P823)=7,COUNTIF(集荷不可!$A:$A,P823)=0),FALSE,TRUE),FALSE)","v":false},false,false]
[null,null,null,null,null,null,null,null,null,null,null,null,null,null,null,"","",false,{"$f":"CheckIzonMoji(A824)","v":false},false,{"$f":"CheckKana(B824)","v":false},false,false,false,false,false,false,false,false,false,false,false,false,{"$f":"IF(R824,IF(AND(LEN(P824)=7,COUNTIF(集荷不可!$A:$A,P824)=0),FALSE,TRUE),FALSE)","v":false},false,false]
[null,null,null,null,null,null,null,null,null,null,null,null,null,null,null,"","",false,{"$f":"CheckIzonMoji(A825)","v":false},false,{"$f":"CheckKana(B825)","v":false},false,false,false,false,false,false,false,false,false,false,false,false,{"$f":"IF(R825,IF(AND(LEN(P825)=7,COUNTIF(集荷不可!$A:$A,P825)=0),FALSE,TRUE),FALSE)","v":false},false,false]
[null,null,null,null,null,null,null,null,null,null,null,null,null,null,null,"","",false,{"$f":"CheckIzonMoji(A826)","v":false},false,{"$f":"CheckKana(B826)","v":false},false,false,false,false,false,false,false,false,false,false,false,false,{"$f":"IF(R826,IF(AND(LEN(P826)=7,COUNTIF(集荷不可!$A:$A,P826)=0),FALSE,TRUE),FALSE)","v":false},false,false]
[null,null,null,null,null,null,null,null,null,null,null,null,null,null,null,"","",false,{"$f":"CheckIzonMoji(A827)","v":false},false,{"$f":"CheckKana(B827)","v":false},false,false,false,false,false,false,false,false,false,false,false,false,{"$f":"IF(R827,IF(AND(LEN(P827)=7,COUNTIF(集荷不可!$A:$A,P827)=0),FALSE,TRUE),FALSE)","v":false},false,false]
[null,null,null,null,null,null,null,null,null,null,null,null,null,null,null,"","",false,{"$f":"CheckIzonMoji(A828)","v":false},false,{"$f":"CheckKana(B828)","v":false},false,false,false,false,false,false,false,false,false,false,false,false,{"$f":"IF(R828,IF(AND(LEN(P828)=7,COUNTIF(集荷不可!$A:$A,P828)=0),FALSE,TRUE),FALSE)","v":false},false,false]
[null,null,null,null,null,null,null,null,null,null,null,null,null,null,null,"","",false,{"$f":"CheckIzonMoji(A829)","v":false},false,{"$f":"CheckKana(B829)","v":false},false,false,false,false,false,false,false,false,false,false,false,false,{"$f":"IF(R829,IF(AND(LEN(P829)=7,COUNTIF(集荷不可!$A:$A,P829)=0),FALSE,TRUE),FALSE)","v":false},false,false]
[null,null,null,null,null,null,null,null,null,null,null,null,null,null,null,"","",false,{"$f":"CheckIzonMoji(A830)","v":false},false,{"$f":"CheckKana(B830)","v":false},false,false,false,false,false,false,false,false,false,false,false,false,{"$f":"IF(R830,IF(AND(LEN(P830)=7,COUNTIF(集荷不可!$A:$A,P830)=0),FALSE,TRUE),FALSE)","v":false},false,false]
[null,null,null,null,null,null,null,null,null,null,null,null,null,null,null,"","",false,{"$f":"CheckIzonMoji(A831)","v":false},false,{"$f":"CheckKana(B831)","v":false},false,false,false,false,false,false,false,false,false,false,false,false,{"$f":"IF(R831,IF(AND(LEN(P831)=7,COUNTIF(集荷不可!$A:$A,P831)=0),FALSE,TRUE),FALSE)","v":false},false,false]
[null,null,null,null,null,null,null,null,null,null,null,null,null,null,null,"","",false,{"$f":"CheckIzonMoji(A832)","v":false},false,{"$f":"CheckKana(B832)","v":false},false,false,false,false,false,false,false,false,false,false,false,false,{"$f":"IF(R832,IF(AND(LEN(P832)=7,COUNTIF(集荷不可!$A:$A,P832)=0),FALSE,TRUE),FALSE)","v":false},false,false]
[null,null,null,null,null,null,null,null,null,null,null,null,null,null,null,"","",false,{"$f":"CheckIzonMoji(A833)","v":false},false,{"$f":"CheckKana(B833)","v":false},false,false,false,false,false,false,false,false,false,false,false,false,{"$f":"IF(R833,IF(AND(LEN(P833)=7,COUNTIF(集荷不可!$A:$A,P833)=0),FALSE,TRUE),FALSE)","v":false},false,false]
[null,null,null,null,null,null,null,null,null,null,null,null,null,null,null,"","",false,{"$f":"CheckIzonMoji(A834)","v":false},false,{"$f":"CheckKana(B834)","v":false},false,false,false,false,false,false,false,false,false,false,false,false,{"$f":"IF(R834,IF(AND(LEN(P834)=7,COUNTIF(集荷不可!$A:$A,P834)=0),FALSE,TRUE),FALSE)","v":false},false,false]
[null,null,null,null,null,null,null,null,null,null,null,null,null,null,null,"","",false,{"$f":"CheckIzonMoji(A835)","v":false},false,{"$f":"CheckKana(B835)","v":false},false,false,false,false,false,false,false,false,false,false,false,false,{"$f":"IF(R835,IF(AND(LEN(P835)=7,COUNTIF(集荷不可!$A:$A,P835)=0),FALSE,TRUE),FALSE)","v":false},false,false]
[null,null,null,null,null,null,null,null,null,null,null,null,null,null,null,"","",false,{"$f":"CheckIzonMoji(A836)","v":false},false,{"$f":"CheckKana(B836)","v":false},false,false,false,false,false,false,false,false,false,false,false,false,{"$f":"IF(R836,IF(AND(LEN(P836)=7,COUNTIF(集荷不可!$A:$A,P836)=0),FALSE,TRUE),FALSE)","v":false},false,false]
[null,null,null,null,null,null,null,null,null,null,null,null,null,null,null,"","",false,{"$f":"CheckIzonMoji(A837)","v":false},false,{"$f":"CheckKana(B837)","v":false},false,false,false,false,false,false,false,false,false,false,false,false,{"$f":"IF(R837,IF(AND(LEN(P837)=7,COUNTIF(集荷不可!$A:$A,P837)=0),FALSE,TRUE),FALSE)","v":false},false,false]
[null,null,null,null,null,null,null,null,null,null,null,null,null,null,null,"","",false,{"$f":"CheckIzonMoji(A838)","v":false},false,{"$f":"CheckKana(B838)","v":false},false,false,false,false,false,false,false,false,false,false,false,false,{"$f":"IF(R838,IF(AND(LEN(P838)=7,COUNTIF(集荷不可!$A:$A,P838)=0),FALSE,TRUE),FALSE)","v":false},false,false]
[null,null,null,null,null,null,null,null,null,null,null,null,null,null,null,"","",{"$f":"IF(LEN(A839&B839&C839&D839&E839&F839&G839&H839&I839&J839&K839&L839&M839&N839&O839)=0,FALSE,TRUE)","v":false},{"$f":"CheckIzonMoji(A839)","v":false},{"$f":"IF(R839,IF(AND(0<LENB(A839),LENB(A839)<33),FALSE,TRUE),FALSE)","v":false},{"$f":"CheckKana(B839)","v":false},{"$f":"IF(R839,IF(AND(0<LENB(B839),LENB(B839)<33),FALSE,TRUE),FALSE)","v":false},{"$f":"IF(R839,IF(C839=\"\",TRUE,FALSE),FALSE)","v":false},{"$f":"IF(R839,IF(OR(D839=\"\",ISERR(DAY(D839))),TRUE,FALSE),FALSE)","v":false},{"$f":"IF(R839,IF(E839=\"\",TRUE,FALSE),FALSE)","v":false},{"$f":"IF(R839,IF(AND(LENB(G839)>1,LENB(G839)<65),FALSE,TRUE),FALSE)","v":false},{"$f":"IF(LENB(H839)<33,FALSE,TRUE)","v":false},{"$f":"IF(LENB(I839)<51,FALSE,TRUE)","v":false},{"$f":"IF(LENB(J839)<51,FALSE,TRUE)","v":false},{"$f":"IF(R839,IF(AND(LENB(K839)>2,LENB(K839)<16),FALSE,TRUE),FALSE)","v":false},{"$f":"IF(R839,IF(AND(0<LENB(L839),LENB(L839)<61),FALSE,TRUE),FALSE)","v":false},{"$f":"IF(R839,IF(AND(LENB(M839)<9),FALSE,TRUE),FALSE)","v":false},{"$f":"IF(R839,IF(O839=\"\",TRUE,FALSE),FALSE)","v":false},{"$f":"IF(R839,IF(AND(LEN(P839)=7,COUNTIF(集荷不可!$A:$A,P839)=0),FALSE,TRUE),FALSE)","v":false},{"$f":"IF(ISERROR(FIND(\".@\",L839)),FALSE,TRUE)","v":false},{"$f":"IF(LENB(N839)<9,FALSE,TRUE)","v":false}]
[null,null,null,null,null,null,null,null,null,null,null,null,null,null,null,"","",false,{"$f":"CheckIzonMoji(A840)","v":false},false,{"$f":"CheckKana(B840)","v":false},false,false,false,false,false,false,false,false,false,false,false,false,{"$f":"IF(R840,IF(AND(LEN(P840)=7,COUNTIF(集荷不可!$A:$A,P840)=0),FALSE,TRUE),FALSE)","v":false},false,false]
[null,null,null,null,null,null,null,null,null,null,null,null,null,null,null,{"$f":"SUBSTITUTE(F841,\"-\",\"\")","v":""},{"$f":"LEFT(O841,1)","v":""},false,{"$f":"CheckIzonMoji(A841)","v":false},false,{"$f":"CheckKana(B841)","v":false},false,false,false,false,false,false,false,false,false,false,false,false,{"$f":"IF(R841,IF(AND(LEN(P841)=7,COUNTIF(集荷不可!$A:$A,P841)=0),FALSE,TRUE),FALSE)","v":false},false,false]
[null,null,null,null,null,null,null,null,null,null,null,null,null,null,null,"","",false,{"$f":"CheckIzonMoji(A842)","v":false},false,{"$f":"CheckKana(B842)","v":false},false,false,false,false,false,false,false,false,false,false,false,false,{"$f":"IF(R842,IF(AND(LEN(P842)=7,COUNTIF(集荷不可!$A:$A,P842)=0),FALSE,TRUE),FALSE)","v":false},false,false]
[null,null,null,null,null,null,null,null,null,null,null,null,null,null,null,"","",false,{"$f":"CheckIzonMoji(A843)","v":false},false,{"$f":"CheckKana(B843)","v":false},false,false,false,false,false,false,false,false,false,false,false,false,{"$f":"IF(R843,IF(AND(LEN(P843)=7,COUNTIF(集荷不可!$A:$A,P843)=0),FALSE,TRUE),FALSE)","v":false},false,false]
[null,null,null,null,null,null,null,null,null,null,null,null,null,null,null,"","",false,{"$f":"CheckIzonMoji(A844)","v":false},false,{"$f":"CheckKana(B844)","v":false},false,false,false,false,false,false,false,false,false,false,false,false,{"$f":"IF(R844,IF(AND(LEN(P844)=7,COUNTIF(集荷不可!$A:$A,P844)=0),FALSE,TRUE),FALSE)","v":false},false,false]
[null,null,null,null,null,null,null,null,null,null,null,null,null,null,null,"","",false,{"$f":"CheckIzonMoji(A845)","v":false},false,{"$f":"CheckKana(B845)","v":false},false,false,false,false,false,false,false,false,false,false,false,false,{"$f":"IF(R845,IF(AND(LEN(P845)=7,COUNTIF(集荷不可!$A:$A,P845)=0),FALSE,TRUE),FALSE)","v":false},false,false]
[null,null,null,null,null,null,null,null,null,null,null,null,null,null,null,"","",false,{"$f":"CheckIzonMoji(A846)","v":false},false,{"$f":"CheckKana(B846)","v":false},false,false,false,false,false,false,false,false,false,false,false,false,{"$f":"IF(R846,IF(AND(LEN(P846)=7,COUNTIF(集荷不可!$A:$A,P846)=0),FALSE,TRUE),FALSE)","v":false},false,false]
[null,null,null,null,null,null,null,null,null,null,null,null,null,null,null,"","",false,{"$f":"CheckIzonMoji(A847)","v":false},false,{"$f":"CheckKana(B847)","v":false},false,false,false,false,false,false,false,false,false,false,false,false,{"$f":"IF(R847,IF(AND(LEN(P847)=7,COUNTIF(集荷不可!$A:$A,P847)=0),FALSE,TRUE),FALSE)","v":false},false,false]
[null,null,null,null,null,null,null,null,null,null,null,null,null,null,null,"","",false,{"$f":"CheckIzonMoji(A848)","v":false},false,{"$f":"CheckKana(B848)","v":false},false,false,false,false,false,false,false,false,false,false,false,false,{"$f":"IF(R848,IF(AND(LEN(P848)=7,COUNTIF(集荷不可!$A:$A,P848)=0),FALSE,TRUE),FALSE)","v":false},false,false]
[null,null,null,null,null,null,null,null,null,null,null,null,null,null,null,"","",false,{"$f":"CheckIzonMoji(A849)","v":false},false,{"$f":"CheckKana(B849)","v":false},false,false,false,false,false,false,false,false,false,false,false,false,{"$f":"IF(R849,IF(AND(LEN(P849)=7,COUNTIF(集荷不可!$A:$A,P849)=0),FALSE,TRUE),FALSE)","v":false},false,false]
[null,null,null,null,null,null,null,null,null,null,null,null,null,null,null,"","",false,{"$f":"CheckIzonMoji(A850)","v":false},false,{"$f":"CheckKana(B850)","v":false},false,false,false,false,false,false,false,false,false,false,false,false,{"$f":"IF(R850,IF(AND(LEN(P850)=7,COUNTIF(集荷不可!$A:$A,P850)=0),FALSE,TRUE),FALSE)","v":false},false,false]
[null,null,null,null,null,null,null,null,null,null,null,null,null,null,null,"","",false,{"$f":"CheckIzonMoji(A851)","v":false},false,{"$f":"CheckKana(B851)","v":false},false,false,false,false,false,false,false,false,false,false,false,false,{"$f":"IF(R851,IF(AND(LEN(P851)=7,COUNTIF(集荷不可!$A:$A,P851)=0),FALSE,TRUE),FALSE)","v":false},false,false]
[null,null,null,null,null,null,null,null,null,null,null,null,null,null,null,"","",false,{"$f":"CheckIzonMoji(A852)","v":false},false,{"$f":"CheckKana(B852)","v":false},false,false,false,false,false,false,false,false,false,false,false,false,{"$f":"IF(R852,IF(AND(LEN(P852)=7,COUNTIF(集荷不可!$A:$A,P852)=0),FALSE,TRUE),FALSE)","v":false},false,false]
[null,null,null,null,null,null,null,null,null,null,null,null,null,null,null,"","",false,{"$f":"CheckIzonMoji(A853)","v":false},false,{"$f":"CheckKana(B853)","v":false},false,false,false,false,false,false,false,false,false,false,false,false,{"$f":"IF(R853,IF(AND(LEN(P853)=7,COUNTIF(集荷不可!$A:$A,P853)=0),FALSE,TRUE),FALSE)","v":false},false,false]
[null,null,null,null,null,null,null,null,null,null,null,null,null,null,null,"","",false,{"$f":"CheckIzonMoji(A854)","v":false},false,{"$f":"CheckKana(B854)","v":false},false,false,false,false,false,false,false,false,false,false,false,false,{"$f":"IF(R854,IF(AND(LEN(P854)=7,COUNTIF(集荷不可!$A:$A,P854)=0),FALSE,TRUE),FALSE)","v":false},false,false]
[null,null,null,null,null,null,null,null,null,null,null,null,null,null,null,"","",false,{"$f":"CheckIzonMoji(A855)","v":false},false,{"$f":"CheckKana(B855)","v":false},false,false,false,false,false,false,false,false,false,false,false,false,{"$f":"IF(R855,IF(AND(LEN(P855)=7,COUNTIF(集荷不可!$A:$A,P855)=0),FALSE,TRUE),FALSE)","v":false},false,false]
[null,null,null,null,null,null,null,null,null,null,null,null,null,null,null,"","",false,{"$f":"CheckIzonMoji(A856)","v":false},false,{"$f":"CheckKana(B856)","v":false},false,false,false,false,false,false,false,false,false,false,false,false,{"$f":"IF(R856,IF(AND(LEN(P856)=7,COUNTIF(集荷不可!$A:$A,P856)=0),FALSE,TRUE),FALSE)","v":false},false,false]
[null,null,null,null,null,null,null,null,null,null,null,null,null,null,null,"","",false,{"$f":"CheckIzonMoji(A857)","v":false},false,{"$f":"CheckKana(B857)","v":false},false,false,false,false,false,false,false,false,false,false,false,false,{"$f":"IF(R857,IF(AND(LEN(P857)=7,COUNTIF(集荷不可!$A:$A,P857)=0),FALSE,TRUE),FALSE)","v":false},false,false]
[null,null,null,null,null,null,null,null,null,null,null,null,null,null,null,"","",false,{"$f":"CheckIzonMoji(A858)","v":false},false,{"$f":"CheckKana(B858)","v":false},false,false,false,false,false,false,false,false,false,false,false,false,{"$f":"IF(R858,IF(AND(LEN(P858)=7,COUNTIF(集荷不可!$A:$A,P858)=0),FALSE,TRUE),FALSE)","v":false},false,false]
[null,null,null,null,null,null,null,null,null,null,null,null,null,null,null,"","",false,{"$f":"CheckIzonMoji(A859)","v":false},false,{"$f":"CheckKana(B859)","v":false},false,false,false,false,false,false,false,false,false,false,false,false,{"$f":"IF(R859,IF(AND(LEN(P859)=7,COUNTIF(集荷不可!$A:$A,P859)=0),FALSE,TRUE),FALSE)","v":false},false,false]
[null,null,null,null,null,null,null,null,null,null,null,null,null,null,null,"","",false,{"$f":"CheckIzonMoji(A860)","v":false},false,{"$f":"CheckKana(B860)","v":false},false,false,false,false,false,false,false,false,false,false,false,false,{"$f":"IF(R860,IF(AND(LEN(P860)=7,COUNTIF(集荷不可!$A:$A,P860)=0),FALSE,TRUE),FALSE)","v":false},false,false]
[null,null,null,null,null,null,null,null,null,null,null,null,null,null,null,"","",false,{"$f":"CheckIzonMoji(A861)","v":false},false,{"$f":"CheckKana(B861)","v":false},false,false,false,false,false,false,false,false,false,false,false,false,{"$f":"IF(R861,IF(AND(LEN(P861)=7,COUNTIF(集荷不可!$A:$A,P861)=0),FALSE,TRUE),FALSE)","v":false},false,false]
[null,null,null,null,null,null,null,null,null,null,null,null,null,null,null,"","",false,{"$f":"CheckIzonMoji(A862)","v":false},false,{"$f":"CheckKana(B862)","v":false},false,false,false,false,false,false,false,false,false,false,false,false,{"$f":"IF(R862,IF(AND(LEN(P862)=7,COUNTIF(集荷不可!$A:$A,P862)=0),FALSE,TRUE),FALSE)","v":false},false,false]
[null,null,null,null,null,null,null,null,null,null,null,null,null,null,null,"","",false,{"$f":"CheckIzonMoji(A863)","v":false},false,{"$f":"CheckKana(B863)","v":false},false,false,false,false,false,false,false,false,false,false,false,false,{"$f":"IF(R863,IF(AND(LEN(P863)=7,COUNTIF(集荷不可!$A:$A,P863)=0),FALSE,TRUE),FALSE)","v":false},false,false]
[null,null,null,null,null,null,null,null,null,null,null,null,null,null,null,"","",false,{"$f":"CheckIzonMoji(A864)","v":false},false,{"$f":"CheckKana(B864)","v":false},false,false,false,false,false,false,false,false,false,false,false,false,{"$f":"IF(R864,IF(AND(LEN(P864)=7,COUNTIF(集荷不可!$A:$A,P864)=0),FALSE,TRUE),FALSE)","v":false},false,false]
[null,null,null,null,null,null,null,null,null,null,null,null,null,null,null,"","",false,{"$f":"CheckIzonMoji(A865)","v":false},false,{"$f":"CheckKana(B865)","v":false},false,false,false,false,false,false,false,false,false,false,false,false,{"$f":"IF(R865,IF(AND(LEN(P865)=7,COUNTIF(集荷不可!$A:$A,P865)=0),FALSE,TRUE),FALSE)","v":false},false,false]
[null,null,null,null,null,null,null,null,null,null,null,null,null,null,null,"","",false,{"$f":"CheckIzonMoji(A866)","v":false},false,{"$f":"CheckKana(B866)","v":false},false,false,false,false,false,false,false,false,false,false,false,false,{"$f":"IF(R866,IF(AND(LEN(P866)=7,COUNTIF(集荷不可!$A:$A,P866)=0),FALSE,TRUE),FALSE)","v":false},false,false]
[null,null,null,null,null,null,null,null,null,null,null,null,null,null,null,"","",false,{"$f":"CheckIzonMoji(A867)","v":false},false,{"$f":"CheckKana(B867)","v":false},false,false,false,false,false,false,false,false,false,false,false,false,{"$f":"IF(R867,IF(AND(LEN(P867)=7,COUNTIF(集荷不可!$A:$A,P867)=0),FALSE,TRUE),FALSE)","v":false},false,false]
[null,null,null,null,null,null,null,null,null,null,null,null,null,null,null,"","",false,{"$f":"CheckIzonMoji(A868)","v":false},false,{"$f":"CheckKana(B868)","v":false},false,false,false,false,false,false,false,false,false,false,false,false,{"$f":"IF(R868,IF(AND(LEN(P868)=7,COUNTIF(集荷不可!$A:$A,P868)=0),FALSE,TRUE),FALSE)","v":false},false,false]
[null,null,null,null,null,null,null,null,null,null,null,null,null,null,null,"","",false,{"$f":"CheckIzonMoji(A869)","v":false},false,{"$f":"CheckKana(B869)","v":false},false,false,false,false,false,false,false,false,false,false,false,false,{"$f":"IF(R869,IF(AND(LEN(P869)=7,COUNTIF(集荷不可!$A:$A,P869)=0),FALSE,TRUE),FALSE)","v":false},false,false]
[null,null,null,null,null,null,null,null,null,null,null,null,null,null,null,"","",false,{"$f":"CheckIzonMoji(A870)","v":false},false,{"$f":"CheckKana(B870)","v":false},false,false,false,false,false,false,false,false,false,false,false,false,{"$f":"IF(R870,IF(AND(LEN(P870)=7,COUNTIF(集荷不可!$A:$A,P870)=0),FALSE,TRUE),FALSE)","v":false},false,false]
[null,null,null,null,null,null,null,null,null,null,null,null,null,null,null,"","",false,{"$f":"CheckIzonMoji(A871)","v":false},false,{"$f":"CheckKana(B871)","v":false},false,false,false,false,false,false,false,false,false,false,false,false,{"$f":"IF(R871,IF(AND(LEN(P871)=7,COUNTIF(集荷不可!$A:$A,P871)=0),FALSE,TRUE),FALSE)","v":false},false,false]
[null,null,null,null,null,null,null,null,null,null,null,null,null,null,null,"","",false,{"$f":"CheckIzonMoji(A872)","v":false},false,{"$f":"CheckKana(B872)","v":false},false,false,false,false,false,false,false,false,false,false,false,false,{"$f":"IF(R872,IF(AND(LEN(P872)=7,COUNTIF(集荷不可!$A:$A,P872)=0),FALSE,TRUE),FALSE)","v":false},false,false]
[null,null,null,null,null,null,null,null,null,null,null,null,null,null,null,"","",false,{"$f":"CheckIzonMoji(A873)","v":false},false,{"$f":"CheckKana(B873)","v":false},false,false,false,false,false,false,false,false,false,false,false,false,{"$f":"IF(R873,IF(AND(LEN(P873)=7,COUNTIF(集荷不可!$A:$A,P873)=0),FALSE,TRUE),FALSE)","v":false},false,false]
[null,null,null,null,null,null,null,null,null,null,null,null,null,null,null,"","",false,{"$f":"CheckIzonMoji(A874)","v":false},false,{"$f":"CheckKana(B874)","v":false},false,false,false,false,false,false,false,false,false,false,false,false,{"$f":"IF(R874,IF(AND(LEN(P874)=7,COUNTIF(集荷不可!$A:$A,P874)=0),FALSE,TRUE),FALSE)","v":false},false,false]
[null,null,null,null,null,null,null,null,null,null,null,null,null,null,null,"","",false,{"$f":"CheckIzonMoji(A875)","v":false},false,{"$f":"CheckKana(B875)","v":false},false,false,false,false,false,false,false,false,false,false,false,false,{"$f":"IF(R875,IF(AND(LEN(P875)=7,COUNTIF(集荷不可!$A:$A,P875)=0),FALSE,TRUE),FALSE)","v":false},false,false]
[null,null,null,null,null,null,null,null,null,null,null,null,null,null,null,"","",false,{"$f":"CheckIzonMoji(A876)","v":false},false,{"$f":"CheckKana(B876)","v":false},false,false,false,false,false,false,false,false,false,false,false,false,{"$f":"IF(R876,IF(AND(LEN(P876)=7,COUNTIF(集荷不可!$A:$A,P876)=0),FALSE,TRUE),FALSE)","v":false},false,false]
[null,null,null,null,null,null,null,null,null,null,null,null,null,null,null,"","",false,{"$f":"CheckIzonMoji(A877)","v":false},false,{"$f":"CheckKana(B877)","v":false},false,false,false,false,false,false,false,false,false,false,false,false,{"$f":"IF(R877,IF(AND(LEN(P877)=7,COUNTIF(集荷不可!$A:$A,P877)=0),FALSE,TRUE),FALSE)","v":false},false,false]
[null,null,null,null,null,null,null,null,null,null,null,null,null,null,null,"","",false,{"$f":"CheckIzonMoji(A878)","v":false},false,{"$f":"CheckKana(B878)","v":false},false,false,false,false,false,false,false,false,false,false,false,false,{"$f":"IF(R878,IF(AND(LEN(P878)=7,COUNTIF(集荷不可!$A:$A,P878)=0),FALSE,TRUE),FALSE)","v":false},false,false]
[null,null,null,null,null,null,null,null,null,null,null,null,null,null,null,"","",false,{"$f":"CheckIzonMoji(A879)","v":false},false,{"$f":"CheckKana(B879)","v":false},false,false,false,false,false,false,false,false,false,false,false,false,{"$f":"IF(R879,IF(AND(LEN(P879)=7,COUNTIF(集荷不可!$A:$A,P879)=0),FALSE,TRUE),FALSE)","v":false},false,false]
[null,null,null,null,null,null,null,null,null,null,null,null,null,null,null,"","",false,{"$f":"CheckIzonMoji(A880)","v":false},false,{"$f":"CheckKana(B880)","v":false},false,false,false,false,false,false,false,false,false,false,false,false,{"$f":"IF(R880,IF(AND(LEN(P880)=7,COUNTIF(集荷不可!$A:$A,P880)=0),FALSE,TRUE),FALSE)","v":false},false,false]
[null,null,null,null,null,null,null,null,null,null,null,null,null,null,null,"","",false,{"$f":"CheckIzonMoji(A881)","v":false},false,{"$f":"CheckKana(B881)","v":false},false,false,false,false,false,false,false,false,false,false,false,false,{"$f":"IF(R881,IF(AND(LEN(P881)=7,COUNTIF(集荷不可!$A:$A,P881)=0),FALSE,TRUE),FALSE)","v":false},false,false]
[null,null,null,null,null,null,null,null,null,null,null,null,null,null,null,"","",false,{"$f":"CheckIzonMoji(A882)","v":false},false,{"$f":"CheckKana(B882)","v":false},false,false,false,false,false,false,false,false,false,false,false,false,{"$f":"IF(R882,IF(AND(LEN(P882)=7,COUNTIF(集荷不可!$A:$A,P882)=0),FALSE,TRUE),FALSE)","v":false},false,false]
[null,null,null,null,null,null,null,null,null,null,null,null,null,null,null,"","",false,{"$f":"CheckIzonMoji(A883)","v":false},false,{"$f":"CheckKana(B883)","v":false},false,false,false,false,false,false,false,false,false,false,false,false,{"$f":"IF(R883,IF(AND(LEN(P883)=7,COUNTIF(集荷不可!$A:$A,P883)=0),FALSE,TRUE),FALSE)","v":false},false,false]
[null,null,null,null,null,null,null,null,null,null,null,null,null,null,null,"","",false,{"$f":"CheckIzonMoji(A884)","v":false},false,{"$f":"CheckKana(B884)","v":false},false,false,false,false,false,false,false,false,false,false,false,false,{"$f":"IF(R884,IF(AND(LEN(P884)=7,COUNTIF(集荷不可!$A:$A,P884)=0),FALSE,TRUE),FALSE)","v":false},false,false]
[null,null,null,null,null,null,null,null,null,null,null,null,null,null,null,"","",false,{"$f":"CheckIzonMoji(A885)","v":false},false,{"$f":"CheckKana(B885)","v":false},false,false,false,false,false,false,false,false,false,false,false,false,{"$f":"IF(R885,IF(AND(LEN(P885)=7,COUNTIF(集荷不可!$A:$A,P885)=0),FALSE,TRUE),FALSE)","v":false},false,false]
[null,null,null,null,null,null,null,null,null,null,null,null,null,null,null,"","",false,{"$f":"CheckIzonMoji(A886)","v":false},false,{"$f":"CheckKana(B886)","v":false},false,false,false,false,false,false,false,false,false,false,false,false,{"$f":"IF(R886,IF(AND(LEN(P886)=7,COUNTIF(集荷不可!$A:$A,P886)=0),FALSE,TRUE),FALSE)","v":false},false,false]
[null,null,null,null,null,null,null,null,null,null,null,null,null,null,null,"","",false,{"$f":"CheckIzonMoji(A887)","v":false},false,{"$f":"CheckKana(B887)","v":false},false,false,false,false,false,false,false,false,false,false,false,false,{"$f":"IF(R887,IF(AND(LEN(P887)=7,COUNTIF(集荷不可!$A:$A,P887)=0),FALSE,TRUE),FALSE)","v":false},false,false]
[null,null,null,null,null,null,null,null,null,null,null,null,null,null,null,"","",false,{"$f":"CheckIzonMoji(A888)","v":false},false,{"$f":"CheckKana(B888)","v":false},false,false,false,false,false,false,false,false,false,false,false,false,{"$f":"IF(R888,IF(AND(LEN(P888)=7,COUNTIF(集荷不可!$A:$A,P888)=0),FALSE,TRUE),FALSE)","v":false},false,false]
[null,null,null,null,null,null,null,null,null,null,null,null,null,null,null,"","",false,{"$f":"CheckIzonMoji(A889)","v":false},false,{"$f":"CheckKana(B889)","v":false},false,false,false,false,false,false,false,false,false,false,false,false,{"$f":"IF(R889,IF(AND(LEN(P889)=7,COUNTIF(集荷不可!$A:$A,P889)=0),FALSE,TRUE),FALSE)","v":false},false,false]
[null,null,null,null,null,null,null,null,null,null,null,null,null,null,null,"","",false,{"$f":"CheckIzonMoji(A890)","v":false},false,{"$f":"CheckKana(B890)","v":false},false,false,false,false,false,false,false,false,false,false,false,false,{"$f":"IF(R890,IF(AND(LEN(P890)=7,COUNTIF(集荷不可!$A:$A,P890)=0),FALSE,TRUE),FALSE)","v":false},false,false]
[null,null,null,null,null,null,null,null,null,null,null,null,null,null,null,"","",false,{"$f":"CheckIzonMoji(A891)","v":false},false,{"$f":"CheckKana(B891)","v":false},false,false,false,false,false,false,false,false,false,false,false,false,{"$f":"IF(R891,IF(AND(LEN(P891)=7,COUNTIF(集荷不可!$A:$A,P891)=0),FALSE,TRUE),FALSE)","v":false},false,false]
[null,null,null,null,null,null,null,null,null,null,null,null,null,null,null,"","",false,{"$f":"CheckIzonMoji(A892)","v":false},false,{"$f":"CheckKana(B892)","v":false},false,false,false,false,false,false,false,false,false,false,false,false,{"$f":"IF(R892,IF(AND(LEN(P892)=7,COUNTIF(集荷不可!$A:$A,P892)=0),FALSE,TRUE),FALSE)","v":false},false,false]
[null,null,null,null,null,null,null,null,null,null,null,null,null,null,null,"","",false,{"$f":"CheckIzonMoji(A893)","v":false},false,{"$f":"CheckKana(B893)","v":false},false,false,false,false,false,false,false,false,false,false,false,false,{"$f":"IF(R893,IF(AND(LEN(P893)=7,COUNTIF(集荷不可!$A:$A,P893)=0),FALSE,TRUE),FALSE)","v":false},false,false]
[null,null,null,null,null,null,null,null,null,null,null,null,null,null,null,"","",false,{"$f":"CheckIzonMoji(A894)","v":false},false,{"$f":"CheckKana(B894)","v":false},false,false,false,false,false,false,false,false,false,false,false,false,{"$f":"IF(R894,IF(AND(LEN(P894)=7,COUNTIF(集荷不可!$A:$A,P894)=0),FALSE,TRUE),FALSE)","v":false},false,false]
[null,null,null,null,null,null,null,null,null,null,null,null,null,null,null,"","",false,{"$f":"CheckIzonMoji(A895)","v":false},false,{"$f":"CheckKana(B895)","v":false},false,false,false,false,false,false,false,false,false,false,false,false,{"$f":"IF(R895,IF(AND(LEN(P895)=7,COUNTIF(集荷不可!$A:$A,P895)=0),FALSE,TRUE),FALSE)","v":false},false,false]
[null,null,null,null,null,null,null,null,null,null,null,null,null,null,null,"","",false,{"$f":"CheckIzonMoji(A896)","v":false},false,{"$f":"CheckKana(B896)","v":false},false,false,false,false,false,false,false,false,false,false,false,false,{"$f":"IF(R896,IF(AND(LEN(P896)=7,COUNTIF(集荷不可!$A:$A,P896)=0),FALSE,TRUE),FALSE)","v":false},false,false]
[null,null,null,null,null,null,null,null,null,null,null,null,null,null,null,"","",false,{"$f":"CheckIzonMoji(A897)","v":false},false,{"$f":"CheckKana(B897)","v":false},false,false,false,false,false,false,false,false,false,false,false,false,{"$f":"IF(R897,IF(AND(LEN(P897)=7,COUNTIF(集荷不可!$A:$A,P897)=0),FALSE,TRUE),FALSE)","v":false},false,false]
[null,null,null,null,null,null,null,null,null,null,null,null,null,null,null,"","",false,{"$f":"CheckIzonMoji(A898)","v":false},false,{"$f":"CheckKana(B898)","v":false},false,false,false,false,false,false,false,false,false,false,false,false,{"$f":"IF(R898,IF(AND(LEN(P898)=7,COUNTIF(集荷不可!$A:$A,P898)=0),FALSE,TRUE),FALSE)","v":false},false,false]
[null,null,null,null,null,null,null,null,null,null,null,null,null,null,null,"","",false,{"$f":"CheckIzonMoji(A899)","v":false},false,{"$f":"CheckKana(B899)","v":false},false,false,false,false,false,false,false,false,false,false,false,false,{"$f":"IF(R899,IF(AND(LEN(P899)=7,COUNTIF(集荷不可!$A:$A,P899)=0),FALSE,TRUE),FALSE)","v":false},false,false]
[null,null,null,null,null,null,null,null,null,null,null,null,null,null,null,"","",false,{"$f":"CheckIzonMoji(A900)","v":false},false,{"$f":"CheckKana(B900)","v":false},false,false,false,false,false,false,false,false,false,false,false,false,{"$f":"IF(R900,IF(AND(LEN(P900)=7,COUNTIF(集荷不可!$A:$A,P900)=0),FALSE,TRUE),FALSE)","v":false},false,false]
[null,null,null,null,null,null,null,null,null,null,null,null,null,null,null,"","",false,{"$f":"CheckIzonMoji(A901)","v":false},false,{"$f":"CheckKana(B901)","v":false},false,false,false,false,false,false,false,false,false,false,false,false,{"$f":"IF(R901,IF(AND(LEN(P901)=7,COUNTIF(集荷不可!$A:$A,P901)=0),FALSE,TRUE),FALSE)","v":false},false,false]
[null,null,null,null,null,null,null,null,null,null,null,null,null,null,null,"","",false,{"$f":"CheckIzonMoji(A902)","v":false},false,{"$f":"CheckKana(B902)","v":false},false,false,false,false,false,false,false,false,false,false,false,false,{"$f":"IF(R902,IF(AND(LEN(P902)=7,COUNTIF(集荷不可!$A:$A,P902)=0),FALSE,TRUE),FALSE)","v":false},false,false]
[null,null,null,null,null,null,null,null,null,null,null,null,null,null,null,"","",{"$f":"IF(LEN(A903&B903&C903&D903&E903&F903&G903&H903&I903&J903&K903&L903&M903&N903&O903)=0,FALSE,TRUE)","v":false},{"$f":"CheckIzonMoji(A903)","v":false},{"$f":"IF(R903,IF(AND(0<LENB(A903),LENB(A903)<33),FALSE,TRUE),FALSE)","v":false},{"$f":"CheckKana(B903)","v":false},{"$f":"IF(R903,IF(AND(0<LENB(B903),LENB(B903)<33),FALSE,TRUE),FALSE)","v":false},{"$f":"IF(R903,IF(C903=\"\",TRUE,FALSE),FALSE)","v":false},{"$f":"IF(R903,IF(OR(D903=\"\",ISERR(DAY(D903))),TRUE,FALSE),FALSE)","v":false},{"$f":"IF(R903,IF(E903=\"\",TRUE,FALSE),FALSE)","v":false},{"$f":"IF(R903,IF(AND(LENB(G903)>1,LENB(G903)<65),FALSE,TRUE),FALSE)","v":false},{"$f":"IF(LENB(H903)<33,FALSE,TRUE)","v":false},{"$f":"IF(LENB(I903)<51,FALSE,TRUE)","v":false},{"$f":"IF(LENB(J903)<51,FALSE,TRUE)","v":false},{"$f":"IF(R903,IF(AND(LENB(K903)>2,LENB(K903)<16),FALSE,TRUE),FALSE)","v":false},{"$f":"IF(R903,IF(AND(0<LENB(L903),LENB(L903)<61),FALSE,TRUE),FALSE)","v":false},{"$f":"IF(R903,IF(AND(LENB(M903)<9),FALSE,TRUE),FALSE)","v":false},{"$f":"IF(R903,IF(O903=\"\",TRUE,FALSE),FALSE)","v":false},{"$f":"IF(R903,IF(AND(LEN(P903)=7,COUNTIF(集荷不可!$A:$A,P903)=0),FALSE,TRUE),FALSE)","v":false},{"$f":"IF(ISERROR(FIND(\".@\",L903)),FALSE,TRUE)","v":false},{"$f":"IF(LENB(N903)<9,FALSE,TRUE)","v":false}]
[null,null,null,null,null,null,null,null,null,null,null,null,null,null,null,"","",false,{"$f":"CheckIzonMoji(A904)","v":false},false,{"$f":"CheckKana(B904)","v":false},false,false,false,false,false,false,false,false,false,false,false,false,{"$f":"IF(R904,IF(AND(LEN(P904)=7,COUNTIF(集荷不可!$A:$A,P904)=0),FALSE,TRUE),FALSE)","v":false},false,false]
[null,null,null,null,null,null,null,null,null,null,null,null,null,null,null,{"$f":"SUBSTITUTE(F905,\"-\",\"\")","v":""},{"$f":"LEFT(O905,1)","v":""},false,{"$f":"CheckIzonMoji(A905)","v":false},false,{"$f":"CheckKana(B905)","v":false},false,false,false,false,false,false,false,false,false,false,false,false,{"$f":"IF(R905,IF(AND(LEN(P905)=7,COUNTIF(集荷不可!$A:$A,P905)=0),FALSE,TRUE),FALSE)","v":false},false,false]
[null,null,null,null,null,null,null,null,null,null,null,null,null,null,null,"","",false,{"$f":"CheckIzonMoji(A906)","v":false},false,{"$f":"CheckKana(B906)","v":false},false,false,false,false,false,false,false,false,false,false,false,false,{"$f":"IF(R906,IF(AND(LEN(P906)=7,COUNTIF(集荷不可!$A:$A,P906)=0),FALSE,TRUE),FALSE)","v":false},false,false]
[null,null,null,null,null,null,null,null,null,null,null,null,null,null,null,"","",false,{"$f":"CheckIzonMoji(A907)","v":false},false,{"$f":"CheckKana(B907)","v":false},false,false,false,false,false,false,false,false,false,false,false,false,{"$f":"IF(R907,IF(AND(LEN(P907)=7,COUNTIF(集荷不可!$A:$A,P907)=0),FALSE,TRUE),FALSE)","v":false},false,false]
[null,null,null,null,null,null,null,null,null,null,null,null,null,null,null,"","",false,{"$f":"CheckIzonMoji(A908)","v":false},false,{"$f":"CheckKana(B908)","v":false},false,false,false,false,false,false,false,false,false,false,false,false,{"$f":"IF(R908,IF(AND(LEN(P908)=7,COUNTIF(集荷不可!$A:$A,P908)=0),FALSE,TRUE),FALSE)","v":false},false,false]
[null,null,null,null,null,null,null,null,null,null,null,null,null,null,null,"","",false,{"$f":"CheckIzonMoji(A909)","v":false},false,{"$f":"CheckKana(B909)","v":false},false,false,false,false,false,false,false,false,false,false,false,false,{"$f":"IF(R909,IF(AND(LEN(P909)=7,COUNTIF(集荷不可!$A:$A,P909)=0),FALSE,TRUE),FALSE)","v":false},false,false]
[null,null,null,null,null,null,null,null,null,null,null,null,null,null,null,"","",false,{"$f":"CheckIzonMoji(A910)","v":false},false,{"$f":"CheckKana(B910)","v":false},false,false,false,false,false,false,false,false,false,false,false,false,{"$f":"IF(R910,IF(AND(LEN(P910)=7,COUNTIF(集荷不可!$A:$A,P910)=0),FALSE,TRUE),FALSE)","v":false},false,false]
[null,null,null,null,null,null,null,null,null,null,null,null,null,null,null,"","",false,{"$f":"CheckIzonMoji(A911)","v":false},false,{"$f":"CheckKana(B911)","v":false},false,false,false,false,false,false,false,false,false,false,false,false,{"$f":"IF(R911,IF(AND(LEN(P911)=7,COUNTIF(集荷不可!$A:$A,P911)=0),FALSE,TRUE),FALSE)","v":false},false,false]
[null,null,null,null,null,null,null,null,null,null,null,null,null,null,null,"","",false,{"$f":"CheckIzonMoji(A912)","v":false},false,{"$f":"CheckKana(B912)","v":false},false,false,false,false,false,false,false,false,false,false,false,false,{"$f":"IF(R912,IF(AND(LEN(P912)=7,COUNTIF(集荷不可!$A:$A,P912)=0),FALSE,TRUE),FALSE)","v":false},false,false]
[null,null,null,null,null,null,null,null,null,null,null,null,null,null,null,"","",false,{"$f":"CheckIzonMoji(A913)","v":false},false,{"$f":"CheckKana(B913)","v":false},false,false,false,false,false,false,false,false,false,false,false,false,{"$f":"IF(R913,IF(AND(LEN(P913)=7,COUNTIF(集荷不可!$A:$A,P913)=0),FALSE,TRUE),FALSE)","v":false},false,false]
[null,null,null,null,null,null,null,null,null,null,null,null,null,null,null,"","",false,{"$f":"CheckIzonMoji(A914)","v":false},false,{"$f":"CheckKana(B914)","v":false},false,false,false,false,false,false,false,false,false,false,false,false,{"$f":"IF(R914,IF(AND(LEN(P914)=7,COUNTIF(集荷不可!$A:$A,P914)=0),FALSE,TRUE),FALSE)","v":false},false,false]
[null,null,null,null,null,null,null,null,null,null,null,null,null,null,null,"","",false,{"$f":"CheckIzonMoji(A915)","v":false},false,{"$f":"CheckKana(B915)","v":false},false,false,false,false,false,false,false,false,false,false,false,false,{"$f":"IF(R915,IF(AND(LEN(P915)=7,COUNTIF(集荷不可!$A:$A,P915)=0),FALSE,TRUE),FALSE)","v":false},false,false]
[null,null,null,null,null,null,null,null,null,null,null,null,null,null,null,"","",false,{"$f":"CheckIzonMoji(A916)","v":false},false,{"$f":"CheckKana(B916)","v":false},false,false,false,false,false,false,false,false,false,false,false,false,{"$f":"IF(R916,IF(AND(LEN(P916)=7,COUNTIF(集荷不可!$A:$A,P916)=0),FALSE,TRUE),FALSE)","v":false},false,false]
[null,null,null,null,null,null,null,null,null,null,null,null,null,null,null,"","",false,{"$f":"CheckIzonMoji(A917)","v":false},false,{"$f":"CheckKana(B917)","v":false},false,false,false,false,false,false,false,false,false,false,false,false,{"$f":"IF(R917,IF(AND(LEN(P917)=7,COUNTIF(集荷不可!$A:$A,P917)=0),FALSE,TRUE),FALSE)","v":false},false,false]
[null,null,null,null,null,null,null,null,null,null,null,null,null,null,null,"","",false,{"$f":"CheckIzonMoji(A918)","v":false},false,{"$f":"CheckKana(B918)","v":false},false,false,false,false,false,false,false,false,false,false,false,false,{"$f":"IF(R918,IF(AND(LEN(P918)=7,COUNTIF(集荷不可!$A:$A,P918)=0),FALSE,TRUE),FALSE)","v":false},false,false]
[null,null,null,null,null,null,null,null,null,null,null,null,null,null,null,"","",false,{"$f":"CheckIzonMoji(A919)","v":false},false,{"$f":"CheckKana(B919)","v":false},false,false,false,false,false,false,false,false,false,false,false,false,{"$f":"IF(R919,IF(AND(LEN(P919)=7,COUNTIF(集荷不可!$A:$A,P919)=0),FALSE,TRUE),FALSE)","v":false},false,false]
[null,null,null,null,null,null,null,null,null,null,null,null,null,null,null,"","",false,{"$f":"CheckIzonMoji(A920)","v":false},false,{"$f":"CheckKana(B920)","v":false},false,false,false,false,false,false,false,false,false,false,false,false,{"$f":"IF(R920,IF(AND(LEN(P920)=7,COUNTIF(集荷不可!$A:$A,P920)=0),FALSE,TRUE),FALSE)","v":false},false,false]
[null,null,null,null,null,null,null,null,null,null,null,null,null,null,null,"","",false,{"$f":"CheckIzonMoji(A921)","v":false},false,{"$f":"CheckKana(B921)","v":false},false,false,false,false,false,false,false,false,false,false,false,false,{"$f":"IF(R921,IF(AND(LEN(P921)=7,COUNTIF(集荷不可!$A:$A,P921)=0),FALSE,TRUE),FALSE)","v":false},false,false]
[null,null,null,null,null,null,null,null,null,null,null,null,null,null,null,"","",false,{"$f":"CheckIzonMoji(A922)","v":false},false,{"$f":"CheckKana(B922)","v":false},false,false,false,false,false,false,false,false,false,false,false,false,{"$f":"IF(R922,IF(AND(LEN(P922)=7,COUNTIF(集荷不可!$A:$A,P922)=0),FALSE,TRUE),FALSE)","v":false},false,false]
[null,null,null,null,null,null,null,null,null,null,null,null,null,null,null,"","",false,{"$f":"CheckIzonMoji(A923)","v":false},false,{"$f":"CheckKana(B923)","v":false},false,false,false,false,false,false,false,false,false,false,false,false,{"$f":"IF(R923,IF(AND(LEN(P923)=7,COUNTIF(集荷不可!$A:$A,P923)=0),FALSE,TRUE),FALSE)","v":false},false,false]
[null,null,null,null,null,null,null,null,null,null,null,null,null,null,null,"","",false,{"$f":"CheckIzonMoji(A924)","v":false},false,{"$f":"CheckKana(B924)","v":false},false,false,false,false,false,false,false,false,false,false,false,false,{"$f":"IF(R924,IF(AND(LEN(P924)=7,COUNTIF(集荷不可!$A:$A,P924)=0),FALSE,TRUE),FALSE)","v":false},false,false]
[null,null,null,null,null,null,null,null,null,null,null,null,null,null,null,"","",false,{"$f":"CheckIzonMoji(A925)","v":false},false,{"$f":"CheckKana(B925)","v":false},false,false,false,false,false,false,false,false,false,false,false,false,{"$f":"IF(R925,IF(AND(LEN(P925)=7,COUNTIF(集荷不可!$A:$A,P925)=0),FALSE,TRUE),FALSE)","v":false},false,false]
[null,null,null,null,null,null,null,null,null,null,null,null,null,null,null,"","",false,{"$f":"CheckIzonMoji(A926)","v":false},false,{"$f":"CheckKana(B926)","v":false},false,false,false,false,false,false,false,false,false,false,false,false,{"$f":"IF(R926,IF(AND(LEN(P926)=7,COUNTIF(集荷不可!$A:$A,P926)=0),FALSE,TRUE),FALSE)","v":false},false,false]
[null,null,null,null,null,null,null,null,null,null,null,null,null,null,null,"","",false,{"$f":"CheckIzonMoji(A927)","v":false},false,{"$f":"CheckKana(B927)","v":false},false,false,false,false,false,false,false,false,false,false,false,false,{"$f":"IF(R927,IF(AND(LEN(P927)=7,COUNTIF(集荷不可!$A:$A,P927)=0),FALSE,TRUE),FALSE)","v":false},false,false]
[null,null,null,null,null,null,null,null,null,null,null,null,null,null,null,"","",false,{"$f":"CheckIzonMoji(A928)","v":false},false,{"$f":"CheckKana(B928)","v":false},false,false,false,false,false,false,false,false,false,false,false,false,{"$f":"IF(R928,IF(AND(LEN(P928)=7,COUNTIF(集荷不可!$A:$A,P928)=0),FALSE,TRUE),FALSE)","v":false},false,false]
[null,null,null,null,null,null,null,null,null,null,null,null,null,null,null,"","",false,{"$f":"CheckIzonMoji(A929)","v":false},false,{"$f":"CheckKana(B929)","v":false},false,false,false,false,false,false,false,false,false,false,false,false,{"$f":"IF(R929,IF(AND(LEN(P929)=7,COUNTIF(集荷不可!$A:$A,P929)=0),FALSE,TRUE),FALSE)","v":false},false,false]
[null,null,null,null,null,null,null,null,null,null,null,null,null,null,null,"","",false,{"$f":"CheckIzonMoji(A930)","v":false},false,{"$f":"CheckKana(B930)","v":false},false,false,false,false,false,false,false,false,false,false,false,false,{"$f":"IF(R930,IF(AND(LEN(P930)=7,COUNTIF(集荷不可!$A:$A,P930)=0),FALSE,TRUE),FALSE)","v":false},false,false]
[null,null,null,null,null,null,null,null,null,null,null,null,null,null,null,"","",false,{"$f":"CheckIzonMoji(A931)","v":false},false,{"$f":"CheckKana(B931)","v":false},false,false,false,false,false,false,false,false,false,false,false,false,{"$f":"IF(R931,IF(AND(LEN(P931)=7,COUNTIF(集荷不可!$A:$A,P931)=0),FALSE,TRUE),FALSE)","v":false},false,false]
[null,null,null,null,null,null,null,null,null,null,null,null,null,null,null,"","",false,{"$f":"CheckIzonMoji(A932)","v":false},false,{"$f":"CheckKana(B932)","v":false},false,false,false,false,false,false,false,false,false,false,false,false,{"$f":"IF(R932,IF(AND(LEN(P932)=7,COUNTIF(集荷不可!$A:$A,P932)=0),FALSE,TRUE),FALSE)","v":false},false,false]
[null,null,null,null,null,null,null,null,null,null,null,null,null,null,null,"","",false,{"$f":"CheckIzonMoji(A933)","v":false},false,{"$f":"CheckKana(B933)","v":false},false,false,false,false,false,false,false,false,false,false,false,false,{"$f":"IF(R933,IF(AND(LEN(P933)=7,COUNTIF(集荷不可!$A:$A,P933)=0),FALSE,TRUE),FALSE)","v":false},false,false]
[null,null,null,null,null,null,null,null,null,null,null,null,null,null,null,"","",false,{"$f":"CheckIzonMoji(A934)","v":false},false,{"$f":"CheckKana(B934)","v":false},false,false,false,false,false,false,false,false,false,false,false,false,{"$f":"IF(R934,IF(AND(LEN(P934)=7,COUNTIF(集荷不可!$A:$A,P934)=0),FALSE,TRUE),FALSE)","v":false},false,false]
[null,null,null,null,null,null,null,null,null,null,null,null,null,null,null,"","",false,{"$f":"CheckIzonMoji(A935)","v":false},false,{"$f":"CheckKana(B935)","v":false},false,false,false,false,false,false,false,false,false,false,false,false,{"$f":"IF(R935,IF(AND(LEN(P935)=7,COUNTIF(集荷不可!$A:$A,P935)=0),FALSE,TRUE),FALSE)","v":false},false,false]
[null,null,null,null,null,null,null,null,null,null,null,null,null,null,null,"","",false,{"$f":"CheckIzonMoji(A936)","v":false},false,{"$f":"CheckKana(B936)","v":false},false,false,false,false,false,false,false,false,false,false,false,false,{"$f":"IF(R936,IF(AND(LEN(P936)=7,COUNTIF(集荷不可!$A:$A,P936)=0),FALSE,TRUE),FALSE)","v":false},false,false]
[null,null,null,null,null,null,null,null,null,null,null,null,null,null,null,"","",false,{"$f":"CheckIzonMoji(A937)","v":false},false,{"$f":"CheckKana(B937)","v":false},false,false,false,false,false,false,false,false,false,false,false,false,{"$f":"IF(R937,IF(AND(LEN(P937)=7,COUNTIF(集荷不可!$A:$A,P937)=0),FALSE,TRUE),FALSE)","v":false},false,false]
[null,null,null,null,null,null,null,null,null,null,null,null,null,null,null,"","",false,{"$f":"CheckIzonMoji(A938)","v":false},false,{"$f":"CheckKana(B938)","v":false},false,false,false,false,false,false,false,false,false,false,false,false,{"$f":"IF(R938,IF(AND(LEN(P938)=7,COUNTIF(集荷不可!$A:$A,P938)=0),FALSE,TRUE),FALSE)","v":false},false,false]
[null,null,null,null,null,null,null,null,null,null,null,null,null,null,null,"","",false,{"$f":"CheckIzonMoji(A939)","v":false},false,{"$f":"CheckKana(B939)","v":false},false,false,false,false,false,false,false,false,false,false,false,false,{"$f":"IF(R939,IF(AND(LEN(P939)=7,COUNTIF(集荷不可!$A:$A,P939)=0),FALSE,TRUE),FALSE)","v":false},false,false]
[null,null,null,null,null,null,null,null,null,null,null,null,null,null,null,"","",false,{"$f":"CheckIzonMoji(A940)","v":false},false,{"$f":"CheckKana(B940)","v":false},false,false,false,false,false,false,false,false,false,false,false,false,{"$f":"IF(R940,IF(AND(LEN(P940)=7,COUNTIF(集荷不可!$A:$A,P940)=0),FALSE,TRUE),FALSE)","v":false},false,false]
[null,null,null,null,null,null,null,null,null,null,null,null,null,null,null,"","",false,{"$f":"CheckIzonMoji(A941)","v":false},false,{"$f":"CheckKana(B941)","v":false},false,false,false,false,false,false,false,false,false,false,false,false,{"$f":"IF(R941,IF(AND(LEN(P941)=7,COUNTIF(集荷不可!$A:$A,P941)=0),FALSE,TRUE),FALSE)","v":false},false,false]
[null,null,null,null,null,null,null,null,null,null,null,null,null,null,null,"","",false,{"$f":"CheckIzonMoji(A942)","v":false},false,{"$f":"CheckKana(B942)","v":false},false,false,false,false,false,false,false,false,false,false,false,false,{"$f":"IF(R942,IF(AND(LEN(P942)=7,COUNTIF(集荷不可!$A:$A,P942)=0),FALSE,TRUE),FALSE)","v":false},false,false]
[null,null,null,null,null,null,null,null,null,null,null,null,null,null,null,"","",false,{"$f":"CheckIzonMoji(A943)","v":false},false,{"$f":"CheckKana(B943)","v":false},false,false,false,false,false,false,false,false,false,false,false,false,{"$f":"IF(R943,IF(AND(LEN(P943)=7,COUNTIF(集荷不可!$A:$A,P943)=0),FALSE,TRUE),FALSE)","v":false},false,false]
[null,null,null,null,null,null,null,null,null,null,null,null,null,null,null,"","",false,{"$f":"CheckIzonMoji(A944)","v":false},false,{"$f":"CheckKana(B944)","v":false},false,false,false,false,false,false,false,false,false,false,false,false,{"$f":"IF(R944,IF(AND(LEN(P944)=7,COUNTIF(集荷不可!$A:$A,P944)=0),FALSE,TRUE),FALSE)","v":false},false,false]
[null,null,null,null,null,null,null,null,null,null,null,null,null,null,null,"","",false,{"$f":"CheckIzonMoji(A945)","v":false},false,{"$f":"CheckKana(B945)","v":false},false,false,false,false,false,false,false,false,false,false,false,false,{"$f":"IF(R945,IF(AND(LEN(P945)=7,COUNTIF(集荷不可!$A:$A,P945)=0),FALSE,TRUE),FALSE)","v":false},false,false]
[null,null,null,null,null,null,null,null,null,null,null,null,null,null,null,"","",false,{"$f":"CheckIzonMoji(A946)","v":false},false,{"$f":"CheckKana(B946)","v":false},false,false,false,false,false,false,false,false,false,false,false,false,{"$f":"IF(R946,IF(AND(LEN(P946)=7,COUNTIF(集荷不可!$A:$A,P946)=0),FALSE,TRUE),FALSE)","v":false},false,false]
[null,null,null,null,null,null,null,null,null,null,null,null,null,null,null,"","",false,{"$f":"CheckIzonMoji(A947)","v":false},false,{"$f":"CheckKana(B947)","v":false},false,false,false,false,false,false,false,false,false,false,false,false,{"$f":"IF(R947,IF(AND(LEN(P947)=7,COUNTIF(集荷不可!$A:$A,P947)=0),FALSE,TRUE),FALSE)","v":false},false,false]
[null,null,null,null,null,null,null,null,null,null,null,null,null,null,null,"","",false,{"$f":"CheckIzonMoji(A948)","v":false},false,{"$f":"CheckKana(B948)","v":false},false,false,false,false,false,false,false,false,false,false,false,false,{"$f":"IF(R948,IF(AND(LEN(P948)=7,COUNTIF(集荷不可!$A:$A,P948)=0),FALSE,TRUE),FALSE)","v":false},false,false]
[null,null,null,null,null,null,null,null,null,null,null,null,null,null,null,"","",false,{"$f":"CheckIzonMoji(A949)","v":false},false,{"$f":"CheckKana(B949)","v":false},false,false,false,false,false,false,false,false,false,false,false,false,{"$f":"IF(R949,IF(AND(LEN(P949)=7,COUNTIF(集荷不可!$A:$A,P949)=0),FALSE,TRUE),FALSE)","v":false},false,false]
[null,null,null,null,null,null,null,null,null,null,null,null,null,null,null,"","",false,{"$f":"CheckIzonMoji(A950)","v":false},false,{"$f":"CheckKana(B950)","v":false},false,false,false,false,false,false,false,false,false,false,false,false,{"$f":"IF(R950,IF(AND(LEN(P950)=7,COUNTIF(集荷不可!$A:$A,P950)=0),FALSE,TRUE),FALSE)","v":false},false,false]
[null,null,null,null,null,null,null,null,null,null,null,null,null,null,null,"","",false,{"$f":"CheckIzonMoji(A951)","v":false},false,{"$f":"CheckKana(B951)","v":false},false,false,false,false,false,false,false,false,false,false,false,false,{"$f":"IF(R951,IF(AND(LEN(P951)=7,COUNTIF(集荷不可!$A:$A,P951)=0),FALSE,TRUE),FALSE)","v":false},false,false]
[null,null,null,null,null,null,null,null,null,null,null,null,null,null,null,"","",false,{"$f":"CheckIzonMoji(A952)","v":false},false,{"$f":"CheckKana(B952)","v":false},false,false,false,false,false,false,false,false,false,false,false,false,{"$f":"IF(R952,IF(AND(LEN(P952)=7,COUNTIF(集荷不可!$A:$A,P952)=0),FALSE,TRUE),FALSE)","v":false},false,false]
[null,null,null,null,null,null,null,null,null,null,null,null,null,null,null,"","",false,{"$f":"CheckIzonMoji(A953)","v":false},false,{"$f":"CheckKana(B953)","v":false},false,false,false,false,false,false,false,false,false,false,false,false,{"$f":"IF(R953,IF(AND(LEN(P953)=7,COUNTIF(集荷不可!$A:$A,P953)=0),FALSE,TRUE),FALSE)","v":false},false,false]
[null,null,null,null,null,null,null,null,null,null,null,null,null,null,null,"","",false,{"$f":"CheckIzonMoji(A954)","v":false},false,{"$f":"CheckKana(B954)","v":false},false,false,false,false,false,false,false,false,false,false,false,false,{"$f":"IF(R954,IF(AND(LEN(P954)=7,COUNTIF(集荷不可!$A:$A,P954)=0),FALSE,TRUE),FALSE)","v":false},false,false]
[null,null,null,null,null,null,null,null,null,null,null,null,null,null,null,"","",false,{"$f":"CheckIzonMoji(A955)","v":false},false,{"$f":"CheckKana(B955)","v":false},false,false,false,false,false,false,false,false,false,false,false,false,{"$f":"IF(R955,IF(AND(LEN(P955)=7,COUNTIF(集荷不可!$A:$A,P955)=0),FALSE,TRUE),FALSE)","v":false},false,false]
[null,null,null,null,null,null,null,null,null,null,null,null,null,null,null,"","",false,{"$f":"CheckIzonMoji(A956)","v":false},false,{"$f":"CheckKana(B956)","v":false},false,false,false,false,false,false,false,false,false,false,false,false,{"$f":"IF(R956,IF(AND(LEN(P956)=7,COUNTIF(集荷不可!$A:$A,P956)=0),FALSE,TRUE),FALSE)","v":false},false,false]
[null,null,null,null,null,null,null,null,null,null,null,null,null,null,null,"","",false,{"$f":"CheckIzonMoji(A957)","v":false},false,{"$f":"CheckKana(B957)","v":false},false,false,false,false,false,false,false,false,false,false,false,false,{"$f":"IF(R957,IF(AND(LEN(P957)=7,COUNTIF(集荷不可!$A:$A,P957)=0),FALSE,TRUE),FALSE)","v":false},false,false]
[null,null,null,null,null,null,null,null,null,null,null,null,null,null,null,"","",false,{"$f":"CheckIzonMoji(A958)","v":false},false,{"$f":"CheckKana(B958)","v":false},false,false,false,false,false,false,false,false,false,false,false,false,{"$f":"IF(R958,IF(AND(LEN(P958)=7,COUNTIF(集荷不可!$A:$A,P958)=0),FALSE,TRUE),FALSE)","v":false},false,false]
[null,null,null,null,null,null,null,null,null,null,null,null,null,null,null,"","",false,{"$f":"CheckIzonMoji(A959)","v":false},false,{"$f":"CheckKana(B959)","v":false},false,false,false,false,false,false,false,false,false,false,false,false,{"$f":"IF(R959,IF(AND(LEN(P959)=7,COUNTIF(集荷不可!$A:$A,P959)=0),FALSE,TRUE),FALSE)","v":false},false,false]
[null,null,null,null,null,null,null,null,null,null,null,null,null,null,null,"","",false,{"$f":"CheckIzonMoji(A960)","v":false},false,{"$f":"CheckKana(B960)","v":false},false,false,false,false,false,false,false,false,false,false,false,false,{"$f":"IF(R960,IF(AND(LEN(P960)=7,COUNTIF(集荷不可!$A:$A,P960)=0),FALSE,TRUE),FALSE)","v":false},false,false]
[null,null,null,null,null,null,null,null,null,null,null,null,null,null,null,"","",false,{"$f":"CheckIzonMoji(A961)","v":false},false,{"$f":"CheckKana(B961)","v":false},false,false,false,false,false,false,false,false,false,false,false,false,{"$f":"IF(R961,IF(AND(LEN(P961)=7,COUNTIF(集荷不可!$A:$A,P961)=0),FALSE,TRUE),FALSE)","v":false},false,false]
[null,null,null,null,null,null,null,null,null,null,null,null,null,null,null,"","",false,{"$f":"CheckIzonMoji(A962)","v":false},false,{"$f":"CheckKana(B962)","v":false},false,false,false,false,false,false,false,false,false,false,false,false,{"$f":"IF(R962,IF(AND(LEN(P962)=7,COUNTIF(集荷不可!$A:$A,P962)=0),FALSE,TRUE),FALSE)","v":false},false,false]
[null,null,null,null,null,null,null,null,null,null,null,null,null,null,null,"","",false,{"$f":"CheckIzonMoji(A963)","v":false},false,{"$f":"CheckKana(B963)","v":false},false,false,false,false,false,false,false,false,false,false,false,false,{"$f":"IF(R963,IF(AND(LEN(P963)=7,COUNTIF(集荷不可!$A:$A,P963)=0),FALSE,TRUE),FALSE)","v":false},false,false]
[null,null,null,null,null,null,null,null,null,null,null,null,null,null,null,"","",false,{"$f":"CheckIzonMoji(A964)","v":false},false,{"$f":"CheckKana(B964)","v":false},false,false,false,false,false,false,false,false,false,false,false,false,{"$f":"IF(R964,IF(AND(LEN(P964)=7,COUNTIF(集荷不可!$A:$A,P964)=0),FALSE,TRUE),FALSE)","v":false},false,false]
[null,null,null,null,null,null,null,null,null,null,null,null,null,null,null,"","",false,{"$f":"CheckIzonMoji(A965)","v":false},false,{"$f":"CheckKana(B965)","v":false},false,false,false,false,false,false,false,false,false,false,false,false,{"$f":"IF(R965,IF(AND(LEN(P965)=7,COUNTIF(集荷不可!$A:$A,P965)=0),FALSE,TRUE),FALSE)","v":false},false,false]
[null,null,null,null,null,null,null,null,null,null,null,null,null,null,null,"","",false,{"$f":"CheckIzonMoji(A966)","v":false},false,{"$f":"CheckKana(B966)","v":false},false,false,false,false,false,false,false,false,false,false,false,false,{"$f":"IF(R966,IF(AND(LEN(P966)=7,COUNTIF(集荷不可!$A:$A,P966)=0),FALSE,TRUE),FALSE)","v":false},false,false]
[null,null,null,null,null,null,null,null,null,null,null,null,null,null,null,"","",{"$f":"IF(LEN(A967&B967&C967&D967&E967&F967&G967&H967&I967&J967&K967&L967&M967&N967&O967)=0,FALSE,TRUE)","v":false},{"$f":"CheckIzonMoji(A967)","v":false},{"$f":"IF(R967,IF(AND(0<LENB(A967),LENB(A967)<33),FALSE,TRUE),FALSE)","v":false},{"$f":"CheckKana(B967)","v":false},{"$f":"IF(R967,IF(AND(0<LENB(B967),LENB(B967)<33),FALSE,TRUE),FALSE)","v":false},{"$f":"IF(R967,IF(C967=\"\",TRUE,FALSE),FALSE)","v":false},{"$f":"IF(R967,IF(OR(D967=\"\",ISERR(DAY(D967))),TRUE,FALSE),FALSE)","v":false},{"$f":"IF(R967,IF(E967=\"\",TRUE,FALSE),FALSE)","v":false},{"$f":"IF(R967,IF(AND(LENB(G967)>1,LENB(G967)<65),FALSE,TRUE),FALSE)","v":false},{"$f":"IF(LENB(H967)<33,FALSE,TRUE)","v":false},{"$f":"IF(LENB(I967)<51,FALSE,TRUE)","v":false},{"$f":"IF(LENB(J967)<51,FALSE,TRUE)","v":false},{"$f":"IF(R967,IF(AND(LENB(K967)>2,LENB(K967)<16),FALSE,TRUE),FALSE)","v":false},{"$f":"IF(R967,IF(AND(0<LENB(L967),LENB(L967)<61),FALSE,TRUE),FALSE)","v":false},{"$f":"IF(R967,IF(AND(LENB(M967)<9),FALSE,TRUE),FALSE)","v":false},{"$f":"IF(R967,IF(O967=\"\",TRUE,FALSE),FALSE)","v":false},{"$f":"IF(R967,IF(AND(LEN(P967)=7,COUNTIF(集荷不可!$A:$A,P967)=0),FALSE,TRUE),FALSE)","v":false},{"$f":"IF(ISERROR(FIND(\".@\",L967)),FALSE,TRUE)","v":false},{"$f":"IF(LENB(N967)<9,FALSE,TRUE)","v":false}]
[null,null,null,null,null,null,null,null,null,null,null,null,null,null,null,"","",false,{"$f":"CheckIzonMoji(A968)","v":false},false,{"$f":"CheckKana(B968)","v":false},false,false,false,false,false,false,false,false,false,false,false,false,{"$f":"IF(R968,IF(AND(LEN(P968)=7,COUNTIF(集荷不可!$A:$A,P968)=0),FALSE,TRUE),FALSE)","v":false},false,false]
[null,null,null,null,null,null,null,null,null,null,null,null,null,null,null,{"$f":"SUBSTITUTE(F969,\"-\",\"\")","v":""},{"$f":"LEFT(O969,1)","v":""},false,{"$f":"CheckIzonMoji(A969)","v":false},false,{"$f":"CheckKana(B969)","v":false},false,false,false,false,false,false,false,false,false,false,false,false,{"$f":"IF(R969,IF(AND(LEN(P969)=7,COUNTIF(集荷不可!$A:$A,P969)=0),FALSE,TRUE),FALSE)","v":false},false,false]
[null,null,null,null,null,null,null,null,null,null,null,null,null,null,null,"","",false,{"$f":"CheckIzonMoji(A970)","v":false},false,{"$f":"CheckKana(B970)","v":false},false,false,false,false,false,false,false,false,false,false,false,false,{"$f":"IF(R970,IF(AND(LEN(P970)=7,COUNTIF(集荷不可!$A:$A,P970)=0),FALSE,TRUE),FALSE)","v":false},false,false]
[null,null,null,null,null,null,null,null,null,null,null,null,null,null,null,"","",false,{"$f":"CheckIzonMoji(A971)","v":false},false,{"$f":"CheckKana(B971)","v":false},false,false,false,false,false,false,false,false,false,false,false,false,{"$f":"IF(R971,IF(AND(LEN(P971)=7,COUNTIF(集荷不可!$A:$A,P971)=0),FALSE,TRUE),FALSE)","v":false},false,false]
[null,null,null,null,null,null,null,null,null,null,null,null,null,null,null,"","",false,{"$f":"CheckIzonMoji(A972)","v":false},false,{"$f":"CheckKana(B972)","v":false},false,false,false,false,false,false,false,false,false,false,false,false,{"$f":"IF(R972,IF(AND(LEN(P972)=7,COUNTIF(集荷不可!$A:$A,P972)=0),FALSE,TRUE),FALSE)","v":false},false,false]
[null,null,null,null,null,null,null,null,null,null,null,null,null,null,null,"","",false,{"$f":"CheckIzonMoji(A973)","v":false},false,{"$f":"CheckKana(B973)","v":false},false,false,false,false,false,false,false,false,false,false,false,false,{"$f":"IF(R973,IF(AND(LEN(P973)=7,COUNTIF(集荷不可!$A:$A,P973)=0),FALSE,TRUE),FALSE)","v":false},false,false]
[null,null,null,null,null,null,null,null,null,null,null,null,null,null,null,"","",false,{"$f":"CheckIzonMoji(A974)","v":false},false,{"$f":"CheckKana(B974)","v":false},false,false,false,false,false,false,false,false,false,false,false,false,{"$f":"IF(R974,IF(AND(LEN(P974)=7,COUNTIF(集荷不可!$A:$A,P974)=0),FALSE,TRUE),FALSE)","v":false},false,false]
[null,null,null,null,null,null,null,null,null,null,null,null,null,null,null,"","",false,{"$f":"CheckIzonMoji(A975)","v":false},false,{"$f":"CheckKana(B975)","v":false},false,false,false,false,false,false,false,false,false,false,false,false,{"$f":"IF(R975,IF(AND(LEN(P975)=7,COUNTIF(集荷不可!$A:$A,P975)=0),FALSE,TRUE),FALSE)","v":false},false,false]
[null,null,null,null,null,null,null,null,null,null,null,null,null,null,null,"","",false,{"$f":"CheckIzonMoji(A976)","v":false},false,{"$f":"CheckKana(B976)","v":false},false,false,false,false,false,false,false,false,false,false,false,false,{"$f":"IF(R976,IF(AND(LEN(P976)=7,COUNTIF(集荷不可!$A:$A,P976)=0),FALSE,TRUE),FALSE)","v":false},false,false]
[null,null,null,null,null,null,null,null,null,null,null,null,null,null,null,"","",false,{"$f":"CheckIzonMoji(A977)","v":false},false,{"$f":"CheckKana(B977)","v":false},false,false,false,false,false,false,false,false,false,false,false,false,{"$f":"IF(R977,IF(AND(LEN(P977)=7,COUNTIF(集荷不可!$A:$A,P977)=0),FALSE,TRUE),FALSE)","v":false},false,false]
[null,null,null,null,null,null,null,null,null,null,null,null,null,null,null,"","",false,{"$f":"CheckIzonMoji(A978)","v":false},false,{"$f":"CheckKana(B978)","v":false},false,false,false,false,false,false,false,false,false,false,false,false,{"$f":"IF(R978,IF(AND(LEN(P978)=7,COUNTIF(集荷不可!$A:$A,P978)=0),FALSE,TRUE),FALSE)","v":false},false,false]
[null,null,null,null,null,null,null,null,null,null,null,null,null,null,null,"","",false,{"$f":"CheckIzonMoji(A979)","v":false},false,{"$f":"CheckKana(B979)","v":false},false,false,false,false,false,false,false,false,false,false,false,false,{"$f":"IF(R979,IF(AND(LEN(P979)=7,COUNTIF(集荷不可!$A:$A,P979)=0),FALSE,TRUE),FALSE)","v":false},false,false]
[null,null,null,null,null,null,null,null,null,null,null,null,null,null,null,"","",false,{"$f":"CheckIzonMoji(A980)","v":false},false,{"$f":"CheckKana(B980)","v":false},false,false,false,false,false,false,false,false,false,false,false,false,{"$f":"IF(R980,IF(AND(LEN(P980)=7,COUNTIF(集荷不可!$A:$A,P980)=0),FALSE,TRUE),FALSE)","v":false},false,false]
[null,null,null,null,null,null,null,null,null,null,null,null,null,null,null,"","",false,{"$f":"CheckIzonMoji(A981)","v":false},false,{"$f":"CheckKana(B981)","v":false},false,false,false,false,false,false,false,false,false,false,false,false,{"$f":"IF(R981,IF(AND(LEN(P981)=7,COUNTIF(集荷不可!$A:$A,P981)=0),FALSE,TRUE),FALSE)","v":false},false,false]
[null,null,null,null,null,null,null,null,null,null,null,null,null,null,null,"","",false,{"$f":"CheckIzonMoji(A982)","v":false},false,{"$f":"CheckKana(B982)","v":false},false,false,false,false,false,false,false,false,false,false,false,false,{"$f":"IF(R982,IF(AND(LEN(P982)=7,COUNTIF(集荷不可!$A:$A,P982)=0),FALSE,TRUE),FALSE)","v":false},false,false]
[null,null,null,null,null,null,null,null,null,null,null,null,null,null,null,"","",false,{"$f":"CheckIzonMoji(A983)","v":false},false,{"$f":"CheckKana(B983)","v":false},false,false,false,false,false,false,false,false,false,false,false,false,{"$f":"IF(R983,IF(AND(LEN(P983)=7,COUNTIF(集荷不可!$A:$A,P983)=0),FALSE,TRUE),FALSE)","v":false},false,false]
[null,null,null,null,null,null,null,null,null,null,null,null,null,null,null,"","",false,{"$f":"CheckIzonMoji(A984)","v":false},false,{"$f":"CheckKana(B984)","v":false},false,false,false,false,false,false,false,false,false,false,false,false,{"$f":"IF(R984,IF(AND(LEN(P984)=7,COUNTIF(集荷不可!$A:$A,P984)=0),FALSE,TRUE),FALSE)","v":false},false,false]
[null,null,null,null,null,null,null,null,null,null,null,null,null,null,null,"","",false,{"$f":"CheckIzonMoji(A985)","v":false},false,{"$f":"CheckKana(B985)","v":false},false,false,false,false,false,false,false,false,false,false,false,false,{"$f":"IF(R985,IF(AND(LEN(P985)=7,COUNTIF(集荷不可!$A:$A,P985)=0),FALSE,TRUE),FALSE)","v":false},false,false]
[null,null,null,null,null,null,null,null,null,null,null,null,null,null,null,"","",false,{"$f":"CheckIzonMoji(A986)","v":false},false,{"$f":"CheckKana(B986)","v":false},false,false,false,false,false,false,false,false,false,false,false,false,{"$f":"IF(R986,IF(AND(LEN(P986)=7,COUNTIF(集荷不可!$A:$A,P986)=0),FALSE,TRUE),FALSE)","v":false},false,false]
[null,null,null,null,null,null,null,null,null,null,null,null,null,null,null,"","",false,{"$f":"CheckIzonMoji(A987)","v":false},false,{"$f":"CheckKana(B987)","v":false},false,false,false,false,false,false,false,false,false,false,false,false,{"$f":"IF(R987,IF(AND(LEN(P987)=7,COUNTIF(集荷不可!$A:$A,P987)=0),FALSE,TRUE),FALSE)","v":false},false,false]
[null,null,null,null,null,null,null,null,null,null,null,null,null,null,null,"","",false,{"$f":"CheckIzonMoji(A988)","v":false},false,{"$f":"CheckKana(B988)","v":false},false,false,false,false,false,false,false,false,false,false,false,false,{"$f":"IF(R988,IF(AND(LEN(P988)=7,COUNTIF(集荷不可!$A:$A,P988)=0),FALSE,TRUE),FALSE)","v":false},false,false]
[null,null,null,null,null,null,null,null,null,null,null,null,null,null,null,"","",false,{"$f":"CheckIzonMoji(A989)","v":false},false,{"$f":"CheckKana(B989)","v":false},false,false,false,false,false,false,false,false,false,false,false,false,{"$f":"IF(R989,IF(AND(LEN(P989)=7,COUNTIF(集荷不可!$A:$A,P989)=0),FALSE,TRUE),FALSE)","v":false},false,false]
[null,null,null,null,null,null,null,null,null,null,null,null,null,null,null,"","",false,{"$f":"CheckIzonMoji(A990)","v":false},false,{"$f":"CheckKana(B990)","v":false},false,false,false,false,false,false,false,false,false,false,false,false,{"$f":"IF(R990,IF(AND(LEN(P990)=7,COUNTIF(集荷不可!$A:$A,P990)=0),FALSE,TRUE),FALSE)","v":false},false,false]
[null,null,null,null,null,null,null,null,null,null,null,null,null,null,null,"","",false,{"$f":"CheckIzonMoji(A991)","v":false},false,{"$f":"CheckKana(B991)","v":false},false,false,false,false,false,false,false,false,false,false,false,false,{"$f":"IF(R991,IF(AND(LEN(P991)=7,COUNTIF(集荷不可!$A:$A,P991)=0),FALSE,TRUE),FALSE)","v":false},false,false]
[null,null,null,null,null,null,null,null,null,null,null,null,null,null,null,"","",false,{"$f":"CheckIzonMoji(A992)","v":false},false,{"$f":"CheckKana(B992)","v":false},false,false,false,false,false,false,false,false,false,false,false,false,{"$f":"IF(R992,IF(AND(LEN(P992)=7,COUNTIF(集荷不可!$A:$A,P992)=0),FALSE,TRUE),FALSE)","v":false},false,false]
[null,null,null,null,null,null,null,null,null,null,null,null,null,null,null,"","",false,{"$f":"CheckIzonMoji(A993)","v":false},false,{"$f":"CheckKana(B993)","v":false},false,false,false,false,false,false,false,false,false,false,false,false,{"$f":"IF(R993,IF(AND(LEN(P993)=7,COUNTIF(集荷不可!$A:$A,P993)=0),FALSE,TRUE),FALSE)","v":false},false,false]
[null,null,null,null,null,null,null,null,null,null,null,null,null,null,null,"","",false,{"$f":"CheckIzonMoji(A994)","v":false},false,{"$f":"CheckKana(B994)","v":false},false,false,false,false,false,false,false,false,false,false,false,false,{"$f":"IF(R994,IF(AND(LEN(P994)=7,COUNTIF(集荷不可!$A:$A,P994)=0),FALSE,TRUE),FALSE)","v":false},false,false]
[null,null,null,null,null,null,null,null,null,null,null,null,null,null,null,"","",false,{"$f":"CheckIzonMoji(A995)","v":false},false,{"$f":"CheckKana(B995)","v":false},false,false,false,false,false,false,false,false,false,false,false,false,{"$f":"IF(R995,IF(AND(LEN(P995)=7,COUNTIF(集荷不可!$A:$A,P995)=0),FALSE,TRUE),FALSE)","v":false},false,false]
[null,null,null,null,null,null,null,null,null,null,null,null,null,null,null,"","",false,{"$f":"CheckIzonMoji(A996)","v":false},false,{"$f":"CheckKana(B996)","v":false},false,false,false,false,false,false,false,false,false,false,false,false,{"$f":"IF(R996,IF(AND(LEN(P996)=7,COUNTIF(集荷不可!$A:$A,P996)=0),FALSE,TRUE),FALSE)","v":false},false,false]
[null,null,null,null,null,null,null,null,null,null,null,null,null,null,null,"","",false,{"$f":"CheckIzonMoji(A997)","v":false},false,{"$f":"CheckKana(B997)","v":false},false,false,false,false,false,false,false,false,false,false,false,false,{"$f":"IF(R997,IF(AND(LEN(P997)=7,COUNTIF(集荷不可!$A:$A,P997)=0),FALSE,TRUE),FALSE)","v":false},false,false]
[null,null,null,null,null,null,null,null,null,null,null,null,null,null,null,"","",false,{"$f":"CheckIzonMoji(A998)","v":false},false,{"$f":"CheckKana(B998)","v":false},false,false,false,false,false,false,false,false,false,false,false,false,{"$f":"IF(R998,IF(AND(LEN(P998)=7,COUNTIF(集荷不可!$A:$A,P998)=0),FALSE,TRUE),FALSE)","v":false},false,false]
[null,null,null,null,null,null,null,null,null,null,null,null,null,null,null,"","",false,{"$f":"CheckIzonMoji(A999)","v":false},false,{"$f":"CheckKana(B999)","v":false},false,false,false,false,false,false,false,false,false,false,false,false,{"$f":"IF(R999,IF(AND(LEN(P999)=7,COUNTIF(集荷不可!$A:$A,P999)=0),FALSE,TRUE),FALSE)","v":false},false,false]
[null,null,null,null,null,null,null,null,null,null,null,null,null,null,null,"","",false,{"$f":"CheckIzonMoji(A1000)","v":false},false,{"$f":"CheckKana(B1000)","v":false},false,false,false,false,false,false,false,false,false,false,false,false,{"$f":"IF(R1000,IF(AND(LEN(P1000)=7,COUNTIF(集荷不可!$A:$A,P1000)=0),FALSE,TRUE),FALSE)","v":false},false,false]
[null,null,null,null,null,null,null,null,null,null,null,null,null,null,null,"","",false,{"$f":"CheckIzonMoji(A1001)","v":false},false,{"$f":"CheckKana(B1001)","v":false},false,false,false,false,false,false,false,false,false,false,false,false,{"$f":"IF(R1001,IF(AND(LEN(P1001)=7,COUNTIF(集荷不可!$A:$A,P1001)=0),FALSE,TRUE),FALSE)","v":false},false,false]
[null,null,null,null,null,null,null,null,null,null,null,null,null,null,null,"","",false,{"$f":"CheckIzonMoji(A1002)","v":false},false,{"$f":"CheckKana(B1002)","v":false},false,false,false,false,false,false,false,false,false,false,false,false,{"$f":"IF(R1002,IF(AND(LEN(P1002)=7,COUNTIF(集荷不可!$A:$A,P1002)=0),FALSE,TRUE),FALSE)","v":false},false,false]
[null,null,null,null,null,null,null,null,null,null,null,null,null,null,null,"","",false,{"$f":"CheckIzonMoji(A1003)","v":false},false,{"$f":"CheckKana(B1003)","v":false},false,false,false,false,false,false,false,false,false,false,false,false,{"$f":"IF(R1003,IF(AND(LEN(P1003)=7,COUNTIF(集荷不可!$A:$A,P1003)=0),FALSE,TRUE),FALSE)","v":false},false,false]
[null,null,null,null,null,null,null,null,null,null,null,null,null,null,null,"","",false,{"$f":"CheckIzonMoji(A1004)","v":false},false,{"$f":"CheckKana(B1004)","v":false},false,false,false,false,false,false,false,false,false,false,false,false,{"$f":"IF(R1004,IF(AND(LEN(P1004)=7,COUNTIF(集荷不可!$A:$A,P1004)=0),FALSE,TRUE),FALSE)","v":false},false,false]

{"sheet":"集荷不可","index":1,"n_rows":18,"n_cols":8,"rows_kept":18,"cut":false,"hidden":false,"merged":[]}
["郵便番号","郵便番号1","郵便番号2","都道府県名","市区町村名","町域名","集荷可否","備考"]
["9013900",{"$f":"MID(A2,1,3)","v":"901"},{"$f":"MID(A2,4,4)","v":"3900"},"沖縄県","島尻郡北大東村","以下に掲載がない場合","×","全域集荷不可"]
["9013902",{"$f":"MID(A3,1,3)","v":"901"},{"$f":"MID(A3,4,4)","v":"3902"},"沖縄県","島尻郡北大東村","中野","×","全域集荷不可"]
["9013903","901","3903","沖縄県","島尻郡北大東村","港","×","全域集荷不可"]
["9013901","901","3901","沖縄県","島尻郡北大東村","南","×","全域集荷不可"]
["9013800","901","3800","沖縄県","島尻郡南大東村","以下に掲載がない場合","×","全域集荷不可"]
["9013806","901","3806","沖縄県","島尻郡南大東村","池之沢","×","全域集荷不可"]
["9013801","901","3801","沖縄県","島尻郡南大東村","北","×","全域集荷不可"]
["9013803","901","3803","沖縄県","島尻郡南大東村","旧東","×","全域集荷不可"]
["9013805","901","3805","沖縄県","島尻郡南大東村","在所","×","全域集荷不可"]
["9013802","901","3802","沖縄県","島尻郡南大東村","新東","×","全域集荷不可"]
["9013804","901","3804","沖縄県","島尻郡南大東村","南","×","全域集荷不可"]
["9060600","906","0600","沖縄県","\t宮古郡多良間村","以下に掲載がない場合","×","全域集荷不可"]
["9060601","906","0601","沖縄県","\t宮古郡多良間村","塩川","×","全域集荷不可"]
["9060602","906","0602","沖縄県","\t宮古郡多良間村","仲筋","×","全域集荷不可"]
["9060603","906","0603","沖縄県","\t宮古郡多良間村","水納","×","全域集荷不可"]
["9071800","907","1800","沖縄県","八重山郡与那国町","以下に掲載がない場合","×","全域集荷不可"]
["9071801","907","1801","沖縄県","八重山郡与那国町","与那国","×","全域集荷不可"]

{"sheet":"サリバ取込","index":2,"n_rows":1000,"n_cols":14,"rows_kept":1000,"cut":false,"hidden":true,"merged":[]}
["氏名","氏名カナ","性別","生年月日","郵便番号","住所1","住所2","部門１","部門２","TEL","メール","保険証記号","保険証番号","本人・家族"]
[{"$f":"IF(入力シート!A6=\"\",\"\",入力シート!A6)","v":""},{"$f":"IF(入力シート!B6=\"\",\"\",入力シート!B6)","v":""},{"$f":"IF(入力シート!C6=\"\",\"\",入力シート!C6)","v":""},{"$f":"IF(入力シート!D6=\"\",\"\",TEXT(入力シート!D6,\"yyyy-mm-dd\"))","v":""},{"$f":"IF(入力シート!P6=\"\",\"\",TEXT(入力シート!P6,\"000-0000\"))","v":""},{"$f":"IF(入力シート!G6=\"\",\"\",入力シート!G6)","v":""},{"$f":"IF(入力シート!H6=\"\",\"\",入力シート!H6)","v":""},{"$f":"IF(入力シート!I6=\"\",\"\",入力シート!I6)","v":""},{"$f":"IF(入力シート!J6=\"\",\"\",入力シート!J6)","v":""},{"$f":"IF(入力シート!K6=\"\",\"\",入力シート!K6)","v":""},{"$f":"IF(入力シート!L6=\"\",\"\",ASC(入力シート!L6))","v":""},{"$f":"IF(入力シート!M6=\"\",\"\",入力シート!M6)","v":""},{"$f":"IF(入力シート!N6=\"\",\"\",入力シート!N6)","v":""},{"$f":"IF(入力シート!O6=\"\",\"\",入力シート!Q6)","v":""}]
[{"$f":"IF(入力シート!A7=\"\",\"\",入力シート!A7)","v":""},{"$f":"IF(入力シート!B7=\"\",\"\",入力シート!B7)","v":""},{"$f":"IF(入力シート!C7=\"\",\"\",入力シート!C7)","v":""},{"$f":"IF(入力シート!D7=\"\",\"\",TEXT(入力シート!D7,\"yyyy-mm-dd\"))","v":""},{"$f":"IF(入力シート!P7=\"\",\"\",TEXT(入力シート!P7,\"000-0000\"))","v":""},{"$f":"IF(入力シート!G7=\"\",\"\",入力シート!G7)","v":""},{"$f":"IF(入力シート!H7=\"\",\"\",入力シート!H7)","v":""},{"$f":"IF(入力シート!I7=\"\",\"\",入力シート!I7)","v":""},{"$f":"IF(入力シート!J7=\"\",\"\",入力シート!J7)","v":""},{"$f":"IF(入力シート!K7=\"\",\"\",入力シート!K7)","v":""},{"$f":"IF(入力シート!L7=\"\",\"\",入力シート!L7)","v":""},{"$f":"IF(入力シート!M7=\"\",\"\",入力シート!M7)","v":""},{"$f":"IF(入力シート!N7=\"\",\"\",入力シート!N7)","v":""},{"$f":"IF(入力シート!O7=\"\",\"\",入力シート!Q7)","v":""}]
[{"$f":"IF(入力シート!A8=\"\",\"\",入力シート!A8)","v":""},{"$f":"IF(入力シート!B8=\"\",\"\",入力シート!B8)","v":""},{"$f":"IF(入力シート!C8=\"\",\"\",入力シート!C8)","v":""},{"$f":"IF(入力シート!D8=\"\",\"\",TEXT(入力シート!D8,\"yyyy-mm-dd\"))","v":""},{"$f":"IF(入力シート!P8=\"\",\"\",TEXT(入力シート!P8,\"000-0000\"))","v":""},{"$f":"IF(入力シート!G8=\"\",\"\",入力シート!G8)","v":""},{"$f":"IF(入力シート!H8=\"\",\"\",入力シート!H8)","v":""},{"$f":"IF(入力シート!I8=\"\",\"\",入力シート!I8)","v":""},{"$f":"IF(入力シート!J8=\"\",\"\",入力シート!J8)","v":""},{"$f":"IF(入力シート!K8=\"\",\"\",入力シート!K8)","v":""},{"$f":"IF(入力シート!L8=\"\",\"\",入力シート!L8)","v":""},{"$f":"IF(入力シート!M8=\"\",\"\",入力シート!M8)","v":""},{"$f":"IF(入力シート!N8=\"\",\"\",入力シート!N8)","v":""},{"$f":"IF(入力シート!O8=\"\",\"\",入力シート!Q8)","v":""}]
[{"$f":"IF(入力シート!A9=\"\",\"\",入力シート!A9)","v":""},{"$f":"IF(入力シート!B9=\"\",\"\",入力シート!B9)","v":""},{"$f":"IF(入力シート!C9=\"\",\"\",入力シート!C9)","v":""},{"$f":"IF(入力シート!D9=\"\",\"\",TEXT(入力シート!D9,\"yyyy-mm-dd\"))","v":""},{"$f":"IF(入力シート!P9=\"\",\"\",TEXT(入力シート!P9,\"000-0000\"))","v":""},{"$f":"IF(入力シート!G9=\"\",\"\",入力シート!G9)","v":""},{"$f":"IF(入力シート!H9=\"\",\"\",入力シート!H9)","v":""},{"$f":"IF(入力シート!I9=\"\",\"\",入力シート!I9)","v":""},{"$f":"IF(入力シート!J9=\"\",\"\",入力シート!J9)","v":""},{"$f":"IF(入力シート!K9=\"\",\"\",入力シート!K9)","v":""},{"$f":"IF(入力シート!L9=\"\",\"\",入力シート!L9)","v":""},{"$f":"IF(入力シート!M9=\"\",\"\",入力シート!M9)","v":""},{"$f":"IF(入力シート!N9=\"\",\"\",入力シート!N9)","v":""},{"$f":"IF(入力シート!O9=\"\",\"\",入力シート!Q9)","v":""}]
[{"$f":"IF(入力シート!A10=\"\",\"\",入力シート!A10)","v":""},{"$f":"IF(入力シート!B10=\"\",\"\",入力シート!B10)","v":""},{"$f":"IF(入力シート!C10=\"\",\"\",入力シート!C10)","v":""},{"$f":"IF(入力シート!D10=\"\",\"\",TEXT(入力シート!D10,\"yyyy-mm-dd\"))","v":""},{"$f":"IF(入力シート!P10=\"\",\"\",TEXT(入力シート!P10,\"000-0000\"))","v":""},{"$f":"IF(入力シート!G10=\"\",\"\",入力シート!G10)","v":""},{"$f":"IF(入力シート!H10=\"\",\"\",入力シート!H10)","v":""},{"$f":"IF(入力シート!I10=\"\",\"\",入力シート!I10)","v":""},{"$f":"IF(入力シート!J10=\"\",\"\",入力シート!J10)","v":""},{"$f":"IF(入力シート!K10=\"\",\"\",入力シート!K10)","v":""},{"$f":"IF(入力シート!L10=\"\",\"\",入力シート!L10)","v":""},{"$f":"IF(入力シート!M10=\"\",\"\",入力シート!M10)","v":""},{"$f":"IF(入力シート!N10=\"\",\"\",入力シート!N10)","v":""},{"$f":"IF(入力シート!O10=\"\",\"\",入力シート!Q10)","v":""}]
[{"$f":"IF(入力シート!A11=\"\",\"\",入力シート!A11)","v":""},{"$f":"IF(入力シート!B11=\"\",\"\",入力シート!B11)","v":""},{"$f":"IF(入力シート!C11=\"\",\"\",入力シート!C11)","v":""},{"$f":"IF(入力シート!D11=\"\",\"\",TEXT(入力シート!D11,\"yyyy-mm-dd\"))","v":""},{"$f":"IF(入力シート!P11=\"\",\"\",TEXT(入力シート!P11,\"000-0000\"))","v":""},{"$f":"IF(入力シート!G11=\"\",\"\",入力シート!G11)","v":""},{"$f":"IF(入力シート!H11=\"\",\"\",入力シート!H11)","v":""},{"$f":"IF(入力シート!I11=\"\",\"\",入力シート!I11)","v":""},{"$f":"IF(入力シート!J11=\"\",\"\",入力シート!J11)","v":""},{"$f":"IF(入力シート!K11=\"\",\"\",入力シート!K11)","v":""},{"$f":"IF(入力シート!L11=\"\",\"\",入力シート!L11)","v":""},{"$f":"IF(入力シート!M11=\"\",\"\",入力シート!M11)","v":""},{"$f":"IF(入力シート!N11=\"\",\"\",入力シート!N11)","v":""},{"$f":"IF(入力シート!O11=\"\",\"\",入力シート!Q11)","v":""}]
[{"$f":"IF(入力シート!A12=\"\",\"\",入力シート!A12)","v":""},{"$f":"IF(入力シート!B12=\"\",\"\",入力シート!B12)","v":""},{"$f":"IF(入力シート!C12=\"\",\"\",入力シート!C12)","v":""},{"$f":"IF(入力シート!D12=\"\",\"\",TEXT(入力シート!D12,\"yyyy-mm-dd\"))","v":""},{"$f":"IF(入力シート!P12=\"\",\"\",TEXT(入力シート!P12,\"000-0000\"))","v":""},{"$f":"IF(入力シート!G12=\"\",\"\",入力シート!G12)","v":""},{"$f":"IF(入力シート!H12=\"\",\"\",入力シート!H12)","v":""},{"$f":"IF(入力シート!I12=\"\",\"\",入力シート!I12)","v":""},{"$f":"IF(入力シート!J12=\"\",\"\",入力シート!J12)","v":""},{"$f":"IF(入力シート!K12=\"\",\"\",入力シート!K12)","v":""},{"$f":"IF(入力シート!L12=\"\",\"\",入力シート!L12)","v":""},{"$f":"IF(入力シート!M12=\"\",\"\",入力シート!M12)","v":""},{"$f":"IF(入力シート!N12=\"\",\"\",入力シート!N12)","v":""},{"$f":"IF(入力シート!O12=\"\",\"\",入力シート!Q12)","v":""}]
[{"$f":"IF(入力シート!A13=\"\",\"\",入力シート!A13)","v":""},{"$f":"IF(入力シート!B13=\"\",\"\",入力シート!B13)","v":""},{"$f":"IF(入力シート!C13=\"\",\"\",入力シート!C13)","v":""},{"$f":"IF(入力シート!D13=\"\",\"\",TEXT(入力シート!D13,\"yyyy-mm-dd\"))","v":""},{"$f":"IF(入力シート!P13=\"\",\"\",TEXT(入力シート!P13,\"000-0000\"))","v":""},{"$f":"IF(入力シート!G13=\"\",\"\",入力シート!G13)","v":""},{"$f":"IF(入力シート!H13=\"\",\"\",入力シート!H13)","v":""},{"$f":"IF(入力シート!I13=\"\",\"\",入力シート!I13)","v":""},{"$f":"IF(入力シート!J13=\"\",\"\",入力シート!J13)","v":""},{"$f":"IF(入力シート!K13=\"\",\"\",入力シート!K13)","v":""},{"$f":"IF(入力シート!L13=\"\",\"\",入力シート!L13)","v":""},{"$f":"IF(入力シート!M13=\"\",\"\",入力シート!M13)","v":""},{"$f":"IF(入力シート!N13=\"\",\"\",入力シート!N13)","v":""},{"$f":"IF(入力シート!O13=\"\",\"\",入力シート!Q13)","v":""}]
[{"$f":"IF(入力シート!A14=\"\",\"\",入力シート!A14)","v":""},{"$f":"IF(入力シート!B14=\"\",\"\",入力シート!B14)","v":""},{"$f":"IF(入力シート!C14=\"\",\"\",入力シート!C14)","v":""},{"$f":"IF(入力シート!D14=\"\",\"\",TEXT(入力シート!D14,\"yyyy-mm-dd\"))","v":""},{"$f":"IF(入力シート!P14=\"\",\"\",TEXT(入力シート!P14,\"000-0000\"))","v":""},{"$f":"IF(入力シート!G14=\"\",\"\",入力シート!G14)","v":""},{"$f":"IF(入力シート!H14=\"\",\"\",入力シート!H14)","v":""},{"$f":"IF(入力シート!I14=\"\",\"\",入力シート!I14)","v":""},{"$f":"IF(入力シート!J14=\"\",\"\",入力シート!J14)","v":""},{"$f":"IF(入力シート!K14=\"\",\"\",入力シート!K14)","v":""},{"$f":"IF(入力シート!L14=\"\",\"\",入力シート!L14)","v":""},{"$f":"IF(入力シート!M14=\"\",\"\",入力シート!M14)","v":""},{"$f":"IF(入力シート!N14=\"\",\"\",入力シート!N14)","v":""},{"$f":"IF(入力シート!O14=\"\",\"\",入力シート!Q14)","v":""}]
[{"$f":"IF(入力シート!A15=\"\",\"\",入力シート!A15)","v":""},{"$f":"IF(入力シート!B15=\"\",\"\",入力シート!B15)","v":""},{"$f":"IF(入力シート!C15=\"\",\"\",入力シート!C15)","v":""},{"$f":"IF(入力シート!D15=\"\",\"\",TEXT(入力シート!D15,\"yyyy-mm-dd\"))","v":""},{"$f":"IF(入力シート!P15=\"\",\"\",TEXT(入力シート!P15,\"000-0000\"))","v":""},{"$f":"IF(入力シート!G15=\"\",\"\",入力シート!G15)","v":""},{"$f":"IF(入力シート!H15=\"\",\"\",入力シート!H15)","v":""},{"$f":"IF(入力シート!I15=\"\",\"\",入力シート!I15)","v":""},{"$f":"IF(入力シート!J15=\"\",\"\",入力シート!J15)","v":""},{"$f":"IF(入力シート!K15=\"\",\"\",入力シート!K15)","v":""},{"$f":"IF(入力シート!L15=\"\",\"\",入力シート!L15)","v":""},{"$f":"IF(入力シート!M15=\"\",\"\",入力シート!M15)","v":""},{"$f":"IF(入力シート!N15=\"\",\"\",入力シート!N15)","v":""},{"$f":"IF(入力シート!O15=\"\",\"\",入力シート!Q15)","v":""}]
[{"$f":"IF(入力シート!A16=\"\",\"\",入力シート!A16)","v":""},{"$f":"IF(入力シート!B16=\"\",\"\",入力シート!B16)","v":""},{"$f":"IF(入力シート!C16=\"\",\"\",入力シート!C16)","v":""},{"$f":"IF(入力シート!D16=\"\",\"\",TEXT(入力シート!D16,\"yyyy-mm-dd\"))","v":""},{"$f":"IF(入力シート!P16=\"\",\"\",TEXT(入力シート!P16,\"000-0000\"))","v":""},{"$f":"IF(入力シート!G16=\"\",\"\",入力シート!G16)","v":""},{"$f":"IF(入力シート!H16=\"\",\"\",入力シート!H16)","v":""},{"$f":"IF(入力シート!I16=\"\",\"\",入力シート!I16)","v":""},{"$f":"IF(入力シート!J16=\"\",\"\",入力シート!J16)","v":""},{"$f":"IF(入力シート!K16=\"\",\"\",入力シート!K16)","v":""},{"$f":"IF(入力シート!L16=\"\",\"\",入力シート!L16)","v":""},{"$f":"IF(入力シート!M16=\"\",\"\",入力シート!M16)","v":""},{"$f":"IF(入力シート!N16=\"\",\"\",入力シート!N16)","v":""},{"$f":"IF(入力シート!O16=\"\",\"\",入力シート!Q16)","v":""}]
[{"$f":"IF(入力シート!A17=\"\",\"\",入力シート!A17)","v":""},{"$f":"IF(入力シート!B17=\"\",\"\",入力シート!B17)","v":""},{"$f":"IF(入力シート!C17=\"\",\"\",入力シート!C17)","v":""},{"$f":"IF(入力シート!D17=\"\",\"\",TEXT(入力シート!D17,\"yyyy-mm-dd\"))","v":""},{"$f":"IF(入力シート!P17=\"\",\"\",TEXT(入力シート!P17,\"000-0000\"))","v":""},{"$f":"IF(入力シート!G17=\"\",\"\",入力シート!G17)","v":""},{"$f":"IF(入力シート!H17=\"\",\"\",入力シート!H17)","v":""},{"$f":"IF(入力シート!I17=\"\",\"\",入力シート!I17)","v":""},{"$f":"IF(入力シート!J17=\"\",\"\",入力シート!J17)","v":""},{"$f":"IF(入力シート!K17=\"\",\"\",入力シート!K17)","v":""},{"$f":"IF(入力シート!L17=\"\",\"\",入力シート!L17)","v":""},{"$f":"IF(入力シート!M17=\"\",\"\",入力シート!M17)","v":""},{"$f":"IF(入力シート!N17=\"\",\"\",入力シート!N17)","v":""},{"$f":"IF(入力シート!O17=\"\",\"\",入力シート!Q17)","v":""}]
[{"$f":"IF(入力シート!A18=\"\",\"\",入力シート!A18)","v":""},{"$f":"IF(入力シート!B18=\"\",\"\",入力シート!B18)","v":""},{"$f":"IF(入力シート!C18=\"\",\"\",入力シート!C18)","v":""},{"$f":"IF(入力シート!D18=\"\",\"\",TEXT(入力シート!D18,\"yyyy-mm-dd\"))","v":""},{"$f":"IF(入力シート!P18=\"\",\"\",TEXT(入力シート!P18,\"000-0000\"))","v":""},{"$f":"IF(入力シート!G18=\"\",\"\",入力シート!G18)","v":""},{"$f":"IF(入力シート!H18=\"\",\"\",入力シート!H18)","v":""},{"$f":"IF(入力シート!I18=\"\",\"\",入力シート!I18)","v":""},{"$f":"IF(入力シート!J18=\"\",\"\",入力シート!J18)","v":""},{"$f":"IF(入力シート!K18=\"\",\"\",入力シート!K18)","v":""},{"$f":"IF(入力シート!L18=\"\",\"\",入力シート!L18)","v":""},{"$f":"IF(入力シート!M18=\"\",\"\",入力シート!M18)","v":""},{"$f":"IF(入力シート!N18=\"\",\"\",入力シート!N18)","v":""},{"$f":"IF(入力シート!O18=\"\",\"\",入力シート!Q18)","v":""}]
[{"$f":"IF(入力シート!A19=\"\",\"\",入力シート!A19)","v":""},{"$f":"IF(入力シート!B19=\"\",\"\",入力シート!B19)","v":""},{"$f":"IF(入力シート!C19=\"\",\"\",入力シート!C19)","v":""},{"$f":"IF(入力シート!D19=\"\",\"\",TEXT(入力シート!D19,\"yyyy-mm-dd\"))","v":""},{"$f":"IF(入力シート!P19=\"\",\"\",TEXT(入力シート!P19,\"000-0000\"))","v":""},{"$f":"IF(入力シート!G19=\"\",\"\",入力シート!G19)","v":""},{"$f":"IF(入力シート!H19=\"\",\"\",入力シート!H19)","v":""},{"$f":"IF(入力シート!I19=\"\",\"\",入力シート!I19)","v":""},{"$f":"IF(入力シート!J19=\"\",\"\",入力シート!J19)","v":""},{"$f":"IF(入力シート!K19=\"\",\"\",入力シート!K19)","v":""},{"$f":"IF(入力シート!L19=\"\",\"\",入力シート!L19)","v":""},{"$f":"IF(入力シート!M19=\"\",\"\",入力シート!M19)","v":""},{"$f":"IF(入力シート!N19=\"\",\"\",入力シート!N19)","v":""},{"$f":"IF(入力シート!O19=\"\",\"\",入力シート!Q19)","v":""}]
[{"$f":"IF(入力シート!A20=\"\",\"\",入力シート!A20)","v":""},{"$f":"IF(入力シート!B20=\"\",\"\",入力シート!B20)","v":""},{"$f":"IF(入力シート!C20=\"\",\"\",入力シート!C20)","v":""},{"$f":"IF(入力シート!D20=\"\",\"\",TEXT(入力シート!D20,\"yyyy-mm-dd\"))","v":""},{"$f":"IF(入力シート!P20=\"\",\"\",TEXT(入力シート!P20,\"000-0000\"))","v":""},{"$f":"IF(入力シート!G20=\"\",\"\",入力シート!G20)","v":""},{"$f":"IF(入力シート!H20=\"\",\"\",入力シート!H20)","v":""},{"$f":"IF(入力シート!I20=\"\",\"\",入力シート!I20)","v":""},{"$f":"IF(入力シート!J20=\"\",\"\",入力シート!J20)","v":""},{"$f":"IF(入力シート!K20=\"\",\"\",入力シート!K20)","v":""},{"$f":"IF(入力シート!L20=\"\",\"\",入力シート!L20)","v":""},{"$f":"IF(入力シート!M20=\"\",\"\",入力シート!M20)","v":""},{"$f":"IF(入力シート!N20=\"\",\"\",入力シート!N20)","v":""},{"$f":"IF(入力シート!O20=\"\",\"\",入力シート!Q20)","v":""}]
[{"$f":"IF(入力シート!A21=\"\",\"\",入力シート!A21)","v":""},{"$f":"IF(入力シート!B21=\"\",\"\",入力シート!B21)","v":""},{"$f":"IF(入力シート!C21=\"\",\"\",入力シート!C21)","v":""},{"$f":"IF(入力シート!D21=\"\",\"\",TEXT(入力シート!D21,\"yyyy-mm-dd\"))","v":""},{"$f":"IF(入力シート!P21=\"\",\"\",TEXT(入力シート!P21,\"000-0000\"))","v":""},{"$f":"IF(入力シート!G21=\"\",\"\",入力シート!G21)","v":""},{"$f":"IF(入力シート!H21=\"\",\"\",入力シート!H21)","v":""},{"$f":"IF(入力シート!I21=\"\",\"\",入力シート!I21)","v":""},{"$f":"IF(入力シート!J21=\"\",\"\",入力シート!J21)","v":""},{"$f":"IF(入力シート!K21=\"\",\"\",入力シート!K21)","v":""},{"$f":"IF(入力シート!L21=\"\",\"\",入力シート!L21)","v":""},{"$f":"IF(入力シート!M21=\"\",\"\",入力シート!M21)","v":""},{"$f":"IF(入力シート!N21=\"\",\"\",入力シート!N21)","v":""},{"$f":"IF(入力シート!O21=\"\",\"\",入力シート!Q21)","v":""}]
[{"$f":"IF(入力シート!A22=\"\",\"\",入力シート!A22)","v":""},{"$f":"IF(入力シート!B22=\"\",\"\",入力シート!B22)","v":""},{"$f":"IF(入力シート!C22=\"\",\"\",入力シート!C22)","v":""},{"$f":"IF(入力シート!D22=\"\",\"\",TEXT(入力シート!D22,\"yyyy-mm-dd\"))","v":""},{"$f":"IF(入力シート!P22=\"\",\"\",TEXT(入力シート!P22,\"000-0000\"))","v":""},{"$f":"IF(入力シート!G22=\"\",\"\",入力シート!G22)","v":""},{"$f":"IF(入力シート!H22=\"\",\"\",入力シート!H22)","v":""},{"$f":"IF(入力シート!I22=\"\",\"\",入力シート!I22)","v":""},{"$f":"IF(入力シート!J22=\"\",\"\",入力シート!J22)","v":""},{"$f":"IF(入力シート!K22=\"\",\"\",入力シート!K22)","v":""},{"$f":"IF(入力シート!L22=\"\",\"\",入力シート!L22)","v":""},{"$f":"IF(入力シート!M22=\"\",\"\",入力シート!M22)","v":""},{"$f":"IF(入力シート!N22=\"\",\"\",入力シート!N22)","v":""},{"$f":"IF(入力シート!O22=\"\",\"\",入力シート!Q22)","v":""}]
[{"$f":"IF(入力シート!A23=\"\",\"\",入力シート!A23)","v":""},{"$f":"IF(入力シート!B23=\"\",\"\",入力シート!B23)","v":""},{"$f":"IF(入力シート!C23=\"\",\"\",入力シート!C23)","v":""},{"$f":"IF(入力シート!D23=\"\",\"\",TEXT(入力シート!D23,\"yyyy-mm-dd\"))","v":""},{"$f":"IF(入力シート!P23=\"\",\"\",TEXT(入力シート!P23,\"000-0000\"))","v":""},{"$f":"IF(入力シート!G23=\"\",\"\",入力シート!G23)","v":""},{"$f":"IF(入力シート!H23=\"\",\"\",入力シート!H23)","v":""},{"$f":"IF(入力シート!I23=\"\",\"\",入力シート!I23)","v":""},{"$f":"IF(入力シート!J23=\"\",\"\",入力シート!J23)","v":""},{"$f":"IF(入力シート!K23=\"\",\"\",入力シート!K23)","v":""},{"$f":"IF(入力シート!L23=\"\",\"\",入力シート!L23)","v":""},{"$f":"IF(入力シート!M23=\"\",\"\",入力シート!M23)","v":""},{"$f":"IF(入力シート!N23=\"\",\"\",入力シート!N23)","v":""},{"$f":"IF(入力シート!O23=\"\",\"\",入力シート!Q23)","v":""}]
[{"$f":"IF(入力シート!A24=\"\",\"\",入力シート!A24)","v":""},{"$f":"IF(入力シート!B24=\"\",\"\",入力シート!B24)","v":""},{"$f":"IF(入力シート!C24=\"\",\"\",入力シート!C24)","v":""},{"$f":"IF(入力シート!D24=\"\",\"\",TEXT(入力シート!D24,\"yyyy-mm-dd\"))","v":""},{"$f":"IF(入力シート!P24=\"\",\"\",TEXT(入力シート!P24,\"000-0000\"))","v":""},{"$f":"IF(入力シート!G24=\"\",\"\",入力シート!G24)","v":""},{"$f":"IF(入力シート!H24=\"\",\"\",入力シート!H24)","v":""},{"$f":"IF(入力シート!I24=\"\",\"\",入力シート!I24)","v":""},{"$f":"IF(入力シート!J24=\"\",\"\",入力シート!J24)","v":""},{"$f":"IF(入力シート!K24=\"\",\"\",入力シート!K24)","v":""},{"$f":"IF(入力シート!L24=\"\",\"\",入力シート!L24)","v":""},{"$f":"IF(入力シート!M24=\"\",\"\",入力シート!M24)","v":""},{"$f":"IF(入力シート!N24=\"\",\"\",入力シート!N24)","v":""},{"$f":"IF(入力シート!O24=\"\",\"\",入力シート!Q24)","v":""}]
[{"$f":"IF(入力シート!A25=\"\",\"\",入力シート!A25)","v":""},{"$f":"IF(入力シート!B25=\"\",\"\",入力シート!B25)","v":""},{"$f":"IF(入力シート!C25=\"\",\"\",入力シート!C25)","v":""},{"$f":"IF(入力シート!D25=\"\",\"\",TEXT(入力シート!D25,\"yyyy-mm-dd\"))","v":""},{"$f":"IF(入力シート!P25=\"\",\"\",TEXT(入力シート!P25,\"000-0000\"))","v":""},{"$f":"IF(入力シート!G25=\"\",\"\",入力シート!G25)","v":""},{"$f":"IF(入力シート!H25=\"\",\"\",入力シート!H25)","v":""},{"$f":"IF(入力シート!I25=\"\",\"\",入力シート!I25)","v":""},{"$f":"IF(入力シート!J25=\"\",\"\",入力シート!J25)","v":""},{"$f":"IF(入力シート!K25=\"\",\"\",入力シート!K25)","v":""},{"$f":"IF(入力シート!L25=\"\",\"\",入力シート!L25)","v":""},{"$f":"IF(入力シート!M25=\"\",\"\",入力シート!M25)","v":""},{"$f":"IF(入力シート!N25=\"\",\"\",入力シート!N25)","v":""},{"$f":"IF(入力シート!O25=\"\",\"\",入力シート!Q25)","v":""}]
[{"$f":"IF(入力シート!A26=\"\",\"\",入力シート!A26)","v":""},{"$f":"IF(入力シート!B26=\"\",\"\",入力シート!B26)","v":""},{"$f":"IF(入力シート!C26=\"\",\"\",入力シート!C26)","v":""},{"$f":"IF(入力シート!D26=\"\",\"\",TEXT(入力シート!D26,\"yyyy-mm-dd\"))","v":""},{"$f":"IF(入力シート!P26=\"\",\"\",TEXT(入力シート!P26,\"000-0000\"))","v":""},{"$f":"IF(入力シート!G26=\"\",\"\",入力シート!G26)","v":""},{"$f":"IF(入力シート!H26=\"\",\"\",入力シート!H26)","v":""},{"$f":"IF(入力シート!I26=\"\",\"\",入力シート!I26)","v":""},{"$f":"IF(入力シート!J26=\"\",\"\",入力シート!J26)","v":""},{"$f":"IF(入力シート!K26=\"\",\"\",入力シート!K26)","v":""},{"$f":"IF(入力シート!L26=\"\",\"\",入力シート!L26)","v":""},{"$f":"IF(入力シート!M26=\"\",\"\",入力シート!M26)","v":""},{"$f":"IF(入力シート!N26=\"\",\"\",入力シート!N26)","v":""},{"$f":"IF(入力シート!O26=\"\",\"\",入力シート!Q26)","v":""}]
[{"$f":"IF(入力シート!A27=\"\",\"\",入力シート!A27)","v":""},{"$f":"IF(入力シート!B27=\"\",\"\",入力シート!B27)","v":""},{"$f":"IF(入力シート!C27=\"\",\"\",入力シート!C27)","v":""},{"$f":"IF(入力シート!D27=\"\",\"\",TEXT(入力シート!D27,\"yyyy-mm-dd\"))","v":""},{"$f":"IF(入力シート!P27=\"\",\"\",TEXT(入力シート!P27,\"000-0000\"))","v":""},{"$f":"IF(入力シート!G27=\"\",\"\",入力シート!G27)","v":""},{"$f":"IF(入力シート!H27=\"\",\"\",入力シート!H27)","v":""},{"$f":"IF(入力シート!I27=\"\",\"\",入力シート!I27)","v":""},{"$f":"IF(入力シート!J27=\"\",\"\",入力シート!J27)","v":""},{"$f":"IF(入力シート!K27=\"\",\"\",入力シート!K27)","v":""},{"$f":"IF(入力シート!L27=\"\",\"\",入力シート!L27)","v":""},{"$f":"IF(入力シート!M27=\"\",\"\",入力シート!M27)","v":""},{"$f":"IF(入力シート!N27=\"\",\"\",入力シート!N27)","v":""},{"$f":"IF(入力シート!O27=\"\",\"\",入力シート!Q27)","v":""}]
[{"$f":"IF(入力シート!A28=\"\",\"\",入力シート!A28)","v":""},{"$f":"IF(入力シート!B28=\"\",\"\",入力シート!B28)","v":""},{"$f":"IF(入力シート!C28=\"\",\"\",入力シート!C28)","v":""},{"$f":"IF(入力シート!D28=\"\",\"\",TEXT(入力シート!D28,\"yyyy-mm-dd\"))","v":""},{"$f":"IF(入力シート!P28=\"\",\"\",TEXT(入力シート!P28,\"000-0000\"))","v":""},{"$f":"IF(入力シート!G28=\"\",\"\",入力シート!G28)","v":""},{"$f":"IF(入力シート!H28=\"\",\"\",入力シート!H28)","v":""},{"$f":"IF(入力シート!I28=\"\",\"\",入力シート!I28)","v":""},{"$f":"IF(入力シート!J28=\"\",\"\",入力シート!J28)","v":""},{"$f":"IF(入力シート!K28=\"\",\"\",入力シート!K28)","v":""},{"$f":"IF(入力シート!L28=\"\",\"\",入力シート!L28)","v":""},{"$f":"IF(入力シート!M28=\"\",\"\",入力シート!M28)","v":""},{"$f":"IF(入力シート!N28=\"\",\"\",入力シート!N28)","v":""},{"$f":"IF(入力シート!O28=\"\",\"\",入力シート!Q28)","v":""}]
[{"$f":"IF(入力シート!A29=\"\",\"\",入力シート!A29)","v":""},{"$f":"IF(入力シート!B29=\"\",\"\",入力シート!B29)","v":""},{"$f":"IF(入力シート!C29=\"\",\"\",入力シート!C29)","v":""},{"$f":"IF(入力シート!D29=\"\",\"\",TEXT(入力シート!D29,\"yyyy-mm-dd\"))","v":""},{"$f":"IF(入力シート!P29=\"\",\"\",TEXT(入力シート!P29,\"000-0000\"))","v":""},{"$f":"IF(入力シート!G29=\"\",\"\",入力シート!G29)","v":""},{"$f":"IF(入力シート!H29=\"\",\"\",入力シート!H29)","v":""},{"$f":"IF(入力シート!I29=\"\",\"\",入力シート!I29)","v":""},{"$f":"IF(入力シート!J29=\"\",\"\",入力シート!J29)","v":""},{"$f":"IF(入力シート!K29=\"\",\"\",入力シート!K29)","v":""},{"$f":"IF(入力シート!L29=\"\",\"\",入力シート!L29)","v":""},{"$f":"IF(入力シート!M29=\"\",\"\",入力シート!M29)","v":""},{"$f":"IF(入力シート!N29=\"\",\"\",入力シート!N29)","v":""},{"$f":"IF(入力シート!O29=\"\",\"\",入力シート!Q29)","v":""}]
[{"$f":"IF(入力シート!A30=\"\",\"\",入力シート!A30)","v":""},{"$f":"IF(入力シート!B30=\"\",\"\",入力シート!B30)","v":""},{"$f":"IF(入力シート!C30=\"\",\"\",入力シート!C30)","v":""},{"$f":"IF(入力シート!D30=\"\",\"\",TEXT(入力シート!D30,\"yyyy-mm-dd\"))","v":""},{"$f":"IF(入力シート!P30=\"\",\"\",TEXT(入力シート!P30,\"000-0000\"))","v":""},{"$f":"IF(入力シート!G30=\"\",\"\",入力シート!G30)","v":""},{"$f":"IF(入力シート!H30=\"\",\"\",入力シート!H30)","v":""},{"$f":"IF(入力シート!I30=\"\",\"\",入力シート!I30)","v":""},{"$f":"IF(入力シート!J30=\"\",\"\",入力シート!J30)","v":""},{"$f":"IF(入力シート!K30=\"\",\"\",入力シート!K30)","v":""},{"$f":"IF(入力シート!L30=\"\",\"\",入力シート!L30)","v":""},{"$f":"IF(入力シート!M30=\"\",\"\",入力シート!M30)","v":""},{"$f":"IF(入力シート!N30=\"\",\"\",入力シート!N30)","v":""},{"$f":"IF(入力シート!O30=\"\",\"\",入力シート!Q30)","v":""}]
[{"$f":"IF(入力シート!A31=\"\",\"\",入力シート!A31)","v":""},{"$f":"IF(入力シート!B31=\"\",\"\",入力シート!B31)","v":""},{"$f":"IF(入力シート!C31=\"\",\"\",入力シート!C31)","v":""},{"$f":"IF(入力シート!D31=\"\",\"\",TEXT(入力シート!D31,\"yyyy-mm-dd\"))","v":""},{"$f":"IF(入力シート!P31=\"\",\"\",TEXT(入力シート!P31,\"000-0000\"))","v":""},{"$f":"IF(入力シート!G31=\"\",\"\",入力シート!G31)","v":""},{"$f":"IF(入力シート!H31=\"\",\"\",入力シート!H31)","v":""},{"$f":"IF(入力シート!I31=\"\",\"\",入力シート!I31)","v":""},{"$f":"IF(入力シート!J31=\"\",\"\",入力シート!J31)","v":""},{"$f":"IF(入力シート!K31=\"\",\"\",入力シート!K31)","v":""},{"$f":"IF(入力シート!L31=\"\",\"\",入力シート!L31)","v":""},{"$f":"IF(入力シート!M31=\"\",\"\",入力シート!M31)","v":""},{"$f":"IF(入力シート!N31=\"\",\"\",入力シート!N31)","v":""},{"$f":"IF(入力シート!O31=\"\",\"\",入力シート!Q31)","v":""}]
[{"$f":"IF(入力シート!A32=\"\",\"\",入力シート!A32)","v":""},{"$f":"IF(入力シート!B32=\"\",\"\",入力シート!B32)","v":""},{"$f":"IF(入力シート!C32=\"\",\"\",入力シート!C32)","v":""},{"$f":"IF(入力シート!D32=\"\",\"\",TEXT(入力シート!D32,\"yyyy-mm-dd\"))","v":""},{"$f":"IF(入力シート!P32=\"\",\"\",TEXT(入力シート!P32,\"000-0000\"))","v":""},{"$f":"IF(入力シート!G32=\"\",\"\",入力シート!G32)","v":""},{"$f":"IF(入力シート!H32=\"\",\"\",入力シート!H32)","v":""},{"$f":"IF(入力シート!I32=\"\",\"\",入力シート!I32)","v":""},{"$f":"IF(入力シート!J32=\"\",\"\",入力シート!J32)","v":""},{"$f":"IF(入力シート!K32=\"\",\"\",入力シート!K32)","v":""},{"$f":"IF(入力シート!L32=\"\",\"\",入力シート!L32)","v":""},{"$f":"IF(入力シート!M32=\"\",\"\",入力シート!M32)","v":""},{"$f":"IF(入力シート!N32=\"\",\"\",入力シート!N32)","v":""},{"$f":"IF(入力シート!O32=\"\",\"\",入力シート!Q32)","v":""}]
[{"$f":"IF(入力シート!A33=\"\",\"\",入力シート!A33)","v":""},{"$f":"IF(入力シート!B33=\"\",\"\",入力シート!B33)","v":""},{"$f":"IF(入力シート!C33=\"\",\"\",入力シート!C33)","v":""},{"$f":"IF(入力シート!D33=\"\",\"\",TEXT(入力シート!D33,\"yyyy-mm-dd\"))","v":""},{"$f":"IF(入力シート!P33=\"\",\"\",TEXT(入力シート!P33,\"000-0000\"))","v":""},{"$f":"IF(入力シート!G33=\"\",\"\",入力シート!G33)","v":""},{"$f":"IF(入力シート!H33=\"\",\"\",入力シート!H33)","v":""},{"$f":"IF(入力シート!I33=\"\",\"\",入力シート!I33)","v":""},{"$f":"IF(入力シート!J33=\"\",\"\",入力シート!J33)","v":""},{"$f":"IF(入力シート!K33=\"\",\"\",入力シート!K33)","v":""},{"$f":"IF(入力シート!L33=\"\",\"\",入力シート!L33)","v":""},{"$f":"IF(入力シート!M33=\"\",\"\",入力シート!M33)","v":""},{"$f":"IF(入力シート!N33=\"\",\"\",入力シート!N33)","v":""},{"$f":"IF(入力シート!O33=\"\",\"\",入力シート!Q33)","v":""}]
[{"$f":"IF(入力シート!A34=\"\",\"\",入力シート!A34)","v":""},{"$f":"IF(入力シート!B34=\"\",\"\",入力シート!B34)","v":""},{"$f":"IF(入力シート!C34=\"\",\"\",入力シート!C34)","v":""},{"$f":"IF(入力シート!D34=\"\",\"\",TEXT(入力シート!D34,\"yyyy-mm-dd\"))","v":""},{"$f":"IF(入力シート!P34=\"\",\"\",TEXT(入力シート!P34,\"000-0000\"))","v":""},{"$f":"IF(入力シート!G34=\"\",\"\",入力シート!G34)","v":""},{"$f":"IF(入力シート!H34=\"\",\"\",入力シート!H34)","v":""},{"$f":"IF(入力シート!I34=\"\",\"\",入力シート!I34)","v":""},{"$f":"IF(入力シート!J34=\"\",\"\",入力シート!J34)","v":""},{"$f":"IF(入力シート!K34=\"\",\"\",入力シート!K34)","v":""},{"$f":"IF(入力シート!L34=\"\",\"\",入力シート!L34)","v":""},{"$f":"IF(入力シート!M34=\"\",\"\",入力シート!M34)","v":""},{"$f":"IF(入力シート!N34=\"\",\"\",入力シート!N34)","v":""},{"$f":"IF(入力シート!O34=\"\",\"\",入力シート!Q34)","v":""}]
[{"$f":"IF(入力シート!A35=\"\",\"\",入力シート!A35)","v":""},{"$f":"IF(入力シート!B35=\"\",\"\",入力シート!B35)","v":""},{"$f":"IF(入力シート!C35=\"\",\"\",入力シート!C35)","v":""},{"$f":"IF(入力シート!D35=\"\",\"\",TEXT(入力シート!D35,\"yyyy-mm-dd\"))","v":""},{"$f":"IF(入力シート!P35=\"\",\"\",TEXT(入力シート!P35,\"000-0000\"))","v":""},{"$f":"IF(入力シート!G35=\"\",\"\",入力シート!G35)","v":""},{"$f":"IF(入力シート!H35=\"\",\"\",入力シート!H35)","v":""},{"$f":"IF(入力シート!I35=\"\",\"\",入力シート!I35)","v":""},{"$f":"IF(入力シート!J35=\"\",\"\",入力シート!J35)","v":""},{"$f":"IF(入力シート!K35=\"\",\"\",入力シート!K35)","v":""},{"$f":"IF(入力シート!L35=\"\",\"\",入力シート!L35)","v":""},{"$f":"IF(入力シート!M35=\"\",\"\",入力シート!M35)","v":""},{"$f":"IF(入力シート!N35=\"\",\"\",入力シート!N35)","v":""},{"$f":"IF(入力シート!O35=\"\",\"\",入力シート!Q35)","v":""}]
[{"$f":"IF(入力シート!A36=\"\",\"\",入力シート!A36)","v":""},{"$f":"IF(入力シート!B36=\"\",\"\",入力シート!B36)","v":""},{"$f":"IF(入力シート!C36=\"\",\"\",入力シート!C36)","v":""},{"$f":"IF(入力シート!D36=\"\",\"\",TEXT(入力シート!D36,\"yyyy-mm-dd\"))","v":""},{"$f":"IF(入力シート!P36=\"\",\"\",TEXT(入力シート!P36,\"000-0000\"))","v":""},{"$f":"IF(入力シート!G36=\"\",\"\",入力シート!G36)","v":""},{"$f":"IF(入力シート!H36=\"\",\"\",入力シート!H36)","v":""},{"$f":"IF(入力シート!I36=\"\",\"\",入力シート!I36)","v":""},{"$f":"IF(入力シート!J36=\"\",\"\",入力シート!J36)","v":""},{"$f":"IF(入力シート!K36=\"\",\"\",入力シート!K36)","v":""},{"$f":"IF(入力シート!L36=\"\",\"\",入力シート!L36)","v":""},{"$f":"IF(入力シート!M36=\"\",\"\",入力シート!M36)","v":""},{"$f":"IF(入力シート!N36=\"\",\"\",入力シート!N36)","v":""},{"$f":"IF(入力シート!O36=\"\",\"\",入力シート!Q36)","v":""}]
[{"$f":"IF(入力シート!A37=\"\",\"\",入力シート!A37)","v":""},{"$f":"IF(入力シート!B37=\"\",\"\",入力シート!B37)","v":""},{"$f":"IF(入力シート!C37=\"\",\"\",入力シート!C37)","v":""},{"$f":"IF(入力シート!D37=\"\",\"\",TEXT(入力シート!D37,\"yyyy-mm-dd\"))","v":""},{"$f":"IF(入力シート!P37=\"\",\"\",TEXT(入力シート!P37,\"000-0000\"))","v":""},{"$f":"IF(入力シート!G37=\"\",\"\",入力シート!G37)","v":""},{"$f":"IF(入力シート!H37=\"\",\"\",入力シート!H37)","v":""},{"$f":"IF(入力シート!I37=\"\",\"\",入力シート!I37)","v":""},{"$f":"IF(入力シート!J37=\"\",\"\",入力シート!J37)","v":""},{"$f":"IF(入力シート!K37=\"\",\"\",入力シート!K37)","v":""},{"$f":"IF(入力シート!L37=\"\",\"\",入力シート!L37)","v":""},{"$f":"IF(入力シート!M37=\"\",\"\",入力シート!M37)","v":""},{"$f":"IF(入力シート!N37=\"\",\"\",入力シート!N37)","v":""},{"$f":"IF(入力シート!O37=\"\",\"\",入力シート!Q37)","v":""}]
[{"$f":"IF(入力シート!A38=\"\",\"\",入力シート!A38)","v":""},{"$f":"IF(入力シート!B38=\"\",\"\",入力シート!B38)","v":""},{"$f":"IF(入力シート!C38=\"\",\"\",入力シート!C38)","v":""},{"$f":"IF(入力シート!D38=\"\",\"\",TEXT(入力シート!D38,\"yyyy-mm-dd\"))","v":""},{"$f":"IF(入力シート!P38=\"\",\"\",TEXT(入力シート!P38,\"000-0000\"))","v":""},{"$f":"IF(入力シート!G38=\"\",\"\",入力シート!G38)","v":""},{"$f":"IF(入力シート!H38=\"\",\"\",入力シート!H38)","v":""},{"$f":"IF(入力シート!I38=\"\",\"\",入力シート!I38)","v":""},{"$f":"IF(入力シート!J38=\"\",\"\",入力シート!J38)","v":""},{"$f":"IF(入力シート!K38=\"\",\"\",入力シート!K38)","v":""},{"$f":"IF(入力シート!L38=\"\",\"\",入力シート!L38)","v":""},{"$f":"IF(入力シート!M38=\"\",\"\",入力シート!M38)","v":""},{"$f":"IF(入力シート!N38=\"\",\"\",入力シート!N38)","v":""},{"$f":"IF(入力シート!O38=\"\",\"\",入力シート!Q38)","v":""}]
[{"$f":"IF(入力シート!A39=\"\",\"\",入力シート!A39)","v":""},{"$f":"IF(入力シート!B39=\"\",\"\",入力シート!B39)","v":""},{"$f":"IF(入力シート!C39=\"\",\"\",入力シート!C39)","v":""},{"$f":"IF(入力シート!D39=\"\",\"\",TEXT(入力シート!D39,\"yyyy-mm-dd\"))","v":""},{"$f":"IF(入力シート!P39=\"\",\"\",TEXT(入力シート!P39,\"000-0000\"))","v":""},{"$f":"IF(入力シート!G39=\"\",\"\",入力シート!G39)","v":""},{"$f":"IF(入力シート!H39=\"\",\"\",入力シート!H39)","v":""},{"$f":"IF(入力シート!I39=\"\",\"\",入力シート!I39)","v":""},{"$f":"IF(入力シート!J39=\"\",\"\",入力シート!J39)","v":""},{"$f":"IF(入力シート!K39=\"\",\"\",入力シート!K39)","v":""},{"$f":"IF(入力シート!L39=\"\",\"\",入力シート!L39)","v":""},{"$f":"IF(入力シート!M39=\"\",\"\",入力シート!M39)","v":""},{"$f":"IF(入力シート!N39=\"\",\"\",入力シート!N39)","v":""},{"$f":"IF(入力シート!O39=\"\",\"\",入力シート!Q39)","v":""}]
[{"$f":"IF(入力シート!A40=\"\",\"\",入力シート!A40)","v":""},{"$f":"IF(入力シート!B40=\"\",\"\",入力シート!B40)","v":""},{"$f":"IF(入力シート!C40=\"\",\"\",入力シート!C40)","v":""},{"$f":"IF(入力シート!D40=\"\",\"\",TEXT(入力シート!D40,\"yyyy-mm-dd\"))","v":""},{"$f":"IF(入力シート!P40=\"\",\"\",TEXT(入力シート!P40,\"000-0000\"))","v":""},{"$f":"IF(入力シート!G40=\"\",\"\",入力シート!G40)","v":""},{"$f":"IF(入力シート!H40=\"\",\"\",入力シート!H40)","v":""},{"$f":"IF(入力シート!I40=\"\",\"\",入力シート!I40)","v":""},{"$f":"IF(入力シート!J40=\"\",\"\",入力シート!J40)","v":""},{"$f":"IF(入力シート!K40=\"\",\"\",入力シート!K40)","v":""},{"$f":"IF(入力シート!L40=\"\",\"\",入力シート!L40)","v":""},{"$f":"IF(入力シート!M40=\"\",\"\",入力シート!M40)","v":""},{"$f":"IF(入力シート!N40=\"\",\"\",入力シート!N40)","v":""},{"$f":"IF(入力シート!O40=\"\",\"\",入力シート!Q40)","v":""}]
[{"$f":"IF(入力シート!A41=\"\",\"\",入力シート!A41)","v":""},{"$f":"IF(入力シート!B41=\"\",\"\",入力シート!B41)","v":""},{"$f":"IF(入力シート!C41=\"\",\"\",入力シート!C41)","v":""},{"$f":"IF(入力シート!D41=\"\",\"\",TEXT(入力シート!D41,\"yyyy-mm-dd\"))","v":""},{"$f":"IF(入力シート!P41=\"\",\"\",TEXT(入力シート!P41,\"000-0000\"))","v":""},{"$f":"IF(入力シート!G41=\"\",\"\",入力シート!G41)","v":""},{"$f":"IF(入力シート!H41=\"\",\"\",入力シート!H41)","v":""},{"$f":"IF(入力シート!I41=\"\",\"\",入力シート!I41)","v":""},{"$f":"IF(入力シート!J41=\"\",\"\",入力シート!J41)","v":""},{"$f":"IF(入力シート!K41=\"\",\"\",入力シート!K41)","v":""},{"$f":"IF(入力シート!L41=\"\",\"\",入力シート!L41)","v":""},{"$f":"IF(入力シート!M41=\"\",\"\",入力シート!M41)","v":""},{"$f":"IF(入力シート!N41=\"\",\"\",入力シート!N41)","v":""},{"$f":"IF(入力シート!O41=\"\",\"\",入力シート!Q41)","v":""}]
[{"$f":"IF(入力シート!A42=\"\",\"\",入力シート!A42)","v":""},{"$f":"IF(入力シート!B42=\"\",\"\",入力シート!B42)","v":""},{"$f":"IF(入力シート!C42=\"\",\"\",入力シート!C42)","v":""},{"$f":"IF(入力シート!D42=\"\",\"\",TEXT(入力シート!D42,\"yyyy-mm-dd\"))","v":""},{"$f":"IF(入力シート!P42=\"\",\"\",TEXT(入力シート!P42,\"000-0000\"))","v":""},{"$f":"IF(入力シート!G42=\"\",\"\",入力シート!G42)","v":""},{"$f":"IF(入力シート!H42=\"\",\"\",入力シート!H42)","v":""},{"$f":"IF(入力シート!I42=\"\",\"\",入力シート!I42)","v":""},{"$f":"IF(入力シート!J42=\"\",\"\",入力シート!J42)","v":""},{"$f":"IF(入力シート!K42=\"\",\"\",入力シート!K42)","v":""},{"$f":"IF(入力シート!L42=\"\",\"\",入力シート!L42)","v":""},{"$f":"IF(入力シート!M42=\"\",\"\",入力シート!M42)","v":""},{"$f":"IF(入力シート!N42=\"\",\"\",入力シート!N42)","v":""},{"$f":"IF(入力シート!O42=\"\",\"\",入力シート!Q42)","v":""}]
[{"$f":"IF(入力シート!A43=\"\",\"\",入力シート!A43)","v":""},{"$f":"IF(入力シート!B43=\"\",\"\",入力シート!B43)","v":""},{"$f":"IF(入力シート!C43=\"\",\"\",入力シート!C43)","v":""},{"$f":"IF(入力シート!D43=\"\",\"\",TEXT(入力シート!D43,\"yyyy-mm-dd\"))","v":""},{"$f":"IF(入力シート!P43=\"\",\"\",TEXT(入力シート!P43,\"000-0000\"))","v":""},{"$f":"IF(入力シート!G43=\"\",\"\",入力シート!G43)","v":""},{"$f":"IF(入力シート!H43=\"\",\"\",入力シート!H43)","v":""},{"$f":"IF(入力シート!I43=\"\",\"\",入力シート!I43)","v":""},{"$f":"IF(入力シート!J43=\"\",\"\",入力シート!J43)","v":""},{"$f":"IF(入力シート!K43=\"\",\"\",入力シート!K43)","v":""},{"$f":"IF(入力シート!L43=\"\",\"\",入力シート!L43)","v":""},{"$f":"IF(入力シート!M43=\"\",\"\",入力シート!M43)","v":""},{"$f":"IF(入力シート!N43=\"\",\"\",入力シート!N43)","v":""},{"$f":"IF(入力シート!O43=\"\",\"\",入力シート!Q43)","v":""}]
[{"$f":"IF(入力シート!A44=\"\",\"\",入力シート!A44)","v":""},{"$f":"IF(入力シート!B44=\"\",\"\",入力シート!B44)","v":""},{"$f":"IF(入力シート!C44=\"\",\"\",入力シート!C44)","v":""},{"$f":"IF(入力シート!D44=\"\",\"\",TEXT(入力シート!D44,\"yyyy-mm-dd\"))","v":""},{"$f":"IF(入力シート!P44=\"\",\"\",TEXT(入力シート!P44,\"000-0000\"))","v":""},{"$f":"IF(入力シート!G44=\"\",\"\",入力シート!G44)","v":""},{"$f":"IF(入力シート!H44=\"\",\"\",入力シート!H44)","v":""},{"$f":"IF(入力シート!I44=\"\",\"\",入力シート!I44)","v":""},{"$f":"IF(入力シート!J44=\"\",\"\",入力シート!J44)","v":""},{"$f":"IF(入力シート!K44=\"\",\"\",入力シート!K44)","v":""},{"$f":"IF(入力シート!L44=\"\",\"\",入力シート!L44)","v":""},{"$f":"IF(入力シート!M44=\"\",\"\",入力シート!M44)","v":""},{"$f":"IF(入力シート!N44=\"\",\"\",入力シート!N44)","v":""},{"$f":"IF(入力シート!O44=\"\",\"\",入力シート!Q44)","v":""}]
[{"$f":"IF(入力シート!A45=\"\",\"\",入力シート!A45)","v":""},{"$f":"IF(入力シート!B45=\"\",\"\",入力シート!B45)","v":""},{"$f":"IF(入力シート!C45=\"\",\"\",入力シート!C45)","v":""},{"$f":"IF(入力シート!D45=\"\",\"\",TEXT(入力シート!D45,\"yyyy-mm-dd\"))","v":""},{"$f":"IF(入力シート!P45=\"\",\"\",TEXT(入力シート!P45,\"000-0000\"))","v":""},{"$f":"IF(入力シート!G45=\"\",\"\",入力シート!G45)","v":""},{"$f":"IF(入力シート!H45=\"\",\"\",入力シート!H45)","v":""},{"$f":"IF(入力シート!I45=\"\",\"\",入力シート!I45)","v":""},{"$f":"IF(入力シート!J45=\"\",\"\",入力シート!J45)","v":""},{"$f":"IF(入力シート!K45=\"\",\"\",入力シート!K45)","v":""},{"$f":"IF(入力シート!L45=\"\",\"\",入力シート!L45)","v":""},{"$f":"IF(入力シート!M45=\"\",\"\",入力シート!M45)","v":""},{"$f":"IF(入力シート!N45=\"\",\"\",入力シート!N45)","v":""},{"$f":"IF(入力シート!O45=\"\",\"\",入力シート!Q45)","v":""}]
[{"$f":"IF(入力シート!A46=\"\",\"\",入力シート!A46)","v":""},{"$f":"IF(入力シート!B46=\"\",\"\",入力シート!B46)","v":""},{"$f":"IF(入力シート!C46=\"\",\"\",入力シート!C46)","v":""},{"$f":"IF(入力シート!D46=\"\",\"\",TEXT(入力シート!D46,\"yyyy-mm-dd\"))","v":""},{"$f":"IF(入力シート!P46=\"\",\"\",TEXT(入力シート!P46,\"000-0000\"))","v":""},{"$f":"IF(入力シート!G46=\"\",\"\",入力シート!G46)","v":""},{"$f":"IF(入力シート!H46=\"\",\"\",入力シート!H46)","v":""},{"$f":"IF(入力シート!I46=\"\",\"\",入力シート!I46)","v":""},{"$f":"IF(入力シート!J46=\"\",\"\",入力シート!J46)","v":""},{"$f":"IF(入力シート!K46=\"\",\"\",入力シート!K46)","v":""},{"$f":"IF(入力シート!L46=\"\",\"\",入力シート!L46)","v":""},{"$f":"IF(入力シート!M46=\"\",\"\",入力シート!M46)","v":""},{"$f":"IF(入力シート!N46=\"\",\"\",入力シート!N46)","v":""},{"$f":"IF(入力シート!O46=\"\",\"\",入力シート!Q46)","v":""}]
[{"$f":"IF(入力シート!A47=\"\",\"\",入力シート!A47)","v":""},{"$f":"IF(入力シート!B47=\"\",\"\",入力シート!B47)","v":""},{"$f":"IF(入力シート!C47=\"\",\"\",入力シート!C47)","v":""},{"$f":"IF(入力シート!D47=\"\",\"\",TEXT(入力シート!D47,\"yyyy-mm-dd\"))","v":""},{"$f":"IF(入力シート!P47=\"\",\"\",TEXT(入力シート!P47,\"000-0000\"))","v":""},{"$f":"IF(入力シート!G47=\"\",\"\",入力シート!G47)","v":""},{"$f":"IF(入力シート!H47=\"\",\"\",入力シート!H47)","v":""},{"$f":"IF(入力シート!I47=\"\",\"\",入力シート!I47)","v":""},{"$f":"IF(入力シート!J47=\"\",\"\",入力シート!J47)","v":""},{"$f":"IF(入力シート!K47=\"\",\"\",入力シート!K47)","v":""},{"$f":"IF(入力シート!L47=\"\",\"\",入力シート!L47)","v":""},{"$f":"IF(入力シート!M47=\"\",\"\",入力シート!M47)","v":""},{"$f":"IF(入力シート!N47=\"\",\"\",入力シート!N47)","v":""},{"$f":"IF(入力シート!O47=\"\",\"\",入力シート!Q47)","v":""}]
[{"$f":"IF(入力シート!A48=\"\",\"\",入力シート!A48)","v":""},{"$f":"IF(入力シート!B48=\"\",\"\",入力シート!B48)","v":""},{"$f":"IF(入力シート!C48=\"\",\"\",入力シート!C48)","v":""},{"$f":"IF(入力シート!D48=\"\",\"\",TEXT(入力シート!D48,\"yyyy-mm-dd\"))","v":""},{"$f":"IF(入力シート!P48=\"\",\"\",TEXT(入力シート!P48,\"000-0000\"))","v":""},{"$f":"IF(入力シート!G48=\"\",\"\",入力シート!G48)","v":""},{"$f":"IF(入力シート!H48=\"\",\"\",入力シート!H48)","v":""},{"$f":"IF(入力シート!I48=\"\",\"\",入力シート!I48)","v":""},{"$f":"IF(入力シート!J48=\"\",\"\",入力シート!J48)","v":""},{"$f":"IF(入力シート!K48=\"\",\"\",入力シート!K48)","v":""},{"$f":"IF(入力シート!L48=\"\",\"\",入力シート!L48)","v":""},{"$f":"IF(入力シート!M48=\"\",\"\",入力シート!M48)","v":""},{"$f":"IF(入力シート!N48=\"\",\"\",入力シート!N48)","v":""},{"$f":"IF(入力シート!O48=\"\",\"\",入力シート!Q48)","v":""}]
[{"$f":"IF(入力シート!A49=\"\",\"\",入力シート!A49)","v":""},{"$f":"IF(入力シート!B49=\"\",\"\",入力シート!B49)","v":""},{"$f":"IF(入力シート!C49=\"\",\"\",入力シート!C49)","v":""},{"$f":"IF(入力シート!D49=\"\",\"\",TEXT(入力シート!D49,\"yyyy-mm-dd\"))","v":""},{"$f":"IF(入力シート!P49=\"\",\"\",TEXT(入力シート!P49,\"000-0000\"))","v":""},{"$f":"IF(入力シート!G49=\"\",\"\",入力シート!G49)","v":""},{"$f":"IF(入力シート!H49=\"\",\"\",入力シート!H49)","v":""},{"$f":"IF(入力シート!I49=\"\",\"\",入力シート!I49)","v":""},{"$f":"IF(入力シート!J49=\"\",\"\",入力シート!J49)","v":""},{"$f":"IF(入力シート!K49=\"\",\"\",入力シート!K49)","v":""},{"$f":"IF(入力シート!L49=\"\",\"\",入力シート!L49)","v":""},{"$f":"IF(入力シート!M49=\"\",\"\",入力シート!M49)","v":""},{"$f":"IF(入力シート!N49=\"\",\"\",入力シート!N49)","v":""},{"$f":"IF(入力シート!O49=\"\",\"\",入力シート!Q49)","v":""}]
[{"$f":"IF(入力シート!A50=\"\",\"\",入力シート!A50)","v":""},{"$f":"IF(入力シート!B50=\"\",\"\",入力シート!B50)","v":""},{"$f":"IF(入力シート!C50=\"\",\"\",入力シート!C50)","v":""},{"$f":"IF(入力シート!D50=\"\",\"\",TEXT(入力シート!D50,\"yyyy-mm-dd\"))","v":""},{"$f":"IF(入力シート!P50=\"\",\"\",TEXT(入力シート!P50,\"000-0000\"))","v":""},{"$f":"IF(入力シート!G50=\"\",\"\",入力シート!G50)","v":""},{"$f":"IF(入力シート!H50=\"\",\"\",入力シート!H50)","v":""},{"$f":"IF(入力シート!I50=\"\",\"\",入力シート!I50)","v":""},{"$f":"IF(入力シート!J50=\"\",\"\",入力シート!J50)","v":""},{"$f":"IF(入力シート!K50=\"\",\"\",入力シート!K50)","v":""},{"$f":"IF(入力シート!L50=\"\",\"\",入力シート!L50)","v":""},{"$f":"IF(入力シート!M50=\"\",\"\",入力シート!M50)","v":""},{"$f":"IF(入力シート!N50=\"\",\"\",入力シート!N50)","v":""},{"$f":"IF(入力シート!O50=\"\",\"\",入力シート!Q50)","v":""}]
[{"$f":"IF(入力シート!A51=\"\",\"\",入力シート!A51)","v":""},{"$f":"IF(入力シート!B51=\"\",\"\",入力シート!B51)","v":""},{"$f":"IF(入力シート!C51=\"\",\"\",入力シート!C51)","v":""},{"$f":"IF(入力シート!D51=\"\",\"\",TEXT(入力シート!D51,\"yyyy-mm-dd\"))","v":""},{"$f":"IF(入力シート!P51=\"\",\"\",TEXT(入力シート!P51,\"000-0000\"))","v":""},{"$f":"IF(入力シート!G51=\"\",\"\",入力シート!G51)","v":""},{"$f":"IF(入力シート!H51=\"\",\"\",入力シート!H51)","v":""},{"$f":"IF(入力シート!I51=\"\",\"\",入力シート!I51)","v":""},{"$f":"IF(入力シート!J51=\"\",\"\",入力シート!J51)","v":""},{"$f":"IF(入力シート!K51=\"\",\"\",入力シート!K51)","v":""},{"$f":"IF(入力シート!L51=\"\",\"\",入力シート!L51)","v":""},{"$f":"IF(入力シート!M51=\"\",\"\",入力シート!M51)","v":""},{"$f":"IF(入力シート!N51=\"\",\"\",入力シート!N51)","v":""},{"$f":"IF(入力シート!O51=\"\",\"\",入力シート!Q51)","v":""}]
[{"$f":"IF(入力シート!A52=\"\",\"\",入力シート!A52)","v":""},{"$f":"IF(入力シート!B52=\"\",\"\",入力シート!B52)","v":""},{"$f":"IF(入力シート!C52=\"\",\"\",入力シート!C52)","v":""},{"$f":"IF(入力シート!D52=\"\",\"\",TEXT(入力シート!D52,\"yyyy-mm-dd\"))","v":""},{"$f":"IF(入力シート!P52=\"\",\"\",TEXT(入力シート!P52,\"000-0000\"))","v":""},{"$f":"IF(入力シート!G52=\"\",\"\",入力シート!G52)","v":""},{"$f":"IF(入力シート!H52=\"\",\"\",入力シート!H52)","v":""},{"$f":"IF(入力シート!I52=\"\",\"\",入力シート!I52)","v":""},{"$f":"IF(入力シート!J52=\"\",\"\",入力シート!J52)","v":""},{"$f":"IF(入力シート!K52=\"\",\"\",入力シート!K52)","v":""},{"$f":"IF(入力シート!L52=\"\",\"\",入力シート!L52)","v":""},{"$f":"IF(入力シート!M52=\"\",\"\",入力シート!M52)","v":""},{"$f":"IF(入力シート!N52=\"\",\"\",入力シート!N52)","v":""},{"$f":"IF(入力シート!O52=\"\",\"\",入力シート!Q52)","v":""}]
[{"$f":"IF(入力シート!A53=\"\",\"\",入力シート!A53)","v":""},{"$f":"IF(入力シート!B53=\"\",\"\",入力シート!B53)","v":""},{"$f":"IF(入力シート!C53=\"\",\"\",入力シート!C53)","v":""},{"$f":"IF(入力シート!D53=\"\",\"\",TEXT(入力シート!D53,\"yyyy-mm-dd\"))","v":""},{"$f":"IF(入力シート!P53=\"\",\"\",TEXT(入力シート!P53,\"000-0000\"))","v":""},{"$f":"IF(入力シート!G53=\"\",\"\",入力シート!G53)","v":""},{"$f":"IF(入力シート!H53=\"\",\"\",入力シート!H53)","v":""},{"$f":"IF(入力シート!I53=\"\",\"\",入力シート!I53)","v":""},{"$f":"IF(入力シート!J53=\"\",\"\",入力シート!J53)","v":""},{"$f":"IF(入力シート!K53=\"\",\"\",入力シート!K53)","v":""},{"$f":"IF(入力シート!L53=\"\",\"\",入力シート!L53)","v":""},{"$f":"IF(入力シート!M53=\"\",\"\",入力シート!M53)","v":""},{"$f":"IF(入力シート!N53=\"\",\"\",入力シート!N53)","v":""},{"$f":"IF(入力シート!O53=\"\",\"\",入力シート!Q53)","v":""}]
[{"$f":"IF(入力シート!A54=\"\",\"\",入力シート!A54)","v":""},{"$f":"IF(入力シート!B54=\"\",\"\",入力シート!B54)","v":""},{"$f":"IF(入力シート!C54=\"\",\"\",入力シート!C54)","v":""},{"$f":"IF(入力シート!D54=\"\",\"\",TEXT(入力シート!D54,\"yyyy-mm-dd\"))","v":""},{"$f":"IF(入力シート!P54=\"\",\"\",TEXT(入力シート!P54,\"000-0000\"))","v":""},{"$f":"IF(入力シート!G54=\"\",\"\",入力シート!G54)","v":""},{"$f":"IF(入力シート!H54=\"\",\"\",入力シート!H54)","v":""},{"$f":"IF(入力シート!I54=\"\",\"\",入力シート!I54)","v":""},{"$f":"IF(入力シート!J54=\"\",\"\",入力シート!J54)","v":""},{"$f":"IF(入力シート!K54=\"\",\"\",入力シート!K54)","v":""},{"$f":"IF(入力シート!L54=\"\",\"\",入力シート!L54)","v":""},{"$f":"IF(入力シート!M54=\"\",\"\",入力シート!M54)","v":""},{"$f":"IF(入力シート!N54=\"\",\"\",入力シート!N54)","v":""},{"$f":"IF(入力シート!O54=\"\",\"\",入力シート!Q54)","v":""}]
[{"$f":"IF(入力シート!A55=\"\",\"\",入力シート!A55)","v":""},{"$f":"IF(入力シート!B55=\"\",\"\",入力シート!B55)","v":""},{"$f":"IF(入力シート!C55=\"\",\"\",入力シート!C55)","v":""},{"$f":"IF(入力シート!D55=\"\",\"\",TEXT(入力シート!D55,\"yyyy-mm-dd\"))","v":""},{"$f":"IF(入力シート!P55=\"\",\"\",TEXT(入力シート!P55,\"000-0000\"))","v":""},{"$f":"IF(入力シート!G55=\"\",\"\",入力シート!G55)","v":""},{"$f":"IF(入力シート!H55=\"\",\"\",入力シート!H55)","v":""},{"$f":"IF(入力シート!I55=\"\",\"\",入力シート!I55)","v":""},{"$f":"IF(入力シート!J55=\"\",\"\",入力シート!J55)","v":""},{"$f":"IF(入力シート!K55=\"\",\"\",入力シート!K55)","v":""},{"$f":"IF(入力シート!L55=\"\",\"\",入力シート!L55)","v":""},{"$f":"IF(入力シート!M55=\"\",\"\",入力シート!M55)","v":""},{"$f":"IF(入力シート!N55=\"\",\"\",入力シート!N55)","v":""},{"$f":"IF(入力シート!O55=\"\",\"\",入力シート!Q55)","v":""}]
[{"$f":"IF(入力シート!A56=\"\",\"\",入力シート!A56)","v":""},{"$f":"IF(入力シート!B56=\"\",\"\",入力シート!B56)","v":""},{"$f":"IF(入力シート!C56=\"\",\"\",入力シート!C56)","v":""},{"$f":"IF(入力シート!D56=\"\",\"\",TEXT(入力シート!D56,\"yyyy-mm-dd\"))","v":""},{"$f":"IF(入力シート!P56=\"\",\"\",TEXT(入力シート!P56,\"000-0000\"))","v":""},{"$f":"IF(入力シート!G56=\"\",\"\",入力シート!G56)","v":""},{"$f":"IF(入力シート!H56=\"\",\"\",入力シート!H56)","v":""},{"$f":"IF(入力シート!I56=\"\",\"\",入力シート!I56)","v":""},{"$f":"IF(入力シート!J56=\"\",\"\",入力シート!J56)","v":""},{"$f":"IF(入力シート!K56=\"\",\"\",入力シート!K56)","v":""},{"$f":"IF(入力シート!L56=\"\",\"\",入力シート!L56)","v":""},{"$f":"IF(入力シート!M56=\"\",\"\",入力シート!M56)","v":""},{"$f":"IF(入力シート!N56=\"\",\"\",入力シート!N56)","v":""},{"$f":"IF(入力シート!O56=\"\",\"\",入力シート!Q56)","v":""}]
[{"$f":"IF(入力シート!A57=\"\",\"\",入力シート!A57)","v":""},{"$f":"IF(入力シート!B57=\"\",\"\",入力シート!B57)","v":""},{"$f":"IF(入力シート!C57=\"\",\"\",入力シート!C57)","v":""},{"$f":"IF(入力シート!D57=\"\",\"\",TEXT(入力シート!D57,\"yyyy-mm-dd\"))","v":""},{"$f":"IF(入力シート!P57=\"\",\"\",TEXT(入力シート!P57,\"000-0000\"))","v":""},{"$f":"IF(入力シート!G57=\"\",\"\",入力シート!G57)","v":""},{"$f":"IF(入力シート!H57=\"\",\"\",入力シート!H57)","v":""},{"$f":"IF(入力シート!I57=\"\",\"\",入力シート!I57)","v":""},{"$f":"IF(入力シート!J57=\"\",\"\",入力シート!J57)","v":""},{"$f":"IF(入力シート!K57=\"\",\"\",入力シート!K57)","v":""},{"$f":"IF(入力シート!L57=\"\",\"\",入力シート!L57)","v":""},{"$f":"IF(入力シート!M57=\"\",\"\",入力シート!M57)","v":""},{"$f":"IF(入力シート!N57=\"\",\"\",入力シート!N57)","v":""},{"$f":"IF(入力シート!O57=\"\",\"\",入力シート!Q57)","v":""}]
[{"$f":"IF(入力シート!A58=\"\",\"\",入力シート!A58)","v":""},{"$f":"IF(入力シート!B58=\"\",\"\",入力シート!B58)","v":""},{"$f":"IF(入力シート!C58=\"\",\"\",入力シート!C58)","v":""},{"$f":"IF(入力シート!D58=\"\",\"\",TEXT(入力シート!D58,\"yyyy-mm-dd\"))","v":""},{"$f":"IF(入力シート!P58=\"\",\"\",TEXT(入力シート!P58,\"000-0000\"))","v":""},{"$f":"IF(入力シート!G58=\"\",\"\",入力シート!G58)","v":""},{"$f":"IF(入力シート!H58=\"\",\"\",入力シート!H58)","v":""},{"$f":"IF(入力シート!I58=\"\",\"\",入力シート!I58)","v":""},{"$f":"IF(入力シート!J58=\"\",\"\",入力シート!J58)","v":""},{"$f":"IF(入力シート!K58=\"\",\"\",入力シート!K58)","v":""},{"$f":"IF(入力シート!L58=\"\",\"\",入力シート!L58)","v":""},{"$f":"IF(入力シート!M58=\"\",\"\",入力シート!M58)","v":""},{"$f":"IF(入力シート!N58=\"\",\"\",入力シート!N58)","v":""},{"$f":"IF(入力シート!O58=\"\",\"\",入力シート!Q58)","v":""}]
[{"$f":"IF(入力シート!A59=\"\",\"\",入力シート!A59)","v":""},{"$f":"IF(入力シート!B59=\"\",\"\",入力シート!B59)","v":""},{"$f":"IF(入力シート!C59=\"\",\"\",入力シート!C59)","v":""},{"$f":"IF(入力シート!D59=\"\",\"\",TEXT(入力シート!D59,\"yyyy-mm-dd\"))","v":""},{"$f":"IF(入力シート!P59=\"\",\"\",TEXT(入力シート!P59,\"000-0000\"))","v":""},{"$f":"IF(入力シート!G59=\"\",\"\",入力シート!G59)","v":""},{"$f":"IF(入力シート!H59=\"\",\"\",入力シート!H59)","v":""},{"$f":"IF(入力シート!I59=\"\",\"\",入力シート!I59)","v":""},{"$f":"IF(入力シート!J59=\"\",\"\",入力シート!J59)","v":""},{"$f":"IF(入力シート!K59=\"\",\"\",入力シート!K59)","v":""},{"$f":"IF(入力シート!L59=\"\",\"\",入力シート!L59)","v":""},{"$f":"IF(入力シート!M59=\"\",\"\",入力シート!M59)","v":""},{"$f":"IF(入力シート!N59=\"\",\"\",入力シート!N59)","v":""},{"$f":"IF(入力シート!O59=\"\",\"\",入力シート!Q59)","v":""}]
[{"$f":"IF(入力シート!A60=\"\",\"\",入力シート!A60)","v":""},{"$f":"IF(入力シート!B60=\"\",\"\",入力シート!B60)","v":""},{"$f":"IF(入力シート!C60=\"\",\"\",入力シート!C60)","v":""},{"$f":"IF(入力シート!D60=\"\",\"\",TEXT(入力シート!D60,\"yyyy-mm-dd\"))","v":""},{"$f":"IF(入力シート!P60=\"\",\"\",TEXT(入力シート!P60,\"000-0000\"))","v":""},{"$f":"IF(入力シート!G60=\"\",\"\",入力シート!G60)","v":""},{"$f":"IF(入力シート!H60=\"\",\"\",入力シート!H60)","v":""},{"$f":"IF(入力シート!I60=\"\",\"\",入力シート!I60)","v":""},{"$f":"IF(入力シート!J60=\"\",\"\",入力シート!J60)","v":""},{"$f":"IF(入力シート!K60=\"\",\"\",入力シート!K60)","v":""},{"$f":"IF(入力シート!L60=\"\",\"\",入力シート!L60)","v":""},{"$f":"IF(入力シート!M60=\"\",\"\",入力シート!M60)","v":""},{"$f":"IF(入力シート!N60=\"\",\"\",入力シート!N60)","v":""},{"$f":"IF(入力シート!O60=\"\",\"\",入力シート!Q60)","v":""}]
[{"$f":"IF(入力シート!A61=\"\",\"\",入力シート!A61)","v":""},{"$f":"IF(入力シート!B61=\"\",\"\",入力シート!B61)","v":""},{"$f":"IF(入力シート!C61=\"\",\"\",入力シート!C61)","v":""},{"$f":"IF(入力シート!D61=\"\",\"\",TEXT(入力シート!D61,\"yyyy-mm-dd\"))","v":""},{"$f":"IF(入力シート!P61=\"\",\"\",TEXT(入力シート!P61,\"000-0000\"))","v":""},{"$f":"IF(入力シート!G61=\"\",\"\",入力シート!G61)","v":""},{"$f":"IF(入力シート!H61=\"\",\"\",入力シート!H61)","v":""},{"$f":"IF(入力シート!I61=\"\",\"\",入力シート!I61)","v":""},{"$f":"IF(入力シート!J61=\"\",\"\",入力シート!J61)","v":""},{"$f":"IF(入力シート!K61=\"\",\"\",入力シート!K61)","v":""},{"$f":"IF(入力シート!L61=\"\",\"\",入力シート!L61)","v":""},{"$f":"IF(入力シート!M61=\"\",\"\",入力シート!M61)","v":""},{"$f":"IF(入力シート!N61=\"\",\"\",入力シート!N61)","v":""},{"$f":"IF(入力シート!O61=\"\",\"\",入力シート!Q61)","v":""}]
[{"$f":"IF(入力シート!A62=\"\",\"\",入力シート!A62)","v":""},{"$f":"IF(入力シート!B62=\"\",\"\",入力シート!B62)","v":""},{"$f":"IF(入力シート!C62=\"\",\"\",入力シート!C62)","v":""},{"$f":"IF(入力シート!D62=\"\",\"\",TEXT(入力シート!D62,\"yyyy-mm-dd\"))","v":""},{"$f":"IF(入力シート!P62=\"\",\"\",TEXT(入力シート!P62,\"000-0000\"))","v":""},{"$f":"IF(入力シート!G62=\"\",\"\",入力シート!G62)","v":""},{"$f":"IF(入力シート!H62=\"\",\"\",入力シート!H62)","v":""},{"$f":"IF(入力シート!I62=\"\",\"\",入力シート!I62)","v":""},{"$f":"IF(入力シート!J62=\"\",\"\",入力シート!J62)","v":""},{"$f":"IF(入力シート!K62=\"\",\"\",入力シート!K62)","v":""},{"$f":"IF(入力シート!L62=\"\",\"\",入力シート!L62)","v":""},{"$f":"IF(入力シート!M62=\"\",\"\",入力シート!M62)","v":""},{"$f":"IF(入力シート!N62=\"\",\"\",入力シート!N62)","v":""},{"$f":"IF(入力シート!O62=\"\",\"\",入力シート!Q62)","v":""}]
[{"$f":"IF(入力シート!A63=\"\",\"\",入力シート!A63)","v":""},{"$f":"IF(入力シート!B63=\"\",\"\",入力シート!B63)","v":""},{"$f":"IF(入力シート!C63=\"\",\"\",入力シート!C63)","v":""},{"$f":"IF(入力シート!D63=\"\",\"\",TEXT(入力シート!D63,\"yyyy-mm-dd\"))","v":""},{"$f":"IF(入力シート!P63=\"\",\"\",TEXT(入力シート!P63,\"000-0000\"))","v":""},{"$f":"IF(入力シート!G63=\"\",\"\",入力シート!G63)","v":""},{"$f":"IF(入力シート!H63=\"\",\"\",入力シート!H63)","v":""},{"$f":"IF(入力シート!I63=\"\",\"\",入力シート!I63)","v":""},{"$f":"IF(入力シート!J63=\"\",\"\",入力シート!J63)","v":""},{"$f":"IF(入力シート!K63=\"\",\"\",入力シート!K63)","v":""},{"$f":"IF(入力シート!L63=\"\",\"\",入力シート!L63)","v":""},{"$f":"IF(入力シート!M63=\"\",\"\",入力シート!M63)","v":""},{"$f":"IF(入力シート!N63=\"\",\"\",入力シート!N63)","v":""},{"$f":"IF(入力シート!O63=\"\",\"\",入力シート!Q63)","v":""}]
[{"$f":"IF(入力シート!A64=\"\",\"\",入力シート!A64)","v":""},{"$f":"IF(入力シート!B64=\"\",\"\",入力シート!B64)","v":""},{"$f":"IF(入力シート!C64=\"\",\"\",入力シート!C64)","v":""},{"$f":"IF(入力シート!D64=\"\",\"\",TEXT(入力シート!D64,\"yyyy-mm-dd\"))","v":""},{"$f":"IF(入力シート!P64=\"\",\"\",TEXT(入力シート!P64,\"000-0000\"))","v":""},{"$f":"IF(入力シート!G64=\"\",\"\",入力シート!G64)","v":""},{"$f":"IF(入力シート!H64=\"\",\"\",入力シート!H64)","v":""},{"$f":"IF(入力シート!I64=\"\",\"\",入力シート!I64)","v":""},{"$f":"IF(入力シート!J64=\"\",\"\",入力シート!J64)","v":""},{"$f":"IF(入力シート!K64=\"\",\"\",入力シート!K64)","v":""},{"$f":"IF(入力シート!L64=\"\",\"\",入力シート!L64)","v":""},{"$f":"IF(入力シート!M64=\"\",\"\",入力シート!M64)","v":""},{"$f":"IF(入力シート!N64=\"\",\"\",入力シート!N64)","v":""},{"$f":"IF(入力シート!O64=\"\",\"\",入力シート!Q64)","v":""}]
[{"$f":"IF(入力シート!A65=\"\",\"\",入力シート!A65)","v":""},{"$f":"IF(入力シート!B65=\"\",\"\",入力シート!B65)","v":""},{"$f":"IF(入力シート!C65=\"\",\"\",入力シート!C65)","v":""},{"$f":"IF(入力シート!D65=\"\",\"\",TEXT(入力シート!D65,\"yyyy-mm-dd\"))","v":""},{"$f":"IF(入力シート!P65=\"\",\"\",TEXT(入力シート!P65,\"000-0000\"))","v":""},{"$f":"IF(入力シート!G65=\"\",\"\",入力シート!G65)","v":""},{"$f":"IF(入力シート!H65=\"\",\"\",入力シート!H65)","v":""},{"$f":"IF(入力シート!I65=\"\",\"\",入力シート!I65)","v":""},{"$f":"IF(入力シート!J65=\"\",\"\",入力シート!J65)","v":""},{"$f":"IF(入力シート!K65=\"\",\"\",入力シート!K65)","v":""},{"$f":"IF(入力シート!L65=\"\",\"\",入力シート!L65)","v":""},{"$f":"IF(入力シート!M65=\"\",\"\",入力シート!M65)","v":""},{"$f":"IF(入力シート!N65=\"\",\"\",入力シート!N65)","v":""},{"$f":"IF(入力シート!O65=\"\",\"\",入力シート!Q65)","v":""}]
[{"$f":"IF(入力シート!A66=\"\",\"\",入力シート!A66)","v":""},{"$f":"IF(入力シート!B66=\"\",\"\",入力シート!B66)","v":""},{"$f":"IF(入力シート!C66=\"\",\"\",入力シート!C66)","v":""},{"$f":"IF(入力シート!D66=\"\",\"\",TEXT(入力シート!D66,\"yyyy-mm-dd\"))","v":""},{"$f":"IF(入力シート!P66=\"\",\"\",TEXT(入力シート!P66,\"000-0000\"))","v":""},{"$f":"IF(入力シート!G66=\"\",\"\",入力シート!G66)","v":""},{"$f":"IF(入力シート!H66=\"\",\"\",入力シート!H66)","v":""},{"$f":"IF(入力シート!I66=\"\",\"\",入力シート!I66)","v":""},{"$f":"IF(入力シート!J66=\"\",\"\",入力シート!J66)","v":""},{"$f":"IF(入力シート!K66=\"\",\"\",入力シート!K66)","v":""},{"$f":"IF(入力シート!L66=\"\",\"\",入力シート!L66)","v":""},{"$f":"IF(入力シート!M66=\"\",\"\",入力シート!M66)","v":""},{"$f":"IF(入力シート!N66=\"\",\"\",入力シート!N66)","v":""},{"$f":"IF(入力シート!O66=\"\",\"\",入力シート!Q66)","v":""}]
[{"$f":"IF(入力シート!A67=\"\",\"\",入力シート!A67)","v":""},{"$f":"IF(入力シート!B67=\"\",\"\",入力シート!B67)","v":""},{"$f":"IF(入力シート!C67=\"\",\"\",入力シート!C67)","v":""},{"$f":"IF(入力シート!D67=\"\",\"\",TEXT(入力シート!D67,\"yyyy-mm-dd\"))","v":""},{"$f":"IF(入力シート!P67=\"\",\"\",TEXT(入力シート!P67,\"000-0000\"))","v":""},{"$f":"IF(入力シート!G67=\"\",\"\",入力シート!G67)","v":""},{"$f":"IF(入力シート!H67=\"\",\"\",入力シート!H67)","v":""},{"$f":"IF(入力シート!I67=\"\",\"\",入力シート!I67)","v":""},{"$f":"IF(入力シート!J67=\"\",\"\",入力シート!J67)","v":""},{"$f":"IF(入力シート!K67=\"\",\"\",入力シート!K67)","v":""},{"$f":"IF(入力シート!L67=\"\",\"\",入力シート!L67)","v":""},{"$f":"IF(入力シート!M67=\"\",\"\",入力シート!M67)","v":""},{"$f":"IF(入力シート!N67=\"\",\"\",入力シート!N67)","v":""},{"$f":"IF(入力シート!O67=\"\",\"\",入力シート!Q67)","v":""}]
[{"$f":"IF(入力シート!A68=\"\",\"\",入力シート!A68)","v":""},{"$f":"IF(入力シート!B68=\"\",\"\",入力シート!B68)","v":""},{"$f":"IF(入力シート!C68=\"\",\"\",入力シート!C68)","v":""},{"$f":"IF(入力シート!D68=\"\",\"\",TEXT(入力シート!D68,\"yyyy-mm-dd\"))","v":""},{"$f":"IF(入力シート!P68=\"\",\"\",TEXT(入力シート!P68,\"000-0000\"))","v":""},{"$f":"IF(入力シート!G68=\"\",\"\",入力シート!G68)","v":""},{"$f":"IF(入力シート!H68=\"\",\"\",入力シート!H68)","v":""},{"$f":"IF(入力シート!I68=\"\",\"\",入力シート!I68)","v":""},{"$f":"IF(入力シート!J68=\"\",\"\",入力シート!J68)","v":""},{"$f":"IF(入力シート!K68=\"\",\"\",入力シート!K68)","v":""},{"$f":"IF(入力シート!L68=\"\",\"\",入力シート!L68)","v":""},{"$f":"IF(入力シート!M68=\"\",\"\",入力シート!M68)","v":""},{"$f":"IF(入力シート!N68=\"\",\"\",入力シート!N68)","v":""},{"$f":"IF(入力シート!O68=\"\",\"\",入力シート!Q68)","v":""}]
[{"$f":"IF(入力シート!A69=\"\",\"\",入力シート!A69)","v":""},{"$f":"IF(入力シート!B69=\"\",\"\",入力シート!B69)","v":""},{"$f":"IF(入力シート!C69=\"\",\"\",入力シート!C69)","v":""},{"$f":"IF(入力シート!D69=\"\",\"\",TEXT(入力シート!D69,\"yyyy-mm-dd\"))","v":""},{"$f":"IF(入力シート!P69=\"\",\"\",TEXT(入力シート!P69,\"000-0000\"))","v":""},{"$f":"IF(入力シート!G69=\"\",\"\",入力シート!G69)","v":""},{"$f":"IF(入力シート!H69=\"\",\"\",入力シート!H69)","v":""},{"$f":"IF(入力シート!I69=\"\",\"\",入力シート!I69)","v":""},{"$f":"IF(入力シート!J69=\"\",\"\",入力シート!J69)","v":""},{"$f":"IF(入力シート!K69=\"\",\"\",入力シート!K69)","v":""},{"$f":"IF(入力シート!L69=\"\",\"\",入力シート!L69)","v":""},{"$f":"IF(入力シート!M69=\"\",\"\",入力シート!M69)","v":""},{"$f":"IF(入力シート!N69=\"\",\"\",入力シート!N69)","v":""},{"$f":"IF(入力シート!O69=\"\",\"\",入力シート!Q69)","v":""}]
[{"$f":"IF(入力シート!A70=\"\",\"\",入力シート!A70)","v":""},{"$f":"IF(入力シート!B70=\"\",\"\",入力シート!B70)","v":""},{"$f":"IF(入力シート!C70=\"\",\"\",入力シート!C70)","v":""},{"$f":"IF(入力シート!D70=\"\",\"\",TEXT(入力シート!D70,\"yyyy-mm-dd\"))","v":""},{"$f":"IF(入力シート!P70=\"\",\"\",TEXT(入力シート!P70,\"000-0000\"))","v":""},{"$f":"IF(入力シート!G70=\"\",\"\",入力シート!G70)","v":""},{"$f":"IF(入力シート!H70=\"\",\"\",入力シート!H70)","v":""},{"$f":"IF(入力シート!I70=\"\",\"\",入力シート!I70)","v":""},{"$f":"IF(入力シート!J70=\"\",\"\",入力シート!J70)","v":""},{"$f":"IF(入力シート!K70=\"\",\"\",入力シート!K70)","v":""},{"$f":"IF(入力シート!L70=\"\",\"\",入力シート!L70)","v":""},{"$f":"IF(入力シート!M70=\"\",\"\",入力シート!M70)","v":""},{"$f":"IF(入力シート!N70=\"\",\"\",入力シート!N70)","v":""},{"$f":"IF(入力シート!O70=\"\",\"\",入力シート!Q70)","v":""}]
[{"$f":"IF(入力シート!A71=\"\",\"\",入力シート!A71)","v":""},{"$f":"IF(入力シート!B71=\"\",\"\",入力シート!B71)","v":""},{"$f":"IF(入力シート!C71=\"\",\"\",入力シート!C71)","v":""},{"$f":"IF(入力シート!D71=\"\",\"\",TEXT(入力シート!D71,\"yyyy-mm-dd\"))","v":""},{"$f":"IF(入力シート!P71=\"\",\"\",TEXT(入力シート!P71,\"000-0000\"))","v":""},{"$f":"IF(入力シート!G71=\"\",\"\",入力シート!G71)","v":""},{"$f":"IF(入力シート!H71=\"\",\"\",入力シート!H71)","v":""},{"$f":"IF(入力シート!I71=\"\",\"\",入力シート!I71)","v":""},{"$f":"IF(入力シート!J71=\"\",\"\",入力シート!J71)","v":""},{"$f":"IF(入力シート!K71=\"\",\"\",入力シート!K71)","v":""},{"$f":"IF(入力シート!L71=\"\",\"\",入力シート!L71)","v":""},{"$f":"IF(入力シート!M71=\"\",\"\",入力シート!M71)","v":""},{"$f":"IF(入力シート!N71=\"\",\"\",入力シート!N71)","v":""},{"$f":"IF(入力シート!O71=\"\",\"\",入力シート!Q71)","v":""}]
[{"$f":"IF(入力シート!A72=\"\",\"\",入力シート!A72)","v":""},{"$f":"IF(入力シート!B72=\"\",\"\",入力シート!B72)","v":""},{"$f":"IF(入力シート!C72=\"\",\"\",入力シート!C72)","v":""},{"$f":"IF(入力シート!D72=\"\",\"\",TEXT(入力シート!D72,\"yyyy-mm-dd\"))","v":""},{"$f":"IF(入力シート!P72=\"\",\"\",TEXT(入力シート!P72,\"000-0000\"))","v":""},{"$f":"IF(入力シート!G72=\"\",\"\",入力シート!G72)","v":""},{"$f":"IF(入力シート!H72=\"\",\"\",入力シート!H72)","v":""},{"$f":"IF(入力シート!I72=\"\",\"\",入力シート!I72)","v":""},{"$f":"IF(入力シート!J72=\"\",\"\",入力シート!J72)","v":""},{"$f":"IF(入力シート!K72=\"\",\"\",入力シート!K72)","v":""},{"$f":"IF(入力シート!L72=\"\",\"\",入力シート!L72)","v":""},{"$f":"IF(入力シート!M72=\"\",\"\",入力シート!M72)","v":""},{"$f":"IF(入力シート!N72=\"\",\"\",入力シート!N72)","v":""},{"$f":"IF(入力シート!O72=\"\",\"\",入力シート!Q72)","v":""}]
[{"$f":"IF(入力シート!A73=\"\",\"\",入力シート!A73)","v":""},{"$f":"IF(入力シート!B73=\"\",\"\",入力シート!B73)","v":""},{"$f":"IF(入力シート!C73=\"\",\"\",入力シート!C73)","v":""},{"$f":"IF(入力シート!D73=\"\",\"\",TEXT(入力シート!D73,\"yyyy-mm-dd\"))","v":""},{"$f":"IF(入力シート!P73=\"\",\"\",TEXT(入力シート!P73,\"000-0000\"))","v":""},{"$f":"IF(入力シート!G73=\"\",\"\",入力シート!G73)","v":""},{"$f":"IF(入力シート!H73=\"\",\"\",入力シート!H73)","v":""},{"$f":"IF(入力シート!I73=\"\",\"\",入力シート!I73)","v":""},{"$f":"IF(入力シート!J73=\"\",\"\",入力シート!J73)","v":""},{"$f":"IF(入力シート!K73=\"\",\"\",入力シート!K73)","v":""},{"$f":"IF(入力シート!L73=\"\",\"\",入力シート!L73)","v":""},{"$f":"IF(入力シート!M73=\"\",\"\",入力シート!M73)","v":""},{"$f":"IF(入力シート!N73=\"\",\"\",入力シート!N73)","v":""},{"$f":"IF(入力シート!O73=\"\",\"\",入力シート!Q73)","v":""}]
[{"$f":"IF(入力シート!A74=\"\",\"\",入力シート!A74)","v":""},{"$f":"IF(入力シート!B74=\"\",\"\",入力シート!B74)","v":""},{"$f":"IF(入力シート!C74=\"\",\"\",入力シート!C74)","v":""},{"$f":"IF(入力シート!D74=\"\",\"\",TEXT(入力シート!D74,\"yyyy-mm-dd\"))","v":""},{"$f":"IF(入力シート!P74=\"\",\"\",TEXT(入力シート!P74,\"000-0000\"))","v":""},{"$f":"IF(入力シート!G74=\"\",\"\",入力シート!G74)","v":""},{"$f":"IF(入力シート!H74=\"\",\"\",入力シート!H74)","v":""},{"$f":"IF(入力シート!I74=\"\",\"\",入力シート!I74)","v":""},{"$f":"IF(入力シート!J74=\"\",\"\",入力シート!J74)","v":""},{"$f":"IF(入力シート!K74=\"\",\"\",入力シート!K74)","v":""},{"$f":"IF(入力シート!L74=\"\",\"\",入力シート!L74)","v":""},{"$f":"IF(入力シート!M74=\"\",\"\",入力シート!M74)","v":""},{"$f":"IF(入力シート!N74=\"\",\"\",入力シート!N74)","v":""},{"$f":"IF(入力シート!O74=\"\",\"\",入力シート!Q74)","v":""}]
[{"$f":"IF(入力シート!A75=\"\",\"\",入力シート!A75)","v":""},{"$f":"IF(入力シート!B75=\"\",\"\",入力シート!B75)","v":""},{"$f":"IF(入力シート!C75=\"\",\"\",入力シート!C75)","v":""},{"$f":"IF(入力シート!D75=\"\",\"\",TEXT(入力シート!D75,\"yyyy-mm-dd\"))","v":""},{"$f":"IF(入力シート!P75=\"\",\"\",TEXT(入力シート!P75,\"000-0000\"))","v":""},{"$f":"IF(入力シート!G75=\"\",\"\",入力シート!G75)","v":""},{"$f":"IF(入力シート!H75=\"\",\"\",入力シート!H75)","v":""},{"$f":"IF(入力シート!I75=\"\",\"\",入力シート!I75)","v":""},{"$f":"IF(入力シート!J75=\"\",\"\",入力シート!J75)","v":""},{"$f":"IF(入力シート!K75=\"\",\"\",入力シート!K75)","v":""},{"$f":"IF(入力シート!L75=\"\",\"\",入力シート!L75)","v":""},{"$f":"IF(入力シート!M75=\"\",\"\",入力シート!M75)","v":""},{"$f":"IF(入力シート!N75=\"\",\"\",入力シート!N75)","v":""},{"$f":"IF(入力シート!O75=\"\",\"\",入力シート!Q75)","v":""}]
[{"$f":"IF(入力シート!A76=\"\",\"\",入力シート!A76)","v":""},{"$f":"IF(入力シート!B76=\"\",\"\",入力シート!B76)","v":""},{"$f":"IF(入力シート!C76=\"\",\"\",入力シート!C76)","v":""},{"$f":"IF(入力シート!D76=\"\",\"\",TEXT(入力シート!D76,\"yyyy-mm-dd\"))","v":""},{"$f":"IF(入力シート!P76=\"\",\"\",TEXT(入力シート!P76,\"000-0000\"))","v":""},{"$f":"IF(入力シート!G76=\"\",\"\",入力シート!G76)","v":""},{"$f":"IF(入力シート!H76=\"\",\"\",入力シート!H76)","v":""},{"$f":"IF(入力シート!I76=\"\",\"\",入力シート!I76)","v":""},{"$f":"IF(入力シート!J76=\"\",\"\",入力シート!J76)","v":""},{"$f":"IF(入力シート!K76=\"\",\"\",入力シート!K76)","v":""},{"$f":"IF(入力シート!L76=\"\",\"\",入力シート!L76)","v":""},{"$f":"IF(入力シート!M76=\"\",\"\",入力シート!M76)","v":""},{"$f":"IF(入力シート!N76=\"\",\"\",入力シート!N76)","v":""},{"$f":"IF(入力シート!O76=\"\",\"\",入力シート!Q76)","v":""}]
[{"$f":"IF(入力シート!A77=\"\",\"\",入力シート!A77)","v":""},{"$f":"IF(入力シート!B77=\"\",\"\",入力シート!B77)","v":""},{"$f":"IF(入力シート!C77=\"\",\"\",入力シート!C77)","v":""},{"$f":"IF(入力シート!D77=\"\",\"\",TEXT(入力シート!D77,\"yyyy-mm-dd\"))","v":""},{"$f":"IF(入力シート!P77=\"\",\"\",TEXT(入力シート!P77,\"000-0000\"))","v":""},{"$f":"IF(入力シート!G77=\"\",\"\",入力シート!G77)","v":""},{"$f":"IF(入力シート!H77=\"\",\"\",入力シート!H77)","v":""},{"$f":"IF(入力シート!I77=\"\",\"\",入力シート!I77)","v":""},{"$f":"IF(入力シート!J77=\"\",\"\",入力シート!J77)","v":""},{"$f":"IF(入力シート!K77=\"\",\"\",入力シート!K77)","v":""},{"$f":"IF(入力シート!L77=\"\",\"\",入力シート!L77)","v":""},{"$f":"IF(入力シート!M77=\"\",\"\",入力シート!M77)","v":""},{"$f":"IF(入力シート!N77=\"\",\"\",入力シート!N77)","v":""},{"$f":"IF(入力シート!O77=\"\",\"\",入力シート!Q77)","v":""}]
[{"$f":"IF(入力シート!A78=\"\",\"\",入力シート!A78)","v":""},{"$f":"IF(入力シート!B78=\"\",\"\",入力シート!B78)","v":""},{"$f":"IF(入力シート!C78=\"\",\"\",入力シート!C78)","v":""},{"$f":"IF(入力シート!D78=\"\",\"\",TEXT(入力シート!D78,\"yyyy-mm-dd\"))","v":""},{"$f":"IF(入力シート!P78=\"\",\"\",TEXT(入力シート!P78,\"000-0000\"))","v":""},{"$f":"IF(入力シート!G78=\"\",\"\",入力シート!G78)","v":""},{"$f":"IF(入力シート!H78=\"\",\"\",入力シート!H78)","v":""},{"$f":"IF(入力シート!I78=\"\",\"\",入力シート!I78)","v":""},{"$f":"IF(入力シート!J78=\"\",\"\",入力シート!J78)","v":""},{"$f":"IF(入力シート!K78=\"\",\"\",入力シート!K78)","v":""},{"$f":"IF(入力シート!L78=\"\",\"\",入力シート!L78)","v":""},{"$f":"IF(入力シート!M78=\"\",\"\",入力シート!M78)","v":""},{"$f":"IF(入力シート!N78=\"\",\"\",入力シート!N78)","v":""},{"$f":"IF(入力シート!O78=\"\",\"\",入力シート!Q78)","v":""}]
[{"$f":"IF(入力シート!A79=\"\",\"\",入力シート!A79)","v":""},{"$f":"IF(入力シート!B79=\"\",\"\",入力シート!B79)","v":""},{"$f":"IF(入力シート!C79=\"\",\"\",入力シート!C79)","v":""},{"$f":"IF(入力シート!D79=\"\",\"\",TEXT(入力シート!D79,\"yyyy-mm-dd\"))","v":""},{"$f":"IF(入力シート!P79=\"\",\"\",TEXT(入力シート!P79,\"000-0000\"))","v":""},{"$f":"IF(入力シート!G79=\"\",\"\",入力シート!G79)","v":""},{"$f":"IF(入力シート!H79=\"\",\"\",入力シート!H79)","v":""},{"$f":"IF(入力シート!I79=\"\",\"\",入力シート!I79)","v":""},{"$f":"IF(入力シート!J79=\"\",\"\",入力シート!J79)","v":""},{"$f":"IF(入力シート!K79=\"\",\"\",入力シート!K79)","v":""},{"$f":"IF(入力シート!L79=\"\",\"\",入力シート!L79)","v":""},{"$f":"IF(入力シート!M79=\"\",\"\",入力シート!M79)","v":""},{"$f":"IF(入力シート!N79=\"\",\"\",入力シート!N79)","v":""},{"$f":"IF(入力シート!O79=\"\",\"\",入力シート!Q79)","v":""}]
[{"$f":"IF(入力シート!A80=\"\",\"\",入力シート!A80)","v":""},{"$f":"IF(入力シート!B80=\"\",\"\",入力シート!B80)","v":""},{"$f":"IF(入力シート!C80=\"\",\"\",入力シート!C80)","v":""},{"$f":"IF(入力シート!D80=\"\",\"\",TEXT(入力シート!D80,\"yyyy-mm-dd\"))","v":""},{"$f":"IF(入力シート!P80=\"\",\"\",TEXT(入力シート!P80,\"000-0000\"))","v":""},{"$f":"IF(入力シート!G80=\"\",\"\",入力シート!G80)","v":""},{"$f":"IF(入力シート!H80=\"\",\"\",入力シート!H80)","v":""},{"$f":"IF(入力シート!I80=\"\",\"\",入力シート!I80)","v":""},{"$f":"IF(入力シート!J80=\"\",\"\",入力シート!J80)","v":""},{"$f":"IF(入力シート!K80=\"\",\"\",入力シート!K80)","v":""},{"$f":"IF(入力シート!L80=\"\",\"\",入力シート!L80)","v":""},{"$f":"IF(入力シート!M80=\"\",\"\",入力シート!M80)","v":""},{"$f":"IF(入力シート!N80=\"\",\"\",入力シート!N80)","v":""},{"$f":"IF(入力シート!O80=\"\",\"\",入力シート!Q80)","v":""}]
[{"$f":"IF(入力シート!A81=\"\",\"\",入力シート!A81)","v":""},{"$f":"IF(入力シート!B81=\"\",\"\",入力シート!B81)","v":""},{"$f":"IF(入力シート!C81=\"\",\"\",入力シート!C81)","v":""},{"$f":"IF(入力シート!D81=\"\",\"\",TEXT(入力シート!D81,\"yyyy-mm-dd\"))","v":""},{"$f":"IF(入力シート!P81=\"\",\"\",TEXT(入力シート!P81,\"000-0000\"))","v":""},{"$f":"IF(入力シート!G81=\"\",\"\",入力シート!G81)","v":""},{"$f":"IF(入力シート!H81=\"\",\"\",入力シート!H81)","v":""},{"$f":"IF(入力シート!I81=\"\",\"\",入力シート!I81)","v":""},{"$f":"IF(入力シート!J81=\"\",\"\",入力シート!J81)","v":""},{"$f":"IF(入力シート!K81=\"\",\"\",入力シート!K81)","v":""},{"$f":"IF(入力シート!L81=\"\",\"\",入力シート!L81)","v":""},{"$f":"IF(入力シート!M81=\"\",\"\",入力シート!M81)","v":""},{"$f":"IF(入力シート!N81=\"\",\"\",入力シート!N81)","v":""},{"$f":"IF(入力シート!O81=\"\",\"\",入力シート!Q81)","v":""}]
[{"$f":"IF(入力シート!A82=\"\",\"\",入力シート!A82)","v":""},{"$f":"IF(入力シート!B82=\"\",\"\",入力シート!B82)","v":""},{"$f":"IF(入力シート!C82=\"\",\"\",入力シート!C82)","v":""},{"$f":"IF(入力シート!D82=\"\",\"\",TEXT(入力シート!D82,\"yyyy-mm-dd\"))","v":""},{"$f":"IF(入力シート!P82=\"\",\"\",TEXT(入力シート!P82,\"000-0000\"))","v":""},{"$f":"IF(入力シート!G82=\"\",\"\",入力シート!G82)","v":""},{"$f":"IF(入力シート!H82=\"\",\"\",入力シート!H82)","v":""},{"$f":"IF(入力シート!I82=\"\",\"\",入力シート!I82)","v":""},{"$f":"IF(入力シート!J82=\"\",\"\",入力シート!J82)","v":""},{"$f":"IF(入力シート!K82=\"\",\"\",入力シート!K82)","v":""},{"$f":"IF(入力シート!L82=\"\",\"\",入力シート!L82)","v":""},{"$f":"IF(入力シート!M82=\"\",\"\",入力シート!M82)","v":""},{"$f":"IF(入力シート!N82=\"\",\"\",入力シート!N82)","v":""},{"$f":"IF(入力シート!O82=\"\",\"\",入力シート!Q82)","v":""}]
[{"$f":"IF(入力シート!A83=\"\",\"\",入力シート!A83)","v":""},{"$f":"IF(入力シート!B83=\"\",\"\",入力シート!B83)","v":""},{"$f":"IF(入力シート!C83=\"\",\"\",入力シート!C83)","v":""},{"$f":"IF(入力シート!D83=\"\",\"\",TEXT(入力シート!D83,\"yyyy-mm-dd\"))","v":""},{"$f":"IF(入力シート!P83=\"\",\"\",TEXT(入力シート!P83,\"000-0000\"))","v":""},{"$f":"IF(入力シート!G83=\"\",\"\",入力シート!G83)","v":""},{"$f":"IF(入力シート!H83=\"\",\"\",入力シート!H83)","v":""},{"$f":"IF(入力シート!I83=\"\",\"\",入力シート!I83)","v":""},{"$f":"IF(入力シート!J83=\"\",\"\",入力シート!J83)","v":""},{"$f":"IF(入力シート!K83=\"\",\"\",入力シート!K83)","v":""},{"$f":"IF(入力シート!L83=\"\",\"\",入力シート!L83)","v":""},{"$f":"IF(入力シート!M83=\"\",\"\",入力シート!M83)","v":""},{"$f":"IF(入力シート!N83=\"\",\"\",入力シート!N83)","v":""},{"$f":"IF(入力シート!O83=\"\",\"\",入力シート!Q83)","v":""}]
[{"$f":"IF(入力シート!A84=\"\",\"\",入力シート!A84)","v":""},{"$f":"IF(入力シート!B84=\"\",\"\",入力シート!B84)","v":""},{"$f":"IF(入力シート!C84=\"\",\"\",入力シート!C84)","v":""},{"$f":"IF(入力シート!D84=\"\",\"\",TEXT(入力シート!D84,\"yyyy-mm-dd\"))","v":""},{"$f":"IF(入力シート!P84=\"\",\"\",TEXT(入力シート!P84,\"000-0000\"))","v":""},{"$f":"IF(入力シート!G84=\"\",\"\",入力シート!G84)","v":""},{"$f":"IF(入力シート!H84=\"\",\"\",入力シート!H84)","v":""},{"$f":"IF(入力シート!I84=\"\",\"\",入力シート!I84)","v":""},{"$f":"IF(入力シート!J84=\"\",\"\",入力シート!J84)","v":""},{"$f":"IF(入力シート!K84=\"\",\"\",入力シート!K84)","v":""},{"$f":"IF(入力シート!L84=\"\",\"\",入力シート!L84)","v":""},{"$f":"IF(入力シート!M84=\"\",\"\",入力シート!M84)","v":""},{"$f":"IF(入力シート!N84=\"\",\"\",入力シート!N84)","v":""},{"$f":"IF(入力シート!O84=\"\",\"\",入力シート!Q84)","v":""}]
[{"$f":"IF(入力シート!A85=\"\",\"\",入力シート!A85)","v":""},{"$f":"IF(入力シート!B85=\"\",\"\",入力シート!B85)","v":""},{"$f":"IF(入力シート!C85=\"\",\"\",入力シート!C85)","v":""},{"$f":"IF(入力シート!D85=\"\",\"\",TEXT(入力シート!D85,\"yyyy-mm-dd\"))","v":""},{"$f":"IF(入力シート!P85=\"\",\"\",TEXT(入力シート!P85,\"000-0000\"))","v":""},{"$f":"IF(入力シート!G85=\"\",\"\",入力シート!G85)","v":""},{"$f":"IF(入力シート!H85=\"\",\"\",入力シート!H85)","v":""},{"$f":"IF(入力シート!I85=\"\",\"\",入力シート!I85)","v":""},{"$f":"IF(入力シート!J85=\"\",\"\",入力シート!J85)","v":""},{"$f":"IF(入力シート!K85=\"\",\"\",入力シート!K85)","v":""},{"$f":"IF(入力シート!L85=\"\",\"\",入力シート!L85)","v":""},{"$f":"IF(入力シート!M85=\"\",\"\",入力シート!M85)","v":""},{"$f":"IF(入力シート!N85=\"\",\"\",入力シート!N85)","v":""},{"$f":"IF(入力シート!O85=\"\",\"\",入力シート!Q85)","v":""}]
[{"$f":"IF(入力シート!A86=\"\",\"\",入力シート!A86)","v":""},{"$f":"IF(入力シート!B86=\"\",\"\",入力シート!B86)","v":""},{"$f":"IF(入力シート!C86=\"\",\"\",入力シート!C86)","v":""},{"$f":"IF(入力シート!D86=\"\",\"\",TEXT(入力シート!D86,\"yyyy-mm-dd\"))","v":""},{"$f":"IF(入力シート!P86=\"\",\"\",TEXT(入力シート!P86,\"000-0000\"))","v":""},{"$f":"IF(入力シート!G86=\"\",\"\",入力シート!G86)","v":""},{"$f":"IF(入力シート!H86=\"\",\"\",入力シート!H86)","v":""},{"$f":"IF(入力シート!I86=\"\",\"\",入力シート!I86)","v":""},{"$f":"IF(入力シート!J86=\"\",\"\",入力シート!J86)","v":""},{"$f":"IF(入力シート!K86=\"\",\"\",入力シート!K86)","v":""},{"$f":"IF(入力シート!L86=\"\",\"\",入力シート!L86)","v":""},{"$f":"IF(入力シート!M86=\"\",\"\",入力シート!M86)","v":""},{"$f":"IF(入力シート!N86=\"\",\"\",入力シート!N86)","v":""},{"$f":"IF(入力シート!O86=\"\",\"\",入力シート!Q86)","v":""}]
[{"$f":"IF(入力シート!A87=\"\",\"\",入力シート!A87)","v":""},{"$f":"IF(入力シート!B87=\"\",\"\",入力シート!B87)","v":""},{"$f":"IF(入力シート!C87=\"\",\"\",入力シート!C87)","v":""},{"$f":"IF(入力シート!D87=\"\",\"\",TEXT(入力シート!D87,\"yyyy-mm-dd\"))","v":""},{"$f":"IF(入力シート!P87=\"\",\"\",TEXT(入力シート!P87,\"000-0000\"))","v":""},{"$f":"IF(入力シート!G87=\"\",\"\",入力シート!G87)","v":""},{"$f":"IF(入力シート!H87=\"\",\"\",入力シート!H87)","v":""},{"$f":"IF(入力シート!I87=\"\",\"\",入力シート!I87)","v":""},{"$f":"IF(入力シート!J87=\"\",\"\",入力シート!J87)","v":""},{"$f":"IF(入力シート!K87=\"\",\"\",入力シート!K87)","v":""},{"$f":"IF(入力シート!L87=\"\",\"\",入力シート!L87)","v":""},{"$f":"IF(入力シート!M87=\"\",\"\",入力シート!M87)","v":""},{"$f":"IF(入力シート!N87=\"\",\"\",入力シート!N87)","v":""},{"$f":"IF(入力シート!O87=\"\",\"\",入力シート!Q87)","v":""}]
[{"$f":"IF(入力シート!A88=\"\",\"\",入力シート!A88)","v":""},{"$f":"IF(入力シート!B88=\"\",\"\",入力シート!B88)","v":""},{"$f":"IF(入力シート!C88=\"\",\"\",入力シート!C88)","v":""},{"$f":"IF(入力シート!D88=\"\",\"\",TEXT(入力シート!D88,\"yyyy-mm-dd\"))","v":""},{"$f":"IF(入力シート!P88=\"\",\"\",TEXT(入力シート!P88,\"000-0000\"))","v":""},{"$f":"IF(入力シート!G88=\"\",\"\",入力シート!G88)","v":""},{"$f":"IF(入力シート!H88=\"\",\"\",入力シート!H88)","v":""},{"$f":"IF(入力シート!I88=\"\",\"\",入力シート!I88)","v":""},{"$f":"IF(入力シート!J88=\"\",\"\",入力シート!J88)","v":""},{"$f":"IF(入力シート!K88=\"\",\"\",入力シート!K88)","v":""},{"$f":"IF(入力シート!L88=\"\",\"\",入力シート!L88)","v":""},{"$f":"IF(入力シート!M88=\"\",\"\",入力シート!M88)","v":""},{"$f":"IF(入力シート!N88=\"\",\"\",入力シート!N88)","v":""},{"$f":"IF(入力シート!O88=\"\",\"\",入力シート!Q88)","v":""}]
[{"$f":"IF(入力シート!A89=\"\",\"\",入力シート!A89)","v":""},{"$f":"IF(入力シート!B89=\"\",\"\",入力シート!B89)","v":""},{"$f":"IF(入力シート!C89=\"\",\"\",入力シート!C89)","v":""},{"$f":"IF(入力シート!D89=\"\",\"\",TEXT(入力シート!D89,\"yyyy-mm-dd\"))","v":""},{"$f":"IF(入力シート!P89=\"\",\"\",TEXT(入力シート!P89,\"000-0000\"))","v":""},{"$f":"IF(入力シート!G89=\"\",\"\",入力シート!G89)","v":""},{"$f":"IF(入力シート!H89=\"\",\"\",入力シート!H89)","v":""},{"$f":"IF(入力シート!I89=\"\",\"\",入力シート!I89)","v":""},{"$f":"IF(入力シート!J89=\"\",\"\",入力シート!J89)","v":""},{"$f":"IF(入力シート!K89=\"\",\"\",入力シート!K89)","v":""},{"$f":"IF(入力シート!L89=\"\",\"\",入力シート!L89)","v":""},{"$f":"IF(入力シート!M89=\"\",\"\",入力シート!M89)","v":""},{"$f":"IF(入力シート!N89=\"\",\"\",入力シート!N89)","v":""},{"$f":"IF(入力シート!O89=\"\",\"\",入力シート!Q89)","v":""}]
[{"$f":"IF(入力シート!A90=\"\",\"\",入力シート!A90)","v":""},{"$f":"IF(入力シート!B90=\"\",\"\",入力シート!B90)","v":""},{"$f":"IF(入力シート!C90=\"\",\"\",入力シート!C90)","v":""},{"$f":"IF(入力シート!D90=\"\",\"\",TEXT(入力シート!D90,\"yyyy-mm-dd\"))","v":""},{"$f":"IF(入力シート!P90=\"\",\"\",TEXT(入力シート!P90,\"000-0000\"))","v":""},{"$f":"IF(入力シート!G90=\"\",\"\",入力シート!G90)","v":""},{"$f":"IF(入力シート!H90=\"\",\"\",入力シート!H90)","v":""},{"$f":"IF(入力シート!I90=\"\",\"\",入力シート!I90)","v":""},{"$f":"IF(入力シート!J90=\"\",\"\",入力シート!J90)","v":""},{"$f":"IF(入力シート!K90=\"\",\"\",入力シート!K90)","v":""},{"$f":"IF(入力シート!L90=\"\",\"\",入力シート!L90)","v":""},{"$f":"IF(入力シート!M90=\"\",\"\",入力シート!M90)","v":""},{"$f":"IF(入力シート!N90=\"\",\"\",入力シート!N90)","v":""},{"$f":"IF(入力シート!O90=\"\",\"\",入力シート!Q90)","v":""}]
[{"$f":"IF(入力シート!A91=\"\",\"\",入力シート!A91)","v":""},{"$f":"IF(入力シート!B91=\"\",\"\",入力シート!B91)","v":""},{"$f":"IF(入力シート!C91=\"\",\"\",入力シート!C91)","v":""},{"$f":"IF(入力シート!D91=\"\",\"\",TEXT(入力シート!D91,\"yyyy-mm-dd\"))","v":""},{"$f":"IF(入力シート!P91=\"\",\"\",TEXT(入力シート!P91,\"000-0000\"))","v":""},{"$f":"IF(入力シート!G91=\"\",\"\",入力シート!G91)","v":""},{"$f":"IF(入力シート!H91=\"\",\"\",入力シート!H91)","v":""},{"$f":"IF(入力シート!I91=\"\",\"\",入力シート!I91)","v":""},{"$f":"IF(入力シート!J91=\"\",\"\",入力シート!J91)","v":""},{"$f":"IF(入力シート!K91=\"\",\"\",入力シート!K91)","v":""},{"$f":"IF(入力シート!L91=\"\",\"\",入力シート!L91)","v":""},{"$f":"IF(入力シート!M91=\"\",\"\",入力シート!M91)","v":""},{"$f":"IF(入力シート!N91=\"\",\"\",入力シート!N91)","v":""},{"$f":"IF(入力シート!O91=\"\",\"\",入力シート!Q91)","v":""}]
[{"$f":"IF(入力シート!A92=\"\",\"\",入力シート!A92)","v":""},{"$f":"IF(入力シート!B92=\"\",\"\",入力シート!B92)","v":""},{"$f":"IF(入力シート!C92=\"\",\"\",入力シート!C92)","v":""},{"$f":"IF(入力シート!D92=\"\",\"\",TEXT(入力シート!D92,\"yyyy-mm-dd\"))","v":""},{"$f":"IF(入力シート!P92=\"\",\"\",TEXT(入力シート!P92,\"000-0000\"))","v":""},{"$f":"IF(入力シート!G92=\"\",\"\",入力シート!G92)","v":""},{"$f":"IF(入力シート!H92=\"\",\"\",入力シート!H92)","v":""},{"$f":"IF(入力シート!I92=\"\",\"\",入力シート!I92)","v":""},{"$f":"IF(入力シート!J92=\"\",\"\",入力シート!J92)","v":""},{"$f":"IF(入力シート!K92=\"\",\"\",入力シート!K92)","v":""},{"$f":"IF(入力シート!L92=\"\",\"\",入力シート!L92)","v":""},{"$f":"IF(入力シート!M92=\"\",\"\",入力シート!M92)","v":""},{"$f":"IF(入力シート!N92=\"\",\"\",入力シート!N92)","v":""},{"$f":"IF(入力シート!O92=\"\",\"\",入力シート!Q92)","v":""}]
[{"$f":"IF(入力シート!A93=\"\",\"\",入力シート!A93)","v":""},{"$f":"IF(入力シート!B93=\"\",\"\",入力シート!B93)","v":""},{"$f":"IF(入力シート!C93=\"\",\"\",入力シート!C93)","v":""},{"$f":"IF(入力シート!D93=\"\",\"\",TEXT(入力シート!D93,\"yyyy-mm-dd\"))","v":""},{"$f":"IF(入力シート!P93=\"\",\"\",TEXT(入力シート!P93,\"000-0000\"))","v":""},{"$f":"IF(入力シート!G93=\"\",\"\",入力シート!G93)","v":""},{"$f":"IF(入力シート!H93=\"\",\"\",入力シート!H93)","v":""},{"$f":"IF(入力シート!I93=\"\",\"\",入力シート!I93)","v":""},{"$f":"IF(入力シート!J93=\"\",\"\",入力シート!J93)","v":""},{"$f":"IF(入力シート!K93=\"\",\"\",入力シート!K93)","v":""},{"$f":"IF(入力シート!L93=\"\",\"\",入力シート!L93)","v":""},{"$f":"IF(入力シート!M93=\"\",\"\",入力シート!M93)","v":""},{"$f":"IF(入力シート!N93=\"\",\"\",入力シート!N93)","v":""},{"$f":"IF(入力シート!O93=\"\",\"\",入力シート!Q93)","v":""}]
[{"$f":"IF(入力シート!A94=\"\",\"\",入力シート!A94)","v":""},{"$f":"IF(入力シート!B94=\"\",\"\",入力シート!B94)","v":""},{"$f":"IF(入力シート!C94=\"\",\"\",入力シート!C94)","v":""},{"$f":"IF(入力シート!D94=\"\",\"\",TEXT(入力シート!D94,\"yyyy-mm-dd\"))","v":""},{"$f":"IF(入力シート!P94=\"\",\"\",TEXT(入力シート!P94,\"000-0000\"))","v":""},{"$f":"IF(入力シート!G94=\"\",\"\",入力シート!G94)","v":""},{"$f":"IF(入力シート!H94=\"\",\"\",入力シート!H94)","v":""},{"$f":"IF(入力シート!I94=\"\",\"\",入力シート!I94)","v":""},{"$f":"IF(入力シート!J94=\"\",\"\",入力シート!J94)","v":""},{"$f":"IF(入力シート!K94=\"\",\"\",入力シート!K94)","v":""},{"$f":"IF(入力シート!L94=\"\",\"\",入力シート!L94)","v":""},{"$f":"IF(入力シート!M94=\"\",\"\",入力シート!M94)","v":""},{"$f":"IF(入力シート!N94=\"\",\"\",入力シート!N94)","v":""},{"$f":"IF(入力シート!O94=\"\",\"\",入力シート!Q94)","v":""}]
[{"$f":"IF(入力シート!A95=\"\",\"\",入力シート!A95)","v":""},{"$f":"IF(入力シート!B95=\"\",\"\",入力シート!B95)","v":""},{"$f":"IF(入力シート!C95=\"\",\"\",入力シート!C95)","v":""},{"$f":"IF(入力シート!D95=\"\",\"\",TEXT(入力シート!D95,\"yyyy-mm-dd\"))","v":""},{"$f":"IF(入力シート!P95=\"\",\"\",TEXT(入力シート!P95,\"000-0000\"))","v":""},{"$f":"IF(入力シート!G95=\"\",\"\",入力シート!G95)","v":""},{"$f":"IF(入力シート!H95=\"\",\"\",入力シート!H95)","v":""},{"$f":"IF(入力シート!I95=\"\",\"\",入力シート!I95)","v":""},{"$f":"IF(入力シート!J95=\"\",\"\",入力シート!J95)","v":""},{"$f":"IF(入力シート!K95=\"\",\"\",入力シート!K95)","v":""},{"$f":"IF(入力シート!L95=\"\",\"\",入力シート!L95)","v":""},{"$f":"IF(入力シート!M95=\"\",\"\",入力シート!M95)","v":""},{"$f":"IF(入力シート!N95=\"\",\"\",入力シート!N95)","v":""},{"$f":"IF(入力シート!O95=\"\",\"\",入力シート!Q95)","v":""}]
[{"$f":"IF(入力シート!A96=\"\",\"\",入力シート!A96)","v":""},{"$f":"IF(入力シート!B96=\"\",\"\",入力シート!B96)","v":""},{"$f":"IF(入力シート!C96=\"\",\"\",入力シート!C96)","v":""},{"$f":"IF(入力シート!D96=\"\",\"\",TEXT(入力シート!D96,\"yyyy-mm-dd\"))","v":""},{"$f":"IF(入力シート!P96=\"\",\"\",TEXT(入力シート!P96,\"000-0000\"))","v":""},{"$f":"IF(入力シート!G96=\"\",\"\",入力シート!G96)","v":""},{"$f":"IF(入力シート!H96=\"\",\"\",入力シート!H96)","v":""},{"$f":"IF(入力シート!I96=\"\",\"\",入力シート!I96)","v":""},{"$f":"IF(入力シート!J96=\"\",\"\",入力シート!J96)","v":""},{"$f":"IF(入力シート!K96=\"\",\"\",入力シート!K96)","v":""},{"$f":"IF(入力シート!L96=\"\",\"\",入力シート!L96)","v":""},{"$f":"IF(入力シート!M96=\"\",\"\",入力シート!M96)","v":""},{"$f":"IF(入力シート!N96=\"\",\"\",入力シート!N96)","v":""},{"$f":"IF(入力シート!O96=\"\",\"\",入力シート!Q96)","v":""}]
[{"$f":"IF(入力シート!A97=\"\",\"\",入力シート!A97)","v":""},{"$f":"IF(入力シート!B97=\"\",\"\",入力シート!B97)","v":""},{"$f":"IF(入力シート!C97=\"\",\"\",入力シート!C97)","v":""},{"$f":"IF(入力シート!D97=\"\",\"\",TEXT(入力シート!D97,\"yyyy-mm-dd\"))","v":""},{"$f":"IF(入力シート!P97=\"\",\"\",TEXT(入力シート!P97,\"000-0000\"))","v":""},{"$f":"IF(入力シート!G97=\"\",\"\",入力シート!G97)","v":""},{"$f":"IF(入力シート!H97=\"\",\"\",入力シート!H97)","v":""},{"$f":"IF(入力シート!I97=\"\",\"\",入力シート!I97)","v":""},{"$f":"IF(入力シート!J97=\"\",\"\",入力シート!J97)","v":""},{"$f":"IF(入力シート!K97=\"\",\"\",入力シート!K97)","v":""},{"$f":"IF(入力シート!L97=\"\",\"\",入力シート!L97)","v":""},{"$f":"IF(入力シート!M97=\"\",\"\",入力シート!M97)","v":""},{"$f":"IF(入力シート!N97=\"\",\"\",入力シート!N97)","v":""},{"$f":"IF(入力シート!O97=\"\",\"\",入力シート!Q97)","v":""}]
[{"$f":"IF(入力シート!A98=\"\",\"\",入力シート!A98)","v":""},{"$f":"IF(入力シート!B98=\"\",\"\",入力シート!B98)","v":""},{"$f":"IF(入力シート!C98=\"\",\"\",入力シート!C98)","v":""},{"$f":"IF(入力シート!D98=\"\",\"\",TEXT(入力シート!D98,\"yyyy-mm-dd\"))","v":""},{"$f":"IF(入力シート!P98=\"\",\"\",TEXT(入力シート!P98,\"000-0000\"))","v":""},{"$f":"IF(入力シート!G98=\"\",\"\",入力シート!G98)","v":""},{"$f":"IF(入力シート!H98=\"\",\"\",入力シート!H98)","v":""},{"$f":"IF(入力シート!I98=\"\",\"\",入力シート!I98)","v":""},{"$f":"IF(入力シート!J98=\"\",\"\",入力シート!J98)","v":""},{"$f":"IF(入力シート!K98=\"\",\"\",入力シート!K98)","v":""},{"$f":"IF(入力シート!L98=\"\",\"\",入力シート!L98)","v":""},{"$f":"IF(入力シート!M98=\"\",\"\",入力シート!M98)","v":""},{"$f":"IF(入力シート!N98=\"\",\"\",入力シート!N98)","v":""},{"$f":"IF(入力シート!O98=\"\",\"\",入力シート!Q98)","v":""}]
[{"$f":"IF(入力シート!A99=\"\",\"\",入力シート!A99)","v":""},{"$f":"IF(入力シート!B99=\"\",\"\",入力シート!B99)","v":""},{"$f":"IF(入力シート!C99=\"\",\"\",入力シート!C99)","v":""},{"$f":"IF(入力シート!D99=\"\",\"\",TEXT(入力シート!D99,\"yyyy-mm-dd\"))","v":""},{"$f":"IF(入力シート!P99=\"\",\"\",TEXT(入力シート!P99,\"000-0000\"))","v":""},{"$f":"IF(入力シート!G99=\"\",\"\",入力シート!G99)","v":""},{"$f":"IF(入力シート!H99=\"\",\"\",入力シート!H99)","v":""},{"$f":"IF(入力シート!I99=\"\",\"\",入力シート!I99)","v":""},{"$f":"IF(入力シート!J99=\"\",\"\",入力シート!J99)","v":""},{"$f":"IF(入力シート!K99=\"\",\"\",入力シート!K99)","v":""},{"$f":"IF(入力シート!L99=\"\",\"\",入力シート!L99)","v":""},{"$f":"IF(入力シート!M99=\"\",\"\",入力シート!M99)","v":""},{"$f":"IF(入力シート!N99=\"\",\"\",入力シート!N99)","v":""},{"$f":"IF(入力シート!O99=\"\",\"\",入力シート!Q99)","v":""}]
[{"$f":"IF(入力シート!A100=\"\",\"\",入力シート!A100)","v":""},{"$f":"IF(入力シート!B100=\"\",\"\",入力シート!B100)","v":""},{"$f":"IF(入力シート!C100=\"\",\"\",入力シート!C100)","v":""},{"$f":"IF(入力シート!D100=\"\",\"\",TEXT(入力シート!D100,\"yyyy-mm-dd\"))","v":""},{"$f":"IF(入力シート!P100=\"\",\"\",TEXT(入力シート!P100,\"000-0000\"))","v":""},{"$f":"IF(入力シート!G100=\"\",\"\",入力シート!G100)","v":""},{"$f":"IF(入力シート!H100=\"\",\"\",入力シート!H100)","v":""},{"$f":"IF(入力シート!I100=\"\",\"\",入力シート!I100)","v":""},{"$f":"IF(入力シート!J100=\"\",\"\",入力シート!J100)","v":""},{"$f":"IF(入力シート!K100=\"\",\"\",入力シート!K100)","v":""},{"$f":"IF(入力シート!L100=\"\",\"\",入力シート!L100)","v":""},{"$f":"IF(入力シート!M100=\"\",\"\",入力シート!M100)","v":""},{"$f":"IF(入力シート!N100=\"\",\"\",入力シート!N100)","v":""},{"$f":"IF(入力シート!O100=\"\",\"\",入力シート!Q100)","v":""}]
[{"$f":"IF(入力シート!A101=\"\",\"\",入力シート!A101)","v":""},{"$f":"IF(入力シート!B101=\"\",\"\",入力シート!B101)","v":""},{"$f":"IF(入力シート!C101=\"\",\"\",入力シート!C101)","v":""},{"$f":"IF(入力シート!D101=\"\",\"\",TEXT(入力シート!D101,\"yyyy-mm-dd\"))","v":""},{"$f":"IF(入力シート!P101=\"\",\"\",TEXT(入力シート!P101,\"000-0000\"))","v":""},{"$f":"IF(入力シート!G101=\"\",\"\",入力シート!G101)","v":""},{"$f":"IF(入力シート!H101=\"\",\"\",入力シート!H101)","v":""},{"$f":"IF(入力シート!I101=\"\",\"\",入力シート!I101)","v":""},{"$f":"IF(入力シート!J101=\"\",\"\",入力シート!J101)","v":""},{"$f":"IF(入力シート!K101=\"\",\"\",入力シート!K101)","v":""},{"$f":"IF(入力シート!L101=\"\",\"\",入力シート!L101)","v":""},{"$f":"IF(入力シート!M101=\"\",\"\",入力シート!M101)","v":""},{"$f":"IF(入力シート!N101=\"\",\"\",入力シート!N101)","v":""},{"$f":"IF(入力シート!O101=\"\",\"\",入力シート!Q101)","v":""}]
[{"$f":"IF(入力シート!A102=\"\",\"\",入力シート!A102)","v":""},{"$f":"IF(入力シート!B102=\"\",\"\",入力シート!B102)","v":""},{"$f":"IF(入力シート!C102=\"\",\"\",入力シート!C102)","v":""},{"$f":"IF(入力シート!D102=\"\",\"\",TEXT(入力シート!D102,\"yyyy-mm-dd\"))","v":""},{"$f":"IF(入力シート!P102=\"\",\"\",TEXT(入力シート!P102,\"000-0000\"))","v":""},{"$f":"IF(入力シート!G102=\"\",\"\",入力シート!G102)","v":""},{"$f":"IF(入力シート!H102=\"\",\"\",入力シート!H102)","v":""},{"$f":"IF(入力シート!I102=\"\",\"\",入力シート!I102)","v":""},{"$f":"IF(入力シート!J102=\"\",\"\",入力シート!J102)","v":""},{"$f":"IF(入力シート!K102=\"\",\"\",入力シート!K102)","v":""},{"$f":"IF(入力シート!L102=\"\",\"\",入力シート!L102)","v":""},{"$f":"IF(入力シート!M102=\"\",\"\",入力シート!M102)","v":""},{"$f":"IF(入力シート!N102=\"\",\"\",入力シート!N102)","v":""},{"$f":"IF(入力シート!O102=\"\",\"\",入力シート!Q102)","v":""}]
[{"$f":"IF(入力シート!A103=\"\",\"\",入力シート!A103)","v":""},{"$f":"IF(入力シート!B103=\"\",\"\",入力シート!B103)","v":""},{"$f":"IF(入力シート!C103=\"\",\"\",入力シート!C103)","v":""},{"$f":"IF(入力シート!D103=\"\",\"\",TEXT(入力シート!D103,\"yyyy-mm-dd\"))","v":""},{"$f":"IF(入力シート!P103=\"\",\"\",TEXT(入力シート!P103,\"000-0000\"))","v":""},{"$f":"IF(入力シート!G103=\"\",\"\",入力シート!G103)","v":""},{"$f":"IF(入力シート!H103=\"\",\"\",入力シート!H103)","v":""},{"$f":"IF(入力シート!I103=\"\",\"\",入力シート!I103)","v":""},{"$f":"IF(入力シート!J103=\"\",\"\",入力シート!J103)","v":""},{"$f":"IF(入力シート!K103=\"\",\"\",入力シート!K103)","v":""},{"$f":"IF(入力シート!L103=\"\",\"\",入力シート!L103)","v":""},{"$f":"IF(入力シート!M103=\"\",\"\",入力シート!M103)","v":""},{"$f":"IF(入力シート!N103=\"\",\"\",入力シート!N103)","v":""},{"$f":"IF(入力シート!O103=\"\",\"\",入力シート!Q103)","v":""}]
[{"$f":"IF(入力シート!A104=\"\",\"\",入力シート!A104)","v":""},{"$f":"IF(入力シート!B104=\"\",\"\",入力シート!B104)","v":""},{"$f":"IF(入力シート!C104=\"\",\"\",入力シート!C104)","v":""},{"$f":"IF(入力シート!D104=\"\",\"\",TEXT(入力シート!D104,\"yyyy-mm-dd\"))","v":""},{"$f":"IF(入力シート!P104=\"\",\"\",TEXT(入力シート!P104,\"000-0000\"))","v":""},{"$f":"IF(入力シート!G104=\"\",\"\",入力シート!G104)","v":""},{"$f":"IF(入力シート!H104=\"\",\"\",入力シート!H104)","v":""},{"$f":"IF(入力シート!I104=\"\",\"\",入力シート!I104)","v":""},{"$f":"IF(入力シート!J104=\"\",\"\",入力シート!J104)","v":""},{"$f":"IF(入力シート!K104=\"\",\"\",入力シート!K104)","v":""},{"$f":"IF(入力シート!L104=\"\",\"\",入力シート!L104)","v":""},{"$f":"IF(入力シート!M104=\"\",\"\",入力シート!M104)","v":""},{"$f":"IF(入力シート!N104=\"\",\"\",入力シート!N104)","v":""},{"$f":"IF(入力シート!O104=\"\",\"\",入力シート!Q104)","v":""}]
[{"$f":"IF(入力シート!A105=\"\",\"\",入力シート!A105)","v":""},{"$f":"IF(入力シート!B105=\"\",\"\",入力シート!B105)","v":""},{"$f":"IF(入力シート!C105=\"\",\"\",入力シート!C105)","v":""},{"$f":"IF(入力シート!D105=\"\",\"\",TEXT(入力シート!D105,\"yyyy-mm-dd\"))","v":""},{"$f":"IF(入力シート!P105=\"\",\"\",TEXT(入力シート!P105,\"000-0000\"))","v":""},{"$f":"IF(入力シート!G105=\"\",\"\",入力シート!G105)","v":""},{"$f":"IF(入力シート!H105=\"\",\"\",入力シート!H105)","v":""},{"$f":"IF(入力シート!I105=\"\",\"\",入力シート!I105)","v":""},{"$f":"IF(入力シート!J105=\"\",\"\",入力シート!J105)","v":""},{"$f":"IF(入力シート!K105=\"\",\"\",入力シート!K105)","v":""},{"$f":"IF(入力シート!L105=\"\",\"\",入力シート!L105)","v":""},{"$f":"IF(入力シート!M105=\"\",\"\",入力シート!M105)","v":""},{"$f":"IF(入力シート!N105=\"\",\"\",入力シート!N105)","v":""},{"$f":"IF(入力シート!O105=\"\",\"\",入力シート!Q105)","v":""}]
[{"$f":"IF(入力シート!A106=\"\",\"\",入力シート!A106)","v":""},{"$f":"IF(入力シート!B106=\"\",\"\",入力シート!B106)","v":""},{"$f":"IF(入力シート!C106=\"\",\"\",入力シート!C106)","v":""},{"$f":"IF(入力シート!D106=\"\",\"\",TEXT(入力シート!D106,\"yyyy-mm-dd\"))","v":""},{"$f":"IF(入力シート!P106=\"\",\"\",TEXT(入力シート!P106,\"000-0000\"))","v":""},{"$f":"IF(入力シート!G106=\"\",\"\",入力シート!G106)","v":""},{"$f":"IF(入力シート!H106=\"\",\"\",入力シート!H106)","v":""},{"$f":"IF(入力シート!I106=\"\",\"\",入力シート!I106)","v":""},{"$f":"IF(入力シート!J106=\"\",\"\",入力シート!J106)","v":""},{"$f":"IF(入力シート!K106=\"\",\"\",入力シート!K106)","v":""},{"$f":"IF(入力シート!L106=\"\",\"\",入力シート!L106)","v":""},{"$f":"IF(入力シート!M106=\"\",\"\",入力シート!M106)","v":""},{"$f":"IF(入力シート!N106=\"\",\"\",入力シート!N106)","v":""},{"$f":"IF(入力シート!O106=\"\",\"\",入力シート!Q106)","v":""}]
[{"$f":"IF(入力シート!A107=\"\",\"\",入力シート!A107)","v":""},{"$f":"IF(入力シート!B107=\"\",\"\",入力シート!B107)","v":""},{"$f":"IF(入力シート!C107=\"\",\"\",入力シート!C107)","v":""},{"$f":"IF(入力シート!D107=\"\",\"\",TEXT(入力シート!D107,\"yyyy-mm-dd\"))","v":""},{"$f":"IF(入力シート!P107=\"\",\"\",TEXT(入力シート!P107,\"000-0000\"))","v":""},{"$f":"IF(入力シート!G107=\"\",\"\",入力シート!G107)","v":""},{"$f":"IF(入力シート!H107=\"\",\"\",入力シート!H107)","v":""},{"$f":"IF(入力シート!I107=\"\",\"\",入力シート!I107)","v":""},{"$f":"IF(入力シート!J107=\"\",\"\",入力シート!J107)","v":""},{"$f":"IF(入力シート!K107=\"\",\"\",入力シート!K107)","v":""},{"$f":"IF(入力シート!L107=\"\",\"\",入力シート!L107)","v":""},{"$f":"IF(入力シート!M107=\"\",\"\",入力シート!M107)","v":""},{"$f":"IF(入力シート!N107=\"\",\"\",入力シート!N107)","v":""},{"$f":"IF(入力シート!O107=\"\",\"\",入力シート!Q107)","v":""}]
[{"$f":"IF(入力シート!A108=\"\",\"\",入力シート!A108)","v":""},{"$f":"IF(入力シート!B108=\"\",\"\",入力シート!B108)","v":""},{"$f":"IF(入力シート!C108=\"\",\"\",入力シート!C108)","v":""},{"$f":"IF(入力シート!D108=\"\",\"\",TEXT(入力シート!D108,\"yyyy-mm-dd\"))","v":""},{"$f":"IF(入力シート!P108=\"\",\"\",TEXT(入力シート!P108,\"000-0000\"))","v":""},{"$f":"IF(入力シート!G108=\"\",\"\",入力シート!G108)","v":""},{"$f":"IF(入力シート!H108=\"\",\"\",入力シート!H108)","v":""},{"$f":"IF(入力シート!I108=\"\",\"\",入力シート!I108)","v":""},{"$f":"IF(入力シート!J108=\"\",\"\",入力シート!J108)","v":""},{"$f":"IF(入力シート!K108=\"\",\"\",入力シート!K108)","v":""},{"$f":"IF(入力シート!L108=\"\",\"\",入力シート!L108)","v":""},{"$f":"IF(入力シート!M108=\"\",\"\",入力シート!M108)","v":""},{"$f":"IF(入力シート!N108=\"\",\"\",入力シート!N108)","v":""},{"$f":"IF(入力シート!O108=\"\",\"\",入力シート!Q108)","v":""}]
[{"$f":"IF(入力シート!A109=\"\",\"\",入力シート!A109)","v":""},{"$f":"IF(入力シート!B109=\"\",\"\",入力シート!B109)","v":""},{"$f":"IF(入力シート!C109=\"\",\"\",入力シート!C109)","v":""},{"$f":"IF(入力シート!D109=\"\",\"\",TEXT(入力シート!D109,\"yyyy-mm-dd\"))","v":""},{"$f":"IF(入力シート!P109=\"\",\"\",TEXT(入力シート!P109,\"000-0000\"))","v":""},{"$f":"IF(入力シート!G109=\"\",\"\",入力シート!G109)","v":""},{"$f":"IF(入力シート!H109=\"\",\"\",入力シート!H109)","v":""},{"$f":"IF(入力シート!I109=\"\",\"\",入力シート!I109)","v":""},{"$f":"IF(入力シート!J109=\"\",\"\",入力シート!J109)","v":""},{"$f":"IF(入力シート!K109=\"\",\"\",入力シート!K109)","v":""},{"$f":"IF(入力シート!L109=\"\",\"\",入力シート!L109)","v":""},{"$f":"IF(入力シート!M109=\"\",\"\",入力シート!M109)","v":""},{"$f":"IF(入力シート!N109=\"\",\"\",入力シート!N109)","v":""},{"$f":"IF(入力シート!O109=\"\",\"\",入力シート!Q109)","v":""}]
[{"$f":"IF(入力シート!A110=\"\",\"\",入力シート!A110)","v":""},{"$f":"IF(入力シート!B110=\"\",\"\",入力シート!B110)","v":""},{"$f":"IF(入力シート!C110=\"\",\"\",入力シート!C110)","v":""},{"$f":"IF(入力シート!D110=\"\",\"\",TEXT(入力シート!D110,\"yyyy-mm-dd\"))","v":""},{"$f":"IF(入力シート!P110=\"\",\"\",TEXT(入力シート!P110,\"000-0000\"))","v":""},{"$f":"IF(入力シート!G110=\"\",\"\",入力シート!G110)","v":""},{"$f":"IF(入力シート!H110=\"\",\"\",入力シート!H110)","v":""},{"$f":"IF(入力シート!I110=\"\",\"\",入力シート!I110)","v":""},{"$f":"IF(入力シート!J110=\"\",\"\",入力シート!J110)","v":""},{"$f":"IF(入力シート!K110=\"\",\"\",入力シート!K110)","v":""},{"$f":"IF(入力シート!L110=\"\",\"\",入力シート!L110)","v":""},{"$f":"IF(入力シート!M110=\"\",\"\",入力シート!M110)","v":""},{"$f":"IF(入力シート!N110=\"\",\"\",入力シート!N110)","v":""},{"$f":"IF(入力シート!O110=\"\",\"\",入力シート!Q110)","v":""}]
[{"$f":"IF(入力シート!A111=\"\",\"\",入力シート!A111)","v":""},{"$f":"IF(入力シート!B111=\"\",\"\",入力シート!B111)","v":""},{"$f":"IF(入力シート!C111=\"\",\"\",入力シート!C111)","v":""},{"$f":"IF(入力シート!D111=\"\",\"\",TEXT(入力シート!D111,\"yyyy-mm-dd\"))","v":""},{"$f":"IF(入力シート!P111=\"\",\"\",TEXT(入力シート!P111,\"000-0000\"))","v":""},{"$f":"IF(入力シート!G111=\"\",\"\",入力シート!G111)","v":""},{"$f":"IF(入力シート!H111=\"\",\"\",入力シート!H111)","v":""},{"$f":"IF(入力シート!I111=\"\",\"\",入力シート!I111)","v":""},{"$f":"IF(入力シート!J111=\"\",\"\",入力シート!J111)","v":""},{"$f":"IF(入力シート!K111=\"\",\"\",入力シート!K111)","v":""},{"$f":"IF(入力シート!L111=\"\",\"\",入力シート!L111)","v":""},{"$f":"IF(入力シート!M111=\"\",\"\",入力シート!M111)","v":""},{"$f":"IF(入力シート!N111=\"\",\"\",入力シート!N111)","v":""},{"$f":"IF(入力シート!O111=\"\",\"\",入力シート!Q111)","v":""}]
[{"$f":"IF(入力シート!A112=\"\",\"\",入力シート!A112)","v":""},{"$f":"IF(入力シート!B112=\"\",\"\",入力シート!B112)","v":""},{"$f":"IF(入力シート!C112=\"\",\"\",入力シート!C112)","v":""},{"$f":"IF(入力シート!D112=\"\",\"\",TEXT(入力シート!D112,\"yyyy-mm-dd\"))","v":""},{"$f":"IF(入力シート!P112=\"\",\"\",TEXT(入力シート!P112,\"000-0000\"))","v":""},{"$f":"IF(入力シート!G112=\"\",\"\",入力シート!G112)","v":""},{"$f":"IF(入力シート!H112=\"\",\"\",入力シート!H112)","v":""},{"$f":"IF(入力シート!I112=\"\",\"\",入力シート!I112)","v":""},{"$f":"IF(入力シート!J112=\"\",\"\",入力シート!J112)","v":""},{"$f":"IF(入力シート!K112=\"\",\"\",入力シート!K112)","v":""},{"$f":"IF(入力シート!L112=\"\",\"\",入力シート!L112)","v":""},{"$f":"IF(入力シート!M112=\"\",\"\",入力シート!M112)","v":""},{"$f":"IF(入力シート!N112=\"\",\"\",入力シート!N112)","v":""},{"$f":"IF(入力シート!O112=\"\",\"\",入力シート!Q112)","v":""}]
[{"$f":"IF(入力シート!A113=\"\",\"\",入力シート!A113)","v":""},{"$f":"IF(入力シート!B113=\"\",\"\",入力シート!B113)","v":""},{"$f":"IF(入力シート!C113=\"\",\"\",入力シート!C113)","v":""},{"$f":"IF(入力シート!D113=\"\",\"\",TEXT(入力シート!D113,\"yyyy-mm-dd\"))","v":""},{"$f":"IF(入力シート!P113=\"\",\"\",TEXT(入力シート!P113,\"000-0000\"))","v":""},{"$f":"IF(入力シート!G113=\"\",\"\",入力シート!G113)","v":""},{"$f":"IF(入力シート!H113=\"\",\"\",入力シート!H113)","v":""},{"$f":"IF(入力シート!I113=\"\",\"\",入力シート!I113)","v":""},{"$f":"IF(入力シート!J113=\"\",\"\",入力シート!J113)","v":""},{"$f":"IF(入力シート!K113=\"\",\"\",入力シート!K113)","v":""},{"$f":"IF(入力シート!L113=\"\",\"\",入力シート!L113)","v":""},{"$f":"IF(入力シート!M113=\"\",\"\",入力シート!M113)","v":""},{"$f":"IF(入力シート!N113=\"\",\"\",入力シート!N113)","v":""},{"$f":"IF(入力シート!O113=\"\",\"\",入力シート!Q113)","v":""}]
[{"$f":"IF(入力シート!A114=\"\",\"\",入力シート!A114)","v":""},{"$f":"IF(入力シート!B114=\"\",\"\",入力シート!B114)","v":""},{"$f":"IF(入力シート!C114=\"\",\"\",入力シート!C114)","v":""},{"$f":"IF(入力シート!D114=\"\",\"\",TEXT(入力シート!D114,\"yyyy-mm-dd\"))","v":""},{"$f":"IF(入力シート!P114=\"\",\"\",TEXT(入力シート!P114,\"000-0000\"))","v":""},{"$f":"IF(入力シート!G114=\"\",\"\",入力シート!G114)","v":""},{"$f":"IF(入力シート!H114=\"\",\"\",入力シート!H114)","v":""},{"$f":"IF(入力シート!I114=\"\",\"\",入力シート!I114)","v":""},{"$f":"IF(入力シート!J114=\"\",\"\",入力シート!J114)","v":""},{"$f":"IF(入力シート!K114=\"\",\"\",入力シート!K114)","v":""},{"$f":"IF(入力シート!L114=\"\",\"\",入力シート!L114)","v":""},{"$f":"IF(入力シート!M114=\"\",\"\",入力シート!M114)","v":""},{"$f":"IF(入力シート!N114=\"\",\"\",入力シート!N114)","v":""},{"$f":"IF(入力シート!O114=\"\",\"\",入力シート!Q114)","v":""}]
[{"$f":"IF(入力シート!A115=\"\",\"\",入力シート!A115)","v":""},{"$f":"IF(入力シート!B115=\"\",\"\",入力シート!B115)","v":""},{"$f":"IF(入力シート!C115=\"\",\"\",入力シート!C115)","v":""},{"$f":"IF(入力シート!D115=\"\",\"\",TEXT(入力シート!D115,\"yyyy-mm-dd\"))","v":""},{"$f":"IF(入力シート!P115=\"\",\"\",TEXT(入力シート!P115,\"000-0000\"))","v":""},{"$f":"IF(入力シート!G115=\"\",\"\",入力シート!G115)","v":""},{"$f":"IF(入力シート!H115=\"\",\"\",入力シート!H115)","v":""},{"$f":"IF(入力シート!I115=\"\",\"\",入力シート!I115)","v":""},{"$f":"IF(入力シート!J115=\"\",\"\",入力シート!J115)","v":""},{"$f":"IF(入力シート!K115=\"\",\"\",入力シート!K115)","v":""},{"$f":"IF(入力シート!L115=\"\",\"\",入力シート!L115)","v":""},{"$f":"IF(入力シート!M115=\"\",\"\",入力シート!M115)","v":""},{"$f":"IF(入力シート!N115=\"\",\"\",入力シート!N115)","v":""},{"$f":"IF(入力シート!O115=\"\",\"\",入力シート!Q115)","v":""}]
[{"$f":"IF(入力シート!A116=\"\",\"\",入力シート!A116)","v":""},{"$f":"IF(入力シート!B116=\"\",\"\",入力シート!B116)","v":""},{"$f":"IF(入力シート!C116=\"\",\"\",入力シート!C116)","v":""},{"$f":"IF(入力シート!D116=\"\",\"\",TEXT(入力シート!D116,\"yyyy-mm-dd\"))","v":""},{"$f":"IF(入力シート!P116=\"\",\"\",TEXT(入力シート!P116,\"000-0000\"))","v":""},{"$f":"IF(入力シート!G116=\"\",\"\",入力シート!G116)","v":""},{"$f":"IF(入力シート!H116=\"\",\"\",入力シート!H116)","v":""},{"$f":"IF(入力シート!I116=\"\",\"\",入力シート!I116)","v":""},{"$f":"IF(入力シート!J116=\"\",\"\",入力シート!J116)","v":""},{"$f":"IF(入力シート!K116=\"\",\"\",入力シート!K116)","v":""},{"$f":"IF(入力シート!L116=\"\",\"\",入力シート!L116)","v":""},{"$f":"IF(入力シート!M116=\"\",\"\",入力シート!M116)","v":""},{"$f":"IF(入力シート!N116=\"\",\"\",入力シート!N116)","v":""},{"$f":"IF(入力シート!O116=\"\",\"\",入力シート!Q116)","v":""}]
[{"$f":"IF(入力シート!A117=\"\",\"\",入力シート!A117)","v":""},{"$f":"IF(入力シート!B117=\"\",\"\",入力シート!B117)","v":""},{"$f":"IF(入力シート!C117=\"\",\"\",入力シート!C117)","v":""},{"$f":"IF(入力シート!D117=\"\",\"\",TEXT(入力シート!D117,\"yyyy-mm-dd\"))","v":""},{"$f":"IF(入力シート!P117=\"\",\"\",TEXT(入力シート!P117,\"000-0000\"))","v":""},{"$f":"IF(入力シート!G117=\"\",\"\",入力シート!G117)","v":""},{"$f":"IF(入力シート!H117=\"\",\"\",入力シート!H117)","v":""},{"$f":"IF(入力シート!I117=\"\",\"\",入力シート!I117)","v":""},{"$f":"IF(入力シート!J117=\"\",\"\",入力シート!J117)","v":""},{"$f":"IF(入力シート!K117=\"\",\"\",入力シート!K117)","v":""},{"$f":"IF(入力シート!L117=\"\",\"\",入力シート!L117)","v":""},{"$f":"IF(入力シート!M117=\"\",\"\",入力シート!M117)","v":""},{"$f":"IF(入力シート!N117=\"\",\"\",入力シート!N117)","v":""},{"$f":"IF(入力シート!O117=\"\",\"\",入力シート!Q117)","v":""}]
[{"$f":"IF(入力シート!A118=\"\",\"\",入力シート!A118)","v":""},{"$f":"IF(入力シート!B118=\"\",\"\",入力シート!B118)","v":""},{"$f":"IF(入力シート!C118=\"\",\"\",入力シート!C118)","v":""},{"$f":"IF(入力シート!D118=\"\",\"\",TEXT(入力シート!D118,\"yyyy-mm-dd\"))","v":""},{"$f":"IF(入力シート!P118=\"\",\"\",TEXT(入力シート!P118,\"000-0000\"))","v":""},{"$f":"IF(入力シート!G118=\"\",\"\",入力シート!G118)","v":""},{"$f":"IF(入力シート!H118=\"\",\"\",入力シート!H118)","v":""},{"$f":"IF(入力シート!I118=\"\",\"\",入力シート!I118)","v":""},{"$f":"IF(入力シート!J118=\"\",\"\",入力シート!J118)","v":""},{"$f":"IF(入力シート!K118=\"\",\"\",入力シート!K118)","v":""},{"$f":"IF(入力シート!L118=\"\",\"\",入力シート!L118)","v":""},{"$f":"IF(入力シート!M118=\"\",\"\",入力シート!M118)","v":""},{"$f":"IF(入力シート!N118=\"\",\"\",入力シート!N118)","v":""},{"$f":"IF(入力シート!O118=\"\",\"\",入力シート!Q118)","v":""}]
[{"$f":"IF(入力シート!A119=\"\",\"\",入力シート!A119)","v":""},{"$f":"IF(入力シート!B119=\"\",\"\",入力シート!B119)","v":""},{"$f":"IF(入力シート!C119=\"\",\"\",入力シート!C119)","v":""},{"$f":"IF(入力シート!D119=\"\",\"\",TEXT(入力シート!D119,\"yyyy-mm-dd\"))","v":""},{"$f":"IF(入力シート!P119=\"\",\"\",TEXT(入力シート!P119,\"000-0000\"))","v":""},{"$f":"IF(入力シート!G119=\"\",\"\",入力シート!G119)","v":""},{"$f":"IF(入力シート!H119=\"\",\"\",入力シート!H119)","v":""},{"$f":"IF(入力シート!I119=\"\",\"\",入力シート!I119)","v":""},{"$f":"IF(入力シート!J119=\"\",\"\",入力シート!J119)","v":""},{"$f":"IF(入力シート!K119=\"\",\"\",入力シート!K119)","v":""},{"$f":"IF(入力シート!L119=\"\",\"\",入力シート!L119)","v":""},{"$f":"IF(入力シート!M119=\"\",\"\",入力シート!M119)","v":""},{"$f":"IF(入力シート!N119=\"\",\"\",入力シート!N119)","v":""},{"$f":"IF(入力シート!O119=\"\",\"\",入力シート!Q119)","v":""}]
[{"$f":"IF(入力シート!A120=\"\",\"\",入力シート!A120)","v":""},{"$f":"IF(入力シート!B120=\"\",\"\",入力シート!B120)","v":""},{"$f":"IF(入力シート!C120=\"\",\"\",入力シート!C120)","v":""},{"$f":"IF(入力シート!D120=\"\",\"\",TEXT(入力シート!D120,\"yyyy-mm-dd\"))","v":""},{"$f":"IF(入力シート!P120=\"\",\"\",TEXT(入力シート!P120,\"000-0000\"))","v":""},{"$f":"IF(入力シート!G120=\"\",\"\",入力シート!G120)","v":""},{"$f":"IF(入力シート!H120=\"\",\"\",入力シート!H120)","v":""},{"$f":"IF(入力シート!I120=\"\",\"\",入力シート!I120)","v":""},{"$f":"IF(入力シート!J120=\"\",\"\",入力シート!J120)","v":""},{"$f":"IF(入力シート!K120=\"\",\"\",入力シート!K120)","v":""},{"$f":"IF(入力シート!L120=\"\",\"\",入力シート!L120)","v":""},{"$f":"IF(入力シート!M120=\"\",\"\",入力シート!M120)","v":""},{"$f":"IF(入力シート!N120=\"\",\"\",入力シート!N120)","v":""},{"$f":"IF(入力シート!O120=\"\",\"\",入力シート!Q120)","v":""}]
[{"$f":"IF(入力シート!A121=\"\",\"\",入力シート!A121)","v":""},{"$f":"IF(入力シート!B121=\"\",\"\",入力シート!B121)","v":""},{"$f":"IF(入力シート!C121=\"\",\"\",入力シート!C121)","v":""},{"$f":"IF(入力シート!D121=\"\",\"\",TEXT(入力シート!D121,\"yyyy-mm-dd\"))","v":""},{"$f":"IF(入力シート!P121=\"\",\"\",TEXT(入力シート!P121,\"000-0000\"))","v":""},{"$f":"IF(入力シート!G121=\"\",\"\",入力シート!G121)","v":""},{"$f":"IF(入力シート!H121=\"\",\"\",入力シート!H121)","v":""},{"$f":"IF(入力シート!I121=\"\",\"\",入力シート!I121)","v":""},{"$f":"IF(入力シート!J121=\"\",\"\",入力シート!J121)","v":""},{"$f":"IF(入力シート!K121=\"\",\"\",入力シート!K121)","v":""},{"$f":"IF(入力シート!L121=\"\",\"\",入力シート!L121)","v":""},{"$f":"IF(入力シート!M121=\"\",\"\",入力シート!M121)","v":""},{"$f":"IF(入力シート!N121=\"\",\"\",入力シート!N121)","v":""},{"$f":"IF(入力シート!O121=\"\",\"\",入力シート!Q121)","v":""}]
[{"$f":"IF(入力シート!A122=\"\",\"\",入力シート!A122)","v":""},{"$f":"IF(入力シート!B122=\"\",\"\",入力シート!B122)","v":""},{"$f":"IF(入力シート!C122=\"\",\"\",入力シート!C122)","v":""},{"$f":"IF(入力シート!D122=\"\",\"\",TEXT(入力シート!D122,\"yyyy-mm-dd\"))","v":""},{"$f":"IF(入力シート!P122=\"\",\"\",TEXT(入力シート!P122,\"000-0000\"))","v":""},{"$f":"IF(入力シート!G122=\"\",\"\",入力シート!G122)","v":""},{"$f":"IF(入力シート!H122=\"\",\"\",入力シート!H122)","v":""},{"$f":"IF(入力シート!I122=\"\",\"\",入力シート!I122)","v":""},{"$f":"IF(入力シート!J122=\"\",\"\",入力シート!J122)","v":""},{"$f":"IF(入力シート!K122=\"\",\"\",入力シート!K122)","v":""},{"$f":"IF(入力シート!L122=\"\",\"\",入力シート!L122)","v":""},{"$f":"IF(入力シート!M122=\"\",\"\",入力シート!M122)","v":""},{"$f":"IF(入力シート!N122=\"\",\"\",入力シート!N122)","v":""},{"$f":"IF(入力シート!O122=\"\",\"\",入力シート!Q122)","v":""}]
[{"$f":"IF(入力シート!A123=\"\",\"\",入力シート!A123)","v":""},{"$f":"IF(入力シート!B123=\"\",\"\",入力シート!B123)","v":""},{"$f":"IF(入力シート!C123=\"\",\"\",入力シート!C123)","v":""},{"$f":"IF(入力シート!D123=\"\",\"\",TEXT(入力シート!D123,\"yyyy-mm-dd\"))","v":""},{"$f":"IF(入力シート!P123=\"\",\"\",TEXT(入力シート!P123,\"000-0000\"))","v":""},{"$f":"IF(入力シート!G123=\"\",\"\",入力シート!G123)","v":""},{"$f":"IF(入力シート!H123=\"\",\"\",入力シート!H123)","v":""},{"$f":"IF(入力シート!I123=\"\",\"\",入力シート!I123)","v":""},{"$f":"IF(入力シート!J123=\"\",\"\",入力シート!J123)","v":""},{"$f":"IF(入力シート!K123=\"\",\"\",入力シート!K123)","v":""},{"$f":"IF(入力シート!L123=\"\",\"\",入力シート!L123)","v":""},{"$f":"IF(入力シート!M123=\"\",\"\",入力シート!M123)","v":""},{"$f":"IF(入力シート!N123=\"\",\"\",入力シート!N123)","v":""},{"$f":"IF(入力シート!O123=\"\",\"\",入力シート!Q123)","v":""}]
[{"$f":"IF(入力シート!A124=\"\",\"\",入力シート!A124)","v":""},{"$f":"IF(入力シート!B124=\"\",\"\",入力シート!B124)","v":""},{"$f":"IF(入力シート!C124=\"\",\"\",入力シート!C124)","v":""},{"$f":"IF(入力シート!D124=\"\",\"\",TEXT(入力シート!D124,\"yyyy-mm-dd\"))","v":""},{"$f":"IF(入力シート!P124=\"\",\"\",TEXT(入力シート!P124,\"000-0000\"))","v":""},{"$f":"IF(入力シート!G124=\"\",\"\",入力シート!G124)","v":""},{"$f":"IF(入力シート!H124=\"\",\"\",入力シート!H124)","v":""},{"$f":"IF(入力シート!I124=\"\",\"\",入力シート!I124)","v":""},{"$f":"IF(入力シート!J124=\"\",\"\",入力シート!J124)","v":""},{"$f":"IF(入力シート!K124=\"\",\"\",入力シート!K124)","v":""},{"$f":"IF(入力シート!L124=\"\",\"\",入力シート!L124)","v":""},{"$f":"IF(入力シート!M124=\"\",\"\",入力シート!M124)","v":""},{"$f":"IF(入力シート!N124=\"\",\"\",入力シート!N124)","v":""},{"$f":"IF(入力シート!O124=\"\",\"\",入力シート!Q124)","v":""}]
[{"$f":"IF(入力シート!A125=\"\",\"\",入力シート!A125)","v":""},{"$f":"IF(入力シート!B125=\"\",\"\",入力シート!B125)","v":""},{"$f":"IF(入力シート!C125=\"\",\"\",入力シート!C125)","v":""},{"$f":"IF(入力シート!D125=\"\",\"\",TEXT(入力シート!D125,\"yyyy-mm-dd\"))","v":""},{"$f":"IF(入力シート!P125=\"\",\"\",TEXT(入力シート!P125,\"000-0000\"))","v":""},{"$f":"IF(入力シート!G125=\"\",\"\",入力シート!G125)","v":""},{"$f":"IF(入力シート!H125=\"\",\"\",入力シート!H125)","v":""},{"$f":"IF(入力シート!I125=\"\",\"\",入力シート!I125)","v":""},{"$f":"IF(入力シート!J125=\"\",\"\",入力シート!J125)","v":""},{"$f":"IF(入力シート!K125=\"\",\"\",入力シート!K125)","v":""},{"$f":"IF(入力シート!L125=\"\",\"\",入力シート!L125)","v":""},{"$f":"IF(入力シート!M125=\"\",\"\",入力シート!M125)","v":""},{"$f":"IF(入力シート!N125=\"\",\"\",入力シート!N125)","v":""},{"$f":"IF(入力シート!O125=\"\",\"\",入力シート!Q125)","v":""}]
[{"$f":"IF(入力シート!A126=\"\",\"\",入力シート!A126)","v":""},{"$f":"IF(入力シート!B126=\"\",\"\",入力シート!B126)","v":""},{"$f":"IF(入力シート!C126=\"\",\"\",入力シート!C126)","v":""},{"$f":"IF(入力シート!D126=\"\",\"\",TEXT(入力シート!D126,\"yyyy-mm-dd\"))","v":""},{"$f":"IF(入力シート!P126=\"\",\"\",TEXT(入力シート!P126,\"000-0000\"))","v":""},{"$f":"IF(入力シート!G126=\"\",\"\",入力シート!G126)","v":""},{"$f":"IF(入力シート!H126=\"\",\"\",入力シート!H126)","v":""},{"$f":"IF(入力シート!I126=\"\",\"\",入力シート!I126)","v":""},{"$f":"IF(入力シート!J126=\"\",\"\",入力シート!J126)","v":""},{"$f":"IF(入力シート!K126=\"\",\"\",入力シート!K126)","v":""},{"$f":"IF(入力シート!L126=\"\",\"\",入力シート!L126)","v":""},{"$f":"IF(入力シート!M126=\"\",\"\",入力シート!M126)","v":""},{"$f":"IF(入力シート!N126=\"\",\"\",入力シート!N126)","v":""},{"$f":"IF(入力シート!O126=\"\",\"\",入力シート!Q126)","v":""}]
[{"$f":"IF(入力シート!A127=\"\",\"\",入力シート!A127)","v":""},{"$f":"IF(入力シート!B127=\"\",\"\",入力シート!B127)","v":""},{"$f":"IF(入力シート!C127=\"\",\"\",入力シート!C127)","v":""},{"$f":"IF(入力シート!D127=\"\",\"\",TEXT(入力シート!D127,\"yyyy-mm-dd\"))","v":""},{"$f":"IF(入力シート!P127=\"\",\"\",TEXT(入力シート!P127,\"000-0000\"))","v":""},{"$f":"IF(入力シート!G127=\"\",\"\",入力シート!G127)","v":""},{"$f":"IF(入力シート!H127=\"\",\"\",入力シート!H127)","v":""},{"$f":"IF(入力シート!I127=\"\",\"\",入力シート!I127)","v":""},{"$f":"IF(入力シート!J127=\"\",\"\",入力シート!J127)","v":""},{"$f":"IF(入力シート!K127=\"\",\"\",入力シート!K127)","v":""},{"$f":"IF(入力シート!L127=\"\",\"\",入力シート!L127)","v":""},{"$f":"IF(入力シート!M127=\"\",\"\",入力シート!M127)","v":""},{"$f":"IF(入力シート!N127=\"\",\"\",入力シート!N127)","v":""},{"$f":"IF(入力シート!O127=\"\",\"\",入力シート!Q127)","v":""}]
[{"$f":"IF(入力シート!A128=\"\",\"\",入力シート!A128)","v":""},{"$f":"IF(入力シート!B128=\"\",\"\",入力シート!B128)","v":""},{"$f":"IF(入力シート!C128=\"\",\"\",入力シート!C128)","v":""},{"$f":"IF(入力シート!D128=\"\",\"\",TEXT(入力シート!D128,\"yyyy-mm-dd\"))","v":""},{"$f":"IF(入力シート!P128=\"\",\"\",TEXT(入力シート!P128,\"000-0000\"))","v":""},{"$f":"IF(入力シート!G128=\"\",\"\",入力シート!G128)","v":""},{"$f":"IF(入力シート!H128=\"\",\"\",入力シート!H128)","v":""},{"$f":"IF(入力シート!I128=\"\",\"\",入力シート!I128)","v":""},{"$f":"IF(入力シート!J128=\"\",\"\",入力シート!J128)","v":""},{"$f":"IF(入力シート!K128=\"\",\"\",入力シート!K128)","v":""},{"$f":"IF(入力シート!L128=\"\",\"\",入力シート!L128)","v":""},{"$f":"IF(入力シート!M128=\"\",\"\",入力シート!M128)","v":""},{"$f":"IF(入力シート!N128=\"\",\"\",入力シート!N128)","v":""},{"$f":"IF(入力シート!O128=\"\",\"\",入力シート!Q128)","v":""}]
[{"$f":"IF(入力シート!A129=\"\",\"\",入力シート!A129)","v":""},{"$f":"IF(入力シート!B129=\"\",\"\",入力シート!B129)","v":""},{"$f":"IF(入力シート!C129=\"\",\"\",入力シート!C129)","v":""},{"$f":"IF(入力シート!D129=\"\",\"\",TEXT(入力シート!D129,\"yyyy-mm-dd\"))","v":""},{"$f":"IF(入力シート!P129=\"\",\"\",TEXT(入力シート!P129,\"000-0000\"))","v":""},{"$f":"IF(入力シート!G129=\"\",\"\",入力シート!G129)","v":""},{"$f":"IF(入力シート!H129=\"\",\"\",入力シート!H129)","v":""},{"$f":"IF(入力シート!I129=\"\",\"\",入力シート!I129)","v":""},{"$f":"IF(入力シート!J129=\"\",\"\",入力シート!J129)","v":""},{"$f":"IF(入力シート!K129=\"\",\"\",入力シート!K129)","v":""},{"$f":"IF(入力シート!L129=\"\",\"\",入力シート!L129)","v":""},{"$f":"IF(入力シート!M129=\"\",\"\",入力シート!M129)","v":""},{"$f":"IF(入力シート!N129=\"\",\"\",入力シート!N129)","v":""},{"$f":"IF(入力シート!O129=\"\",\"\",入力シート!Q129)","v":""}]
[{"$f":"IF(入力シート!A130=\"\",\"\",入力シート!A130)","v":""},{"$f":"IF(入力シート!B130=\"\",\"\",入力シート!B130)","v":""},{"$f":"IF(入力シート!C130=\"\",\"\",入力シート!C130)","v":""},{"$f":"IF(入力シート!D130=\"\",\"\",TEXT(入力シート!D130,\"yyyy-mm-dd\"))","v":""},{"$f":"IF(入力シート!P130=\"\",\"\",TEXT(入力シート!P130,\"000-0000\"))","v":""},{"$f":"IF(入力シート!G130=\"\",\"\",入力シート!G130)","v":""},{"$f":"IF(入力シート!H130=\"\",\"\",入力シート!H130)","v":""},{"$f":"IF(入力シート!I130=\"\",\"\",入力シート!I130)","v":""},{"$f":"IF(入力シート!J130=\"\",\"\",入力シート!J130)","v":""},{"$f":"IF(入力シート!K130=\"\",\"\",入力シート!K130)","v":""},{"$f":"IF(入力シート!L130=\"\",\"\",入力シート!L130)","v":""},{"$f":"IF(入力シート!M130=\"\",\"\",入力シート!M130)","v":""},{"$f":"IF(入力シート!N130=\"\",\"\",入力シート!N130)","v":""},{"$f":"IF(入力シート!O130=\"\",\"\",入力シート!Q130)","v":""}]
[{"$f":"IF(入力シート!A131=\"\",\"\",入力シート!A131)","v":""},{"$f":"IF(入力シート!B131=\"\",\"\",入力シート!B131)","v":""},{"$f":"IF(入力シート!C131=\"\",\"\",入力シート!C131)","v":""},{"$f":"IF(入力シート!D131=\"\",\"\",TEXT(入力シート!D131,\"yyyy-mm-dd\"))","v":""},{"$f":"IF(入力シート!P131=\"\",\"\",TEXT(入力シート!P131,\"000-0000\"))","v":""},{"$f":"IF(入力シート!G131=\"\",\"\",入力シート!G131)","v":""},{"$f":"IF(入力シート!H131=\"\",\"\",入力シート!H131)","v":""},{"$f":"IF(入力シート!I131=\"\",\"\",入力シート!I131)","v":""},{"$f":"IF(入力シート!J131=\"\",\"\",入力シート!J131)","v":""},{"$f":"IF(入力シート!K131=\"\",\"\",入力シート!K131)","v":""},{"$f":"IF(入力シート!L131=\"\",\"\",入力シート!L131)","v":""},{"$f":"IF(入力シート!M131=\"\",\"\",入力シート!M131)","v":""},{"$f":"IF(入力シート!N131=\"\",\"\",入力シート!N131)","v":""},{"$f":"IF(入力シート!O131=\"\",\"\",入力シート!Q131)","v":""}]
[{"$f":"IF(入力シート!A132=\"\",\"\",入力シート!A132)","v":""},{"$f":"IF(入力シート!B132=\"\",\"\",入力シート!B132)","v":""},{"$f":"IF(入力シート!C132=\"\",\"\",入力シート!C132)","v":""},{"$f":"IF(入力シート!D132=\"\",\"\",TEXT(入力シート!D132,\"yyyy-mm-dd\"))","v":""},{"$f":"IF(入力シート!P132=\"\",\"\",TEXT(入力シート!P132,\"000-0000\"))","v":""},{"$f":"IF(入力シート!G132=\"\",\"\",入力シート!G132)","v":""},{"$f":"IF(入力シート!H132=\"\",\"\",入力シート!H132)","v":""},{"$f":"IF(入力シート!I132=\"\",\"\",入力シート!I132)","v":""},{"$f":"IF(入力シート!J132=\"\",\"\",入力シート!J132)","v":""},{"$f":"IF(入力シート!K132=\"\",\"\",入力シート!K132)","v":""},{"$f":"IF(入力シート!L132=\"\",\"\",入力シート!L132)","v":""},{"$f":"IF(入力シート!M132=\"\",\"\",入力シート!M132)","v":""},{"$f":"IF(入力シート!N132=\"\",\"\",入力シート!N132)","v":""},{"$f":"IF(入力シート!O132=\"\",\"\",入力シート!Q132)","v":""}]
[{"$f":"IF(入力シート!A133=\"\",\"\",入力シート!A133)","v":""},{"$f":"IF(入力シート!B133=\"\",\"\",入力シート!B133)","v":""},{"$f":"IF(入力シート!C133=\"\",\"\",入力シート!C133)","v":""},{"$f":"IF(入力シート!D133=\"\",\"\",TEXT(入力シート!D133,\"yyyy-mm-dd\"))","v":""},{"$f":"IF(入力シート!P133=\"\",\"\",TEXT(入力シート!P133,\"000-0000\"))","v":""},{"$f":"IF(入力シート!G133=\"\",\"\",入力シート!G133)","v":""},{"$f":"IF(入力シート!H133=\"\",\"\",入力シート!H133)","v":""},{"$f":"IF(入力シート!I133=\"\",\"\",入力シート!I133)","v":""},{"$f":"IF(入力シート!J133=\"\",\"\",入力シート!J133)","v":""},{"$f":"IF(入力シート!K133=\"\",\"\",入力シート!K133)","v":""},{"$f":"IF(入力シート!L133=\"\",\"\",入力シート!L133)","v":""},{"$f":"IF(入力シート!M133=\"\",\"\",入力シート!M133)","v":""},{"$f":"IF(入力シート!N133=\"\",\"\",入力シート!N133)","v":""},{"$f":"IF(入力シート!O133=\"\",\"\",入力シート!Q133)","v":""}]
[{"$f":"IF(入力シート!A134=\"\",\"\",入力シート!A134)","v":""},{"$f":"IF(入力シート!B134=\"\",\"\",入力シート!B134)","v":""},{"$f":"IF(入力シート!C134=\"\",\"\",入力シート!C134)","v":""},{"$f":"IF(入力シート!D134=\"\",\"\",TEXT(入力シート!D134,\"yyyy-mm-dd\"))","v":""},{"$f":"IF(入力シート!P134=\"\",\"\",TEXT(入力シート!P134,\"000-0000\"))","v":""},{"$f":"IF(入力シート!G134=\"\",\"\",入力シート!G134)","v":""},{"$f":"IF(入力シート!H134=\"\",\"\",入力シート!H134)","v":""},{"$f":"IF(入力シート!I134=\"\",\"\",入力シート!I134)","v":""},{"$f":"IF(入力シート!J134=\"\",\"\",入力シート!J134)","v":""},{"$f":"IF(入力シート!K134=\"\",\"\",入力シート!K134)","v":""},{"$f":"IF(入力シート!L134=\"\",\"\",入力シート!L134)","v":""},{"$f":"IF(入力シート!M134=\"\",\"\",入力シート!M134)","v":""},{"$f":"IF(入力シート!N134=\"\",\"\",入力シート!N134)","v":""},{"$f":"IF(入力シート!O134=\"\",\"\",入力シート!Q134)","v":""}]
[{"$f":"IF(入力シート!A135=\"\",\"\",入力シート!A135)","v":""},{"$f":"IF(入力シート!B135=\"\",\"\",入力シート!B135)","v":""},{"$f":"IF(入力シート!C135=\"\",\"\",入力シート!C135)","v":""},{"$f":"IF(入力シート!D135=\"\",\"\",TEXT(入力シート!D135,\"yyyy-mm-dd\"))","v":""},{"$f":"IF(入力シート!P135=\"\",\"\",TEXT(入力シート!P135,\"000-0000\"))","v":""},{"$f":"IF(入力シート!G135=\"\",\"\",入力シート!G135)","v":""},{"$f":"IF(入力シート!H135=\"\",\"\",入力シート!H135)","v":""},{"$f":"IF(入力シート!I135=\"\",\"\",入力シート!I135)","v":""},{"$f":"IF(入力シート!J135=\"\",\"\",入力シート!J135)","v":""},{"$f":"IF(入力シート!K135=\"\",\"\",入力シート!K135)","v":""},{"$f":"IF(入力シート!L135=\"\",\"\",入力シート!L135)","v":""},{"$f":"IF(入力シート!M135=\"\",\"\",入力シート!M135)","v":""},{"$f":"IF(入力シート!N135=\"\",\"\",入力シート!N135)","v":""},{"$f":"IF(入力シート!O135=\"\",\"\",入力シート!Q135)","v":""}]
[{"$f":"IF(入力シート!A136=\"\",\"\",入力シート!A136)","v":""},{"$f":"IF(入力シート!B136=\"\",\"\",入力シート!B136)","v":""},{"$f":"IF(入力シート!C136=\"\",\"\",入力シート!C136)","v":""},{"$f":"IF(入力シート!D136=\"\",\"\",TEXT(入力シート!D136,\"yyyy-mm-dd\"))","v":""},{"$f":"IF(入力シート!P136=\"\",\"\",TEXT(入力シート!P136,\"000-0000\"))","v":""},{"$f":"IF(入力シート!G136=\"\",\"\",入力シート!G136)","v":""},{"$f":"IF(入力シート!H136=\"\",\"\",入力シート!H136)","v":""},{"$f":"IF(入力シート!I136=\"\",\"\",入力シート!I136)","v":""},{"$f":"IF(入力シート!J136=\"\",\"\",入力シート!J136)","v":""},{"$f":"IF(入力シート!K136=\"\",\"\",入力シート!K136)","v":""},{"$f":"IF(入力シート!L136=\"\",\"\",入力シート!L136)","v":""},{"$f":"IF(入力シート!M136=\"\",\"\",入力シート!M136)","v":""},{"$f":"IF(入力シート!N136=\"\",\"\",入力シート!N136)","v":""},{"$f":"IF(入力シート!O136=\"\",\"\",入力シート!Q136)","v":""}]
[{"$f":"IF(入力シート!A137=\"\",\"\",入力シート!A137)","v":""},{"$f":"IF(入力シート!B137=\"\",\"\",入力シート!B137)","v":""},{"$f":"IF(入力シート!C137=\"\",\"\",入力シート!C137)","v":""},{"$f":"IF(入力シート!D137=\"\",\"\",TEXT(入力シート!D137,\"yyyy-mm-dd\"))","v":""},{"$f":"IF(入力シート!P137=\"\",\"\",TEXT(入力シート!P137,\"000-0000\"))","v":""},{"$f":"IF(入力シート!G137=\"\",\"\",入力シート!G137)","v":""},{"$f":"IF(入力シート!H137=\"\",\"\",入力シート!H137)","v":""},{"$f":"IF(入力シート!I137=\"\",\"\",入力シート!I137)","v":""},{"$f":"IF(入力シート!J137=\"\",\"\",入力シート!J137)","v":""},{"$f":"IF(入力シート!K137=\"\",\"\",入力シート!K137)","v":""},{"$f":"IF(入力シート!L137=\"\",\"\",入力シート!L137)","v":""},{"$f":"IF(入力シート!M137=\"\",\"\",入力シート!M137)","v":""},{"$f":"IF(入力シート!N137=\"\",\"\",入力シート!N137)","v":""},{"$f":"IF(入力シート!O137=\"\",\"\",入力シート!Q137)","v":""}]
[{"$f":"IF(入力シート!A138=\"\",\"\",入力シート!A138)","v":""},{"$f":"IF(入力シート!B138=\"\",\"\",入力シート!B138)","v":""},{"$f":"IF(入力シート!C138=\"\",\"\",入力シート!C138)","v":""},{"$f":"IF(入力シート!D138=\"\",\"\",TEXT(入力シート!D138,\"yyyy-mm-dd\"))","v":""},{"$f":"IF(入力シート!P138=\"\",\"\",TEXT(入力シート!P138,\"000-0000\"))","v":""},{"$f":"IF(入力シート!G138=\"\",\"\",入力シート!G138)","v":""},{"$f":"IF(入力シート!H138=\"\",\"\",入力シート!H138)","v":""},{"$f":"IF(入力シート!I138=\"\",\"\",入力シート!I138)","v":""},{"$f":"IF(入力シート!J138=\"\",\"\",入力シート!J138)","v":""},{"$f":"IF(入力シート!K138=\"\",\"\",入力シート!K138)","v":""},{"$f":"IF(入力シート!L138=\"\",\"\",入力シート!L138)","v":""},{"$f":"IF(入力シート!M138=\"\",\"\",入力シート!M138)","v":""},{"$f":"IF(入力シート!N138=\"\",\"\",入力シート!N138)","v":""},{"$f":"IF(入力シート!O138=\"\",\"\",入力シート!Q138)","v":""}]
[{"$f":"IF(入力シート!A139=\"\",\"\",入力シート!A139)","v":""},{"$f":"IF(入力シート!B139=\"\",\"\",入力シート!B139)","v":""},{"$f":"IF(入力シート!C139=\"\",\"\",入力シート!C139)","v":""},{"$f":"IF(入力シート!D139=\"\",\"\",TEXT(入力シート!D139,\"yyyy-mm-dd\"))","v":""},{"$f":"IF(入力シート!P139=\"\",\"\",TEXT(入力シート!P139,\"000-0000\"))","v":""},{"$f":"IF(入力シート!G139=\"\",\"\",入力シート!G139)","v":""},{"$f":"IF(入力シート!H139=\"\",\"\",入力シート!H139)","v":""},{"$f":"IF(入力シート!I139=\"\",\"\",入力シート!I139)","v":""},{"$f":"IF(入力シート!J139=\"\",\"\",入力シート!J139)","v":""},{"$f":"IF(入力シート!K139=\"\",\"\",入力シート!K139)","v":""},{"$f":"IF(入力シート!L139=\"\",\"\",入力シート!L139)","v":""},{"$f":"IF(入力シート!M139=\"\",\"\",入力シート!M139)","v":""},{"$f":"IF(入力シート!N139=\"\",\"\",入力シート!N139)","v":""},{"$f":"IF(入力シート!O139=\"\",\"\",入力シート!Q139)","v":""}]
[{"$f":"IF(入力シート!A140=\"\",\"\",入力シート!A140)","v":""},{"$f":"IF(入力シート!B140=\"\",\"\",入力シート!B140)","v":""},{"$f":"IF(入力シート!C140=\"\",\"\",入力シート!C140)","v":""},{"$f":"IF(入力シート!D140=\"\",\"\",TEXT(入力シート!D140,\"yyyy-mm-dd\"))","v":""},{"$f":"IF(入力シート!P140=\"\",\"\",TEXT(入力シート!P140,\"000-0000\"))","v":""},{"$f":"IF(入力シート!G140=\"\",\"\",入力シート!G140)","v":""},{"$f":"IF(入力シート!H140=\"\",\"\",入力シート!H140)","v":""},{"$f":"IF(入力シート!I140=\"\",\"\",入力シート!I140)","v":""},{"$f":"IF(入力シート!J140=\"\",\"\",入力シート!J140)","v":""},{"$f":"IF(入力シート!K140=\"\",\"\",入力シート!K140)","v":""},{"$f":"IF(入力シート!L140=\"\",\"\",入力シート!L140)","v":""},{"$f":"IF(入力シート!M140=\"\",\"\",入力シート!M140)","v":""},{"$f":"IF(入力シート!N140=\"\",\"\",入力シート!N140)","v":""},{"$f":"IF(入力シート!O140=\"\",\"\",入力シート!Q140)","v":""}]
[{"$f":"IF(入力シート!A141=\"\",\"\",入力シート!A141)","v":""},{"$f":"IF(入力シート!B141=\"\",\"\",入力シート!B141)","v":""},{"$f":"IF(入力シート!C141=\"\",\"\",入力シート!C141)","v":""},{"$f":"IF(入力シート!D141=\"\",\"\",TEXT(入力シート!D141,\"yyyy-mm-dd\"))","v":""},{"$f":"IF(入力シート!P141=\"\",\"\",TEXT(入力シート!P141,\"000-0000\"))","v":""},{"$f":"IF(入力シート!G141=\"\",\"\",入力シート!G141)","v":""},{"$f":"IF(入力シート!H141=\"\",\"\",入力シート!H141)","v":""},{"$f":"IF(入力シート!I141=\"\",\"\",入力シート!I141)","v":""},{"$f":"IF(入力シート!J141=\"\",\"\",入力シート!J141)","v":""},{"$f":"IF(入力シート!K141=\"\",\"\",入力シート!K141)","v":""},{"$f":"IF(入力シート!L141=\"\",\"\",入力シート!L141)","v":""},{"$f":"IF(入力シート!M141=\"\",\"\",入力シート!M141)","v":""},{"$f":"IF(入力シート!N141=\"\",\"\",入力シート!N141)","v":""},{"$f":"IF(入力シート!O141=\"\",\"\",入力シート!Q141)","v":""}]
[{"$f":"IF(入力シート!A142=\"\",\"\",入力シート!A142)","v":""},{"$f":"IF(入力シート!B142=\"\",\"\",入力シート!B142)","v":""},{"$f":"IF(入力シート!C142=\"\",\"\",入力シート!C142)","v":""},{"$f":"IF(入力シート!D142=\"\",\"\",TEXT(入力シート!D142,\"yyyy-mm-dd\"))","v":""},{"$f":"IF(入力シート!P142=\"\",\"\",TEXT(入力シート!P142,\"000-0000\"))","v":""},{"$f":"IF(入力シート!G142=\"\",\"\",入力シート!G142)","v":""},{"$f":"IF(入力シート!H142=\"\",\"\",入力シート!H142)","v":""},{"$f":"IF(入力シート!I142=\"\",\"\",入力シート!I142)","v":""},{"$f":"IF(入力シート!J142=\"\",\"\",入力シート!J142)","v":""},{"$f":"IF(入力シート!K142=\"\",\"\",入力シート!K142)","v":""},{"$f":"IF(入力シート!L142=\"\",\"\",入力シート!L142)","v":""},{"$f":"IF(入力シート!M142=\"\",\"\",入力シート!M142)","v":""},{"$f":"IF(入力シート!N142=\"\",\"\",入力シート!N142)","v":""},{"$f":"IF(入力シート!O142=\"\",\"\",入力シート!Q142)","v":""}]
[{"$f":"IF(入力シート!A143=\"\",\"\",入力シート!A143)","v":""},{"$f":"IF(入力シート!B143=\"\",\"\",入力シート!B143)","v":""},{"$f":"IF(入力シート!C143=\"\",\"\",入力シート!C143)","v":""},{"$f":"IF(入力シート!D143=\"\",\"\",TEXT(入力シート!D143,\"yyyy-mm-dd\"))","v":""},{"$f":"IF(入力シート!P143=\"\",\"\",TEXT(入力シート!P143,\"000-0000\"))","v":""},{"$f":"IF(入力シート!G143=\"\",\"\",入力シート!G143)","v":""},{"$f":"IF(入力シート!H143=\"\",\"\",入力シート!H143)","v":""},{"$f":"IF(入力シート!I143=\"\",\"\",入力シート!I143)","v":""},{"$f":"IF(入力シート!J143=\"\",\"\",入力シート!J143)","v":""},{"$f":"IF(入力シート!K143=\"\",\"\",入力シート!K143)","v":""},{"$f":"IF(入力シート!L143=\"\",\"\",入力シート!L143)","v":""},{"$f":"IF(入力シート!M143=\"\",\"\",入力シート!M143)","v":""},{"$f":"IF(入力シート!N143=\"\",\"\",入力シート!N143)","v":""},{"$f":"IF(入力シート!O143=\"\",\"\",入力シート!Q143)","v":""}]
[{"$f":"IF(入力シート!A144=\"\",\"\",入力シート!A144)","v":""},{"$f":"IF(入力シート!B144=\"\",\"\",入力シート!B144)","v":""},{"$f":"IF(入力シート!C144=\"\",\"\",入力シート!C144)","v":""},{"$f":"IF(入力シート!D144=\"\",\"\",TEXT(入力シート!D144,\"yyyy-mm-dd\"))","v":""},{"$f":"IF(入力シート!P144=\"\",\"\",TEXT(入力シート!P144,\"000-0000\"))","v":""},{"$f":"IF(入力シート!G144=\"\",\"\",入力シート!G144)","v":""},{"$f":"IF(入力シート!H144=\"\",\"\",入力シート!H144)","v":""},{"$f":"IF(入力シート!I144=\"\",\"\",入力シート!I144)","v":""},{"$f":"IF(入力シート!J144=\"\",\"\",入力シート!J144)","v":""},{"$f":"IF(入力シート!K144=\"\",\"\",入力シート!K144)","v":""},{"$f":"IF(入力シート!L144=\"\",\"\",入力シート!L144)","v":""},{"$f":"IF(入力シート!M144=\"\",\"\",入力シート!M144)","v":""},{"$f":"IF(入力シート!N144=\"\",\"\",入力シート!N144)","v":""},{"$f":"IF(入力シート!O144=\"\",\"\",入力シート!Q144)","v":""}]
[{"$f":"IF(入力シート!A145=\"\",\"\",入力シート!A145)","v":""},{"$f":"IF(入力シート!B145=\"\",\"\",入力シート!B145)","v":""},{"$f":"IF(入力シート!C145=\"\",\"\",入力シート!C145)","v":""},{"$f":"IF(入力シート!D145=\"\",\"\",TEXT(入力シート!D145,\"yyyy-mm-dd\"))","v":""},{"$f":"IF(入力シート!P145=\"\",\"\",TEXT(入力シート!P145,\"000-0000\"))","v":""},{"$f":"IF(入力シート!G145=\"\",\"\",入力シート!G145)","v":""},{"$f":"IF(入力シート!H145=\"\",\"\",入力シート!H145)","v":""},{"$f":"IF(入力シート!I145=\"\",\"\",入力シート!I145)","v":""},{"$f":"IF(入力シート!J145=\"\",\"\",入力シート!J145)","v":""},{"$f":"IF(入力シート!K145=\"\",\"\",入力シート!K145)","v":""},{"$f":"IF(入力シート!L145=\"\",\"\",入力シート!L145)","v":""},{"$f":"IF(入力シート!M145=\"\",\"\",入力シート!M145)","v":""},{"$f":"IF(入力シート!N145=\"\",\"\",入力シート!N145)","v":""},{"$f":"IF(入力シート!O145=\"\",\"\",入力シート!Q145)","v":""}]
[{"$f":"IF(入力シート!A146=\"\",\"\",入力シート!A146)","v":""},{"$f":"IF(入力シート!B146=\"\",\"\",入力シート!B146)","v":""},{"$f":"IF(入力シート!C146=\"\",\"\",入力シート!C146)","v":""},{"$f":"IF(入力シート!D146=\"\",\"\",TEXT(入力シート!D146,\"yyyy-mm-dd\"))","v":""},{"$f":"IF(入力シート!P146=\"\",\"\",TEXT(入力シート!P146,\"000-0000\"))","v":""},{"$f":"IF(入力シート!G146=\"\",\"\",入力シート!G146)","v":""},{"$f":"IF(入力シート!H146=\"\",\"\",入力シート!H146)","v":""},{"$f":"IF(入力シート!I146=\"\",\"\",入力シート!I146)","v":""},{"$f":"IF(入力シート!J146=\"\",\"\",入力シート!J146)","v":""},{"$f":"IF(入力シート!K146=\"\",\"\",入力シート!K146)","v":""},{"$f":"IF(入力シート!L146=\"\",\"\",入力シート!L146)","v":""},{"$f":"IF(入力シート!M146=\"\",\"\",入力シート!M146)","v":""},{"$f":"IF(入力シート!N146=\"\",\"\",入力シート!N146)","v":""},{"$f":"IF(入力シート!O146=\"\",\"\",入力シート!Q146)","v":""}]
[{"$f":"IF(入力シート!A147=\"\",\"\",入力シート!A147)","v":""},{"$f":"IF(入力シート!B147=\"\",\"\",入力シート!B147)","v":""},{"$f":"IF(入力シート!C147=\"\",\"\",入力シート!C147)","v":""},{"$f":"IF(入力シート!D147=\"\",\"\",TEXT(入力シート!D147,\"yyyy-mm-dd\"))","v":""},{"$f":"IF(入力シート!P147=\"\",\"\",TEXT(入力シート!P147,\"000-0000\"))","v":""},{"$f":"IF(入力シート!G147=\"\",\"\",入力シート!G147)","v":""},{"$f":"IF(入力シート!H147=\"\",\"\",入力シート!H147)","v":""},{"$f":"IF(入力シート!I147=\"\",\"\",入力シート!I147)","v":""},{"$f":"IF(入力シート!J147=\"\",\"\",入力シート!J147)","v":""},{"$f":"IF(入力シート!K147=\"\",\"\",入力シート!K147)","v":""},{"$f":"IF(入力シート!L147=\"\",\"\",入力シート!L147)","v":""},{"$f":"IF(入力シート!M147=\"\",\"\",入力シート!M147)","v":""},{"$f":"IF(入力シート!N147=\"\",\"\",入力シート!N147)","v":""},{"$f":"IF(入力シート!O147=\"\",\"\",入力シート!Q147)","v":""}]
[{"$f":"IF(入力シート!A148=\"\",\"\",入力シート!A148)","v":""},{"$f":"IF(入力シート!B148=\"\",\"\",入力シート!B148)","v":""},{"$f":"IF(入力シート!C148=\"\",\"\",入力シート!C148)","v":""},{"$f":"IF(入力シート!D148=\"\",\"\",TEXT(入力シート!D148,\"yyyy-mm-dd\"))","v":""},{"$f":"IF(入力シート!P148=\"\",\"\",TEXT(入力シート!P148,\"000-0000\"))","v":""},{"$f":"IF(入力シート!G148=\"\",\"\",入力シート!G148)","v":""},{"$f":"IF(入力シート!H148=\"\",\"\",入力シート!H148)","v":""},{"$f":"IF(入力シート!I148=\"\",\"\",入力シート!I148)","v":""},{"$f":"IF(入力シート!J148=\"\",\"\",入力シート!J148)","v":""},{"$f":"IF(入力シート!K148=\"\",\"\",入力シート!K148)","v":""},{"$f":"IF(入力シート!L148=\"\",\"\",入力シート!L148)","v":""},{"$f":"IF(入力シート!M148=\"\",\"\",入力シート!M148)","v":""},{"$f":"IF(入力シート!N148=\"\",\"\",入力シート!N148)","v":""},{"$f":"IF(入力シート!O148=\"\",\"\",入力シート!Q148)","v":""}]
[{"$f":"IF(入力シート!A149=\"\",\"\",入力シート!A149)","v":""},{"$f":"IF(入力シート!B149=\"\",\"\",入力シート!B149)","v":""},{"$f":"IF(入力シート!C149=\"\",\"\",入力シート!C149)","v":""},{"$f":"IF(入力シート!D149=\"\",\"\",TEXT(入力シート!D149,\"yyyy-mm-dd\"))","v":""},{"$f":"IF(入力シート!P149=\"\",\"\",TEXT(入力シート!P149,\"000-0000\"))","v":""},{"$f":"IF(入力シート!G149=\"\",\"\",入力シート!G149)","v":""},{"$f":"IF(入力シート!H149=\"\",\"\",入力シート!H149)","v":""},{"$f":"IF(入力シート!I149=\"\",\"\",入力シート!I149)","v":""},{"$f":"IF(入力シート!J149=\"\",\"\",入力シート!J149)","v":""},{"$f":"IF(入力シート!K149=\"\",\"\",入力シート!K149)","v":""},{"$f":"IF(入力シート!L149=\"\",\"\",入力シート!L149)","v":""},{"$f":"IF(入力シート!M149=\"\",\"\",入力シート!M149)","v":""},{"$f":"IF(入力シート!N149=\"\",\"\",入力シート!N149)","v":""},{"$f":"IF(入力シート!O149=\"\",\"\",入力シート!Q149)","v":""}]
[{"$f":"IF(入力シート!A150=\"\",\"\",入力シート!A150)","v":""},{"$f":"IF(入力シート!B150=\"\",\"\",入力シート!B150)","v":""},{"$f":"IF(入力シート!C150=\"\",\"\",入力シート!C150)","v":""},{"$f":"IF(入力シート!D150=\"\",\"\",TEXT(入力シート!D150,\"yyyy-mm-dd\"))","v":""},{"$f":"IF(入力シート!P150=\"\",\"\",TEXT(入力シート!P150,\"000-0000\"))","v":""},{"$f":"IF(入力シート!G150=\"\",\"\",入力シート!G150)","v":""},{"$f":"IF(入力シート!H150=\"\",\"\",入力シート!H150)","v":""},{"$f":"IF(入力シート!I150=\"\",\"\",入力シート!I150)","v":""},{"$f":"IF(入力シート!J150=\"\",\"\",入力シート!J150)","v":""},{"$f":"IF(入力シート!K150=\"\",\"\",入力シート!K150)","v":""},{"$f":"IF(入力シート!L150=\"\",\"\",入力シート!L150)","v":""},{"$f":"IF(入力シート!M150=\"\",\"\",入力シート!M150)","v":""},{"$f":"IF(入力シート!N150=\"\",\"\",入力シート!N150)","v":""},{"$f":"IF(入力シート!O150=\"\",\"\",入力シート!Q150)","v":""}]
[{"$f":"IF(入力シート!A151=\"\",\"\",入力シート!A151)","v":""},{"$f":"IF(入力シート!B151=\"\",\"\",入力シート!B151)","v":""},{"$f":"IF(入力シート!C151=\"\",\"\",入力シート!C151)","v":""},{"$f":"IF(入力シート!D151=\"\",\"\",TEXT(入力シート!D151,\"yyyy-mm-dd\"))","v":""},{"$f":"IF(入力シート!P151=\"\",\"\",TEXT(入力シート!P151,\"000-0000\"))","v":""},{"$f":"IF(入力シート!G151=\"\",\"\",入力シート!G151)","v":""},{"$f":"IF(入力シート!H151=\"\",\"\",入力シート!H151)","v":""},{"$f":"IF(入力シート!I151=\"\",\"\",入力シート!I151)","v":""},{"$f":"IF(入力シート!J151=\"\",\"\",入力シート!J151)","v":""},{"$f":"IF(入力シート!K151=\"\",\"\",入力シート!K151)","v":""},{"$f":"IF(入力シート!L151=\"\",\"\",入力シート!L151)","v":""},{"$f":"IF(入力シート!M151=\"\",\"\",入力シート!M151)","v":""},{"$f":"IF(入力シート!N151=\"\",\"\",入力シート!N151)","v":""},{"$f":"IF(入力シート!O151=\"\",\"\",入力シート!Q151)","v":""}]
[{"$f":"IF(入力シート!A152=\"\",\"\",入力シート!A152)","v":""},{"$f":"IF(入力シート!B152=\"\",\"\",入力シート!B152)","v":""},{"$f":"IF(入力シート!C152=\"\",\"\",入力シート!C152)","v":""},{"$f":"IF(入力シート!D152=\"\",\"\",TEXT(入力シート!D152,\"yyyy-mm-dd\"))","v":""},{"$f":"IF(入力シート!P152=\"\",\"\",TEXT(入力シート!P152,\"000-0000\"))","v":""},{"$f":"IF(入力シート!G152=\"\",\"\",入力シート!G152)","v":""},{"$f":"IF(入力シート!H152=\"\",\"\",入力シート!H152)","v":""},{"$f":"IF(入力シート!I152=\"\",\"\",入力シート!I152)","v":""},{"$f":"IF(入力シート!J152=\"\",\"\",入力シート!J152)","v":""},{"$f":"IF(入力シート!K152=\"\",\"\",入力シート!K152)","v":""},{"$f":"IF(入力シート!L152=\"\",\"\",入力シート!L152)","v":""},{"$f":"IF(入力シート!M152=\"\",\"\",入力シート!M152)","v":""},{"$f":"IF(入力シート!N152=\"\",\"\",入力シート!N152)","v":""},{"$f":"IF(入力シート!O152=\"\",\"\",入力シート!Q152)","v":""}]
[{"$f":"IF(入力シート!A153=\"\",\"\",入力シート!A153)","v":""},{"$f":"IF(入力シート!B153=\"\",\"\",入力シート!B153)","v":""},{"$f":"IF(入力シート!C153=\"\",\"\",入力シート!C153)","v":""},{"$f":"IF(入力シート!D153=\"\",\"\",TEXT(入力シート!D153,\"yyyy-mm-dd\"))","v":""},{"$f":"IF(入力シート!P153=\"\",\"\",TEXT(入力シート!P153,\"000-0000\"))","v":""},{"$f":"IF(入力シート!G153=\"\",\"\",入力シート!G153)","v":""},{"$f":"IF(入力シート!H153=\"\",\"\",入力シート!H153)","v":""},{"$f":"IF(入力シート!I153=\"\",\"\",入力シート!I153)","v":""},{"$f":"IF(入力シート!J153=\"\",\"\",入力シート!J153)","v":""},{"$f":"IF(入力シート!K153=\"\",\"\",入力シート!K153)","v":""},{"$f":"IF(入力シート!L153=\"\",\"\",入力シート!L153)","v":""},{"$f":"IF(入力シート!M153=\"\",\"\",入力シート!M153)","v":""},{"$f":"IF(入力シート!N153=\"\",\"\",入力シート!N153)","v":""},{"$f":"IF(入力シート!O153=\"\",\"\",入力シート!Q153)","v":""}]
[{"$f":"IF(入力シート!A154=\"\",\"\",入力シート!A154)","v":""},{"$f":"IF(入力シート!B154=\"\",\"\",入力シート!B154)","v":""},{"$f":"IF(入力シート!C154=\"\",\"\",入力シート!C154)","v":""},{"$f":"IF(入力シート!D154=\"\",\"\",TEXT(入力シート!D154,\"yyyy-mm-dd\"))","v":""},{"$f":"IF(入力シート!P154=\"\",\"\",TEXT(入力シート!P154,\"000-0000\"))","v":""},{"$f":"IF(入力シート!G154=\"\",\"\",入力シート!G154)","v":""},{"$f":"IF(入力シート!H154=\"\",\"\",入力シート!H154)","v":""},{"$f":"IF(入力シート!I154=\"\",\"\",入力シート!I154)","v":""},{"$f":"IF(入力シート!J154=\"\",\"\",入力シート!J154)","v":""},{"$f":"IF(入力シート!K154=\"\",\"\",入力シート!K154)","v":""},{"$f":"IF(入力シート!L154=\"\",\"\",入力シート!L154)","v":""},{"$f":"IF(入力シート!M154=\"\",\"\",入力シート!M154)","v":""},{"$f":"IF(入力シート!N154=\"\",\"\",入力シート!N154)","v":""},{"$f":"IF(入力シート!O154=\"\",\"\",入力シート!Q154)","v":""}]
[{"$f":"IF(入力シート!A155=\"\",\"\",入力シート!A155)","v":""},{"$f":"IF(入力シート!B155=\"\",\"\",入力シート!B155)","v":""},{"$f":"IF(入力シート!C155=\"\",\"\",入力シート!C155)","v":""},{"$f":"IF(入力シート!D155=\"\",\"\",TEXT(入力シート!D155,\"yyyy-mm-dd\"))","v":""},{"$f":"IF(入力シート!P155=\"\",\"\",TEXT(入力シート!P155,\"000-0000\"))","v":""},{"$f":"IF(入力シート!G155=\"\",\"\",入力シート!G155)","v":""},{"$f":"IF(入力シート!H155=\"\",\"\",入力シート!H155)","v":""},{"$f":"IF(入力シート!I155=\"\",\"\",入力シート!I155)","v":""},{"$f":"IF(入力シート!J155=\"\",\"\",入力シート!J155)","v":""},{"$f":"IF(入力シート!K155=\"\",\"\",入力シート!K155)","v":""},{"$f":"IF(入力シート!L155=\"\",\"\",入力シート!L155)","v":""},{"$f":"IF(入力シート!M155=\"\",\"\",入力シート!M155)","v":""},{"$f":"IF(入力シート!N155=\"\",\"\",入力シート!N155)","v":""},{"$f":"IF(入力シート!O155=\"\",\"\",入力シート!Q155)","v":""}]
[{"$f":"IF(入力シート!A156=\"\",\"\",入力シート!A156)","v":""},{"$f":"IF(入力シート!B156=\"\",\"\",入力シート!B156)","v":""},{"$f":"IF(入力シート!C156=\"\",\"\",入力シート!C156)","v":""},{"$f":"IF(入力シート!D156=\"\",\"\",TEXT(入力シート!D156,\"yyyy-mm-dd\"))","v":""},{"$f":"IF(入力シート!P156=\"\",\"\",TEXT(入力シート!P156,\"000-0000\"))","v":""},{"$f":"IF(入力シート!G156=\"\",\"\",入力シート!G156)","v":""},{"$f":"IF(入力シート!H156=\"\",\"\",入力シート!H156)","v":""},{"$f":"IF(入力シート!I156=\"\",\"\",入力シート!I156)","v":""},{"$f":"IF(入力シート!J156=\"\",\"\",入力シート!J156)","v":""},{"$f":"IF(入力シート!K156=\"\",\"\",入力シート!K156)","v":""},{"$f":"IF(入力シート!L156=\"\",\"\",入力シート!L156)","v":""},{"$f":"IF(入力シート!M156=\"\",\"\",入力シート!M156)","v":""},{"$f":"IF(入力シート!N156=\"\",\"\",入力シート!N156)","v":""},{"$f":"IF(入力シート!O156=\"\",\"\",入力シート!Q156)","v":""}]
[{"$f":"IF(入力シート!A157=\"\",\"\",入力シート!A157)","v":""},{"$f":"IF(入力シート!B157=\"\",\"\",入力シート!B157)","v":""},{"$f":"IF(入力シート!C157=\"\",\"\",入力シート!C157)","v":""},{"$f":"IF(入力シート!D157=\"\",\"\",TEXT(入力シート!D157,\"yyyy-mm-dd\"))","v":""},{"$f":"IF(入力シート!P157=\"\",\"\",TEXT(入力シート!P157,\"000-0000\"))","v":""},{"$f":"IF(入力シート!G157=\"\",\"\",入力シート!G157)","v":""},{"$f":"IF(入力シート!H157=\"\",\"\",入力シート!H157)","v":""},{"$f":"IF(入力シート!I157=\"\",\"\",入力シート!I157)","v":""},{"$f":"IF(入力シート!J157=\"\",\"\",入力シート!J157)","v":""},{"$f":"IF(入力シート!K157=\"\",\"\",入力シート!K157)","v":""},{"$f":"IF(入力シート!L157=\"\",\"\",入力シート!L157)","v":""},{"$f":"IF(入力シート!M157=\"\",\"\",入力シート!M157)","v":""},{"$f":"IF(入力シート!N157=\"\",\"\",入力シート!N157)","v":""},{"$f":"IF(入力シート!O157=\"\",\"\",入力シート!Q157)","v":""}]
[{"$f":"IF(入力シート!A158=\"\",\"\",入力シート!A158)","v":""},{"$f":"IF(入力シート!B158=\"\",\"\",入力シート!B158)","v":""},{"$f":"IF(入力シート!C158=\"\",\"\",入力シート!C158)","v":""},{"$f":"IF(入力シート!D158=\"\",\"\",TEXT(入力シート!D158,\"yyyy-mm-dd\"))","v":""},{"$f":"IF(入力シート!P158=\"\",\"\",TEXT(入力シート!P158,\"000-0000\"))","v":""},{"$f":"IF(入力シート!G158=\"\",\"\",入力シート!G158)","v":""},{"$f":"IF(入力シート!H158=\"\",\"\",入力シート!H158)","v":""},{"$f":"IF(入力シート!I158=\"\",\"\",入力シート!I158)","v":""},{"$f":"IF(入力シート!J158=\"\",\"\",入力シート!J158)","v":""},{"$f":"IF(入力シート!K158=\"\",\"\",入力シート!K158)","v":""},{"$f":"IF(入力シート!L158=\"\",\"\",入力シート!L158)","v":""},{"$f":"IF(入力シート!M158=\"\",\"\",入力シート!M158)","v":""},{"$f":"IF(入力シート!N158=\"\",\"\",入力シート!N158)","v":""},{"$f":"IF(入力シート!O158=\"\",\"\",入力シート!Q158)","v":""}]
[{"$f":"IF(入力シート!A159=\"\",\"\",入力シート!A159)","v":""},{"$f":"IF(入力シート!B159=\"\",\"\",入力シート!B159)","v":""},{"$f":"IF(入力シート!C159=\"\",\"\",入力シート!C159)","v":""},{"$f":"IF(入力シート!D159=\"\",\"\",TEXT(入力シート!D159,\"yyyy-mm-dd\"))","v":""},{"$f":"IF(入力シート!P159=\"\",\"\",TEXT(入力シート!P159,\"000-0000\"))","v":""},{"$f":"IF(入力シート!G159=\"\",\"\",入力シート!G159)","v":""},{"$f":"IF(入力シート!H159=\"\",\"\",入力シート!H159)","v":""},{"$f":"IF(入力シート!I159=\"\",\"\",入力シート!I159)","v":""},{"$f":"IF(入力シート!J159=\"\",\"\",入力シート!J159)","v":""},{"$f":"IF(入力シート!K159=\"\",\"\",入力シート!K159)","v":""},{"$f":"IF(入力シート!L159=\"\",\"\",入力シート!L159)","v":""},{"$f":"IF(入力シート!M159=\"\",\"\",入力シート!M159)","v":""},{"$f":"IF(入力シート!N159=\"\",\"\",入力シート!N159)","v":""},{"$f":"IF(入力シート!O159=\"\",\"\",入力シート!Q159)","v":""}]
[{"$f":"IF(入力シート!A160=\"\",\"\",入力シート!A160)","v":""},{"$f":"IF(入力シート!B160=\"\",\"\",入力シート!B160)","v":""},{"$f":"IF(入力シート!C160=\"\",\"\",入力シート!C160)","v":""},{"$f":"IF(入力シート!D160=\"\",\"\",TEXT(入力シート!D160,\"yyyy-mm-dd\"))","v":""},{"$f":"IF(入力シート!P160=\"\",\"\",TEXT(入力シート!P160,\"000-0000\"))","v":""},{"$f":"IF(入力シート!G160=\"\",\"\",入力シート!G160)","v":""},{"$f":"IF(入力シート!H160=\"\",\"\",入力シート!H160)","v":""},{"$f":"IF(入力シート!I160=\"\",\"\",入力シート!I160)","v":""},{"$f":"IF(入力シート!J160=\"\",\"\",入力シート!J160)","v":""},{"$f":"IF(入力シート!K160=\"\",\"\",入力シート!K160)","v":""},{"$f":"IF(入力シート!L160=\"\",\"\",入力シート!L160)","v":""},{"$f":"IF(入力シート!M160=\"\",\"\",入力シート!M160)","v":""},{"$f":"IF(入力シート!N160=\"\",\"\",入力シート!N160)","v":""},{"$f":"IF(入力シート!O160=\"\",\"\",入力シート!Q160)","v":""}]
[{"$f":"IF(入力シート!A161=\"\",\"\",入力シート!A161)","v":""},{"$f":"IF(入力シート!B161=\"\",\"\",入力シート!B161)","v":""},{"$f":"IF(入力シート!C161=\"\",\"\",入力シート!C161)","v":""},{"$f":"IF(入力シート!D161=\"\",\"\",TEXT(入力シート!D161,\"yyyy-mm-dd\"))","v":""},{"$f":"IF(入力シート!P161=\"\",\"\",TEXT(入力シート!P161,\"000-0000\"))","v":""},{"$f":"IF(入力シート!G161=\"\",\"\",入力シート!G161)","v":""},{"$f":"IF(入力シート!H161=\"\",\"\",入力シート!H161)","v":""},{"$f":"IF(入力シート!I161=\"\",\"\",入力シート!I161)","v":""},{"$f":"IF(入力シート!J161=\"\",\"\",入力シート!J161)","v":""},{"$f":"IF(入力シート!K161=\"\",\"\",入力シート!K161)","v":""},{"$f":"IF(入力シート!L161=\"\",\"\",入力シート!L161)","v":""},{"$f":"IF(入力シート!M161=\"\",\"\",入力シート!M161)","v":""},{"$f":"IF(入力シート!N161=\"\",\"\",入力シート!N161)","v":""},{"$f":"IF(入力シート!O161=\"\",\"\",入力シート!Q161)","v":""}]
[{"$f":"IF(入力シート!A162=\"\",\"\",入力シート!A162)","v":""},{"$f":"IF(入力シート!B162=\"\",\"\",入力シート!B162)","v":""},{"$f":"IF(入力シート!C162=\"\",\"\",入力シート!C162)","v":""},{"$f":"IF(入力シート!D162=\"\",\"\",TEXT(入力シート!D162,\"yyyy-mm-dd\"))","v":""},{"$f":"IF(入力シート!P162=\"\",\"\",TEXT(入力シート!P162,\"000-0000\"))","v":""},{"$f":"IF(入力シート!G162=\"\",\"\",入力シート!G162)","v":""},{"$f":"IF(入力シート!H162=\"\",\"\",入力シート!H162)","v":""},{"$f":"IF(入力シート!I162=\"\",\"\",入力シート!I162)","v":""},{"$f":"IF(入力シート!J162=\"\",\"\",入力シート!J162)","v":""},{"$f":"IF(入力シート!K162=\"\",\"\",入力シート!K162)","v":""},{"$f":"IF(入力シート!L162=\"\",\"\",入力シート!L162)","v":""},{"$f":"IF(入力シート!M162=\"\",\"\",入力シート!M162)","v":""},{"$f":"IF(入力シート!N162=\"\",\"\",入力シート!N162)","v":""},{"$f":"IF(入力シート!O162=\"\",\"\",入力シート!Q162)","v":""}]
[{"$f":"IF(入力シート!A163=\"\",\"\",入力シート!A163)","v":""},{"$f":"IF(入力シート!B163=\"\",\"\",入力シート!B163)","v":""},{"$f":"IF(入力シート!C163=\"\",\"\",入力シート!C163)","v":""},{"$f":"IF(入力シート!D163=\"\",\"\",TEXT(入力シート!D163,\"yyyy-mm-dd\"))","v":""},{"$f":"IF(入力シート!P163=\"\",\"\",TEXT(入力シート!P163,\"000-0000\"))","v":""},{"$f":"IF(入力シート!G163=\"\",\"\",入力シート!G163)","v":""},{"$f":"IF(入力シート!H163=\"\",\"\",入力シート!H163)","v":""},{"$f":"IF(入力シート!I163=\"\",\"\",入力シート!I163)","v":""},{"$f":"IF(入力シート!J163=\"\",\"\",入力シート!J163)","v":""},{"$f":"IF(入力シート!K163=\"\",\"\",入力シート!K163)","v":""},{"$f":"IF(入力シート!L163=\"\",\"\",入力シート!L163)","v":""},{"$f":"IF(入力シート!M163=\"\",\"\",入力シート!M163)","v":""},{"$f":"IF(入力シート!N163=\"\",\"\",入力シート!N163)","v":""},{"$f":"IF(入力シート!O163=\"\",\"\",入力シート!Q163)","v":""}]
[{"$f":"IF(入力シート!A164=\"\",\"\",入力シート!A164)","v":""},{"$f":"IF(入力シート!B164=\"\",\"\",入力シート!B164)","v":""},{"$f":"IF(入力シート!C164=\"\",\"\",入力シート!C164)","v":""},{"$f":"IF(入力シート!D164=\"\",\"\",TEXT(入力シート!D164,\"yyyy-mm-dd\"))","v":""},{"$f":"IF(入力シート!P164=\"\",\"\",TEXT(入力シート!P164,\"000-0000\"))","v":""},{"$f":"IF(入力シート!G164=\"\",\"\",入力シート!G164)","v":""},{"$f":"IF(入力シート!H164=\"\",\"\",入力シート!H164)","v":""},{"$f":"IF(入力シート!I164=\"\",\"\",入力シート!I164)","v":""},{"$f":"IF(入力シート!J164=\"\",\"\",入力シート!J164)","v":""},{"$f":"IF(入力シート!K164=\"\",\"\",入力シート!K164)","v":""},{"$f":"IF(入力シート!L164=\"\",\"\",入力シート!L164)","v":""},{"$f":"IF(入力シート!M164=\"\",\"\",入力シート!M164)","v":""},{"$f":"IF(入力シート!N164=\"\",\"\",入力シート!N164)","v":""},{"$f":"IF(入力シート!O164=\"\",\"\",入力シート!Q164)","v":""}]
[{"$f":"IF(入力シート!A165=\"\",\"\",入力シート!A165)","v":""},{"$f":"IF(入力シート!B165=\"\",\"\",入力シート!B165)","v":""},{"$f":"IF(入力シート!C165=\"\",\"\",入力シート!C165)","v":""},{"$f":"IF(入力シート!D165=\"\",\"\",TEXT(入力シート!D165,\"yyyy-mm-dd\"))","v":""},{"$f":"IF(入力シート!P165=\"\",\"\",TEXT(入力シート!P165,\"000-0000\"))","v":""},{"$f":"IF(入力シート!G165=\"\",\"\",入力シート!G165)","v":""},{"$f":"IF(入力シート!H165=\"\",\"\",入力シート!H165)","v":""},{"$f":"IF(入力シート!I165=\"\",\"\",入力シート!I165)","v":""},{"$f":"IF(入力シート!J165=\"\",\"\",入力シート!J165)","v":""},{"$f":"IF(入力シート!K165=\"\",\"\",入力シート!K165)","v":""},{"$f":"IF(入力シート!L165=\"\",\"\",入力シート!L165)","v":""},{"$f":"IF(入力シート!M165=\"\",\"\",入力シート!M165)","v":""},{"$f":"IF(入力シート!N165=\"\",\"\",入力シート!N165)","v":""},{"$f":"IF(入力シート!O165=\"\",\"\",入力シート!Q165)","v":""}]
[{"$f":"IF(入力シート!A166=\"\",\"\",入力シート!A166)","v":""},{"$f":"IF(入力シート!B166=\"\",\"\",入力シート!B166)","v":""},{"$f":"IF(入力シート!C166=\"\",\"\",入力シート!C166)","v":""},{"$f":"IF(入力シート!D166=\"\",\"\",TEXT(入力シート!D166,\"yyyy-mm-dd\"))","v":""},{"$f":"IF(入力シート!P166=\"\",\"\",TEXT(入力シート!P166,\"000-0000\"))","v":""},{"$f":"IF(入力シート!G166=\"\",\"\",入力シート!G166)","v":""},{"$f":"IF(入力シート!H166=\"\",\"\",入力シート!H166)","v":""},{"$f":"IF(入力シート!I166=\"\",\"\",入力シート!I166)","v":""},{"$f":"IF(入力シート!J166=\"\",\"\",入力シート!J166)","v":""},{"$f":"IF(入力シート!K166=\"\",\"\",入力シート!K166)","v":""},{"$f":"IF(入力シート!L166=\"\",\"\",入力シート!L166)","v":""},{"$f":"IF(入力シート!M166=\"\",\"\",入力シート!M166)","v":""},{"$f":"IF(入力シート!N166=\"\",\"\",入力シート!N166)","v":""},{"$f":"IF(入力シート!O166=\"\",\"\",入力シート!Q166)","v":""}]
[{"$f":"IF(入力シート!A167=\"\",\"\",入力シート!A167)","v":""},{"$f":"IF(入力シート!B167=\"\",\"\",入力シート!B167)","v":""},{"$f":"IF(入力シート!C167=\"\",\"\",入力シート!C167)","v":""},{"$f":"IF(入力シート!D167=\"\",\"\",TEXT(入力シート!D167,\"yyyy-mm-dd\"))","v":""},{"$f":"IF(入力シート!P167=\"\",\"\",TEXT(入力シート!P167,\"000-0000\"))","v":""},{"$f":"IF(入力シート!G167=\"\",\"\",入力シート!G167)","v":""},{"$f":"IF(入力シート!H167=\"\",\"\",入力シート!H167)","v":""},{"$f":"IF(入力シート!I167=\"\",\"\",入力シート!I167)","v":""},{"$f":"IF(入力シート!J167=\"\",\"\",入力シート!J167)","v":""},{"$f":"IF(入力シート!K167=\"\",\"\",入力シート!K167)","v":""},{"$f":"IF(入力シート!L167=\"\",\"\",入力シート!L167)","v":""},{"$f":"IF(入力シート!M167=\"\",\"\",入力シート!M167)","v":""},{"$f":"IF(入力シート!N167=\"\",\"\",入力シート!N167)","v":""},{"$f":"IF(入力シート!O167=\"\",\"\",入力シート!Q167)","v":""}]
[{"$f":"IF(入力シート!A168=\"\",\"\",入力シート!A168)","v":""},{"$f":"IF(入力シート!B168=\"\",\"\",入力シート!B168)","v":""},{"$f":"IF(入力シート!C168=\"\",\"\",入力シート!C168)","v":""},{"$f":"IF(入力シート!D168=\"\",\"\",TEXT(入力シート!D168,\"yyyy-mm-dd\"))","v":""},{"$f":"IF(入力シート!P168=\"\",\"\",TEXT(入力シート!P168,\"000-0000\"))","v":""},{"$f":"IF(入力シート!G168=\"\",\"\",入力シート!G168)","v":""},{"$f":"IF(入力シート!H168=\"\",\"\",入力シート!H168)","v":""},{"$f":"IF(入力シート!I168=\"\",\"\",入力シート!I168)","v":""},{"$f":"IF(入力シート!J168=\"\",\"\",入力シート!J168)","v":""},{"$f":"IF(入力シート!K168=\"\",\"\",入力シート!K168)","v":""},{"$f":"IF(入力シート!L168=\"\",\"\",入力シート!L168)","v":""},{"$f":"IF(入力シート!M168=\"\",\"\",入力シート!M168)","v":""},{"$f":"IF(入力シート!N168=\"\",\"\",入力シート!N168)","v":""},{"$f":"IF(入力シート!O168=\"\",\"\",入力シート!Q168)","v":""}]
[{"$f":"IF(入力シート!A169=\"\",\"\",入力シート!A169)","v":""},{"$f":"IF(入力シート!B169=\"\",\"\",入力シート!B169)","v":""},{"$f":"IF(入力シート!C169=\"\",\"\",入力シート!C169)","v":""},{"$f":"IF(入力シート!D169=\"\",\"\",TEXT(入力シート!D169,\"yyyy-mm-dd\"))","v":""},{"$f":"IF(入力シート!P169=\"\",\"\",TEXT(入力シート!P169,\"000-0000\"))","v":""},{"$f":"IF(入力シート!G169=\"\",\"\",入力シート!G169)","v":""},{"$f":"IF(入力シート!H169=\"\",\"\",入力シート!H169)","v":""},{"$f":"IF(入力シート!I169=\"\",\"\",入力シート!I169)","v":""},{"$f":"IF(入力シート!J169=\"\",\"\",入力シート!J169)","v":""},{"$f":"IF(入力シート!K169=\"\",\"\",入力シート!K169)","v":""},{"$f":"IF(入力シート!L169=\"\",\"\",入力シート!L169)","v":""},{"$f":"IF(入力シート!M169=\"\",\"\",入力シート!M169)","v":""},{"$f":"IF(入力シート!N169=\"\",\"\",入力シート!N169)","v":""},{"$f":"IF(入力シート!O169=\"\",\"\",入力シート!Q169)","v":""}]
[{"$f":"IF(入力シート!A170=\"\",\"\",入力シート!A170)","v":""},{"$f":"IF(入力シート!B170=\"\",\"\",入力シート!B170)","v":""},{"$f":"IF(入力シート!C170=\"\",\"\",入力シート!C170)","v":""},{"$f":"IF(入力シート!D170=\"\",\"\",TEXT(入力シート!D170,\"yyyy-mm-dd\"))","v":""},{"$f":"IF(入力シート!P170=\"\",\"\",TEXT(入力シート!P170,\"000-0000\"))","v":""},{"$f":"IF(入力シート!G170=\"\",\"\",入力シート!G170)","v":""},{"$f":"IF(入力シート!H170=\"\",\"\",入力シート!H170)","v":""},{"$f":"IF(入力シート!I170=\"\",\"\",入力シート!I170)","v":""},{"$f":"IF(入力シート!J170=\"\",\"\",入力シート!J170)","v":""},{"$f":"IF(入力シート!K170=\"\",\"\",入力シート!K170)","v":""},{"$f":"IF(入力シート!L170=\"\",\"\",入力シート!L170)","v":""},{"$f":"IF(入力シート!M170=\"\",\"\",入力シート!M170)","v":""},{"$f":"IF(入力シート!N170=\"\",\"\",入力シート!N170)","v":""},{"$f":"IF(入力シート!O170=\"\",\"\",入力シート!Q170)","v":""}]
[{"$f":"IF(入力シート!A171=\"\",\"\",入力シート!A171)","v":""},{"$f":"IF(入力シート!B171=\"\",\"\",入力シート!B171)","v":""},{"$f":"IF(入力シート!C171=\"\",\"\",入力シート!C171)","v":""},{"$f":"IF(入力シート!D171=\"\",\"\",TEXT(入力シート!D171,\"yyyy-mm-dd\"))","v":""},{"$f":"IF(入力シート!P171=\"\",\"\",TEXT(入力シート!P171,\"000-0000\"))","v":""},{"$f":"IF(入力シート!G171=\"\",\"\",入力シート!G171)","v":""},{"$f":"IF(入力シート!H171=\"\",\"\",入力シート!H171)","v":""},{"$f":"IF(入力シート!I171=\"\",\"\",入力シート!I171)","v":""},{"$f":"IF(入力シート!J171=\"\",\"\",入力シート!J171)","v":""},{"$f":"IF(入力シート!K171=\"\",\"\",入力シート!K171)","v":""},{"$f":"IF(入力シート!L171=\"\",\"\",入力シート!L171)","v":""},{"$f":"IF(入力シート!M171=\"\",\"\",入力シート!M171)","v":""},{"$f":"IF(入力シート!N171=\"\",\"\",入力シート!N171)","v":""},{"$f":"IF(入力シート!O171=\"\",\"\",入力シート!Q171)","v":""}]
[{"$f":"IF(入力シート!A172=\"\",\"\",入力シート!A172)","v":""},{"$f":"IF(入力シート!B172=\"\",\"\",入力シート!B172)","v":""},{"$f":"IF(入力シート!C172=\"\",\"\",入力シート!C172)","v":""},{"$f":"IF(入力シート!D172=\"\",\"\",TEXT(入力シート!D172,\"yyyy-mm-dd\"))","v":""},{"$f":"IF(入力シート!P172=\"\",\"\",TEXT(入力シート!P172,\"000-0000\"))","v":""},{"$f":"IF(入力シート!G172=\"\",\"\",入力シート!G172)","v":""},{"$f":"IF(入力シート!H172=\"\",\"\",入力シート!H172)","v":""},{"$f":"IF(入力シート!I172=\"\",\"\",入力シート!I172)","v":""},{"$f":"IF(入力シート!J172=\"\",\"\",入力シート!J172)","v":""},{"$f":"IF(入力シート!K172=\"\",\"\",入力シート!K172)","v":""},{"$f":"IF(入力シート!L172=\"\",\"\",入力シート!L172)","v":""},{"$f":"IF(入力シート!M172=\"\",\"\",入力シート!M172)","v":""},{"$f":"IF(入力シート!N172=\"\",\"\",入力シート!N172)","v":""},{"$f":"IF(入力シート!O172=\"\",\"\",入力シート!Q172)","v":""}]
[{"$f":"IF(入力シート!A173=\"\",\"\",入力シート!A173)","v":""},{"$f":"IF(入力シート!B173=\"\",\"\",入力シート!B173)","v":""},{"$f":"IF(入力シート!C173=\"\",\"\",入力シート!C173)","v":""},{"$f":"IF(入力シート!D173=\"\",\"\",TEXT(入力シート!D173,\"yyyy-mm-dd\"))","v":""},{"$f":"IF(入力シート!P173=\"\",\"\",TEXT(入力シート!P173,\"000-0000\"))","v":""},{"$f":"IF(入力シート!G173=\"\",\"\",入力シート!G173)","v":""},{"$f":"IF(入力シート!H173=\"\",\"\",入力シート!H173)","v":""},{"$f":"IF(入力シート!I173=\"\",\"\",入力シート!I173)","v":""},{"$f":"IF(入力シート!J173=\"\",\"\",入力シート!J173)","v":""},{"$f":"IF(入力シート!K173=\"\",\"\",入力シート!K173)","v":""},{"$f":"IF(入力シート!L173=\"\",\"\",入力シート!L173)","v":""},{"$f":"IF(入力シート!M173=\"\",\"\",入力シート!M173)","v":""},{"$f":"IF(入力シート!N173=\"\",\"\",入力シート!N173)","v":""},{"$f":"IF(入力シート!O173=\"\",\"\",入力シート!Q173)","v":""}]
[{"$f":"IF(入力シート!A174=\"\",\"\",入力シート!A174)","v":""},{"$f":"IF(入力シート!B174=\"\",\"\",入力シート!B174)","v":""},{"$f":"IF(入力シート!C174=\"\",\"\",入力シート!C174)","v":""},{"$f":"IF(入力シート!D174=\"\",\"\",TEXT(入力シート!D174,\"yyyy-mm-dd\"))","v":""},{"$f":"IF(入力シート!P174=\"\",\"\",TEXT(入力シート!P174,\"000-0000\"))","v":""},{"$f":"IF(入力シート!G174=\"\",\"\",入力シート!G174)","v":""},{"$f":"IF(入力シート!H174=\"\",\"\",入力シート!H174)","v":""},{"$f":"IF(入力シート!I174=\"\",\"\",入力シート!I174)","v":""},{"$f":"IF(入力シート!J174=\"\",\"\",入力シート!J174)","v":""},{"$f":"IF(入力シート!K174=\"\",\"\",入力シート!K174)","v":""},{"$f":"IF(入力シート!L174=\"\",\"\",入力シート!L174)","v":""},{"$f":"IF(入力シート!M174=\"\",\"\",入力シート!M174)","v":""},{"$f":"IF(入力シート!N174=\"\",\"\",入力シート!N174)","v":""},{"$f":"IF(入力シート!O174=\"\",\"\",入力シート!Q174)","v":""}]
[{"$f":"IF(入力シート!A175=\"\",\"\",入力シート!A175)","v":""},{"$f":"IF(入力シート!B175=\"\",\"\",入力シート!B175)","v":""},{"$f":"IF(入力シート!C175=\"\",\"\",入力シート!C175)","v":""},{"$f":"IF(入力シート!D175=\"\",\"\",TEXT(入力シート!D175,\"yyyy-mm-dd\"))","v":""},{"$f":"IF(入力シート!P175=\"\",\"\",TEXT(入力シート!P175,\"000-0000\"))","v":""},{"$f":"IF(入力シート!G175=\"\",\"\",入力シート!G175)","v":""},{"$f":"IF(入力シート!H175=\"\",\"\",入力シート!H175)","v":""},{"$f":"IF(入力シート!I175=\"\",\"\",入力シート!I175)","v":""},{"$f":"IF(入力シート!J175=\"\",\"\",入力シート!J175)","v":""},{"$f":"IF(入力シート!K175=\"\",\"\",入力シート!K175)","v":""},{"$f":"IF(入力シート!L175=\"\",\"\",入力シート!L175)","v":""},{"$f":"IF(入力シート!M175=\"\",\"\",入力シート!M175)","v":""},{"$f":"IF(入力シート!N175=\"\",\"\",入力シート!N175)","v":""},{"$f":"IF(入力シート!O175=\"\",\"\",入力シート!Q175)","v":""}]
[{"$f":"IF(入力シート!A176=\"\",\"\",入力シート!A176)","v":""},{"$f":"IF(入力シート!B176=\"\",\"\",入力シート!B176)","v":""},{"$f":"IF(入力シート!C176=\"\",\"\",入力シート!C176)","v":""},{"$f":"IF(入力シート!D176=\"\",\"\",TEXT(入力シート!D176,\"yyyy-mm-dd\"))","v":""},{"$f":"IF(入力シート!P176=\"\",\"\",TEXT(入力シート!P176,\"000-0000\"))","v":""},{"$f":"IF(入力シート!G176=\"\",\"\",入力シート!G176)","v":""},{"$f":"IF(入力シート!H176=\"\",\"\",入力シート!H176)","v":""},{"$f":"IF(入力シート!I176=\"\",\"\",入力シート!I176)","v":""},{"$f":"IF(入力シート!J176=\"\",\"\",入力シート!J176)","v":""},{"$f":"IF(入力シート!K176=\"\",\"\",入力シート!K176)","v":""},{"$f":"IF(入力シート!L176=\"\",\"\",入力シート!L176)","v":""},{"$f":"IF(入力シート!M176=\"\",\"\",入力シート!M176)","v":""},{"$f":"IF(入力シート!N176=\"\",\"\",入力シート!N176)","v":""},{"$f":"IF(入力シート!O176=\"\",\"\",入力シート!Q176)","v":""}]
[{"$f":"IF(入力シート!A177=\"\",\"\",入力シート!A177)","v":""},{"$f":"IF(入力シート!B177=\"\",\"\",入力シート!B177)","v":""},{"$f":"IF(入力シート!C177=\"\",\"\",入力シート!C177)","v":""},{"$f":"IF(入力シート!D177=\"\",\"\",TEXT(入力シート!D177,\"yyyy-mm-dd\"))","v":""},{"$f":"IF(入力シート!P177=\"\",\"\",TEXT(入力シート!P177,\"000-0000\"))","v":""},{"$f":"IF(入力シート!G177=\"\",\"\",入力シート!G177)","v":""},{"$f":"IF(入力シート!H177=\"\",\"\",入力シート!H177)","v":""},{"$f":"IF(入力シート!I177=\"\",\"\",入力シート!I177)","v":""},{"$f":"IF(入力シート!J177=\"\",\"\",入力シート!J177)","v":""},{"$f":"IF(入力シート!K177=\"\",\"\",入力シート!K177)","v":""},{"$f":"IF(入力シート!L177=\"\",\"\",入力シート!L177)","v":""},{"$f":"IF(入力シート!M177=\"\",\"\",入力シート!M177)","v":""},{"$f":"IF(入力シート!N177=\"\",\"\",入力シート!N177)","v":""},{"$f":"IF(入力シート!O177=\"\",\"\",入力シート!Q177)","v":""}]
[{"$f":"IF(入力シート!A178=\"\",\"\",入力シート!A178)","v":""},{"$f":"IF(入力シート!B178=\"\",\"\",入力シート!B178)","v":""},{"$f":"IF(入力シート!C178=\"\",\"\",入力シート!C178)","v":""},{"$f":"IF(入力シート!D178=\"\",\"\",TEXT(入力シート!D178,\"yyyy-mm-dd\"))","v":""},{"$f":"IF(入力シート!P178=\"\",\"\",TEXT(入力シート!P178,\"000-0000\"))","v":""},{"$f":"IF(入力シート!G178=\"\",\"\",入力シート!G178)","v":""},{"$f":"IF(入力シート!H178=\"\",\"\",入力シート!H178)","v":""},{"$f":"IF(入力シート!I178=\"\",\"\",入力シート!I178)","v":""},{"$f":"IF(入力シート!J178=\"\",\"\",入力シート!J178)","v":""},{"$f":"IF(入力シート!K178=\"\",\"\",入力シート!K178)","v":""},{"$f":"IF(入力シート!L178=\"\",\"\",入力シート!L178)","v":""},{"$f":"IF(入力シート!M178=\"\",\"\",入力シート!M178)","v":""},{"$f":"IF(入力シート!N178=\"\",\"\",入力シート!N178)","v":""},{"$f":"IF(入力シート!O178=\"\",\"\",入力シート!Q178)","v":""}]
[{"$f":"IF(入力シート!A179=\"\",\"\",入力シート!A179)","v":""},{"$f":"IF(入力シート!B179=\"\",\"\",入力シート!B179)","v":""},{"$f":"IF(入力シート!C179=\"\",\"\",入力シート!C179)","v":""},{"$f":"IF(入力シート!D179=\"\",\"\",TEXT(入力シート!D179,\"yyyy-mm-dd\"))","v":""},{"$f":"IF(入力シート!P179=\"\",\"\",TEXT(入力シート!P179,\"000-0000\"))","v":""},{"$f":"IF(入力シート!G179=\"\",\"\",入力シート!G179)","v":""},{"$f":"IF(入力シート!H179=\"\",\"\",入力シート!H179)","v":""},{"$f":"IF(入力シート!I179=\"\",\"\",入力シート!I179)","v":""},{"$f":"IF(入力シート!J179=\"\",\"\",入力シート!J179)","v":""},{"$f":"IF(入力シート!K179=\"\",\"\",入力シート!K179)","v":""},{"$f":"IF(入力シート!L179=\"\",\"\",入力シート!L179)","v":""},{"$f":"IF(入力シート!M179=\"\",\"\",入力シート!M179)","v":""},{"$f":"IF(入力シート!N179=\"\",\"\",入力シート!N179)","v":""},{"$f":"IF(入力シート!O179=\"\",\"\",入力シート!Q179)","v":""}]
[{"$f":"IF(入力シート!A180=\"\",\"\",入力シート!A180)","v":""},{"$f":"IF(入力シート!B180=\"\",\"\",入力シート!B180)","v":""},{"$f":"IF(入力シート!C180=\"\",\"\",入力シート!C180)","v":""},{"$f":"IF(入力シート!D180=\"\",\"\",TEXT(入力シート!D180,\"yyyy-mm-dd\"))","v":""},{"$f":"IF(入力シート!P180=\"\",\"\",TEXT(入力シート!P180,\"000-0000\"))","v":""},{"$f":"IF(入力シート!G180=\"\",\"\",入力シート!G180)","v":""},{"$f":"IF(入力シート!H180=\"\",\"\",入力シート!H180)","v":""},{"$f":"IF(入力シート!I180=\"\",\"\",入力シート!I180)","v":""},{"$f":"IF(入力シート!J180=\"\",\"\",入力シート!J180)","v":""},{"$f":"IF(入力シート!K180=\"\",\"\",入力シート!K180)","v":""},{"$f":"IF(入力シート!L180=\"\",\"\",入力シート!L180)","v":""},{"$f":"IF(入力シート!M180=\"\",\"\",入力シート!M180)","v":""},{"$f":"IF(入力シート!N180=\"\",\"\",入力シート!N180)","v":""},{"$f":"IF(入力シート!O180=\"\",\"\",入力シート!Q180)","v":""}]
[{"$f":"IF(入力シート!A181=\"\",\"\",入力シート!A181)","v":""},{"$f":"IF(入力シート!B181=\"\",\"\",入力シート!B181)","v":""},{"$f":"IF(入力シート!C181=\"\",\"\",入力シート!C181)","v":""},{"$f":"IF(入力シート!D181=\"\",\"\",TEXT(入力シート!D181,\"yyyy-mm-dd\"))","v":""},{"$f":"IF(入力シート!P181=\"\",\"\",TEXT(入力シート!P181,\"000-0000\"))","v":""},{"$f":"IF(入力シート!G181=\"\",\"\",入力シート!G181)","v":""},{"$f":"IF(入力シート!H181=\"\",\"\",入力シート!H181)","v":""},{"$f":"IF(入力シート!I181=\"\",\"\",入力シート!I181)","v":""},{"$f":"IF(入力シート!J181=\"\",\"\",入力シート!J181)","v":""},{"$f":"IF(入力シート!K181=\"\",\"\",入力シート!K181)","v":""},{"$f":"IF(入力シート!L181=\"\",\"\",入力シート!L181)","v":""},{"$f":"IF(入力シート!M181=\"\",\"\",入力シート!M181)","v":""},{"$f":"IF(入力シート!N181=\"\",\"\",入力シート!N181)","v":""},{"$f":"IF(入力シート!O181=\"\",\"\",入力シート!Q181)","v":""}]
[{"$f":"IF(入力シート!A182=\"\",\"\",入力シート!A182)","v":""},{"$f":"IF(入力シート!B182=\"\",\"\",入力シート!B182)","v":""},{"$f":"IF(入力シート!C182=\"\",\"\",入力シート!C182)","v":""},{"$f":"IF(入力シート!D182=\"\",\"\",TEXT(入力シート!D182,\"yyyy-mm-dd\"))","v":""},{"$f":"IF(入力シート!P182=\"\",\"\",TEXT(入力シート!P182,\"000-0000\"))","v":""},{"$f":"IF(入力シート!G182=\"\",\"\",入力シート!G182)","v":""},{"$f":"IF(入力シート!H182=\"\",\"\",入力シート!H182)","v":""},{"$f":"IF(入力シート!I182=\"\",\"\",入力シート!I182)","v":""},{"$f":"IF(入力シート!J182=\"\",\"\",入力シート!J182)","v":""},{"$f":"IF(入力シート!K182=\"\",\"\",入力シート!K182)","v":""},{"$f":"IF(入力シート!L182=\"\",\"\",入力シート!L182)","v":""},{"$f":"IF(入力シート!M182=\"\",\"\",入力シート!M182)","v":""},{"$f":"IF(入力シート!N182=\"\",\"\",入力シート!N182)","v":""},{"$f":"IF(入力シート!O182=\"\",\"\",入力シート!Q182)","v":""}]
[{"$f":"IF(入力シート!A183=\"\",\"\",入力シート!A183)","v":""},{"$f":"IF(入力シート!B183=\"\",\"\",入力シート!B183)","v":""},{"$f":"IF(入力シート!C183=\"\",\"\",入力シート!C183)","v":""},{"$f":"IF(入力シート!D183=\"\",\"\",TEXT(入力シート!D183,\"yyyy-mm-dd\"))","v":""},{"$f":"IF(入力シート!P183=\"\",\"\",TEXT(入力シート!P183,\"000-0000\"))","v":""},{"$f":"IF(入力シート!G183=\"\",\"\",入力シート!G183)","v":""},{"$f":"IF(入力シート!H183=\"\",\"\",入力シート!H183)","v":""},{"$f":"IF(入力シート!I183=\"\",\"\",入力シート!I183)","v":""},{"$f":"IF(入力シート!J183=\"\",\"\",入力シート!J183)","v":""},{"$f":"IF(入力シート!K183=\"\",\"\",入力シート!K183)","v":""},{"$f":"IF(入力シート!L183=\"\",\"\",入力シート!L183)","v":""},{"$f":"IF(入力シート!M183=\"\",\"\",入力シート!M183)","v":""},{"$f":"IF(入力シート!N183=\"\",\"\",入力シート!N183)","v":""},{"$f":"IF(入力シート!O183=\"\",\"\",入力シート!Q183)","v":""}]
[{"$f":"IF(入力シート!A184=\"\",\"\",入力シート!A184)","v":""},{"$f":"IF(入力シート!B184=\"\",\"\",入力シート!B184)","v":""},{"$f":"IF(入力シート!C184=\"\",\"\",入力シート!C184)","v":""},{"$f":"IF(入力シート!D184=\"\",\"\",TEXT(入力シート!D184,\"yyyy-mm-dd\"))","v":""},{"$f":"IF(入力シート!P184=\"\",\"\",TEXT(入力シート!P184,\"000-0000\"))","v":""},{"$f":"IF(入力シート!G184=\"\",\"\",入力シート!G184)","v":""},{"$f":"IF(入力シート!H184=\"\",\"\",入力シート!H184)","v":""},{"$f":"IF(入力シート!I184=\"\",\"\",入力シート!I184)","v":""},{"$f":"IF(入力シート!J184=\"\",\"\",入力シート!J184)","v":""},{"$f":"IF(入力シート!K184=\"\",\"\",入力シート!K184)","v":""},{"$f":"IF(入力シート!L184=\"\",\"\",入力シート!L184)","v":""},{"$f":"IF(入力シート!M184=\"\",\"\",入力シート!M184)","v":""},{"$f":"IF(入力シート!N184=\"\",\"\",入力シート!N184)","v":""},{"$f":"IF(入力シート!O184=\"\",\"\",入力シート!Q184)","v":""}]
[{"$f":"IF(入力シート!A185=\"\",\"\",入力シート!A185)","v":""},{"$f":"IF(入力シート!B185=\"\",\"\",入力シート!B185)","v":""},{"$f":"IF(入力シート!C185=\"\",\"\",入力シート!C185)","v":""},{"$f":"IF(入力シート!D185=\"\",\"\",TEXT(入力シート!D185,\"yyyy-mm-dd\"))","v":""},{"$f":"IF(入力シート!P185=\"\",\"\",TEXT(入力シート!P185,\"000-0000\"))","v":""},{"$f":"IF(入力シート!G185=\"\",\"\",入力シート!G185)","v":""},{"$f":"IF(入力シート!H185=\"\",\"\",入力シート!H185)","v":""},{"$f":"IF(入力シート!I185=\"\",\"\",入力シート!I185)","v":""},{"$f":"IF(入力シート!J185=\"\",\"\",入力シート!J185)","v":""},{"$f":"IF(入力シート!K185=\"\",\"\",入力シート!K185)","v":""},{"$f":"IF(入力シート!L185=\"\",\"\",入力シート!L185)","v":""},{"$f":"IF(入力シート!M185=\"\",\"\",入力シート!M185)","v":""},{"$f":"IF(入力シート!N185=\"\",\"\",入力シート!N185)","v":""},{"$f":"IF(入力シート!O185=\"\",\"\",入力シート!Q185)","v":""}]
[{"$f":"IF(入力シート!A186=\"\",\"\",入力シート!A186)","v":""},{"$f":"IF(入力シート!B186=\"\",\"\",入力シート!B186)","v":""},{"$f":"IF(入力シート!C186=\"\",\"\",入力シート!C186)","v":""},{"$f":"IF(入力シート!D186=\"\",\"\",TEXT(入力シート!D186,\"yyyy-mm-dd\"))","v":""},{"$f":"IF(入力シート!P186=\"\",\"\",TEXT(入力シート!P186,\"000-0000\"))","v":""},{"$f":"IF(入力シート!G186=\"\",\"\",入力シート!G186)","v":""},{"$f":"IF(入力シート!H186=\"\",\"\",入力シート!H186)","v":""},{"$f":"IF(入力シート!I186=\"\",\"\",入力シート!I186)","v":""},{"$f":"IF(入力シート!J186=\"\",\"\",入力シート!J186)","v":""},{"$f":"IF(入力シート!K186=\"\",\"\",入力シート!K186)","v":""},{"$f":"IF(入力シート!L186=\"\",\"\",入力シート!L186)","v":""},{"$f":"IF(入力シート!M186=\"\",\"\",入力シート!M186)","v":""},{"$f":"IF(入力シート!N186=\"\",\"\",入力シート!N186)","v":""},{"$f":"IF(入力シート!O186=\"\",\"\",入力シート!Q186)","v":""}]
[{"$f":"IF(入力シート!A187=\"\",\"\",入力シート!A187)","v":""},{"$f":"IF(入力シート!B187=\"\",\"\",入力シート!B187)","v":""},{"$f":"IF(入力シート!C187=\"\",\"\",入力シート!C187)","v":""},{"$f":"IF(入力シート!D187=\"\",\"\",TEXT(入力シート!D187,\"yyyy-mm-dd\"))","v":""},{"$f":"IF(入力シート!P187=\"\",\"\",TEXT(入力シート!P187,\"000-0000\"))","v":""},{"$f":"IF(入力シート!G187=\"\",\"\",入力シート!G187)","v":""},{"$f":"IF(入力シート!H187=\"\",\"\",入力シート!H187)","v":""},{"$f":"IF(入力シート!I187=\"\",\"\",入力シート!I187)","v":""},{"$f":"IF(入力シート!J187=\"\",\"\",入力シート!J187)","v":""},{"$f":"IF(入力シート!K187=\"\",\"\",入力シート!K187)","v":""},{"$f":"IF(入力シート!L187=\"\",\"\",入力シート!L187)","v":""},{"$f":"IF(入力シート!M187=\"\",\"\",入力シート!M187)","v":""},{"$f":"IF(入力シート!N187=\"\",\"\",入力シート!N187)","v":""},{"$f":"IF(入力シート!O187=\"\",\"\",入力シート!Q187)","v":""}]
[{"$f":"IF(入力シート!A188=\"\",\"\",入力シート!A188)","v":""},{"$f":"IF(入力シート!B188=\"\",\"\",入力シート!B188)","v":""},{"$f":"IF(入力シート!C188=\"\",\"\",入力シート!C188)","v":""},{"$f":"IF(入力シート!D188=\"\",\"\",TEXT(入力シート!D188,\"yyyy-mm-dd\"))","v":""},{"$f":"IF(入力シート!P188=\"\",\"\",TEXT(入力シート!P188,\"000-0000\"))","v":""},{"$f":"IF(入力シート!G188=\"\",\"\",入力シート!G188)","v":""},{"$f":"IF(入力シート!H188=\"\",\"\",入力シート!H188)","v":""},{"$f":"IF(入力シート!I188=\"\",\"\",入力シート!I188)","v":""},{"$f":"IF(入力シート!J188=\"\",\"\",入力シート!J188)","v":""},{"$f":"IF(入力シート!K188=\"\",\"\",入力シート!K188)","v":""},{"$f":"IF(入力シート!L188=\"\",\"\",入力シート!L188)","v":""},{"$f":"IF(入力シート!M188=\"\",\"\",入力シート!M188)","v":""},{"$f":"IF(入力シート!N188=\"\",\"\",入力シート!N188)","v":""},{"$f":"IF(入力シート!O188=\"\",\"\",入力シート!Q188)","v":""}]
[{"$f":"IF(入力シート!A189=\"\",\"\",入力シート!A189)","v":""},{"$f":"IF(入力シート!B189=\"\",\"\",入力シート!B189)","v":""},{"$f":"IF(入力シート!C189=\"\",\"\",入力シート!C189)","v":""},{"$f":"IF(入力シート!D189=\"\",\"\",TEXT(入力シート!D189,\"yyyy-mm-dd\"))","v":""},{"$f":"IF(入力シート!P189=\"\",\"\",TEXT(入力シート!P189,\"000-0000\"))","v":""},{"$f":"IF(入力シート!G189=\"\",\"\",入力シート!G189)","v":""},{"$f":"IF(入力シート!H189=\"\",\"\",入力シート!H189)","v":""},{"$f":"IF(入力シート!I189=\"\",\"\",入力シート!I189)","v":""},{"$f":"IF(入力シート!J189=\"\",\"\",入力シート!J189)","v":""},{"$f":"IF(入力シート!K189=\"\",\"\",入力シート!K189)","v":""},{"$f":"IF(入力シート!L189=\"\",\"\",入力シート!L189)","v":""},{"$f":"IF(入力シート!M189=\"\",\"\",入力シート!M189)","v":""},{"$f":"IF(入力シート!N189=\"\",\"\",入力シート!N189)","v":""},{"$f":"IF(入力シート!O189=\"\",\"\",入力シート!Q189)","v":""}]
[{"$f":"IF(入力シート!A190=\"\",\"\",入力シート!A190)","v":""},{"$f":"IF(入力シート!B190=\"\",\"\",入力シート!B190)","v":""},{"$f":"IF(入力シート!C190=\"\",\"\",入力シート!C190)","v":""},{"$f":"IF(入力シート!D190=\"\",\"\",TEXT(入力シート!D190,\"yyyy-mm-dd\"))","v":""},{"$f":"IF(入力シート!P190=\"\",\"\",TEXT(入力シート!P190,\"000-0000\"))","v":""},{"$f":"IF(入力シート!G190=\"\",\"\",入力シート!G190)","v":""},{"$f":"IF(入力シート!H190=\"\",\"\",入力シート!H190)","v":""},{"$f":"IF(入力シート!I190=\"\",\"\",入力シート!I190)","v":""},{"$f":"IF(入力シート!J190=\"\",\"\",入力シート!J190)","v":""},{"$f":"IF(入力シート!K190=\"\",\"\",入力シート!K190)","v":""},{"$f":"IF(入力シート!L190=\"\",\"\",入力シート!L190)","v":""},{"$f":"IF(入力シート!M190=\"\",\"\",入力シート!M190)","v":""},{"$f":"IF(入力シート!N190=\"\",\"\",入力シート!N190)","v":""},{"$f":"IF(入力シート!O190=\"\",\"\",入力シート!Q190)","v":""}]
[{"$f":"IF(入力シート!A191=\"\",\"\",入力シート!A191)","v":""},{"$f":"IF(入力シート!B191=\"\",\"\",入力シート!B191)","v":""},{"$f":"IF(入力シート!C191=\"\",\"\",入力シート!C191)","v":""},{"$f":"IF(入力シート!D191=\"\",\"\",TEXT(入力シート!D191,\"yyyy-mm-dd\"))","v":""},{"$f":"IF(入力シート!P191=\"\",\"\",TEXT(入力シート!P191,\"000-0000\"))","v":""},{"$f":"IF(入力シート!G191=\"\",\"\",入力シート!G191)","v":""},{"$f":"IF(入力シート!H191=\"\",\"\",入力シート!H191)","v":""},{"$f":"IF(入力シート!I191=\"\",\"\",入力シート!I191)","v":""},{"$f":"IF(入力シート!J191=\"\",\"\",入力シート!J191)","v":""},{"$f":"IF(入力シート!K191=\"\",\"\",入力シート!K191)","v":""},{"$f":"IF(入力シート!L191=\"\",\"\",入力シート!L191)","v":""},{"$f":"IF(入力シート!M191=\"\",\"\",入力シート!M191)","v":""},{"$f":"IF(入力シート!N191=\"\",\"\",入力シート!N191)","v":""},{"$f":"IF(入力シート!O191=\"\",\"\",入力シート!Q191)","v":""}]
[{"$f":"IF(入力シート!A192=\"\",\"\",入力シート!A192)","v":""},{"$f":"IF(入力シート!B192=\"\",\"\",入力シート!B192)","v":""},{"$f":"IF(入力シート!C192=\"\",\"\",入力シート!C192)","v":""},{"$f":"IF(入力シート!D192=\"\",\"\",TEXT(入力シート!D192,\"yyyy-mm-dd\"))","v":""},{"$f":"IF(入力シート!P192=\"\",\"\",TEXT(入力シート!P192,\"000-0000\"))","v":""},{"$f":"IF(入力シート!G192=\"\",\"\",入力シート!G192)","v":""},{"$f":"IF(入力シート!H192=\"\",\"\",入力シート!H192)","v":""},{"$f":"IF(入力シート!I192=\"\",\"\",入力シート!I192)","v":""},{"$f":"IF(入力シート!J192=\"\",\"\",入力シート!J192)","v":""},{"$f":"IF(入力シート!K192=\"\",\"\",入力シート!K192)","v":""},{"$f":"IF(入力シート!L192=\"\",\"\",入力シート!L192)","v":""},{"$f":"IF(入力シート!M192=\"\",\"\",入力シート!M192)","v":""},{"$f":"IF(入力シート!N192=\"\",\"\",入力シート!N192)","v":""},{"$f":"IF(入力シート!O192=\"\",\"\",入力シート!Q192)","v":""}]
[{"$f":"IF(入力シート!A193=\"\",\"\",入力シート!A193)","v":""},{"$f":"IF(入力シート!B193=\"\",\"\",入力シート!B193)","v":""},{"$f":"IF(入力シート!C193=\"\",\"\",入力シート!C193)","v":""},{"$f":"IF(入力シート!D193=\"\",\"\",TEXT(入力シート!D193,\"yyyy-mm-dd\"))","v":""},{"$f":"IF(入力シート!P193=\"\",\"\",TEXT(入力シート!P193,\"000-0000\"))","v":""},{"$f":"IF(入力シート!G193=\"\",\"\",入力シート!G193)","v":""},{"$f":"IF(入力シート!H193=\"\",\"\",入力シート!H193)","v":""},{"$f":"IF(入力シート!I193=\"\",\"\",入力シート!I193)","v":""},{"$f":"IF(入力シート!J193=\"\",\"\",入力シート!J193)","v":""},{"$f":"IF(入力シート!K193=\"\",\"\",入力シート!K193)","v":""},{"$f":"IF(入力シート!L193=\"\",\"\",入力シート!L193)","v":""},{"$f":"IF(入力シート!M193=\"\",\"\",入力シート!M193)","v":""},{"$f":"IF(入力シート!N193=\"\",\"\",入力シート!N193)","v":""},{"$f":"IF(入力シート!O193=\"\",\"\",入力シート!Q193)","v":""}]
[{"$f":"IF(入力シート!A194=\"\",\"\",入力シート!A194)","v":""},{"$f":"IF(入力シート!B194=\"\",\"\",入力シート!B194)","v":""},{"$f":"IF(入力シート!C194=\"\",\"\",入力シート!C194)","v":""},{"$f":"IF(入力シート!D194=\"\",\"\",TEXT(入力シート!D194,\"yyyy-mm-dd\"))","v":""},{"$f":"IF(入力シート!P194=\"\",\"\",TEXT(入力シート!P194,\"000-0000\"))","v":""},{"$f":"IF(入力シート!G194=\"\",\"\",入力シート!G194)","v":""},{"$f":"IF(入力シート!H194=\"\",\"\",入力シート!H194)","v":""},{"$f":"IF(入力シート!I194=\"\",\"\",入力シート!I194)","v":""},{"$f":"IF(入力シート!J194=\"\",\"\",入力シート!J194)","v":""},{"$f":"IF(入力シート!K194=\"\",\"\",入力シート!K194)","v":""},{"$f":"IF(入力シート!L194=\"\",\"\",入力シート!L194)","v":""},{"$f":"IF(入力シート!M194=\"\",\"\",入力シート!M194)","v":""},{"$f":"IF(入力シート!N194=\"\",\"\",入力シート!N194)","v":""},{"$f":"IF(入力シート!O194=\"\",\"\",入力シート!Q194)","v":""}]
[{"$f":"IF(入力シート!A195=\"\",\"\",入力シート!A195)","v":""},{"$f":"IF(入力シート!B195=\"\",\"\",入力シート!B195)","v":""},{"$f":"IF(入力シート!C195=\"\",\"\",入力シート!C195)","v":""},{"$f":"IF(入力シート!D195=\"\",\"\",TEXT(入力シート!D195,\"yyyy-mm-dd\"))","v":""},{"$f":"IF(入力シート!P195=\"\",\"\",TEXT(入力シート!P195,\"000-0000\"))","v":""},{"$f":"IF(入力シート!G195=\"\",\"\",入力シート!G195)","v":""},{"$f":"IF(入力シート!H195=\"\",\"\",入力シート!H195)","v":""},{"$f":"IF(入力シート!I195=\"\",\"\",入力シート!I195)","v":""},{"$f":"IF(入力シート!J195=\"\",\"\",入力シート!J195)","v":""},{"$f":"IF(入力シート!K195=\"\",\"\",入力シート!K195)","v":""},{"$f":"IF(入力シート!L195=\"\",\"\",入力シート!L195)","v":""},{"$f":"IF(入力シート!M195=\"\",\"\",入力シート!M195)","v":""},{"$f":"IF(入力シート!N195=\"\",\"\",入力シート!N195)","v":""},{"$f":"IF(入力シート!O195=\"\",\"\",入力シート!Q195)","v":""}]
[{"$f":"IF(入力シート!A196=\"\",\"\",入力シート!A196)","v":""},{"$f":"IF(入力シート!B196=\"\",\"\",入力シート!B196)","v":""},{"$f":"IF(入力シート!C196=\"\",\"\",入力シート!C196)","v":""},{"$f":"IF(入力シート!D196=\"\",\"\",TEXT(入力シート!D196,\"yyyy-mm-dd\"))","v":""},{"$f":"IF(入力シート!P196=\"\",\"\",TEXT(入力シート!P196,\"000-0000\"))","v":""},{"$f":"IF(入力シート!G196=\"\",\"\",入力シート!G196)","v":""},{"$f":"IF(入力シート!H196=\"\",\"\",入力シート!H196)","v":""},{"$f":"IF(入力シート!I196=\"\",\"\",入力シート!I196)","v":""},{"$f":"IF(入力シート!J196=\"\",\"\",入力シート!J196)","v":""},{"$f":"IF(入力シート!K196=\"\",\"\",入力シート!K196)","v":""},{"$f":"IF(入力シート!L196=\"\",\"\",入力シート!L196)","v":""},{"$f":"IF(入力シート!M196=\"\",\"\",入力シート!M196)","v":""},{"$f":"IF(入力シート!N196=\"\",\"\",入力シート!N196)","v":""},{"$f":"IF(入力シート!O196=\"\",\"\",入力シート!Q196)","v":""}]
[{"$f":"IF(入力シート!A197=\"\",\"\",入力シート!A197)","v":""},{"$f":"IF(入力シート!B197=\"\",\"\",入力シート!B197)","v":""},{"$f":"IF(入力シート!C197=\"\",\"\",入力シート!C197)","v":""},{"$f":"IF(入力シート!D197=\"\",\"\",TEXT(入力シート!D197,\"yyyy-mm-dd\"))","v":""},{"$f":"IF(入力シート!P197=\"\",\"\",TEXT(入力シート!P197,\"000-0000\"))","v":""},{"$f":"IF(入力シート!G197=\"\",\"\",入力シート!G197)","v":""},{"$f":"IF(入力シート!H197=\"\",\"\",入力シート!H197)","v":""},{"$f":"IF(入力シート!I197=\"\",\"\",入力シート!I197)","v":""},{"$f":"IF(入力シート!J197=\"\",\"\",入力シート!J197)","v":""},{"$f":"IF(入力シート!K197=\"\",\"\",入力シート!K197)","v":""},{"$f":"IF(入力シート!L197=\"\",\"\",入力シート!L197)","v":""},{"$f":"IF(入力シート!M197=\"\",\"\",入力シート!M197)","v":""},{"$f":"IF(入力シート!N197=\"\",\"\",入力シート!N197)","v":""},{"$f":"IF(入力シート!O197=\"\",\"\",入力シート!Q197)","v":""}]
[{"$f":"IF(入力シート!A198=\"\",\"\",入力シート!A198)","v":""},{"$f":"IF(入力シート!B198=\"\",\"\",入力シート!B198)","v":""},{"$f":"IF(入力シート!C198=\"\",\"\",入力シート!C198)","v":""},{"$f":"IF(入力シート!D198=\"\",\"\",TEXT(入力シート!D198,\"yyyy-mm-dd\"))","v":""},{"$f":"IF(入力シート!P198=\"\",\"\",TEXT(入力シート!P198,\"000-0000\"))","v":""},{"$f":"IF(入力シート!G198=\"\",\"\",入力シート!G198)","v":""},{"$f":"IF(入力シート!H198=\"\",\"\",入力シート!H198)","v":""},{"$f":"IF(入力シート!I198=\"\",\"\",入力シート!I198)","v":""},{"$f":"IF(入力シート!J198=\"\",\"\",入力シート!J198)","v":""},{"$f":"IF(入力シート!K198=\"\",\"\",入力シート!K198)","v":""},{"$f":"IF(入力シート!L198=\"\",\"\",入力シート!L198)","v":""},{"$f":"IF(入力シート!M198=\"\",\"\",入力シート!M198)","v":""},{"$f":"IF(入力シート!N198=\"\",\"\",入力シート!N198)","v":""},{"$f":"IF(入力シート!O198=\"\",\"\",入力シート!Q198)","v":""}]
[{"$f":"IF(入力シート!A199=\"\",\"\",入力シート!A199)","v":""},{"$f":"IF(入力シート!B199=\"\",\"\",入力シート!B199)","v":""},{"$f":"IF(入力シート!C199=\"\",\"\",入力シート!C199)","v":""},{"$f":"IF(入力シート!D199=\"\",\"\",TEXT(入力シート!D199,\"yyyy-mm-dd\"))","v":""},{"$f":"IF(入力シート!P199=\"\",\"\",TEXT(入力シート!P199,\"000-0000\"))","v":""},{"$f":"IF(入力シート!G199=\"\",\"\",入力シート!G199)","v":""},{"$f":"IF(入力シート!H199=\"\",\"\",入力シート!H199)","v":""},{"$f":"IF(入力シート!I199=\"\",\"\",入力シート!I199)","v":""},{"$f":"IF(入力シート!J199=\"\",\"\",入力シート!J199)","v":""},{"$f":"IF(入力シート!K199=\"\",\"\",入力シート!K199)","v":""},{"$f":"IF(入力シート!L199=\"\",\"\",入力シート!L199)","v":""},{"$f":"IF(入力シート!M199=\"\",\"\",入力シート!M199)","v":""},{"$f":"IF(入力シート!N199=\"\",\"\",入力シート!N199)","v":""},{"$f":"IF(入力シート!O199=\"\",\"\",入力シート!Q199)","v":""}]
[{"$f":"IF(入力シート!A200=\"\",\"\",入力シート!A200)","v":""},{"$f":"IF(入力シート!B200=\"\",\"\",入力シート!B200)","v":""},{"$f":"IF(入力シート!C200=\"\",\"\",入力シート!C200)","v":""},{"$f":"IF(入力シート!D200=\"\",\"\",TEXT(入力シート!D200,\"yyyy-mm-dd\"))","v":""},{"$f":"IF(入力シート!P200=\"\",\"\",TEXT(入力シート!P200,\"000-0000\"))","v":""},{"$f":"IF(入力シート!G200=\"\",\"\",入力シート!G200)","v":""},{"$f":"IF(入力シート!H200=\"\",\"\",入力シート!H200)","v":""},{"$f":"IF(入力シート!I200=\"\",\"\",入力シート!I200)","v":""},{"$f":"IF(入力シート!J200=\"\",\"\",入力シート!J200)","v":""},{"$f":"IF(入力シート!K200=\"\",\"\",入力シート!K200)","v":""},{"$f":"IF(入力シート!L200=\"\",\"\",入力シート!L200)","v":""},{"$f":"IF(入力シート!M200=\"\",\"\",入力シート!M200)","v":""},{"$f":"IF(入力シート!N200=\"\",\"\",入力シート!N200)","v":""},{"$f":"IF(入力シート!O200=\"\",\"\",入力シート!Q200)","v":""}]
[{"$f":"IF(入力シート!A201=\"\",\"\",入力シート!A201)","v":""},{"$f":"IF(入力シート!B201=\"\",\"\",入力シート!B201)","v":""},{"$f":"IF(入力シート!C201=\"\",\"\",入力シート!C201)","v":""},{"$f":"IF(入力シート!D201=\"\",\"\",TEXT(入力シート!D201,\"yyyy-mm-dd\"))","v":""},{"$f":"IF(入力シート!P201=\"\",\"\",TEXT(入力シート!P201,\"000-0000\"))","v":""},{"$f":"IF(入力シート!G201=\"\",\"\",入力シート!G201)","v":""},{"$f":"IF(入力シート!H201=\"\",\"\",入力シート!H201)","v":""},{"$f":"IF(入力シート!I201=\"\",\"\",入力シート!I201)","v":""},{"$f":"IF(入力シート!J201=\"\",\"\",入力シート!J201)","v":""},{"$f":"IF(入力シート!K201=\"\",\"\",入力シート!K201)","v":""},{"$f":"IF(入力シート!L201=\"\",\"\",入力シート!L201)","v":""},{"$f":"IF(入力シート!M201=\"\",\"\",入力シート!M201)","v":""},{"$f":"IF(入力シート!N201=\"\",\"\",入力シート!N201)","v":""},{"$f":"IF(入力シート!O201=\"\",\"\",入力シート!Q201)","v":""}]
[{"$f":"IF(入力シート!A202=\"\",\"\",入力シート!A202)","v":""},{"$f":"IF(入力シート!B202=\"\",\"\",入力シート!B202)","v":""},{"$f":"IF(入力シート!C202=\"\",\"\",入力シート!C202)","v":""},{"$f":"IF(入力シート!D202=\"\",\"\",TEXT(入力シート!D202,\"yyyy-mm-dd\"))","v":""},{"$f":"IF(入力シート!P202=\"\",\"\",TEXT(入力シート!P202,\"000-0000\"))","v":""},{"$f":"IF(入力シート!G202=\"\",\"\",入力シート!G202)","v":""},{"$f":"IF(入力シート!H202=\"\",\"\",入力シート!H202)","v":""},{"$f":"IF(入力シート!I202=\"\",\"\",入力シート!I202)","v":""},{"$f":"IF(入力シート!J202=\"\",\"\",入力シート!J202)","v":""},{"$f":"IF(入力シート!K202=\"\",\"\",入力シート!K202)","v":""},{"$f":"IF(入力シート!L202=\"\",\"\",入力シート!L202)","v":""},{"$f":"IF(入力シート!M202=\"\",\"\",入力シート!M202)","v":""},{"$f":"IF(入力シート!N202=\"\",\"\",入力シート!N202)","v":""},{"$f":"IF(入力シート!O202=\"\",\"\",入力シート!Q202)","v":""}]
[{"$f":"IF(入力シート!A203=\"\",\"\",入力シート!A203)","v":""},{"$f":"IF(入力シート!B203=\"\",\"\",入力シート!B203)","v":""},{"$f":"IF(入力シート!C203=\"\",\"\",入力シート!C203)","v":""},{"$f":"IF(入力シート!D203=\"\",\"\",TEXT(入力シート!D203,\"yyyy-mm-dd\"))","v":""},{"$f":"IF(入力シート!P203=\"\",\"\",TEXT(入力シート!P203,\"000-0000\"))","v":""},{"$f":"IF(入力シート!G203=\"\",\"\",入力シート!G203)","v":""},{"$f":"IF(入力シート!H203=\"\",\"\",入力シート!H203)","v":""},{"$f":"IF(入力シート!I203=\"\",\"\",入力シート!I203)","v":""},{"$f":"IF(入力シート!J203=\"\",\"\",入力シート!J203)","v":""},{"$f":"IF(入力シート!K203=\"\",\"\",入力シート!K203)","v":""},{"$f":"IF(入力シート!L203=\"\",\"\",入力シート!L203)","v":""},{"$f":"IF(入力シート!M203=\"\",\"\",入力シート!M203)","v":""},{"$f":"IF(入力シート!N203=\"\",\"\",入力シート!N203)","v":""},{"$f":"IF(入力シート!O203=\"\",\"\",入力シート!Q203)","v":""}]
[{"$f":"IF(入力シート!A204=\"\",\"\",入力シート!A204)","v":""},{"$f":"IF(入力シート!B204=\"\",\"\",入力シート!B204)","v":""},{"$f":"IF(入力シート!C204=\"\",\"\",入力シート!C204)","v":""},{"$f":"IF(入力シート!D204=\"\",\"\",TEXT(入力シート!D204,\"yyyy-mm-dd\"))","v":""},{"$f":"IF(入力シート!P204=\"\",\"\",TEXT(入力シート!P204,\"000-0000\"))","v":""},{"$f":"IF(入力シート!G204=\"\",\"\",入力シート!G204)","v":""},{"$f":"IF(入力シート!H204=\"\",\"\",入力シート!H204)","v":""},{"$f":"IF(入力シート!I204=\"\",\"\",入力シート!I204)","v":""},{"$f":"IF(入力シート!J204=\"\",\"\",入力シート!J204)","v":""},{"$f":"IF(入力シート!K204=\"\",\"\",入力シート!K204)","v":""},{"$f":"IF(入力シート!L204=\"\",\"\",入力シート!L204)","v":""},{"$f":"IF(入力シート!M204=\"\",\"\",入力シート!M204)","v":""},{"$f":"IF(入力シート!N204=\"\",\"\",入力シート!N204)","v":""},{"$f":"IF(入力シート!O204=\"\",\"\",入力シート!Q204)","v":""}]
[{"$f":"IF(入力シート!A205=\"\",\"\",入力シート!A205)","v":""},{"$f":"IF(入力シート!B205=\"\",\"\",入力シート!B205)","v":""},{"$f":"IF(入力シート!C205=\"\",\"\",入力シート!C205)","v":""},{"$f":"IF(入力シート!D205=\"\",\"\",TEXT(入力シート!D205,\"yyyy-mm-dd\"))","v":""},{"$f":"IF(入力シート!P205=\"\",\"\",TEXT(入力シート!P205,\"000-0000\"))","v":""},{"$f":"IF(入力シート!G205=\"\",\"\",入力シート!G205)","v":""},{"$f":"IF(入力シート!H205=\"\",\"\",入力シート!H205)","v":""},{"$f":"IF(入力シート!I205=\"\",\"\",入力シート!I205)","v":""},{"$f":"IF(入力シート!J205=\"\",\"\",入力シート!J205)","v":""},{"$f":"IF(入力シート!K205=\"\",\"\",入力シート!K205)","v":""},{"$f":"IF(入力シート!L205=\"\",\"\",入力シート!L205)","v":""},{"$f":"IF(入力シート!M205=\"\",\"\",入力シート!M205)","v":""},{"$f":"IF(入力シート!N205=\"\",\"\",入力シート!N205)","v":""},{"$f":"IF(入力シート!O205=\"\",\"\",入力シート!Q205)","v":""}]
[{"$f":"IF(入力シート!A206=\"\",\"\",入力シート!A206)","v":""},{"$f":"IF(入力シート!B206=\"\",\"\",入力シート!B206)","v":""},{"$f":"IF(入力シート!C206=\"\",\"\",入力シート!C206)","v":""},{"$f":"IF(入力シート!D206=\"\",\"\",TEXT(入力シート!D206,\"yyyy-mm-dd\"))","v":""},{"$f":"IF(入力シート!P206=\"\",\"\",TEXT(入力シート!P206,\"000-0000\"))","v":""},{"$f":"IF(入力シート!G206=\"\",\"\",入力シート!G206)","v":""},{"$f":"IF(入力シート!H206=\"\",\"\",入力シート!H206)","v":""},{"$f":"IF(入力シート!I206=\"\",\"\",入力シート!I206)","v":""},{"$f":"IF(入力シート!J206=\"\",\"\",入力シート!J206)","v":""},{"$f":"IF(入力シート!K206=\"\",\"\",入力シート!K206)","v":""},{"$f":"IF(入力シート!L206=\"\",\"\",入力シート!L206)","v":""},{"$f":"IF(入力シート!M206=\"\",\"\",入力シート!M206)","v":""},{"$f":"IF(入力シート!N206=\"\",\"\",入力シート!N206)","v":""},{"$f":"IF(入力シート!O206=\"\",\"\",入力シート!Q206)","v":""}]
[{"$f":"IF(入力シート!A207=\"\",\"\",入力シート!A207)","v":""},{"$f":"IF(入力シート!B207=\"\",\"\",入力シート!B207)","v":""},{"$f":"IF(入力シート!C207=\"\",\"\",入力シート!C207)","v":""},{"$f":"IF(入力シート!D207=\"\",\"\",TEXT(入力シート!D207,\"yyyy-mm-dd\"))","v":""},{"$f":"IF(入力シート!P207=\"\",\"\",TEXT(入力シート!P207,\"000-0000\"))","v":""},{"$f":"IF(入力シート!G207=\"\",\"\",入力シート!G207)","v":""},{"$f":"IF(入力シート!H207=\"\",\"\",入力シート!H207)","v":""},{"$f":"IF(入力シート!I207=\"\",\"\",入力シート!I207)","v":""},{"$f":"IF(入力シート!J207=\"\",\"\",入力シート!J207)","v":""},{"$f":"IF(入力シート!K207=\"\",\"\",入力シート!K207)","v":""},{"$f":"IF(入力シート!L207=\"\",\"\",入力シート!L207)","v":""},{"$f":"IF(入力シート!M207=\"\",\"\",入力シート!M207)","v":""},{"$f":"IF(入力シート!N207=\"\",\"\",入力シート!N207)","v":""},{"$f":"IF(入力シート!O207=\"\",\"\",入力シート!Q207)","v":""}]
[{"$f":"IF(入力シート!A208=\"\",\"\",入力シート!A208)","v":""},{"$f":"IF(入力シート!B208=\"\",\"\",入力シート!B208)","v":""},{"$f":"IF(入力シート!C208=\"\",\"\",入力シート!C208)","v":""},{"$f":"IF(入力シート!D208=\"\",\"\",TEXT(入力シート!D208,\"yyyy-mm-dd\"))","v":""},{"$f":"IF(入力シート!P208=\"\",\"\",TEXT(入力シート!P208,\"000-0000\"))","v":""},{"$f":"IF(入力シート!G208=\"\",\"\",入力シート!G208)","v":""},{"$f":"IF(入力シート!H208=\"\",\"\",入力シート!H208)","v":""},{"$f":"IF(入力シート!I208=\"\",\"\",入力シート!I208)","v":""},{"$f":"IF(入力シート!J208=\"\",\"\",入力シート!J208)","v":""},{"$f":"IF(入力シート!K208=\"\",\"\",入力シート!K208)","v":""},{"$f":"IF(入力シート!L208=\"\",\"\",入力シート!L208)","v":""},{"$f":"IF(入力シート!M208=\"\",\"\",入力シート!M208)","v":""},{"$f":"IF(入力シート!N208=\"\",\"\",入力シート!N208)","v":""},{"$f":"IF(入力シート!O208=\"\",\"\",入力シート!Q208)","v":""}]
[{"$f":"IF(入力シート!A209=\"\",\"\",入力シート!A209)","v":""},{"$f":"IF(入力シート!B209=\"\",\"\",入力シート!B209)","v":""},{"$f":"IF(入力シート!C209=\"\",\"\",入力シート!C209)","v":""},{"$f":"IF(入力シート!D209=\"\",\"\",TEXT(入力シート!D209,\"yyyy-mm-dd\"))","v":""},{"$f":"IF(入力シート!P209=\"\",\"\",TEXT(入力シート!P209,\"000-0000\"))","v":""},{"$f":"IF(入力シート!G209=\"\",\"\",入力シート!G209)","v":""},{"$f":"IF(入力シート!H209=\"\",\"\",入力シート!H209)","v":""},{"$f":"IF(入力シート!I209=\"\",\"\",入力シート!I209)","v":""},{"$f":"IF(入力シート!J209=\"\",\"\",入力シート!J209)","v":""},{"$f":"IF(入力シート!K209=\"\",\"\",入力シート!K209)","v":""},{"$f":"IF(入力シート!L209=\"\",\"\",入力シート!L209)","v":""},{"$f":"IF(入力シート!M209=\"\",\"\",入力シート!M209)","v":""},{"$f":"IF(入力シート!N209=\"\",\"\",入力シート!N209)","v":""},{"$f":"IF(入力シート!O209=\"\",\"\",入力シート!Q209)","v":""}]
[{"$f":"IF(入力シート!A210=\"\",\"\",入力シート!A210)","v":""},{"$f":"IF(入力シート!B210=\"\",\"\",入力シート!B210)","v":""},{"$f":"IF(入力シート!C210=\"\",\"\",入力シート!C210)","v":""},{"$f":"IF(入力シート!D210=\"\",\"\",TEXT(入力シート!D210,\"yyyy-mm-dd\"))","v":""},{"$f":"IF(入力シート!P210=\"\",\"\",TEXT(入力シート!P210,\"000-0000\"))","v":""},{"$f":"IF(入力シート!G210=\"\",\"\",入力シート!G210)","v":""},{"$f":"IF(入力シート!H210=\"\",\"\",入力シート!H210)","v":""},{"$f":"IF(入力シート!I210=\"\",\"\",入力シート!I210)","v":""},{"$f":"IF(入力シート!J210=\"\",\"\",入力シート!J210)","v":""},{"$f":"IF(入力シート!K210=\"\",\"\",入力シート!K210)","v":""},{"$f":"IF(入力シート!L210=\"\",\"\",入力シート!L210)","v":""},{"$f":"IF(入力シート!M210=\"\",\"\",入力シート!M210)","v":""},{"$f":"IF(入力シート!N210=\"\",\"\",入力シート!N210)","v":""},{"$f":"IF(入力シート!O210=\"\",\"\",入力シート!Q210)","v":""}]
[{"$f":"IF(入力シート!A211=\"\",\"\",入力シート!A211)","v":""},{"$f":"IF(入力シート!B211=\"\",\"\",入力シート!B211)","v":""},{"$f":"IF(入力シート!C211=\"\",\"\",入力シート!C211)","v":""},{"$f":"IF(入力シート!D211=\"\",\"\",TEXT(入力シート!D211,\"yyyy-mm-dd\"))","v":""},{"$f":"IF(入力シート!P211=\"\",\"\",TEXT(入力シート!P211,\"000-0000\"))","v":""},{"$f":"IF(入力シート!G211=\"\",\"\",入力シート!G211)","v":""},{"$f":"IF(入力シート!H211=\"\",\"\",入力シート!H211)","v":""},{"$f":"IF(入力シート!I211=\"\",\"\",入力シート!I211)","v":""},{"$f":"IF(入力シート!J211=\"\",\"\",入力シート!J211)","v":""},{"$f":"IF(入力シート!K211=\"\",\"\",入力シート!K211)","v":""},{"$f":"IF(入力シート!L211=\"\",\"\",入力シート!L211)","v":""},{"$f":"IF(入力シート!M211=\"\",\"\",入力シート!M211)","v":""},{"$f":"IF(入力シート!N211=\"\",\"\",入力シート!N211)","v":""},{"$f":"IF(入力シート!O211=\"\",\"\",入力シート!Q211)","v":""}]
[{"$f":"IF(入力シート!A212=\"\",\"\",入力シート!A212)","v":""},{"$f":"IF(入力シート!B212=\"\",\"\",入力シート!B212)","v":""},{"$f":"IF(入力シート!C212=\"\",\"\",入力シート!C212)","v":""},{"$f":"IF(入力シート!D212=\"\",\"\",TEXT(入力シート!D212,\"yyyy-mm-dd\"))","v":""},{"$f":"IF(入力シート!P212=\"\",\"\",TEXT(入力シート!P212,\"000-0000\"))","v":""},{"$f":"IF(入力シート!G212=\"\",\"\",入力シート!G212)","v":""},{"$f":"IF(入力シート!H212=\"\",\"\",入力シート!H212)","v":""},{"$f":"IF(入力シート!I212=\"\",\"\",入力シート!I212)","v":""},{"$f":"IF(入力シート!J212=\"\",\"\",入力シート!J212)","v":""},{"$f":"IF(入力シート!K212=\"\",\"\",入力シート!K212)","v":""},{"$f":"IF(入力シート!L212=\"\",\"\",入力シート!L212)","v":""},{"$f":"IF(入力シート!M212=\"\",\"\",入力シート!M212)","v":""},{"$f":"IF(入力シート!N212=\"\",\"\",入力シート!N212)","v":""},{"$f":"IF(入力シート!O212=\"\",\"\",入力シート!Q212)","v":""}]
[{"$f":"IF(入力シート!A213=\"\",\"\",入力シート!A213)","v":""},{"$f":"IF(入力シート!B213=\"\",\"\",入力シート!B213)","v":""},{"$f":"IF(入力シート!C213=\"\",\"\",入力シート!C213)","v":""},{"$f":"IF(入力シート!D213=\"\",\"\",TEXT(入力シート!D213,\"yyyy-mm-dd\"))","v":""},{"$f":"IF(入力シート!P213=\"\",\"\",TEXT(入力シート!P213,\"000-0000\"))","v":""},{"$f":"IF(入力シート!G213=\"\",\"\",入力シート!G213)","v":""},{"$f":"IF(入力シート!H213=\"\",\"\",入力シート!H213)","v":""},{"$f":"IF(入力シート!I213=\"\",\"\",入力シート!I213)","v":""},{"$f":"IF(入力シート!J213=\"\",\"\",入力シート!J213)","v":""},{"$f":"IF(入力シート!K213=\"\",\"\",入力シート!K213)","v":""},{"$f":"IF(入力シート!L213=\"\",\"\",入力シート!L213)","v":""},{"$f":"IF(入力シート!M213=\"\",\"\",入力シート!M213)","v":""},{"$f":"IF(入力シート!N213=\"\",\"\",入力シート!N213)","v":""},{"$f":"IF(入力シート!O213=\"\",\"\",入力シート!Q213)","v":""}]
[{"$f":"IF(入力シート!A214=\"\",\"\",入力シート!A214)","v":""},{"$f":"IF(入力シート!B214=\"\",\"\",入力シート!B214)","v":""},{"$f":"IF(入力シート!C214=\"\",\"\",入力シート!C214)","v":""},{"$f":"IF(入力シート!D214=\"\",\"\",TEXT(入力シート!D214,\"yyyy-mm-dd\"))","v":""},{"$f":"IF(入力シート!P214=\"\",\"\",TEXT(入力シート!P214,\"000-0000\"))","v":""},{"$f":"IF(入力シート!G214=\"\",\"\",入力シート!G214)","v":""},{"$f":"IF(入力シート!H214=\"\",\"\",入力シート!H214)","v":""},{"$f":"IF(入力シート!I214=\"\",\"\",入力シート!I214)","v":""},{"$f":"IF(入力シート!J214=\"\",\"\",入力シート!J214)","v":""},{"$f":"IF(入力シート!K214=\"\",\"\",入力シート!K214)","v":""},{"$f":"IF(入力シート!L214=\"\",\"\",入力シート!L214)","v":""},{"$f":"IF(入力シート!M214=\"\",\"\",入力シート!M214)","v":""},{"$f":"IF(入力シート!N214=\"\",\"\",入力シート!N214)","v":""},{"$f":"IF(入力シート!O214=\"\",\"\",入力シート!Q214)","v":""}]
[{"$f":"IF(入力シート!A215=\"\",\"\",入力シート!A215)","v":""},{"$f":"IF(入力シート!B215=\"\",\"\",入力シート!B215)","v":""},{"$f":"IF(入力シート!C215=\"\",\"\",入力シート!C215)","v":""},{"$f":"IF(入力シート!D215=\"\",\"\",TEXT(入力シート!D215,\"yyyy-mm-dd\"))","v":""},{"$f":"IF(入力シート!P215=\"\",\"\",TEXT(入力シート!P215,\"000-0000\"))","v":""},{"$f":"IF(入力シート!G215=\"\",\"\",入力シート!G215)","v":""},{"$f":"IF(入力シート!H215=\"\",\"\",入力シート!H215)","v":""},{"$f":"IF(入力シート!I215=\"\",\"\",入力シート!I215)","v":""},{"$f":"IF(入力シート!J215=\"\",\"\",入力シート!J215)","v":""},{"$f":"IF(入力シート!K215=\"\",\"\",入力シート!K215)","v":""},{"$f":"IF(入力シート!L215=\"\",\"\",入力シート!L215)","v":""},{"$f":"IF(入力シート!M215=\"\",\"\",入力シート!M215)","v":""},{"$f":"IF(入力シート!N215=\"\",\"\",入力シート!N215)","v":""},{"$f":"IF(入力シート!O215=\"\",\"\",入力シート!Q215)","v":""}]
[{"$f":"IF(入力シート!A216=\"\",\"\",入力シート!A216)","v":""},{"$f":"IF(入力シート!B216=\"\",\"\",入力シート!B216)","v":""},{"$f":"IF(入力シート!C216=\"\",\"\",入力シート!C216)","v":""},{"$f":"IF(入力シート!D216=\"\",\"\",TEXT(入力シート!D216,\"yyyy-mm-dd\"))","v":""},{"$f":"IF(入力シート!P216=\"\",\"\",TEXT(入力シート!P216,\"000-0000\"))","v":""},{"$f":"IF(入力シート!G216=\"\",\"\",入力シート!G216)","v":""},{"$f":"IF(入力シート!H216=\"\",\"\",入力シート!H216)","v":""},{"$f":"IF(入力シート!I216=\"\",\"\",入力シート!I216)","v":""},{"$f":"IF(入力シート!J216=\"\",\"\",入力シート!J216)","v":""},{"$f":"IF(入力シート!K216=\"\",\"\",入力シート!K216)","v":""},{"$f":"IF(入力シート!L216=\"\",\"\",入力シート!L216)","v":""},{"$f":"IF(入力シート!M216=\"\",\"\",入力シート!M216)","v":""},{"$f":"IF(入力シート!N216=\"\",\"\",入力シート!N216)","v":""},{"$f":"IF(入力シート!O216=\"\",\"\",入力シート!Q216)","v":""}]
[{"$f":"IF(入力シート!A217=\"\",\"\",入力シート!A217)","v":""},{"$f":"IF(入力シート!B217=\"\",\"\",入力シート!B217)","v":""},{"$f":"IF(入力シート!C217=\"\",\"\",入力シート!C217)","v":""},{"$f":"IF(入力シート!D217=\"\",\"\",TEXT(入力シート!D217,\"yyyy-mm-dd\"))","v":""},{"$f":"IF(入力シート!P217=\"\",\"\",TEXT(入力シート!P217,\"000-0000\"))","v":""},{"$f":"IF(入力シート!G217=\"\",\"\",入力シート!G217)","v":""},{"$f":"IF(入力シート!H217=\"\",\"\",入力シート!H217)","v":""},{"$f":"IF(入力シート!I217=\"\",\"\",入力シート!I217)","v":""},{"$f":"IF(入力シート!J217=\"\",\"\",入力シート!J217)","v":""},{"$f":"IF(入力シート!K217=\"\",\"\",入力シート!K217)","v":""},{"$f":"IF(入力シート!L217=\"\",\"\",入力シート!L217)","v":""},{"$f":"IF(入力シート!M217=\"\",\"\",入力シート!M217)","v":""},{"$f":"IF(入力シート!N217=\"\",\"\",入力シート!N217)","v":""},{"$f":"IF(入力シート!O217=\"\",\"\",入力シート!Q217)","v":""}]
[{"$f":"IF(入力シート!A218=\"\",\"\",入力シート!A218)","v":""},{"$f":"IF(入力シート!B218=\"\",\"\",入力シート!B218)","v":""},{"$f":"IF(入力シート!C218=\"\",\"\",入力シート!C218)","v":""},{"$f":"IF(入力シート!D218=\"\",\"\",TEXT(入力シート!D218,\"yyyy-mm-dd\"))","v":""},{"$f":"IF(入力シート!P218=\"\",\"\",TEXT(入力シート!P218,\"000-0000\"))","v":""},{"$f":"IF(入力シート!G218=\"\",\"\",入力シート!G218)","v":""},{"$f":"IF(入力シート!H218=\"\",\"\",入力シート!H218)","v":""},{"$f":"IF(入力シート!I218=\"\",\"\",入力シート!I218)","v":""},{"$f":"IF(入力シート!J218=\"\",\"\",入力シート!J218)","v":""},{"$f":"IF(入力シート!K218=\"\",\"\",入力シート!K218)","v":""},{"$f":"IF(入力シート!L218=\"\",\"\",入力シート!L218)","v":""},{"$f":"IF(入力シート!M218=\"\",\"\",入力シート!M218)","v":""},{"$f":"IF(入力シート!N218=\"\",\"\",入力シート!N218)","v":""},{"$f":"IF(入力シート!O218=\"\",\"\",入力シート!Q218)","v":""}]
[{"$f":"IF(入力シート!A219=\"\",\"\",入力シート!A219)","v":""},{"$f":"IF(入力シート!B219=\"\",\"\",入力シート!B219)","v":""},{"$f":"IF(入力シート!C219=\"\",\"\",入力シート!C219)","v":""},{"$f":"IF(入力シート!D219=\"\",\"\",TEXT(入力シート!D219,\"yyyy-mm-dd\"))","v":""},{"$f":"IF(入力シート!P219=\"\",\"\",TEXT(入力シート!P219,\"000-0000\"))","v":""},{"$f":"IF(入力シート!G219=\"\",\"\",入力シート!G219)","v":""},{"$f":"IF(入力シート!H219=\"\",\"\",入力シート!H219)","v":""},{"$f":"IF(入力シート!I219=\"\",\"\",入力シート!I219)","v":""},{"$f":"IF(入力シート!J219=\"\",\"\",入力シート!J219)","v":""},{"$f":"IF(入力シート!K219=\"\",\"\",入力シート!K219)","v":""},{"$f":"IF(入力シート!L219=\"\",\"\",入力シート!L219)","v":""},{"$f":"IF(入力シート!M219=\"\",\"\",入力シート!M219)","v":""},{"$f":"IF(入力シート!N219=\"\",\"\",入力シート!N219)","v":""},{"$f":"IF(入力シート!O219=\"\",\"\",入力シート!Q219)","v":""}]
[{"$f":"IF(入力シート!A220=\"\",\"\",入力シート!A220)","v":""},{"$f":"IF(入力シート!B220=\"\",\"\",入力シート!B220)","v":""},{"$f":"IF(入力シート!C220=\"\",\"\",入力シート!C220)","v":""},{"$f":"IF(入力シート!D220=\"\",\"\",TEXT(入力シート!D220,\"yyyy-mm-dd\"))","v":""},{"$f":"IF(入力シート!P220=\"\",\"\",TEXT(入力シート!P220,\"000-0000\"))","v":""},{"$f":"IF(入力シート!G220=\"\",\"\",入力シート!G220)","v":""},{"$f":"IF(入力シート!H220=\"\",\"\",入力シート!H220)","v":""},{"$f":"IF(入力シート!I220=\"\",\"\",入力シート!I220)","v":""},{"$f":"IF(入力シート!J220=\"\",\"\",入力シート!J220)","v":""},{"$f":"IF(入力シート!K220=\"\",\"\",入力シート!K220)","v":""},{"$f":"IF(入力シート!L220=\"\",\"\",入力シート!L220)","v":""},{"$f":"IF(入力シート!M220=\"\",\"\",入力シート!M220)","v":""},{"$f":"IF(入力シート!N220=\"\",\"\",入力シート!N220)","v":""},{"$f":"IF(入力シート!O220=\"\",\"\",入力シート!Q220)","v":""}]
[{"$f":"IF(入力シート!A221=\"\",\"\",入力シート!A221)","v":""},{"$f":"IF(入力シート!B221=\"\",\"\",入力シート!B221)","v":""},{"$f":"IF(入力シート!C221=\"\",\"\",入力シート!C221)","v":""},{"$f":"IF(入力シート!D221=\"\",\"\",TEXT(入力シート!D221,\"yyyy-mm-dd\"))","v":""},{"$f":"IF(入力シート!P221=\"\",\"\",TEXT(入力シート!P221,\"000-0000\"))","v":""},{"$f":"IF(入力シート!G221=\"\",\"\",入力シート!G221)","v":""},{"$f":"IF(入力シート!H221=\"\",\"\",入力シート!H221)","v":""},{"$f":"IF(入力シート!I221=\"\",\"\",入力シート!I221)","v":""},{"$f":"IF(入力シート!J221=\"\",\"\",入力シート!J221)","v":""},{"$f":"IF(入力シート!K221=\"\",\"\",入力シート!K221)","v":""},{"$f":"IF(入力シート!L221=\"\",\"\",入力シート!L221)","v":""},{"$f":"IF(入力シート!M221=\"\",\"\",入力シート!M221)","v":""},{"$f":"IF(入力シート!N221=\"\",\"\",入力シート!N221)","v":""},{"$f":"IF(入力シート!O221=\"\",\"\",入力シート!Q221)","v":""}]
[{"$f":"IF(入力シート!A222=\"\",\"\",入力シート!A222)","v":""},{"$f":"IF(入力シート!B222=\"\",\"\",入力シート!B222)","v":""},{"$f":"IF(入力シート!C222=\"\",\"\",入力シート!C222)","v":""},{"$f":"IF(入力シート!D222=\"\",\"\",TEXT(入力シート!D222,\"yyyy-mm-dd\"))","v":""},{"$f":"IF(入力シート!P222=\"\",\"\",TEXT(入力シート!P222,\"000-0000\"))","v":""},{"$f":"IF(入力シート!G222=\"\",\"\",入力シート!G222)","v":""},{"$f":"IF(入力シート!H222=\"\",\"\",入力シート!H222)","v":""},{"$f":"IF(入力シート!I222=\"\",\"\",入力シート!I222)","v":""},{"$f":"IF(入力シート!J222=\"\",\"\",入力シート!J222)","v":""},{"$f":"IF(入力シート!K222=\"\",\"\",入力シート!K222)","v":""},{"$f":"IF(入力シート!L222=\"\",\"\",入力シート!L222)","v":""},{"$f":"IF(入力シート!M222=\"\",\"\",入力シート!M222)","v":""},{"$f":"IF(入力シート!N222=\"\",\"\",入力シート!N222)","v":""},{"$f":"IF(入力シート!O222=\"\",\"\",入力シート!Q222)","v":""}]
[{"$f":"IF(入力シート!A223=\"\",\"\",入力シート!A223)","v":""},{"$f":"IF(入力シート!B223=\"\",\"\",入力シート!B223)","v":""},{"$f":"IF(入力シート!C223=\"\",\"\",入力シート!C223)","v":""},{"$f":"IF(入力シート!D223=\"\",\"\",TEXT(入力シート!D223,\"yyyy-mm-dd\"))","v":""},{"$f":"IF(入力シート!P223=\"\",\"\",TEXT(入力シート!P223,\"000-0000\"))","v":""},{"$f":"IF(入力シート!G223=\"\",\"\",入力シート!G223)","v":""},{"$f":"IF(入力シート!H223=\"\",\"\",入力シート!H223)","v":""},{"$f":"IF(入力シート!I223=\"\",\"\",入力シート!I223)","v":""},{"$f":"IF(入力シート!J223=\"\",\"\",入力シート!J223)","v":""},{"$f":"IF(入力シート!K223=\"\",\"\",入力シート!K223)","v":""},{"$f":"IF(入力シート!L223=\"\",\"\",入力シート!L223)","v":""},{"$f":"IF(入力シート!M223=\"\",\"\",入力シート!M223)","v":""},{"$f":"IF(入力シート!N223=\"\",\"\",入力シート!N223)","v":""},{"$f":"IF(入力シート!O223=\"\",\"\",入力シート!Q223)","v":""}]
[{"$f":"IF(入力シート!A224=\"\",\"\",入力シート!A224)","v":""},{"$f":"IF(入力シート!B224=\"\",\"\",入力シート!B224)","v":""},{"$f":"IF(入力シート!C224=\"\",\"\",入力シート!C224)","v":""},{"$f":"IF(入力シート!D224=\"\",\"\",TEXT(入力シート!D224,\"yyyy-mm-dd\"))","v":""},{"$f":"IF(入力シート!P224=\"\",\"\",TEXT(入力シート!P224,\"000-0000\"))","v":""},{"$f":"IF(入力シート!G224=\"\",\"\",入力シート!G224)","v":""},{"$f":"IF(入力シート!H224=\"\",\"\",入力シート!H224)","v":""},{"$f":"IF(入力シート!I224=\"\",\"\",入力シート!I224)","v":""},{"$f":"IF(入力シート!J224=\"\",\"\",入力シート!J224)","v":""},{"$f":"IF(入力シート!K224=\"\",\"\",入力シート!K224)","v":""},{"$f":"IF(入力シート!L224=\"\",\"\",入力シート!L224)","v":""},{"$f":"IF(入力シート!M224=\"\",\"\",入力シート!M224)","v":""},{"$f":"IF(入力シート!N224=\"\",\"\",入力シート!N224)","v":""},{"$f":"IF(入力シート!O224=\"\",\"\",入力シート!Q224)","v":""}]
[{"$f":"IF(入力シート!A225=\"\",\"\",入力シート!A225)","v":""},{"$f":"IF(入力シート!B225=\"\",\"\",入力シート!B225)","v":""},{"$f":"IF(入力シート!C225=\"\",\"\",入力シート!C225)","v":""},{"$f":"IF(入力シート!D225=\"\",\"\",TEXT(入力シート!D225,\"yyyy-mm-dd\"))","v":""},{"$f":"IF(入力シート!P225=\"\",\"\",TEXT(入力シート!P225,\"000-0000\"))","v":""},{"$f":"IF(入力シート!G225=\"\",\"\",入力シート!G225)","v":""},{"$f":"IF(入力シート!H225=\"\",\"\",入力シート!H225)","v":""},{"$f":"IF(入力シート!I225=\"\",\"\",入力シート!I225)","v":""},{"$f":"IF(入力シート!J225=\"\",\"\",入力シート!J225)","v":""},{"$f":"IF(入力シート!K225=\"\",\"\",入力シート!K225)","v":""},{"$f":"IF(入力シート!L225=\"\",\"\",入力シート!L225)","v":""},{"$f":"IF(入力シート!M225=\"\",\"\",入力シート!M225)","v":""},{"$f":"IF(入力シート!N225=\"\",\"\",入力シート!N225)","v":""},{"$f":"IF(入力シート!O225=\"\",\"\",入力シート!Q225)","v":""}]
[{"$f":"IF(入力シート!A226=\"\",\"\",入力シート!A226)","v":""},{"$f":"IF(入力シート!B226=\"\",\"\",入力シート!B226)","v":""},{"$f":"IF(入力シート!C226=\"\",\"\",入力シート!C226)","v":""},{"$f":"IF(入力シート!D226=\"\",\"\",TEXT(入力シート!D226,\"yyyy-mm-dd\"))","v":""},{"$f":"IF(入力シート!P226=\"\",\"\",TEXT(入力シート!P226,\"000-0000\"))","v":""},{"$f":"IF(入力シート!G226=\"\",\"\",入力シート!G226)","v":""},{"$f":"IF(入力シート!H226=\"\",\"\",入力シート!H226)","v":""},{"$f":"IF(入力シート!I226=\"\",\"\",入力シート!I226)","v":""},{"$f":"IF(入力シート!J226=\"\",\"\",入力シート!J226)","v":""},{"$f":"IF(入力シート!K226=\"\",\"\",入力シート!K226)","v":""},{"$f":"IF(入力シート!L226=\"\",\"\",入力シート!L226)","v":""},{"$f":"IF(入力シート!M226=\"\",\"\",入力シート!M226)","v":""},{"$f":"IF(入力シート!N226=\"\",\"\",入力シート!N226)","v":""},{"$f":"IF(入力シート!O226=\"\",\"\",入力シート!Q226)","v":""}]
[{"$f":"IF(入力シート!A227=\"\",\"\",入力シート!A227)","v":""},{"$f":"IF(入力シート!B227=\"\",\"\",入力シート!B227)","v":""},{"$f":"IF(入力シート!C227=\"\",\"\",入力シート!C227)","v":""},{"$f":"IF(入力シート!D227=\"\",\"\",TEXT(入力シート!D227,\"yyyy-mm-dd\"))","v":""},{"$f":"IF(入力シート!P227=\"\",\"\",TEXT(入力シート!P227,\"000-0000\"))","v":""},{"$f":"IF(入力シート!G227=\"\",\"\",入力シート!G227)","v":""},{"$f":"IF(入力シート!H227=\"\",\"\",入力シート!H227)","v":""},{"$f":"IF(入力シート!I227=\"\",\"\",入力シート!I227)","v":""},{"$f":"IF(入力シート!J227=\"\",\"\",入力シート!J227)","v":""},{"$f":"IF(入力シート!K227=\"\",\"\",入力シート!K227)","v":""},{"$f":"IF(入力シート!L227=\"\",\"\",入力シート!L227)","v":""},{"$f":"IF(入力シート!M227=\"\",\"\",入力シート!M227)","v":""},{"$f":"IF(入力シート!N227=\"\",\"\",入力シート!N227)","v":""},{"$f":"IF(入力シート!O227=\"\",\"\",入力シート!Q227)","v":""}]
[{"$f":"IF(入力シート!A228=\"\",\"\",入力シート!A228)","v":""},{"$f":"IF(入力シート!B228=\"\",\"\",入力シート!B228)","v":""},{"$f":"IF(入力シート!C228=\"\",\"\",入力シート!C228)","v":""},{"$f":"IF(入力シート!D228=\"\",\"\",TEXT(入力シート!D228,\"yyyy-mm-dd\"))","v":""},{"$f":"IF(入力シート!P228=\"\",\"\",TEXT(入力シート!P228,\"000-0000\"))","v":""},{"$f":"IF(入力シート!G228=\"\",\"\",入力シート!G228)","v":""},{"$f":"IF(入力シート!H228=\"\",\"\",入力シート!H228)","v":""},{"$f":"IF(入力シート!I228=\"\",\"\",入力シート!I228)","v":""},{"$f":"IF(入力シート!J228=\"\",\"\",入力シート!J228)","v":""},{"$f":"IF(入力シート!K228=\"\",\"\",入力シート!K228)","v":""},{"$f":"IF(入力シート!L228=\"\",\"\",入力シート!L228)","v":""},{"$f":"IF(入力シート!M228=\"\",\"\",入力シート!M228)","v":""},{"$f":"IF(入力シート!N228=\"\",\"\",入力シート!N228)","v":""},{"$f":"IF(入力シート!O228=\"\",\"\",入力シート!Q228)","v":""}]
[{"$f":"IF(入力シート!A229=\"\",\"\",入力シート!A229)","v":""},{"$f":"IF(入力シート!B229=\"\",\"\",入力シート!B229)","v":""},{"$f":"IF(入力シート!C229=\"\",\"\",入力シート!C229)","v":""},{"$f":"IF(入力シート!D229=\"\",\"\",TEXT(入力シート!D229,\"yyyy-mm-dd\"))","v":""},{"$f":"IF(入力シート!P229=\"\",\"\",TEXT(入力シート!P229,\"000-0000\"))","v":""},{"$f":"IF(入力シート!G229=\"\",\"\",入力シート!G229)","v":""},{"$f":"IF(入力シート!H229=\"\",\"\",入力シート!H229)","v":""},{"$f":"IF(入力シート!I229=\"\",\"\",入力シート!I229)","v":""},{"$f":"IF(入力シート!J229=\"\",\"\",入力シート!J229)","v":""},{"$f":"IF(入力シート!K229=\"\",\"\",入力シート!K229)","v":""},{"$f":"IF(入力シート!L229=\"\",\"\",入力シート!L229)","v":""},{"$f":"IF(入力シート!M229=\"\",\"\",入力シート!M229)","v":""},{"$f":"IF(入力シート!N229=\"\",\"\",入力シート!N229)","v":""},{"$f":"IF(入力シート!O229=\"\",\"\",入力シート!Q229)","v":""}]
[{"$f":"IF(入力シート!A230=\"\",\"\",入力シート!A230)","v":""},{"$f":"IF(入力シート!B230=\"\",\"\",入力シート!B230)","v":""},{"$f":"IF(入力シート!C230=\"\",\"\",入力シート!C230)","v":""},{"$f":"IF(入力シート!D230=\"\",\"\",TEXT(入力シート!D230,\"yyyy-mm-dd\"))","v":""},{"$f":"IF(入力シート!P230=\"\",\"\",TEXT(入力シート!P230,\"000-0000\"))","v":""},{"$f":"IF(入力シート!G230=\"\",\"\",入力シート!G230)","v":""},{"$f":"IF(入力シート!H230=\"\",\"\",入力シート!H230)","v":""},{"$f":"IF(入力シート!I230=\"\",\"\",入力シート!I230)","v":""},{"$f":"IF(入力シート!J230=\"\",\"\",入力シート!J230)","v":""},{"$f":"IF(入力シート!K230=\"\",\"\",入力シート!K230)","v":""},{"$f":"IF(入力シート!L230=\"\",\"\",入力シート!L230)","v":""},{"$f":"IF(入力シート!M230=\"\",\"\",入力シート!M230)","v":""},{"$f":"IF(入力シート!N230=\"\",\"\",入力シート!N230)","v":""},{"$f":"IF(入力シート!O230=\"\",\"\",入力シート!Q230)","v":""}]
[{"$f":"IF(入力シート!A231=\"\",\"\",入力シート!A231)","v":""},{"$f":"IF(入力シート!B231=\"\",\"\",入力シート!B231)","v":""},{"$f":"IF(入力シート!C231=\"\",\"\",入力シート!C231)","v":""},{"$f":"IF(入力シート!D231=\"\",\"\",TEXT(入力シート!D231,\"yyyy-mm-dd\"))","v":""},{"$f":"IF(入力シート!P231=\"\",\"\",TEXT(入力シート!P231,\"000-0000\"))","v":""},{"$f":"IF(入力シート!G231=\"\",\"\",入力シート!G231)","v":""},{"$f":"IF(入力シート!H231=\"\",\"\",入力シート!H231)","v":""},{"$f":"IF(入力シート!I231=\"\",\"\",入力シート!I231)","v":""},{"$f":"IF(入力シート!J231=\"\",\"\",入力シート!J231)","v":""},{"$f":"IF(入力シート!K231=\"\",\"\",入力シート!K231)","v":""},{"$f":"IF(入力シート!L231=\"\",\"\",入力シート!L231)","v":""},{"$f":"IF(入力シート!M231=\"\",\"\",入力シート!M231)","v":""},{"$f":"IF(入力シート!N231=\"\",\"\",入力シート!N231)","v":""},{"$f":"IF(入力シート!O231=\"\",\"\",入力シート!Q231)","v":""}]
[{"$f":"IF(入力シート!A232=\"\",\"\",入力シート!A232)","v":""},{"$f":"IF(入力シート!B232=\"\",\"\",入力シート!B232)","v":""},{"$f":"IF(入力シート!C232=\"\",\"\",入力シート!C232)","v":""},{"$f":"IF(入力シート!D232=\"\",\"\",TEXT(入力シート!D232,\"yyyy-mm-dd\"))","v":""},{"$f":"IF(入力シート!P232=\"\",\"\",TEXT(入力シート!P232,\"000-0000\"))","v":""},{"$f":"IF(入力シート!G232=\"\",\"\",入力シート!G232)","v":""},{"$f":"IF(入力シート!H232=\"\",\"\",入力シート!H232)","v":""},{"$f":"IF(入力シート!I232=\"\",\"\",入力シート!I232)","v":""},{"$f":"IF(入力シート!J232=\"\",\"\",入力シート!J232)","v":""},{"$f":"IF(入力シート!K232=\"\",\"\",入力シート!K232)","v":""},{"$f":"IF(入力シート!L232=\"\",\"\",入力シート!L232)","v":""},{"$f":"IF(入力シート!M232=\"\",\"\",入力シート!M232)","v":""},{"$f":"IF(入力シート!N232=\"\",\"\",入力シート!N232)","v":""},{"$f":"IF(入力シート!O232=\"\",\"\",入力シート!Q232)","v":""}]
[{"$f":"IF(入力シート!A233=\"\",\"\",入力シート!A233)","v":""},{"$f":"IF(入力シート!B233=\"\",\"\",入力シート!B233)","v":""},{"$f":"IF(入力シート!C233=\"\",\"\",入力シート!C233)","v":""},{"$f":"IF(入力シート!D233=\"\",\"\",TEXT(入力シート!D233,\"yyyy-mm-dd\"))","v":""},{"$f":"IF(入力シート!P233=\"\",\"\",TEXT(入力シート!P233,\"000-0000\"))","v":""},{"$f":"IF(入力シート!G233=\"\",\"\",入力シート!G233)","v":""},{"$f":"IF(入力シート!H233=\"\",\"\",入力シート!H233)","v":""},{"$f":"IF(入力シート!I233=\"\",\"\",入力シート!I233)","v":""},{"$f":"IF(入力シート!J233=\"\",\"\",入力シート!J233)","v":""},{"$f":"IF(入力シート!K233=\"\",\"\",入力シート!K233)","v":""},{"$f":"IF(入力シート!L233=\"\",\"\",入力シート!L233)","v":""},{"$f":"IF(入力シート!M233=\"\",\"\",入力シート!M233)","v":""},{"$f":"IF(入力シート!N233=\"\",\"\",入力シート!N233)","v":""},{"$f":"IF(入力シート!O233=\"\",\"\",入力シート!Q233)","v":""}]
[{"$f":"IF(入力シート!A234=\"\",\"\",入力シート!A234)","v":""},{"$f":"IF(入力シート!B234=\"\",\"\",入力シート!B234)","v":""},{"$f":"IF(入力シート!C234=\"\",\"\",入力シート!C234)","v":""},{"$f":"IF(入力シート!D234=\"\",\"\",TEXT(入力シート!D234,\"yyyy-mm-dd\"))","v":""},{"$f":"IF(入力シート!P234=\"\",\"\",TEXT(入力シート!P234,\"000-0000\"))","v":""},{"$f":"IF(入力シート!G234=\"\",\"\",入力シート!G234)","v":""},{"$f":"IF(入力シート!H234=\"\",\"\",入力シート!H234)","v":""},{"$f":"IF(入力シート!I234=\"\",\"\",入力シート!I234)","v":""},{"$f":"IF(入力シート!J234=\"\",\"\",入力シート!J234)","v":""},{"$f":"IF(入力シート!K234=\"\",\"\",入力シート!K234)","v":""},{"$f":"IF(入力シート!L234=\"\",\"\",入力シート!L234)","v":""},{"$f":"IF(入力シート!M234=\"\",\"\",入力シート!M234)","v":""},{"$f":"IF(入力シート!N234=\"\",\"\",入力シート!N234)","v":""},{"$f":"IF(入力シート!O234=\"\",\"\",入力シート!Q234)","v":""}]
[{"$f":"IF(入力シート!A235=\"\",\"\",入力シート!A235)","v":""},{"$f":"IF(入力シート!B235=\"\",\"\",入力シート!B235)","v":""},{"$f":"IF(入力シート!C235=\"\",\"\",入力シート!C235)","v":""},{"$f":"IF(入力シート!D235=\"\",\"\",TEXT(入力シート!D235,\"yyyy-mm-dd\"))","v":""},{"$f":"IF(入力シート!P235=\"\",\"\",TEXT(入力シート!P235,\"000-0000\"))","v":""},{"$f":"IF(入力シート!G235=\"\",\"\",入力シート!G235)","v":""},{"$f":"IF(入力シート!H235=\"\",\"\",入力シート!H235)","v":""},{"$f":"IF(入力シート!I235=\"\",\"\",入力シート!I235)","v":""},{"$f":"IF(入力シート!J235=\"\",\"\",入力シート!J235)","v":""},{"$f":"IF(入力シート!K235=\"\",\"\",入力シート!K235)","v":""},{"$f":"IF(入力シート!L235=\"\",\"\",入力シート!L235)","v":""},{"$f":"IF(入力シート!M235=\"\",\"\",入力シート!M235)","v":""},{"$f":"IF(入力シート!N235=\"\",\"\",入力シート!N235)","v":""},{"$f":"IF(入力シート!O235=\"\",\"\",入力シート!Q235)","v":""}]
[{"$f":"IF(入力シート!A236=\"\",\"\",入力シート!A236)","v":""},{"$f":"IF(入力シート!B236=\"\",\"\",入力シート!B236)","v":""},{"$f":"IF(入力シート!C236=\"\",\"\",入力シート!C236)","v":""},{"$f":"IF(入力シート!D236=\"\",\"\",TEXT(入力シート!D236,\"yyyy-mm-dd\"))","v":""},{"$f":"IF(入力シート!P236=\"\",\"\",TEXT(入力シート!P236,\"000-0000\"))","v":""},{"$f":"IF(入力シート!G236=\"\",\"\",入力シート!G236)","v":""},{"$f":"IF(入力シート!H236=\"\",\"\",入力シート!H236)","v":""},{"$f":"IF(入力シート!I236=\"\",\"\",入力シート!I236)","v":""},{"$f":"IF(入力シート!J236=\"\",\"\",入力シート!J236)","v":""},{"$f":"IF(入力シート!K236=\"\",\"\",入力シート!K236)","v":""},{"$f":"IF(入力シート!L236=\"\",\"\",入力シート!L236)","v":""},{"$f":"IF(入力シート!M236=\"\",\"\",入力シート!M236)","v":""},{"$f":"IF(入力シート!N236=\"\",\"\",入力シート!N236)","v":""},{"$f":"IF(入力シート!O236=\"\",\"\",入力シート!Q236)","v":""}]
[{"$f":"IF(入力シート!A237=\"\",\"\",入力シート!A237)","v":""},{"$f":"IF(入力シート!B237=\"\",\"\",入力シート!B237)","v":""},{"$f":"IF(入力シート!C237=\"\",\"\",入力シート!C237)","v":""},{"$f":"IF(入力シート!D237=\"\",\"\",TEXT(入力シート!D237,\"yyyy-mm-dd\"))","v":""},{"$f":"IF(入力シート!P237=\"\",\"\",TEXT(入力シート!P237,\"000-0000\"))","v":""},{"$f":"IF(入力シート!G237=\"\",\"\",入力シート!G237)","v":""},{"$f":"IF(入力シート!H237=\"\",\"\",入力シート!H237)","v":""},{"$f":"IF(入力シート!I237=\"\",\"\",入力シート!I237)","v":""},{"$f":"IF(入力シート!J237=\"\",\"\",入力シート!J237)","v":""},{"$f":"IF(入力シート!K237=\"\",\"\",入力シート!K237)","v":""},{"$f":"IF(入力シート!L237=\"\",\"\",入力シート!L237)","v":""},{"$f":"IF(入力シート!M237=\"\",\"\",入力シート!M237)","v":""},{"$f":"IF(入力シート!N237=\"\",\"\",入力シート!N237)","v":""},{"$f":"IF(入力シート!O237=\"\",\"\",入力シート!Q237)","v":""}]
[{"$f":"IF(入力シート!A238=\"\",\"\",入力シート!A238)","v":""},{"$f":"IF(入力シート!B238=\"\",\"\",入力シート!B238)","v":""},{"$f":"IF(入力シート!C238=\"\",\"\",入力シート!C238)","v":""},{"$f":"IF(入力シート!D238=\"\",\"\",TEXT(入力シート!D238,\"yyyy-mm-dd\"))","v":""},{"$f":"IF(入力シート!P238=\"\",\"\",TEXT(入力シート!P238,\"000-0000\"))","v":""},{"$f":"IF(入力シート!G238=\"\",\"\",入力シート!G238)","v":""},{"$f":"IF(入力シート!H238=\"\",\"\",入力シート!H238)","v":""},{"$f":"IF(入力シート!I238=\"\",\"\",入力シート!I238)","v":""},{"$f":"IF(入力シート!J238=\"\",\"\",入力シート!J238)","v":""},{"$f":"IF(入力シート!K238=\"\",\"\",入力シート!K238)","v":""},{"$f":"IF(入力シート!L238=\"\",\"\",入力シート!L238)","v":""},{"$f":"IF(入力シート!M238=\"\",\"\",入力シート!M238)","v":""},{"$f":"IF(入力シート!N238=\"\",\"\",入力シート!N238)","v":""},{"$f":"IF(入力シート!O238=\"\",\"\",入力シート!Q238)","v":""}]
[{"$f":"IF(入力シート!A239=\"\",\"\",入力シート!A239)","v":""},{"$f":"IF(入力シート!B239=\"\",\"\",入力シート!B239)","v":""},{"$f":"IF(入力シート!C239=\"\",\"\",入力シート!C239)","v":""},{"$f":"IF(入力シート!D239=\"\",\"\",TEXT(入力シート!D239,\"yyyy-mm-dd\"))","v":""},{"$f":"IF(入力シート!P239=\"\",\"\",TEXT(入力シート!P239,\"000-0000\"))","v":""},{"$f":"IF(入力シート!G239=\"\",\"\",入力シート!G239)","v":""},{"$f":"IF(入力シート!H239=\"\",\"\",入力シート!H239)","v":""},{"$f":"IF(入力シート!I239=\"\",\"\",入力シート!I239)","v":""},{"$f":"IF(入力シート!J239=\"\",\"\",入力シート!J239)","v":""},{"$f":"IF(入力シート!K239=\"\",\"\",入力シート!K239)","v":""},{"$f":"IF(入力シート!L239=\"\",\"\",入力シート!L239)","v":""},{"$f":"IF(入力シート!M239=\"\",\"\",入力シート!M239)","v":""},{"$f":"IF(入力シート!N239=\"\",\"\",入力シート!N239)","v":""},{"$f":"IF(入力シート!O239=\"\",\"\",入力シート!Q239)","v":""}]
[{"$f":"IF(入力シート!A240=\"\",\"\",入力シート!A240)","v":""},{"$f":"IF(入力シート!B240=\"\",\"\",入力シート!B240)","v":""},{"$f":"IF(入力シート!C240=\"\",\"\",入力シート!C240)","v":""},{"$f":"IF(入力シート!D240=\"\",\"\",TEXT(入力シート!D240,\"yyyy-mm-dd\"))","v":""},{"$f":"IF(入力シート!P240=\"\",\"\",TEXT(入力シート!P240,\"000-0000\"))","v":""},{"$f":"IF(入力シート!G240=\"\",\"\",入力シート!G240)","v":""},{"$f":"IF(入力シート!H240=\"\",\"\",入力シート!H240)","v":""},{"$f":"IF(入力シート!I240=\"\",\"\",入力シート!I240)","v":""},{"$f":"IF(入力シート!J240=\"\",\"\",入力シート!J240)","v":""},{"$f":"IF(入力シート!K240=\"\",\"\",入力シート!K240)","v":""},{"$f":"IF(入力シート!L240=\"\",\"\",入力シート!L240)","v":""},{"$f":"IF(入力シート!M240=\"\",\"\",入力シート!M240)","v":""},{"$f":"IF(入力シート!N240=\"\",\"\",入力シート!N240)","v":""},{"$f":"IF(入力シート!O240=\"\",\"\",入力シート!Q240)","v":""}]
[{"$f":"IF(入力シート!A241=\"\",\"\",入力シート!A241)","v":""},{"$f":"IF(入力シート!B241=\"\",\"\",入力シート!B241)","v":""},{"$f":"IF(入力シート!C241=\"\",\"\",入力シート!C241)","v":""},{"$f":"IF(入力シート!D241=\"\",\"\",TEXT(入力シート!D241,\"yyyy-mm-dd\"))","v":""},{"$f":"IF(入力シート!P241=\"\",\"\",TEXT(入力シート!P241,\"000-0000\"))","v":""},{"$f":"IF(入力シート!G241=\"\",\"\",入力シート!G241)","v":""},{"$f":"IF(入力シート!H241=\"\",\"\",入力シート!H241)","v":""},{"$f":"IF(入力シート!I241=\"\",\"\",入力シート!I241)","v":""},{"$f":"IF(入力シート!J241=\"\",\"\",入力シート!J241)","v":""},{"$f":"IF(入力シート!K241=\"\",\"\",入力シート!K241)","v":""},{"$f":"IF(入力シート!L241=\"\",\"\",入力シート!L241)","v":""},{"$f":"IF(入力シート!M241=\"\",\"\",入力シート!M241)","v":""},{"$f":"IF(入力シート!N241=\"\",\"\",入力シート!N241)","v":""},{"$f":"IF(入力シート!O241=\"\",\"\",入力シート!Q241)","v":""}]
[{"$f":"IF(入力シート!A242=\"\",\"\",入力シート!A242)","v":""},{"$f":"IF(入力シート!B242=\"\",\"\",入力シート!B242)","v":""},{"$f":"IF(入力シート!C242=\"\",\"\",入力シート!C242)","v":""},{"$f":"IF(入力シート!D242=\"\",\"\",TEXT(入力シート!D242,\"yyyy-mm-dd\"))","v":""},{"$f":"IF(入力シート!P242=\"\",\"\",TEXT(入力シート!P242,\"000-0000\"))","v":""},{"$f":"IF(入力シート!G242=\"\",\"\",入力シート!G242)","v":""},{"$f":"IF(入力シート!H242=\"\",\"\",入力シート!H242)","v":""},{"$f":"IF(入力シート!I242=\"\",\"\",入力シート!I242)","v":""},{"$f":"IF(入力シート!J242=\"\",\"\",入力シート!J242)","v":""},{"$f":"IF(入力シート!K242=\"\",\"\",入力シート!K242)","v":""},{"$f":"IF(入力シート!L242=\"\",\"\",入力シート!L242)","v":""},{"$f":"IF(入力シート!M242=\"\",\"\",入力シート!M242)","v":""},{"$f":"IF(入力シート!N242=\"\",\"\",入力シート!N242)","v":""},{"$f":"IF(入力シート!O242=\"\",\"\",入力シート!Q242)","v":""}]
[{"$f":"IF(入力シート!A243=\"\",\"\",入力シート!A243)","v":""},{"$f":"IF(入力シート!B243=\"\",\"\",入力シート!B243)","v":""},{"$f":"IF(入力シート!C243=\"\",\"\",入力シート!C243)","v":""},{"$f":"IF(入力シート!D243=\"\",\"\",TEXT(入力シート!D243,\"yyyy-mm-dd\"))","v":""},{"$f":"IF(入力シート!P243=\"\",\"\",TEXT(入力シート!P243,\"000-0000\"))","v":""},{"$f":"IF(入力シート!G243=\"\",\"\",入力シート!G243)","v":""},{"$f":"IF(入力シート!H243=\"\",\"\",入力シート!H243)","v":""},{"$f":"IF(入力シート!I243=\"\",\"\",入力シート!I243)","v":""},{"$f":"IF(入力シート!J243=\"\",\"\",入力シート!J243)","v":""},{"$f":"IF(入力シート!K243=\"\",\"\",入力シート!K243)","v":""},{"$f":"IF(入力シート!L243=\"\",\"\",入力シート!L243)","v":""},{"$f":"IF(入力シート!M243=\"\",\"\",入力シート!M243)","v":""},{"$f":"IF(入力シート!N243=\"\",\"\",入力シート!N243)","v":""},{"$f":"IF(入力シート!O243=\"\",\"\",入力シート!Q243)","v":""}]
[{"$f":"IF(入力シート!A244=\"\",\"\",入力シート!A244)","v":""},{"$f":"IF(入力シート!B244=\"\",\"\",入力シート!B244)","v":""},{"$f":"IF(入力シート!C244=\"\",\"\",入力シート!C244)","v":""},{"$f":"IF(入力シート!D244=\"\",\"\",TEXT(入力シート!D244,\"yyyy-mm-dd\"))","v":""},{"$f":"IF(入力シート!P244=\"\",\"\",TEXT(入力シート!P244,\"000-0000\"))","v":""},{"$f":"IF(入力シート!G244=\"\",\"\",入力シート!G244)","v":""},{"$f":"IF(入力シート!H244=\"\",\"\",入力シート!H244)","v":""},{"$f":"IF(入力シート!I244=\"\",\"\",入力シート!I244)","v":""},{"$f":"IF(入力シート!J244=\"\",\"\",入力シート!J244)","v":""},{"$f":"IF(入力シート!K244=\"\",\"\",入力シート!K244)","v":""},{"$f":"IF(入力シート!L244=\"\",\"\",入力シート!L244)","v":""},{"$f":"IF(入力シート!M244=\"\",\"\",入力シート!M244)","v":""},{"$f":"IF(入力シート!N244=\"\",\"\",入力シート!N244)","v":""},{"$f":"IF(入力シート!O244=\"\",\"\",入力シート!Q244)","v":""}]
[{"$f":"IF(入力シート!A245=\"\",\"\",入力シート!A245)","v":""},{"$f":"IF(入力シート!B245=\"\",\"\",入力シート!B245)","v":""},{"$f":"IF(入力シート!C245=\"\",\"\",入力シート!C245)","v":""},{"$f":"IF(入力シート!D245=\"\",\"\",TEXT(入力シート!D245,\"yyyy-mm-dd\"))","v":""},{"$f":"IF(入力シート!P245=\"\",\"\",TEXT(入力シート!P245,\"000-0000\"))","v":""},{"$f":"IF(入力シート!G245=\"\",\"\",入力シート!G245)","v":""},{"$f":"IF(入力シート!H245=\"\",\"\",入力シート!H245)","v":""},{"$f":"IF(入力シート!I245=\"\",\"\",入力シート!I245)","v":""},{"$f":"IF(入力シート!J245=\"\",\"\",入力シート!J245)","v":""},{"$f":"IF(入力シート!K245=\"\",\"\",入力シート!K245)","v":""},{"$f":"IF(入力シート!L245=\"\",\"\",入力シート!L245)","v":""},{"$f":"IF(入力シート!M245=\"\",\"\",入力シート!M245)","v":""},{"$f":"IF(入力シート!N245=\"\",\"\",入力シート!N245)","v":""},{"$f":"IF(入力シート!O245=\"\",\"\",入力シート!Q245)","v":""}]
[{"$f":"IF(入力シート!A246=\"\",\"\",入力シート!A246)","v":""},{"$f":"IF(入力シート!B246=\"\",\"\",入力シート!B246)","v":""},{"$f":"IF(入力シート!C246=\"\",\"\",入力シート!C246)","v":""},{"$f":"IF(入力シート!D246=\"\",\"\",TEXT(入力シート!D246,\"yyyy-mm-dd\"))","v":""},{"$f":"IF(入力シート!P246=\"\",\"\",TEXT(入力シート!P246,\"000-0000\"))","v":""},{"$f":"IF(入力シート!G246=\"\",\"\",入力シート!G246)","v":""},{"$f":"IF(入力シート!H246=\"\",\"\",入力シート!H246)","v":""},{"$f":"IF(入力シート!I246=\"\",\"\",入力シート!I246)","v":""},{"$f":"IF(入力シート!J246=\"\",\"\",入力シート!J246)","v":""},{"$f":"IF(入力シート!K246=\"\",\"\",入力シート!K246)","v":""},{"$f":"IF(入力シート!L246=\"\",\"\",入力シート!L246)","v":""},{"$f":"IF(入力シート!M246=\"\",\"\",入力シート!M246)","v":""},{"$f":"IF(入力シート!N246=\"\",\"\",入力シート!N246)","v":""},{"$f":"IF(入力シート!O246=\"\",\"\",入力シート!Q246)","v":""}]
[{"$f":"IF(入力シート!A247=\"\",\"\",入力シート!A247)","v":""},{"$f":"IF(入力シート!B247=\"\",\"\",入力シート!B247)","v":""},{"$f":"IF(入力シート!C247=\"\",\"\",入力シート!C247)","v":""},{"$f":"IF(入力シート!D247=\"\",\"\",TEXT(入力シート!D247,\"yyyy-mm-dd\"))","v":""},{"$f":"IF(入力シート!P247=\"\",\"\",TEXT(入力シート!P247,\"000-0000\"))","v":""},{"$f":"IF(入力シート!G247=\"\",\"\",入力シート!G247)","v":""},{"$f":"IF(入力シート!H247=\"\",\"\",入力シート!H247)","v":""},{"$f":"IF(入力シート!I247=\"\",\"\",入力シート!I247)","v":""},{"$f":"IF(入力シート!J247=\"\",\"\",入力シート!J247)","v":""},{"$f":"IF(入力シート!K247=\"\",\"\",入力シート!K247)","v":""},{"$f":"IF(入力シート!L247=\"\",\"\",入力シート!L247)","v":""},{"$f":"IF(入力シート!M247=\"\",\"\",入力シート!M247)","v":""},{"$f":"IF(入力シート!N247=\"\",\"\",入力シート!N247)","v":""},{"$f":"IF(入力シート!O247=\"\",\"\",入力シート!Q247)","v":""}]
[{"$f":"IF(入力シート!A248=\"\",\"\",入力シート!A248)","v":""},{"$f":"IF(入力シート!B248=\"\",\"\",入力シート!B248)","v":""},{"$f":"IF(入力シート!C248=\"\",\"\",入力シート!C248)","v":""},{"$f":"IF(入力シート!D248=\"\",\"\",TEXT(入力シート!D248,\"yyyy-mm-dd\"))","v":""},{"$f":"IF(入力シート!P248=\"\",\"\",TEXT(入力シート!P248,\"000-0000\"))","v":""},{"$f":"IF(入力シート!G248=\"\",\"\",入力シート!G248)","v":""},{"$f":"IF(入力シート!H248=\"\",\"\",入力シート!H248)","v":""},{"$f":"IF(入力シート!I248=\"\",\"\",入力シート!I248)","v":""},{"$f":"IF(入力シート!J248=\"\",\"\",入力シート!J248)","v":""},{"$f":"IF(入力シート!K248=\"\",\"\",入力シート!K248)","v":""},{"$f":"IF(入力シート!L248=\"\",\"\",入力シート!L248)","v":""},{"$f":"IF(入力シート!M248=\"\",\"\",入力シート!M248)","v":""},{"$f":"IF(入力シート!N248=\"\",\"\",入力シート!N248)","v":""},{"$f":"IF(入力シート!O248=\"\",\"\",入力シート!Q248)","v":""}]
[{"$f":"IF(入力シート!A249=\"\",\"\",入力シート!A249)","v":""},{"$f":"IF(入力シート!B249=\"\",\"\",入力シート!B249)","v":""},{"$f":"IF(入力シート!C249=\"\",\"\",入力シート!C249)","v":""},{"$f":"IF(入力シート!D249=\"\",\"\",TEXT(入力シート!D249,\"yyyy-mm-dd\"))","v":""},{"$f":"IF(入力シート!P249=\"\",\"\",TEXT(入力シート!P249,\"000-0000\"))","v":""},{"$f":"IF(入力シート!G249=\"\",\"\",入力シート!G249)","v":""},{"$f":"IF(入力シート!H249=\"\",\"\",入力シート!H249)","v":""},{"$f":"IF(入力シート!I249=\"\",\"\",入力シート!I249)","v":""},{"$f":"IF(入力シート!J249=\"\",\"\",入力シート!J249)","v":""},{"$f":"IF(入力シート!K249=\"\",\"\",入力シート!K249)","v":""},{"$f":"IF(入力シート!L249=\"\",\"\",入力シート!L249)","v":""},{"$f":"IF(入力シート!M249=\"\",\"\",入力シート!M249)","v":""},{"$f":"IF(入力シート!N249=\"\",\"\",入力シート!N249)","v":""},{"$f":"IF(入力シート!O249=\"\",\"\",入力シート!Q249)","v":""}]
[{"$f":"IF(入力シート!A250=\"\",\"\",入力シート!A250)","v":""},{"$f":"IF(入力シート!B250=\"\",\"\",入力シート!B250)","v":""},{"$f":"IF(入力シート!C250=\"\",\"\",入力シート!C250)","v":""},{"$f":"IF(入力シート!D250=\"\",\"\",TEXT(入力シート!D250,\"yyyy-mm-dd\"))","v":""},{"$f":"IF(入力シート!P250=\"\",\"\",TEXT(入力シート!P250,\"000-0000\"))","v":""},{"$f":"IF(入力シート!G250=\"\",\"\",入力シート!G250)","v":""},{"$f":"IF(入力シート!H250=\"\",\"\",入力シート!H250)","v":""},{"$f":"IF(入力シート!I250=\"\",\"\",入力シート!I250)","v":""},{"$f":"IF(入力シート!J250=\"\",\"\",入力シート!J250)","v":""},{"$f":"IF(入力シート!K250=\"\",\"\",入力シート!K250)","v":""},{"$f":"IF(入力シート!L250=\"\",\"\",入力シート!L250)","v":""},{"$f":"IF(入力シート!M250=\"\",\"\",入力シート!M250)","v":""},{"$f":"IF(入力シート!N250=\"\",\"\",入力シート!N250)","v":""},{"$f":"IF(入力シート!O250=\"\",\"\",入力シート!Q250)","v":""}]
[{"$f":"IF(入力シート!A251=\"\",\"\",入力シート!A251)","v":""},{"$f":"IF(入力シート!B251=\"\",\"\",入力シート!B251)","v":""},{"$f":"IF(入力シート!C251=\"\",\"\",入力シート!C251)","v":""},{"$f":"IF(入力シート!D251=\"\",\"\",TEXT(入力シート!D251,\"yyyy-mm-dd\"))","v":""},{"$f":"IF(入力シート!P251=\"\",\"\",TEXT(入力シート!P251,\"000-0000\"))","v":""},{"$f":"IF(入力シート!G251=\"\",\"\",入力シート!G251)","v":""},{"$f":"IF(入力シート!H251=\"\",\"\",入力シート!H251)","v":""},{"$f":"IF(入力シート!I251=\"\",\"\",入力シート!I251)","v":""},{"$f":"IF(入力シート!J251=\"\",\"\",入力シート!J251)","v":""},{"$f":"IF(入力シート!K251=\"\",\"\",入力シート!K251)","v":""},{"$f":"IF(入力シート!L251=\"\",\"\",入力シート!L251)","v":""},{"$f":"IF(入力シート!M251=\"\",\"\",入力シート!M251)","v":""},{"$f":"IF(入力シート!N251=\"\",\"\",入力シート!N251)","v":""},{"$f":"IF(入力シート!O251=\"\",\"\",入力シート!Q251)","v":""}]
[{"$f":"IF(入力シート!A252=\"\",\"\",入力シート!A252)","v":""},{"$f":"IF(入力シート!B252=\"\",\"\",入力シート!B252)","v":""},{"$f":"IF(入力シート!C252=\"\",\"\",入力シート!C252)","v":""},{"$f":"IF(入力シート!D252=\"\",\"\",TEXT(入力シート!D252,\"yyyy-mm-dd\"))","v":""},{"$f":"IF(入力シート!P252=\"\",\"\",TEXT(入力シート!P252,\"000-0000\"))","v":""},{"$f":"IF(入力シート!G252=\"\",\"\",入力シート!G252)","v":""},{"$f":"IF(入力シート!H252=\"\",\"\",入力シート!H252)","v":""},{"$f":"IF(入力シート!I252=\"\",\"\",入力シート!I252)","v":""},{"$f":"IF(入力シート!J252=\"\",\"\",入力シート!J252)","v":""},{"$f":"IF(入力シート!K252=\"\",\"\",入力シート!K252)","v":""},{"$f":"IF(入力シート!L252=\"\",\"\",入力シート!L252)","v":""},{"$f":"IF(入力シート!M252=\"\",\"\",入力シート!M252)","v":""},{"$f":"IF(入力シート!N252=\"\",\"\",入力シート!N252)","v":""},{"$f":"IF(入力シート!O252=\"\",\"\",入力シート!Q252)","v":""}]
[{"$f":"IF(入力シート!A253=\"\",\"\",入力シート!A253)","v":""},{"$f":"IF(入力シート!B253=\"\",\"\",入力シート!B253)","v":""},{"$f":"IF(入力シート!C253=\"\",\"\",入力シート!C253)","v":""},{"$f":"IF(入力シート!D253=\"\",\"\",TEXT(入力シート!D253,\"yyyy-mm-dd\"))","v":""},{"$f":"IF(入力シート!P253=\"\",\"\",TEXT(入力シート!P253,\"000-0000\"))","v":""},{"$f":"IF(入力シート!G253=\"\",\"\",入力シート!G253)","v":""},{"$f":"IF(入力シート!H253=\"\",\"\",入力シート!H253)","v":""},{"$f":"IF(入力シート!I253=\"\",\"\",入力シート!I253)","v":""},{"$f":"IF(入力シート!J253=\"\",\"\",入力シート!J253)","v":""},{"$f":"IF(入力シート!K253=\"\",\"\",入力シート!K253)","v":""},{"$f":"IF(入力シート!L253=\"\",\"\",入力シート!L253)","v":""},{"$f":"IF(入力シート!M253=\"\",\"\",入力シート!M253)","v":""},{"$f":"IF(入力シート!N253=\"\",\"\",入力シート!N253)","v":""},{"$f":"IF(入力シート!O253=\"\",\"\",入力シート!Q253)","v":""}]
[{"$f":"IF(入力シート!A254=\"\",\"\",入力シート!A254)","v":""},{"$f":"IF(入力シート!B254=\"\",\"\",入力シート!B254)","v":""},{"$f":"IF(入力シート!C254=\"\",\"\",入力シート!C254)","v":""},{"$f":"IF(入力シート!D254=\"\",\"\",TEXT(入力シート!D254,\"yyyy-mm-dd\"))","v":""},{"$f":"IF(入力シート!P254=\"\",\"\",TEXT(入力シート!P254,\"000-0000\"))","v":""},{"$f":"IF(入力シート!G254=\"\",\"\",入力シート!G254)","v":""},{"$f":"IF(入力シート!H254=\"\",\"\",入力シート!H254)","v":""},{"$f":"IF(入力シート!I254=\"\",\"\",入力シート!I254)","v":""},{"$f":"IF(入力シート!J254=\"\",\"\",入力シート!J254)","v":""},{"$f":"IF(入力シート!K254=\"\",\"\",入力シート!K254)","v":""},{"$f":"IF(入力シート!L254=\"\",\"\",入力シート!L254)","v":""},{"$f":"IF(入力シート!M254=\"\",\"\",入力シート!M254)","v":""},{"$f":"IF(入力シート!N254=\"\",\"\",入力シート!N254)","v":""},{"$f":"IF(入力シート!O254=\"\",\"\",入力シート!Q254)","v":""}]
[{"$f":"IF(入力シート!A255=\"\",\"\",入力シート!A255)","v":""},{"$f":"IF(入力シート!B255=\"\",\"\",入力シート!B255)","v":""},{"$f":"IF(入力シート!C255=\"\",\"\",入力シート!C255)","v":""},{"$f":"IF(入力シート!D255=\"\",\"\",TEXT(入力シート!D255,\"yyyy-mm-dd\"))","v":""},{"$f":"IF(入力シート!P255=\"\",\"\",TEXT(入力シート!P255,\"000-0000\"))","v":""},{"$f":"IF(入力シート!G255=\"\",\"\",入力シート!G255)","v":""},{"$f":"IF(入力シート!H255=\"\",\"\",入力シート!H255)","v":""},{"$f":"IF(入力シート!I255=\"\",\"\",入力シート!I255)","v":""},{"$f":"IF(入力シート!J255=\"\",\"\",入力シート!J255)","v":""},{"$f":"IF(入力シート!K255=\"\",\"\",入力シート!K255)","v":""},{"$f":"IF(入力シート!L255=\"\",\"\",入力シート!L255)","v":""},{"$f":"IF(入力シート!M255=\"\",\"\",入力シート!M255)","v":""},{"$f":"IF(入力シート!N255=\"\",\"\",入力シート!N255)","v":""},{"$f":"IF(入力シート!O255=\"\",\"\",入力シート!Q255)","v":""}]
[{"$f":"IF(入力シート!A256=\"\",\"\",入力シート!A256)","v":""},{"$f":"IF(入力シート!B256=\"\",\"\",入力シート!B256)","v":""},{"$f":"IF(入力シート!C256=\"\",\"\",入力シート!C256)","v":""},{"$f":"IF(入力シート!D256=\"\",\"\",TEXT(入力シート!D256,\"yyyy-mm-dd\"))","v":""},{"$f":"IF(入力シート!P256=\"\",\"\",TEXT(入力シート!P256,\"000-0000\"))","v":""},{"$f":"IF(入力シート!G256=\"\",\"\",入力シート!G256)","v":""},{"$f":"IF(入力シート!H256=\"\",\"\",入力シート!H256)","v":""},{"$f":"IF(入力シート!I256=\"\",\"\",入力シート!I256)","v":""},{"$f":"IF(入力シート!J256=\"\",\"\",入力シート!J256)","v":""},{"$f":"IF(入力シート!K256=\"\",\"\",入力シート!K256)","v":""},{"$f":"IF(入力シート!L256=\"\",\"\",入力シート!L256)","v":""},{"$f":"IF(入力シート!M256=\"\",\"\",入力シート!M256)","v":""},{"$f":"IF(入力シート!N256=\"\",\"\",入力シート!N256)","v":""},{"$f":"IF(入力シート!O256=\"\",\"\",入力シート!Q256)","v":""}]
[{"$f":"IF(入力シート!A257=\"\",\"\",入力シート!A257)","v":""},{"$f":"IF(入力シート!B257=\"\",\"\",入力シート!B257)","v":""},{"$f":"IF(入力シート!C257=\"\",\"\",入力シート!C257)","v":""},{"$f":"IF(入力シート!D257=\"\",\"\",TEXT(入力シート!D257,\"yyyy-mm-dd\"))","v":""},{"$f":"IF(入力シート!P257=\"\",\"\",TEXT(入力シート!P257,\"000-0000\"))","v":""},{"$f":"IF(入力シート!G257=\"\",\"\",入力シート!G257)","v":""},{"$f":"IF(入力シート!H257=\"\",\"\",入力シート!H257)","v":""},{"$f":"IF(入力シート!I257=\"\",\"\",入力シート!I257)","v":""},{"$f":"IF(入力シート!J257=\"\",\"\",入力シート!J257)","v":""},{"$f":"IF(入力シート!K257=\"\",\"\",入力シート!K257)","v":""},{"$f":"IF(入力シート!L257=\"\",\"\",入力シート!L257)","v":""},{"$f":"IF(入力シート!M257=\"\",\"\",入力シート!M257)","v":""},{"$f":"IF(入力シート!N257=\"\",\"\",入力シート!N257)","v":""},{"$f":"IF(入力シート!O257=\"\",\"\",入力シート!Q257)","v":""}]
[{"$f":"IF(入力シート!A258=\"\",\"\",入力シート!A258)","v":""},{"$f":"IF(入力シート!B258=\"\",\"\",入力シート!B258)","v":""},{"$f":"IF(入力シート!C258=\"\",\"\",入力シート!C258)","v":""},{"$f":"IF(入力シート!D258=\"\",\"\",TEXT(入力シート!D258,\"yyyy-mm-dd\"))","v":""},{"$f":"IF(入力シート!P258=\"\",\"\",TEXT(入力シート!P258,\"000-0000\"))","v":""},{"$f":"IF(入力シート!G258=\"\",\"\",入力シート!G258)","v":""},{"$f":"IF(入力シート!H258=\"\",\"\",入力シート!H258)","v":""},{"$f":"IF(入力シート!I258=\"\",\"\",入力シート!I258)","v":""},{"$f":"IF(入力シート!J258=\"\",\"\",入力シート!J258)","v":""},{"$f":"IF(入力シート!K258=\"\",\"\",入力シート!K258)","v":""},{"$f":"IF(入力シート!L258=\"\",\"\",入力シート!L258)","v":""},{"$f":"IF(入力シート!M258=\"\",\"\",入力シート!M258)","v":""},{"$f":"IF(入力シート!N258=\"\",\"\",入力シート!N258)","v":""},{"$f":"IF(入力シート!O258=\"\",\"\",入力シート!Q258)","v":""}]
[{"$f":"IF(入力シート!A259=\"\",\"\",入力シート!A259)","v":""},{"$f":"IF(入力シート!B259=\"\",\"\",入力シート!B259)","v":""},{"$f":"IF(入力シート!C259=\"\",\"\",入力シート!C259)","v":""},{"$f":"IF(入力シート!D259=\"\",\"\",TEXT(入力シート!D259,\"yyyy-mm-dd\"))","v":""},{"$f":"IF(入力シート!P259=\"\",\"\",TEXT(入力シート!P259,\"000-0000\"))","v":""},{"$f":"IF(入力シート!G259=\"\",\"\",入力シート!G259)","v":""},{"$f":"IF(入力シート!H259=\"\",\"\",入力シート!H259)","v":""},{"$f":"IF(入力シート!I259=\"\",\"\",入力シート!I259)","v":""},{"$f":"IF(入力シート!J259=\"\",\"\",入力シート!J259)","v":""},{"$f":"IF(入力シート!K259=\"\",\"\",入力シート!K259)","v":""},{"$f":"IF(入力シート!L259=\"\",\"\",入力シート!L259)","v":""},{"$f":"IF(入力シート!M259=\"\",\"\",入力シート!M259)","v":""},{"$f":"IF(入力シート!N259=\"\",\"\",入力シート!N259)","v":""},{"$f":"IF(入力シート!O259=\"\",\"\",入力シート!Q259)","v":""}]
[{"$f":"IF(入力シート!A260=\"\",\"\",入力シート!A260)","v":""},{"$f":"IF(入力シート!B260=\"\",\"\",入力シート!B260)","v":""},{"$f":"IF(入力シート!C260=\"\",\"\",入力シート!C260)","v":""},{"$f":"IF(入力シート!D260=\"\",\"\",TEXT(入力シート!D260,\"yyyy-mm-dd\"))","v":""},{"$f":"IF(入力シート!P260=\"\",\"\",TEXT(入力シート!P260,\"000-0000\"))","v":""},{"$f":"IF(入力シート!G260=\"\",\"\",入力シート!G260)","v":""},{"$f":"IF(入力シート!H260=\"\",\"\",入力シート!H260)","v":""},{"$f":"IF(入力シート!I260=\"\",\"\",入力シート!I260)","v":""},{"$f":"IF(入力シート!J260=\"\",\"\",入力シート!J260)","v":""},{"$f":"IF(入力シート!K260=\"\",\"\",入力シート!K260)","v":""},{"$f":"IF(入力シート!L260=\"\",\"\",入力シート!L260)","v":""},{"$f":"IF(入力シート!M260=\"\",\"\",入力シート!M260)","v":""},{"$f":"IF(入力シート!N260=\"\",\"\",入力シート!N260)","v":""},{"$f":"IF(入力シート!O260=\"\",\"\",入力シート!Q260)","v":""}]
[{"$f":"IF(入力シート!A261=\"\",\"\",入力シート!A261)","v":""},{"$f":"IF(入力シート!B261=\"\",\"\",入力シート!B261)","v":""},{"$f":"IF(入力シート!C261=\"\",\"\",入力シート!C261)","v":""},{"$f":"IF(入力シート!D261=\"\",\"\",TEXT(入力シート!D261,\"yyyy-mm-dd\"))","v":""},{"$f":"IF(入力シート!P261=\"\",\"\",TEXT(入力シート!P261,\"000-0000\"))","v":""},{"$f":"IF(入力シート!G261=\"\",\"\",入力シート!G261)","v":""},{"$f":"IF(入力シート!H261=\"\",\"\",入力シート!H261)","v":""},{"$f":"IF(入力シート!I261=\"\",\"\",入力シート!I261)","v":""},{"$f":"IF(入力シート!J261=\"\",\"\",入力シート!J261)","v":""},{"$f":"IF(入力シート!K261=\"\",\"\",入力シート!K261)","v":""},{"$f":"IF(入力シート!L261=\"\",\"\",入力シート!L261)","v":""},{"$f":"IF(入力シート!M261=\"\",\"\",入力シート!M261)","v":""},{"$f":"IF(入力シート!N261=\"\",\"\",入力シート!N261)","v":""},{"$f":"IF(入力シート!O261=\"\",\"\",入力シート!Q261)","v":""}]
[{"$f":"IF(入力シート!A262=\"\",\"\",入力シート!A262)","v":""},{"$f":"IF(入力シート!B262=\"\",\"\",入力シート!B262)","v":""},{"$f":"IF(入力シート!C262=\"\",\"\",入力シート!C262)","v":""},{"$f":"IF(入力シート!D262=\"\",\"\",TEXT(入力シート!D262,\"yyyy-mm-dd\"))","v":""},{"$f":"IF(入力シート!P262=\"\",\"\",TEXT(入力シート!P262,\"000-0000\"))","v":""},{"$f":"IF(入力シート!G262=\"\",\"\",入力シート!G262)","v":""},{"$f":"IF(入力シート!H262=\"\",\"\",入力シート!H262)","v":""},{"$f":"IF(入力シート!I262=\"\",\"\",入力シート!I262)","v":""},{"$f":"IF(入力シート!J262=\"\",\"\",入力シート!J262)","v":""},{"$f":"IF(入力シート!K262=\"\",\"\",入力シート!K262)","v":""},{"$f":"IF(入力シート!L262=\"\",\"\",入力シート!L262)","v":""},{"$f":"IF(入力シート!M262=\"\",\"\",入力シート!M262)","v":""},{"$f":"IF(入力シート!N262=\"\",\"\",入力シート!N262)","v":""},{"$f":"IF(入力シート!O262=\"\",\"\",入力シート!Q262)","v":""}]
[{"$f":"IF(入力シート!A263=\"\",\"\",入力シート!A263)","v":""},{"$f":"IF(入力シート!B263=\"\",\"\",入力シート!B263)","v":""},{"$f":"IF(入力シート!C263=\"\",\"\",入力シート!C263)","v":""},{"$f":"IF(入力シート!D263=\"\",\"\",TEXT(入力シート!D263,\"yyyy-mm-dd\"))","v":""},{"$f":"IF(入力シート!P263=\"\",\"\",TEXT(入力シート!P263,\"000-0000\"))","v":""},{"$f":"IF(入力シート!G263=\"\",\"\",入力シート!G263)","v":""},{"$f":"IF(入力シート!H263=\"\",\"\",入力シート!H263)","v":""},{"$f":"IF(入力シート!I263=\"\",\"\",入力シート!I263)","v":""},{"$f":"IF(入力シート!J263=\"\",\"\",入力シート!J263)","v":""},{"$f":"IF(入力シート!K263=\"\",\"\",入力シート!K263)","v":""},{"$f":"IF(入力シート!L263=\"\",\"\",入力シート!L263)","v":""},{"$f":"IF(入力シート!M263=\"\",\"\",入力シート!M263)","v":""},{"$f":"IF(入力シート!N263=\"\",\"\",入力シート!N263)","v":""},{"$f":"IF(入力シート!O263=\"\",\"\",入力シート!Q263)","v":""}]
[{"$f":"IF(入力シート!A264=\"\",\"\",入力シート!A264)","v":""},{"$f":"IF(入力シート!B264=\"\",\"\",入力シート!B264)","v":""},{"$f":"IF(入力シート!C264=\"\",\"\",入力シート!C264)","v":""},{"$f":"IF(入力シート!D264=\"\",\"\",TEXT(入力シート!D264,\"yyyy-mm-dd\"))","v":""},{"$f":"IF(入力シート!P264=\"\",\"\",TEXT(入力シート!P264,\"000-0000\"))","v":""},{"$f":"IF(入力シート!G264=\"\",\"\",入力シート!G264)","v":""},{"$f":"IF(入力シート!H264=\"\",\"\",入力シート!H264)","v":""},{"$f":"IF(入力シート!I264=\"\",\"\",入力シート!I264)","v":""},{"$f":"IF(入力シート!J264=\"\",\"\",入力シート!J264)","v":""},{"$f":"IF(入力シート!K264=\"\",\"\",入力シート!K264)","v":""},{"$f":"IF(入力シート!L264=\"\",\"\",入力シート!L264)","v":""},{"$f":"IF(入力シート!M264=\"\",\"\",入力シート!M264)","v":""},{"$f":"IF(入力シート!N264=\"\",\"\",入力シート!N264)","v":""},{"$f":"IF(入力シート!O264=\"\",\"\",入力シート!Q264)","v":""}]
[{"$f":"IF(入力シート!A265=\"\",\"\",入力シート!A265)","v":""},{"$f":"IF(入力シート!B265=\"\",\"\",入力シート!B265)","v":""},{"$f":"IF(入力シート!C265=\"\",\"\",入力シート!C265)","v":""},{"$f":"IF(入力シート!D265=\"\",\"\",TEXT(入力シート!D265,\"yyyy-mm-dd\"))","v":""},{"$f":"IF(入力シート!P265=\"\",\"\",TEXT(入力シート!P265,\"000-0000\"))","v":""},{"$f":"IF(入力シート!G265=\"\",\"\",入力シート!G265)","v":""},{"$f":"IF(入力シート!H265=\"\",\"\",入力シート!H265)","v":""},{"$f":"IF(入力シート!I265=\"\",\"\",入力シート!I265)","v":""},{"$f":"IF(入力シート!J265=\"\",\"\",入力シート!J265)","v":""},{"$f":"IF(入力シート!K265=\"\",\"\",入力シート!K265)","v":""},{"$f":"IF(入力シート!L265=\"\",\"\",入力シート!L265)","v":""},{"$f":"IF(入力シート!M265=\"\",\"\",入力シート!M265)","v":""},{"$f":"IF(入力シート!N265=\"\",\"\",入力シート!N265)","v":""},{"$f":"IF(入力シート!O265=\"\",\"\",入力シート!Q265)","v":""}]
[{"$f":"IF(入力シート!A266=\"\",\"\",入力シート!A266)","v":""},{"$f":"IF(入力シート!B266=\"\",\"\",入力シート!B266)","v":""},{"$f":"IF(入力シート!C266=\"\",\"\",入力シート!C266)","v":""},{"$f":"IF(入力シート!D266=\"\",\"\",TEXT(入力シート!D266,\"yyyy-mm-dd\"))","v":""},{"$f":"IF(入力シート!P266=\"\",\"\",TEXT(入力シート!P266,\"000-0000\"))","v":""},{"$f":"IF(入力シート!G266=\"\",\"\",入力シート!G266)","v":""},{"$f":"IF(入力シート!H266=\"\",\"\",入力シート!H266)","v":""},{"$f":"IF(入力シート!I266=\"\",\"\",入力シート!I266)","v":""},{"$f":"IF(入力シート!J266=\"\",\"\",入力シート!J266)","v":""},{"$f":"IF(入力シート!K266=\"\",\"\",入力シート!K266)","v":""},{"$f":"IF(入力シート!L266=\"\",\"\",入力シート!L266)","v":""},{"$f":"IF(入力シート!M266=\"\",\"\",入力シート!M266)","v":""},{"$f":"IF(入力シート!N266=\"\",\"\",入力シート!N266)","v":""},{"$f":"IF(入力シート!O266=\"\",\"\",入力シート!Q266)","v":""}]
[{"$f":"IF(入力シート!A267=\"\",\"\",入力シート!A267)","v":""},{"$f":"IF(入力シート!B267=\"\",\"\",入力シート!B267)","v":""},{"$f":"IF(入力シート!C267=\"\",\"\",入力シート!C267)","v":""},{"$f":"IF(入力シート!D267=\"\",\"\",TEXT(入力シート!D267,\"yyyy-mm-dd\"))","v":""},{"$f":"IF(入力シート!P267=\"\",\"\",TEXT(入力シート!P267,\"000-0000\"))","v":""},{"$f":"IF(入力シート!G267=\"\",\"\",入力シート!G267)","v":""},{"$f":"IF(入力シート!H267=\"\",\"\",入力シート!H267)","v":""},{"$f":"IF(入力シート!I267=\"\",\"\",入力シート!I267)","v":""},{"$f":"IF(入力シート!J267=\"\",\"\",入力シート!J267)","v":""},{"$f":"IF(入力シート!K267=\"\",\"\",入力シート!K267)","v":""},{"$f":"IF(入力シート!L267=\"\",\"\",入力シート!L267)","v":""},{"$f":"IF(入力シート!M267=\"\",\"\",入力シート!M267)","v":""},{"$f":"IF(入力シート!N267=\"\",\"\",入力シート!N267)","v":""},{"$f":"IF(入力シート!O267=\"\",\"\",入力シート!Q267)","v":""}]
[{"$f":"IF(入力シート!A268=\"\",\"\",入力シート!A268)","v":""},{"$f":"IF(入力シート!B268=\"\",\"\",入力シート!B268)","v":""},{"$f":"IF(入力シート!C268=\"\",\"\",入力シート!C268)","v":""},{"$f":"IF(入力シート!D268=\"\",\"\",TEXT(入力シート!D268,\"yyyy-mm-dd\"))","v":""},{"$f":"IF(入力シート!P268=\"\",\"\",TEXT(入力シート!P268,\"000-0000\"))","v":""},{"$f":"IF(入力シート!G268=\"\",\"\",入力シート!G268)","v":""},{"$f":"IF(入力シート!H268=\"\",\"\",入力シート!H268)","v":""},{"$f":"IF(入力シート!I268=\"\",\"\",入力シート!I268)","v":""},{"$f":"IF(入力シート!J268=\"\",\"\",入力シート!J268)","v":""},{"$f":"IF(入力シート!K268=\"\",\"\",入力シート!K268)","v":""},{"$f":"IF(入力シート!L268=\"\",\"\",入力シート!L268)","v":""},{"$f":"IF(入力シート!M268=\"\",\"\",入力シート!M268)","v":""},{"$f":"IF(入力シート!N268=\"\",\"\",入力シート!N268)","v":""},{"$f":"IF(入力シート!O268=\"\",\"\",入力シート!Q268)","v":""}]
[{"$f":"IF(入力シート!A269=\"\",\"\",入力シート!A269)","v":""},{"$f":"IF(入力シート!B269=\"\",\"\",入力シート!B269)","v":""},{"$f":"IF(入力シート!C269=\"\",\"\",入力シート!C269)","v":""},{"$f":"IF(入力シート!D269=\"\",\"\",TEXT(入力シート!D269,\"yyyy-mm-dd\"))","v":""},{"$f":"IF(入力シート!P269=\"\",\"\",TEXT(入力シート!P269,\"000-0000\"))","v":""},{"$f":"IF(入力シート!G269=\"\",\"\",入力シート!G269)","v":""},{"$f":"IF(入力シート!H269=\"\",\"\",入力シート!H269)","v":""},{"$f":"IF(入力シート!I269=\"\",\"\",入力シート!I269)","v":""},{"$f":"IF(入力シート!J269=\"\",\"\",入力シート!J269)","v":""},{"$f":"IF(入力シート!K269=\"\",\"\",入力シート!K269)","v":""},{"$f":"IF(入力シート!L269=\"\",\"\",入力シート!L269)","v":""},{"$f":"IF(入力シート!M269=\"\",\"\",入力シート!M269)","v":""},{"$f":"IF(入力シート!N269=\"\",\"\",入力シート!N269)","v":""},{"$f":"IF(入力シート!O269=\"\",\"\",入力シート!Q269)","v":""}]
[{"$f":"IF(入力シート!A270=\"\",\"\",入力シート!A270)","v":""},{"$f":"IF(入力シート!B270=\"\",\"\",入力シート!B270)","v":""},{"$f":"IF(入力シート!C270=\"\",\"\",入力シート!C270)","v":""},{"$f":"IF(入力シート!D270=\"\",\"\",TEXT(入力シート!D270,\"yyyy-mm-dd\"))","v":""},{"$f":"IF(入力シート!P270=\"\",\"\",TEXT(入力シート!P270,\"000-0000\"))","v":""},{"$f":"IF(入力シート!G270=\"\",\"\",入力シート!G270)","v":""},{"$f":"IF(入力シート!H270=\"\",\"\",入力シート!H270)","v":""},{"$f":"IF(入力シート!I270=\"\",\"\",入力シート!I270)","v":""},{"$f":"IF(入力シート!J270=\"\",\"\",入力シート!J270)","v":""},{"$f":"IF(入力シート!K270=\"\",\"\",入力シート!K270)","v":""},{"$f":"IF(入力シート!L270=\"\",\"\",入力シート!L270)","v":""},{"$f":"IF(入力シート!M270=\"\",\"\",入力シート!M270)","v":""},{"$f":"IF(入力シート!N270=\"\",\"\",入力シート!N270)","v":""},{"$f":"IF(入力シート!O270=\"\",\"\",入力シート!Q270)","v":""}]
[{"$f":"IF(入力シート!A271=\"\",\"\",入力シート!A271)","v":""},{"$f":"IF(入力シート!B271=\"\",\"\",入力シート!B271)","v":""},{"$f":"IF(入力シート!C271=\"\",\"\",入力シート!C271)","v":""},{"$f":"IF(入力シート!D271=\"\",\"\",TEXT(入力シート!D271,\"yyyy-mm-dd\"))","v":""},{"$f":"IF(入力シート!P271=\"\",\"\",TEXT(入力シート!P271,\"000-0000\"))","v":""},{"$f":"IF(入力シート!G271=\"\",\"\",入力シート!G271)","v":""},{"$f":"IF(入力シート!H271=\"\",\"\",入力シート!H271)","v":""},{"$f":"IF(入力シート!I271=\"\",\"\",入力シート!I271)","v":""},{"$f":"IF(入力シート!J271=\"\",\"\",入力シート!J271)","v":""},{"$f":"IF(入力シート!K271=\"\",\"\",入力シート!K271)","v":""},{"$f":"IF(入力シート!L271=\"\",\"\",入力シート!L271)","v":""},{"$f":"IF(入力シート!M271=\"\",\"\",入力シート!M271)","v":""},{"$f":"IF(入力シート!N271=\"\",\"\",入力シート!N271)","v":""},{"$f":"IF(入力シート!O271=\"\",\"\",入力シート!Q271)","v":""}]
[{"$f":"IF(入力シート!A272=\"\",\"\",入力シート!A272)","v":""},{"$f":"IF(入力シート!B272=\"\",\"\",入力シート!B272)","v":""},{"$f":"IF(入力シート!C272=\"\",\"\",入力シート!C272)","v":""},{"$f":"IF(入力シート!D272=\"\",\"\",TEXT(入力シート!D272,\"yyyy-mm-dd\"))","v":""},{"$f":"IF(入力シート!P272=\"\",\"\",TEXT(入力シート!P272,\"000-0000\"))","v":""},{"$f":"IF(入力シート!G272=\"\",\"\",入力シート!G272)","v":""},{"$f":"IF(入力シート!H272=\"\",\"\",入力シート!H272)","v":""},{"$f":"IF(入力シート!I272=\"\",\"\",入力シート!I272)","v":""},{"$f":"IF(入力シート!J272=\"\",\"\",入力シート!J272)","v":""},{"$f":"IF(入力シート!K272=\"\",\"\",入力シート!K272)","v":""},{"$f":"IF(入力シート!L272=\"\",\"\",入力シート!L272)","v":""},{"$f":"IF(入力シート!M272=\"\",\"\",入力シート!M272)","v":""},{"$f":"IF(入力シート!N272=\"\",\"\",入力シート!N272)","v":""},{"$f":"IF(入力シート!O272=\"\",\"\",入力シート!Q272)","v":""}]
[{"$f":"IF(入力シート!A273=\"\",\"\",入力シート!A273)","v":""},{"$f":"IF(入力シート!B273=\"\",\"\",入力シート!B273)","v":""},{"$f":"IF(入力シート!C273=\"\",\"\",入力シート!C273)","v":""},{"$f":"IF(入力シート!D273=\"\",\"\",TEXT(入力シート!D273,\"yyyy-mm-dd\"))","v":""},{"$f":"IF(入力シート!P273=\"\",\"\",TEXT(入力シート!P273,\"000-0000\"))","v":""},{"$f":"IF(入力シート!G273=\"\",\"\",入力シート!G273)","v":""},{"$f":"IF(入力シート!H273=\"\",\"\",入力シート!H273)","v":""},{"$f":"IF(入力シート!I273=\"\",\"\",入力シート!I273)","v":""},{"$f":"IF(入力シート!J273=\"\",\"\",入力シート!J273)","v":""},{"$f":"IF(入力シート!K273=\"\",\"\",入力シート!K273)","v":""},{"$f":"IF(入力シート!L273=\"\",\"\",入力シート!L273)","v":""},{"$f":"IF(入力シート!M273=\"\",\"\",入力シート!M273)","v":""},{"$f":"IF(入力シート!N273=\"\",\"\",入力シート!N273)","v":""},{"$f":"IF(入力シート!O273=\"\",\"\",入力シート!Q273)","v":""}]
[{"$f":"IF(入力シート!A274=\"\",\"\",入力シート!A274)","v":""},{"$f":"IF(入力シート!B274=\"\",\"\",入力シート!B274)","v":""},{"$f":"IF(入力シート!C274=\"\",\"\",入力シート!C274)","v":""},{"$f":"IF(入力シート!D274=\"\",\"\",TEXT(入力シート!D274,\"yyyy-mm-dd\"))","v":""},{"$f":"IF(入力シート!P274=\"\",\"\",TEXT(入力シート!P274,\"000-0000\"))","v":""},{"$f":"IF(入力シート!G274=\"\",\"\",入力シート!G274)","v":""},{"$f":"IF(入力シート!H274=\"\",\"\",入力シート!H274)","v":""},{"$f":"IF(入力シート!I274=\"\",\"\",入力シート!I274)","v":""},{"$f":"IF(入力シート!J274=\"\",\"\",入力シート!J274)","v":""},{"$f":"IF(入力シート!K274=\"\",\"\",入力シート!K274)","v":""},{"$f":"IF(入力シート!L274=\"\",\"\",入力シート!L274)","v":""},{"$f":"IF(入力シート!M274=\"\",\"\",入力シート!M274)","v":""},{"$f":"IF(入力シート!N274=\"\",\"\",入力シート!N274)","v":""},{"$f":"IF(入力シート!O274=\"\",\"\",入力シート!Q274)","v":""}]
[{"$f":"IF(入力シート!A275=\"\",\"\",入力シート!A275)","v":""},{"$f":"IF(入力シート!B275=\"\",\"\",入力シート!B275)","v":""},{"$f":"IF(入力シート!C275=\"\",\"\",入力シート!C275)","v":""},{"$f":"IF(入力シート!D275=\"\",\"\",TEXT(入力シート!D275,\"yyyy-mm-dd\"))","v":""},{"$f":"IF(入力シート!P275=\"\",\"\",TEXT(入力シート!P275,\"000-0000\"))","v":""},{"$f":"IF(入力シート!G275=\"\",\"\",入力シート!G275)","v":""},{"$f":"IF(入力シート!H275=\"\",\"\",入力シート!H275)","v":""},{"$f":"IF(入力シート!I275=\"\",\"\",入力シート!I275)","v":""},{"$f":"IF(入力シート!J275=\"\",\"\",入力シート!J275)","v":""},{"$f":"IF(入力シート!K275=\"\",\"\",入力シート!K275)","v":""},{"$f":"IF(入力シート!L275=\"\",\"\",入力シート!L275)","v":""},{"$f":"IF(入力シート!M275=\"\",\"\",入力シート!M275)","v":""},{"$f":"IF(入力シート!N275=\"\",\"\",入力シート!N275)","v":""},{"$f":"IF(入力シート!O275=\"\",\"\",入力シート!Q275)","v":""}]
[{"$f":"IF(入力シート!A276=\"\",\"\",入力シート!A276)","v":""},{"$f":"IF(入力シート!B276=\"\",\"\",入力シート!B276)","v":""},{"$f":"IF(入力シート!C276=\"\",\"\",入力シート!C276)","v":""},{"$f":"IF(入力シート!D276=\"\",\"\",TEXT(入力シート!D276,\"yyyy-mm-dd\"))","v":""},{"$f":"IF(入力シート!P276=\"\",\"\",TEXT(入力シート!P276,\"000-0000\"))","v":""},{"$f":"IF(入力シート!G276=\"\",\"\",入力シート!G276)","v":""},{"$f":"IF(入力シート!H276=\"\",\"\",入力シート!H276)","v":""},{"$f":"IF(入力シート!I276=\"\",\"\",入力シート!I276)","v":""},{"$f":"IF(入力シート!J276=\"\",\"\",入力シート!J276)","v":""},{"$f":"IF(入力シート!K276=\"\",\"\",入力シート!K276)","v":""},{"$f":"IF(入力シート!L276=\"\",\"\",入力シート!L276)","v":""},{"$f":"IF(入力シート!M276=\"\",\"\",入力シート!M276)","v":""},{"$f":"IF(入力シート!N276=\"\",\"\",入力シート!N276)","v":""},{"$f":"IF(入力シート!O276=\"\",\"\",入力シート!Q276)","v":""}]
[{"$f":"IF(入力シート!A277=\"\",\"\",入力シート!A277)","v":""},{"$f":"IF(入力シート!B277=\"\",\"\",入力シート!B277)","v":""},{"$f":"IF(入力シート!C277=\"\",\"\",入力シート!C277)","v":""},{"$f":"IF(入力シート!D277=\"\",\"\",TEXT(入力シート!D277,\"yyyy-mm-dd\"))","v":""},{"$f":"IF(入力シート!P277=\"\",\"\",TEXT(入力シート!P277,\"000-0000\"))","v":""},{"$f":"IF(入力シート!G277=\"\",\"\",入力シート!G277)","v":""},{"$f":"IF(入力シート!H277=\"\",\"\",入力シート!H277)","v":""},{"$f":"IF(入力シート!I277=\"\",\"\",入力シート!I277)","v":""},{"$f":"IF(入力シート!J277=\"\",\"\",入力シート!J277)","v":""},{"$f":"IF(入力シート!K277=\"\",\"\",入力シート!K277)","v":""},{"$f":"IF(入力シート!L277=\"\",\"\",入力シート!L277)","v":""},{"$f":"IF(入力シート!M277=\"\",\"\",入力シート!M277)","v":""},{"$f":"IF(入力シート!N277=\"\",\"\",入力シート!N277)","v":""},{"$f":"IF(入力シート!O277=\"\",\"\",入力シート!Q277)","v":""}]
[{"$f":"IF(入力シート!A278=\"\",\"\",入力シート!A278)","v":""},{"$f":"IF(入力シート!B278=\"\",\"\",入力シート!B278)","v":""},{"$f":"IF(入力シート!C278=\"\",\"\",入力シート!C278)","v":""},{"$f":"IF(入力シート!D278=\"\",\"\",TEXT(入力シート!D278,\"yyyy-mm-dd\"))","v":""},{"$f":"IF(入力シート!P278=\"\",\"\",TEXT(入力シート!P278,\"000-0000\"))","v":""},{"$f":"IF(入力シート!G278=\"\",\"\",入力シート!G278)","v":""},{"$f":"IF(入力シート!H278=\"\",\"\",入力シート!H278)","v":""},{"$f":"IF(入力シート!I278=\"\",\"\",入力シート!I278)","v":""},{"$f":"IF(入力シート!J278=\"\",\"\",入力シート!J278)","v":""},{"$f":"IF(入力シート!K278=\"\",\"\",入力シート!K278)","v":""},{"$f":"IF(入力シート!L278=\"\",\"\",入力シート!L278)","v":""},{"$f":"IF(入力シート!M278=\"\",\"\",入力シート!M278)","v":""},{"$f":"IF(入力シート!N278=\"\",\"\",入力シート!N278)","v":""},{"$f":"IF(入力シート!O278=\"\",\"\",入力シート!Q278)","v":""}]
[{"$f":"IF(入力シート!A279=\"\",\"\",入力シート!A279)","v":""},{"$f":"IF(入力シート!B279=\"\",\"\",入力シート!B279)","v":""},{"$f":"IF(入力シート!C279=\"\",\"\",入力シート!C279)","v":""},{"$f":"IF(入力シート!D279=\"\",\"\",TEXT(入力シート!D279,\"yyyy-mm-dd\"))","v":""},{"$f":"IF(入力シート!P279=\"\",\"\",TEXT(入力シート!P279,\"000-0000\"))","v":""},{"$f":"IF(入力シート!G279=\"\",\"\",入力シート!G279)","v":""},{"$f":"IF(入力シート!H279=\"\",\"\",入力シート!H279)","v":""},{"$f":"IF(入力シート!I279=\"\",\"\",入力シート!I279)","v":""},{"$f":"IF(入力シート!J279=\"\",\"\",入力シート!J279)","v":""},{"$f":"IF(入力シート!K279=\"\",\"\",入力シート!K279)","v":""},{"$f":"IF(入力シート!L279=\"\",\"\",入力シート!L279)","v":""},{"$f":"IF(入力シート!M279=\"\",\"\",入力シート!M279)","v":""},{"$f":"IF(入力シート!N279=\"\",\"\",入力シート!N279)","v":""},{"$f":"IF(入力シート!O279=\"\",\"\",入力シート!Q279)","v":""}]
[{"$f":"IF(入力シート!A280=\"\",\"\",入力シート!A280)","v":""},{"$f":"IF(入力シート!B280=\"\",\"\",入力シート!B280)","v":""},{"$f":"IF(入力シート!C280=\"\",\"\",入力シート!C280)","v":""},{"$f":"IF(入力シート!D280=\"\",\"\",TEXT(入力シート!D280,\"yyyy-mm-dd\"))","v":""},{"$f":"IF(入力シート!P280=\"\",\"\",TEXT(入力シート!P280,\"000-0000\"))","v":""},{"$f":"IF(入力シート!G280=\"\",\"\",入力シート!G280)","v":""},{"$f":"IF(入力シート!H280=\"\",\"\",入力シート!H280)","v":""},{"$f":"IF(入力シート!I280=\"\",\"\",入力シート!I280)","v":""},{"$f":"IF(入力シート!J280=\"\",\"\",入力シート!J280)","v":""},{"$f":"IF(入力シート!K280=\"\",\"\",入力シート!K280)","v":""},{"$f":"IF(入力シート!L280=\"\",\"\",入力シート!L280)","v":""},{"$f":"IF(入力シート!M280=\"\",\"\",入力シート!M280)","v":""},{"$f":"IF(入力シート!N280=\"\",\"\",入力シート!N280)","v":""},{"$f":"IF(入力シート!O280=\"\",\"\",入力シート!Q280)","v":""}]
[{"$f":"IF(入力シート!A281=\"\",\"\",入力シート!A281)","v":""},{"$f":"IF(入力シート!B281=\"\",\"\",入力シート!B281)","v":""},{"$f":"IF(入力シート!C281=\"\",\"\",入力シート!C281)","v":""},{"$f":"IF(入力シート!D281=\"\",\"\",TEXT(入力シート!D281,\"yyyy-mm-dd\"))","v":""},{"$f":"IF(入力シート!P281=\"\",\"\",TEXT(入力シート!P281,\"000-0000\"))","v":""},{"$f":"IF(入力シート!G281=\"\",\"\",入力シート!G281)","v":""},{"$f":"IF(入力シート!H281=\"\",\"\",入力シート!H281)","v":""},{"$f":"IF(入力シート!I281=\"\",\"\",入力シート!I281)","v":""},{"$f":"IF(入力シート!J281=\"\",\"\",入力シート!J281)","v":""},{"$f":"IF(入力シート!K281=\"\",\"\",入力シート!K281)","v":""},{"$f":"IF(入力シート!L281=\"\",\"\",入力シート!L281)","v":""},{"$f":"IF(入力シート!M281=\"\",\"\",入力シート!M281)","v":""},{"$f":"IF(入力シート!N281=\"\",\"\",入力シート!N281)","v":""},{"$f":"IF(入力シート!O281=\"\",\"\",入力シート!Q281)","v":""}]
[{"$f":"IF(入力シート!A282=\"\",\"\",入力シート!A282)","v":""},{"$f":"IF(入力シート!B282=\"\",\"\",入力シート!B282)","v":""},{"$f":"IF(入力シート!C282=\"\",\"\",入力シート!C282)","v":""},{"$f":"IF(入力シート!D282=\"\",\"\",TEXT(入力シート!D282,\"yyyy-mm-dd\"))","v":""},{"$f":"IF(入力シート!P282=\"\",\"\",TEXT(入力シート!P282,\"000-0000\"))","v":""},{"$f":"IF(入力シート!G282=\"\",\"\",入力シート!G282)","v":""},{"$f":"IF(入力シート!H282=\"\",\"\",入力シート!H282)","v":""},{"$f":"IF(入力シート!I282=\"\",\"\",入力シート!I282)","v":""},{"$f":"IF(入力シート!J282=\"\",\"\",入力シート!J282)","v":""},{"$f":"IF(入力シート!K282=\"\",\"\",入力シート!K282)","v":""},{"$f":"IF(入力シート!L282=\"\",\"\",入力シート!L282)","v":""},{"$f":"IF(入力シート!M282=\"\",\"\",入力シート!M282)","v":""},{"$f":"IF(入力シート!N282=\"\",\"\",入力シート!N282)","v":""},{"$f":"IF(入力シート!O282=\"\",\"\",入力シート!Q282)","v":""}]
[{"$f":"IF(入力シート!A283=\"\",\"\",入力シート!A283)","v":""},{"$f":"IF(入力シート!B283=\"\",\"\",入力シート!B283)","v":""},{"$f":"IF(入力シート!C283=\"\",\"\",入力シート!C283)","v":""},{"$f":"IF(入力シート!D283=\"\",\"\",TEXT(入力シート!D283,\"yyyy-mm-dd\"))","v":""},{"$f":"IF(入力シート!P283=\"\",\"\",TEXT(入力シート!P283,\"000-0000\"))","v":""},{"$f":"IF(入力シート!G283=\"\",\"\",入力シート!G283)","v":""},{"$f":"IF(入力シート!H283=\"\",\"\",入力シート!H283)","v":""},{"$f":"IF(入力シート!I283=\"\",\"\",入力シート!I283)","v":""},{"$f":"IF(入力シート!J283=\"\",\"\",入力シート!J283)","v":""},{"$f":"IF(入力シート!K283=\"\",\"\",入力シート!K283)","v":""},{"$f":"IF(入力シート!L283=\"\",\"\",入力シート!L283)","v":""},{"$f":"IF(入力シート!M283=\"\",\"\",入力シート!M283)","v":""},{"$f":"IF(入力シート!N283=\"\",\"\",入力シート!N283)","v":""},{"$f":"IF(入力シート!O283=\"\",\"\",入力シート!Q283)","v":""}]
[{"$f":"IF(入力シート!A284=\"\",\"\",入力シート!A284)","v":""},{"$f":"IF(入力シート!B284=\"\",\"\",入力シート!B284)","v":""},{"$f":"IF(入力シート!C284=\"\",\"\",入力シート!C284)","v":""},{"$f":"IF(入力シート!D284=\"\",\"\",TEXT(入力シート!D284,\"yyyy-mm-dd\"))","v":""},{"$f":"IF(入力シート!P284=\"\",\"\",TEXT(入力シート!P284,\"000-0000\"))","v":""},{"$f":"IF(入力シート!G284=\"\",\"\",入力シート!G284)","v":""},{"$f":"IF(入力シート!H284=\"\",\"\",入力シート!H284)","v":""},{"$f":"IF(入力シート!I284=\"\",\"\",入力シート!I284)","v":""},{"$f":"IF(入力シート!J284=\"\",\"\",入力シート!J284)","v":""},{"$f":"IF(入力シート!K284=\"\",\"\",入力シート!K284)","v":""},{"$f":"IF(入力シート!L284=\"\",\"\",入力シート!L284)","v":""},{"$f":"IF(入力シート!M284=\"\",\"\",入力シート!M284)","v":""},{"$f":"IF(入力シート!N284=\"\",\"\",入力シート!N284)","v":""},{"$f":"IF(入力シート!O284=\"\",\"\",入力シート!Q284)","v":""}]
[{"$f":"IF(入力シート!A285=\"\",\"\",入力シート!A285)","v":""},{"$f":"IF(入力シート!B285=\"\",\"\",入力シート!B285)","v":""},{"$f":"IF(入力シート!C285=\"\",\"\",入力シート!C285)","v":""},{"$f":"IF(入力シート!D285=\"\",\"\",TEXT(入力シート!D285,\"yyyy-mm-dd\"))","v":""},{"$f":"IF(入力シート!P285=\"\",\"\",TEXT(入力シート!P285,\"000-0000\"))","v":""},{"$f":"IF(入力シート!G285=\"\",\"\",入力シート!G285)","v":""},{"$f":"IF(入力シート!H285=\"\",\"\",入力シート!H285)","v":""},{"$f":"IF(入力シート!I285=\"\",\"\",入力シート!I285)","v":""},{"$f":"IF(入力シート!J285=\"\",\"\",入力シート!J285)","v":""},{"$f":"IF(入力シート!K285=\"\",\"\",入力シート!K285)","v":""},{"$f":"IF(入力シート!L285=\"\",\"\",入力シート!L285)","v":""},{"$f":"IF(入力シート!M285=\"\",\"\",入力シート!M285)","v":""},{"$f":"IF(入力シート!N285=\"\",\"\",入力シート!N285)","v":""},{"$f":"IF(入力シート!O285=\"\",\"\",入力シート!Q285)","v":""}]
[{"$f":"IF(入力シート!A286=\"\",\"\",入力シート!A286)","v":""},{"$f":"IF(入力シート!B286=\"\",\"\",入力シート!B286)","v":""},{"$f":"IF(入力シート!C286=\"\",\"\",入力シート!C286)","v":""},{"$f":"IF(入力シート!D286=\"\",\"\",TEXT(入力シート!D286,\"yyyy-mm-dd\"))","v":""},{"$f":"IF(入力シート!P286=\"\",\"\",TEXT(入力シート!P286,\"000-0000\"))","v":""},{"$f":"IF(入力シート!G286=\"\",\"\",入力シート!G286)","v":""},{"$f":"IF(入力シート!H286=\"\",\"\",入力シート!H286)","v":""},{"$f":"IF(入力シート!I286=\"\",\"\",入力シート!I286)","v":""},{"$f":"IF(入力シート!J286=\"\",\"\",入力シート!J286)","v":""},{"$f":"IF(入力シート!K286=\"\",\"\",入力シート!K286)","v":""},{"$f":"IF(入力シート!L286=\"\",\"\",入力シート!L286)","v":""},{"$f":"IF(入力シート!M286=\"\",\"\",入力シート!M286)","v":""},{"$f":"IF(入力シート!N286=\"\",\"\",入力シート!N286)","v":""},{"$f":"IF(入力シート!O286=\"\",\"\",入力シート!Q286)","v":""}]
[{"$f":"IF(入力シート!A287=\"\",\"\",入力シート!A287)","v":""},{"$f":"IF(入力シート!B287=\"\",\"\",入力シート!B287)","v":""},{"$f":"IF(入力シート!C287=\"\",\"\",入力シート!C287)","v":""},{"$f":"IF(入力シート!D287=\"\",\"\",TEXT(入力シート!D287,\"yyyy-mm-dd\"))","v":""},{"$f":"IF(入力シート!P287=\"\",\"\",TEXT(入力シート!P287,\"000-0000\"))","v":""},{"$f":"IF(入力シート!G287=\"\",\"\",入力シート!G287)","v":""},{"$f":"IF(入力シート!H287=\"\",\"\",入力シート!H287)","v":""},{"$f":"IF(入力シート!I287=\"\",\"\",入力シート!I287)","v":""},{"$f":"IF(入力シート!J287=\"\",\"\",入力シート!J287)","v":""},{"$f":"IF(入力シート!K287=\"\",\"\",入力シート!K287)","v":""},{"$f":"IF(入力シート!L287=\"\",\"\",入力シート!L287)","v":""},{"$f":"IF(入力シート!M287=\"\",\"\",入力シート!M287)","v":""},{"$f":"IF(入力シート!N287=\"\",\"\",入力シート!N287)","v":""},{"$f":"IF(入力シート!O287=\"\",\"\",入力シート!Q287)","v":""}]
[{"$f":"IF(入力シート!A288=\"\",\"\",入力シート!A288)","v":""},{"$f":"IF(入力シート!B288=\"\",\"\",入力シート!B288)","v":""},{"$f":"IF(入力シート!C288=\"\",\"\",入力シート!C288)","v":""},{"$f":"IF(入力シート!D288=\"\",\"\",TEXT(入力シート!D288,\"yyyy-mm-dd\"))","v":""},{"$f":"IF(入力シート!P288=\"\",\"\",TEXT(入力シート!P288,\"000-0000\"))","v":""},{"$f":"IF(入力シート!G288=\"\",\"\",入力シート!G288)","v":""},{"$f":"IF(入力シート!H288=\"\",\"\",入力シート!H288)","v":""},{"$f":"IF(入力シート!I288=\"\",\"\",入力シート!I288)","v":""},{"$f":"IF(入力シート!J288=\"\",\"\",入力シート!J288)","v":""},{"$f":"IF(入力シート!K288=\"\",\"\",入力シート!K288)","v":""},{"$f":"IF(入力シート!L288=\"\",\"\",入力シート!L288)","v":""},{"$f":"IF(入力シート!M288=\"\",\"\",入力シート!M288)","v":""},{"$f":"IF(入力シート!N288=\"\",\"\",入力シート!N288)","v":""},{"$f":"IF(入力シート!O288=\"\",\"\",入力シート!Q288)","v":""}]
[{"$f":"IF(入力シート!A289=\"\",\"\",入力シート!A289)","v":""},{"$f":"IF(入力シート!B289=\"\",\"\",入力シート!B289)","v":""},{"$f":"IF(入力シート!C289=\"\",\"\",入力シート!C289)","v":""},{"$f":"IF(入力シート!D289=\"\",\"\",TEXT(入力シート!D289,\"yyyy-mm-dd\"))","v":""},{"$f":"IF(入力シート!P289=\"\",\"\",TEXT(入力シート!P289,\"000-0000\"))","v":""},{"$f":"IF(入力シート!G289=\"\",\"\",入力シート!G289)","v":""},{"$f":"IF(入力シート!H289=\"\",\"\",入力シート!H289)","v":""},{"$f":"IF(入力シート!I289=\"\",\"\",入力シート!I289)","v":""},{"$f":"IF(入力シート!J289=\"\",\"\",入力シート!J289)","v":""},{"$f":"IF(入力シート!K289=\"\",\"\",入力シート!K289)","v":""},{"$f":"IF(入力シート!L289=\"\",\"\",入力シート!L289)","v":""},{"$f":"IF(入力シート!M289=\"\",\"\",入力シート!M289)","v":""},{"$f":"IF(入力シート!N289=\"\",\"\",入力シート!N289)","v":""},{"$f":"IF(入力シート!O289=\"\",\"\",入力シート!Q289)","v":""}]
[{"$f":"IF(入力シート!A290=\"\",\"\",入力シート!A290)","v":""},{"$f":"IF(入力シート!B290=\"\",\"\",入力シート!B290)","v":""},{"$f":"IF(入力シート!C290=\"\",\"\",入力シート!C290)","v":""},{"$f":"IF(入力シート!D290=\"\",\"\",TEXT(入力シート!D290,\"yyyy-mm-dd\"))","v":""},{"$f":"IF(入力シート!P290=\"\",\"\",TEXT(入力シート!P290,\"000-0000\"))","v":""},{"$f":"IF(入力シート!G290=\"\",\"\",入力シート!G290)","v":""},{"$f":"IF(入力シート!H290=\"\",\"\",入力シート!H290)","v":""},{"$f":"IF(入力シート!I290=\"\",\"\",入力シート!I290)","v":""},{"$f":"IF(入力シート!J290=\"\",\"\",入力シート!J290)","v":""},{"$f":"IF(入力シート!K290=\"\",\"\",入力シート!K290)","v":""},{"$f":"IF(入力シート!L290=\"\",\"\",入力シート!L290)","v":""},{"$f":"IF(入力シート!M290=\"\",\"\",入力シート!M290)","v":""},{"$f":"IF(入力シート!N290=\"\",\"\",入力シート!N290)","v":""},{"$f":"IF(入力シート!O290=\"\",\"\",入力シート!Q290)","v":""}]
[{"$f":"IF(入力シート!A291=\"\",\"\",入力シート!A291)","v":""},{"$f":"IF(入力シート!B291=\"\",\"\",入力シート!B291)","v":""},{"$f":"IF(入力シート!C291=\"\",\"\",入力シート!C291)","v":""},{"$f":"IF(入力シート!D291=\"\",\"\",TEXT(入力シート!D291,\"yyyy-mm-dd\"))","v":""},{"$f":"IF(入力シート!P291=\"\",\"\",TEXT(入力シート!P291,\"000-0000\"))","v":""},{"$f":"IF(入力シート!G291=\"\",\"\",入力シート!G291)","v":""},{"$f":"IF(入力シート!H291=\"\",\"\",入力シート!H291)","v":""},{"$f":"IF(入力シート!I291=\"\",\"\",入力シート!I291)","v":""},{"$f":"IF(入力シート!J291=\"\",\"\",入力シート!J291)","v":""},{"$f":"IF(入力シート!K291=\"\",\"\",入力シート!K291)","v":""},{"$f":"IF(入力シート!L291=\"\",\"\",入力シート!L291)","v":""},{"$f":"IF(入力シート!M291=\"\",\"\",入力シート!M291)","v":""},{"$f":"IF(入力シート!N291=\"\",\"\",入力シート!N291)","v":""},{"$f":"IF(入力シート!O291=\"\",\"\",入力シート!Q291)","v":""}]
[{"$f":"IF(入力シート!A292=\"\",\"\",入力シート!A292)","v":""},{"$f":"IF(入力シート!B292=\"\",\"\",入力シート!B292)","v":""},{"$f":"IF(入力シート!C292=\"\",\"\",入力シート!C292)","v":""},{"$f":"IF(入力シート!D292=\"\",\"\",TEXT(入力シート!D292,\"yyyy-mm-dd\"))","v":""},{"$f":"IF(入力シート!P292=\"\",\"\",TEXT(入力シート!P292,\"000-0000\"))","v":""},{"$f":"IF(入力シート!G292=\"\",\"\",入力シート!G292)","v":""},{"$f":"IF(入力シート!H292=\"\",\"\",入力シート!H292)","v":""},{"$f":"IF(入力シート!I292=\"\",\"\",入力シート!I292)","v":""},{"$f":"IF(入力シート!J292=\"\",\"\",入力シート!J292)","v":""},{"$f":"IF(入力シート!K292=\"\",\"\",入力シート!K292)","v":""},{"$f":"IF(入力シート!L292=\"\",\"\",入力シート!L292)","v":""},{"$f":"IF(入力シート!M292=\"\",\"\",入力シート!M292)","v":""},{"$f":"IF(入力シート!N292=\"\",\"\",入力シート!N292)","v":""},{"$f":"IF(入力シート!O292=\"\",\"\",入力シート!Q292)","v":""}]
[{"$f":"IF(入力シート!A293=\"\",\"\",入力シート!A293)","v":""},{"$f":"IF(入力シート!B293=\"\",\"\",入力シート!B293)","v":""},{"$f":"IF(入力シート!C293=\"\",\"\",入力シート!C293)","v":""},{"$f":"IF(入力シート!D293=\"\",\"\",TEXT(入力シート!D293,\"yyyy-mm-dd\"))","v":""},{"$f":"IF(入力シート!P293=\"\",\"\",TEXT(入力シート!P293,\"000-0000\"))","v":""},{"$f":"IF(入力シート!G293=\"\",\"\",入力シート!G293)","v":""},{"$f":"IF(入力シート!H293=\"\",\"\",入力シート!H293)","v":""},{"$f":"IF(入力シート!I293=\"\",\"\",入力シート!I293)","v":""},{"$f":"IF(入力シート!J293=\"\",\"\",入力シート!J293)","v":""},{"$f":"IF(入力シート!K293=\"\",\"\",入力シート!K293)","v":""},{"$f":"IF(入力シート!L293=\"\",\"\",入力シート!L293)","v":""},{"$f":"IF(入力シート!M293=\"\",\"\",入力シート!M293)","v":""},{"$f":"IF(入力シート!N293=\"\",\"\",入力シート!N293)","v":""},{"$f":"IF(入力シート!O293=\"\",\"\",入力シート!Q293)","v":""}]
[{"$f":"IF(入力シート!A294=\"\",\"\",入力シート!A294)","v":""},{"$f":"IF(入力シート!B294=\"\",\"\",入力シート!B294)","v":""},{"$f":"IF(入力シート!C294=\"\",\"\",入力シート!C294)","v":""},{"$f":"IF(入力シート!D294=\"\",\"\",TEXT(入力シート!D294,\"yyyy-mm-dd\"))","v":""},{"$f":"IF(入力シート!P294=\"\",\"\",TEXT(入力シート!P294,\"000-0000\"))","v":""},{"$f":"IF(入力シート!G294=\"\",\"\",入力シート!G294)","v":""},{"$f":"IF(入力シート!H294=\"\",\"\",入力シート!H294)","v":""},{"$f":"IF(入力シート!I294=\"\",\"\",入力シート!I294)","v":""},{"$f":"IF(入力シート!J294=\"\",\"\",入力シート!J294)","v":""},{"$f":"IF(入力シート!K294=\"\",\"\",入力シート!K294)","v":""},{"$f":"IF(入力シート!L294=\"\",\"\",入力シート!L294)","v":""},{"$f":"IF(入力シート!M294=\"\",\"\",入力シート!M294)","v":""},{"$f":"IF(入力シート!N294=\"\",\"\",入力シート!N294)","v":""},{"$f":"IF(入力シート!O294=\"\",\"\",入力シート!Q294)","v":""}]
[{"$f":"IF(入力シート!A295=\"\",\"\",入力シート!A295)","v":""},{"$f":"IF(入力シート!B295=\"\",\"\",入力シート!B295)","v":""},{"$f":"IF(入力シート!C295=\"\",\"\",入力シート!C295)","v":""},{"$f":"IF(入力シート!D295=\"\",\"\",TEXT(入力シート!D295,\"yyyy-mm-dd\"))","v":""},{"$f":"IF(入力シート!P295=\"\",\"\",TEXT(入力シート!P295,\"000-0000\"))","v":""},{"$f":"IF(入力シート!G295=\"\",\"\",入力シート!G295)","v":""},{"$f":"IF(入力シート!H295=\"\",\"\",入力シート!H295)","v":""},{"$f":"IF(入力シート!I295=\"\",\"\",入力シート!I295)","v":""},{"$f":"IF(入力シート!J295=\"\",\"\",入力シート!J295)","v":""},{"$f":"IF(入力シート!K295=\"\",\"\",入力シート!K295)","v":""},{"$f":"IF(入力シート!L295=\"\",\"\",入力シート!L295)","v":""},{"$f":"IF(入力シート!M295=\"\",\"\",入力シート!M295)","v":""},{"$f":"IF(入力シート!N295=\"\",\"\",入力シート!N295)","v":""},{"$f":"IF(入力シート!O295=\"\",\"\",入力シート!Q295)","v":""}]
[{"$f":"IF(入力シート!A296=\"\",\"\",入力シート!A296)","v":""},{"$f":"IF(入力シート!B296=\"\",\"\",入力シート!B296)","v":""},{"$f":"IF(入力シート!C296=\"\",\"\",入力シート!C296)","v":""},{"$f":"IF(入力シート!D296=\"\",\"\",TEXT(入力シート!D296,\"yyyy-mm-dd\"))","v":""},{"$f":"IF(入力シート!P296=\"\",\"\",TEXT(入力シート!P296,\"000-0000\"))","v":""},{"$f":"IF(入力シート!G296=\"\",\"\",入力シート!G296)","v":""},{"$f":"IF(入力シート!H296=\"\",\"\",入力シート!H296)","v":""},{"$f":"IF(入力シート!I296=\"\",\"\",入力シート!I296)","v":""},{"$f":"IF(入力シート!J296=\"\",\"\",入力シート!J296)","v":""},{"$f":"IF(入力シート!K296=\"\",\"\",入力シート!K296)","v":""},{"$f":"IF(入力シート!L296=\"\",\"\",入力シート!L296)","v":""},{"$f":"IF(入力シート!M296=\"\",\"\",入力シート!M296)","v":""},{"$f":"IF(入力シート!N296=\"\",\"\",入力シート!N296)","v":""},{"$f":"IF(入力シート!O296=\"\",\"\",入力シート!Q296)","v":""}]
[{"$f":"IF(入力シート!A297=\"\",\"\",入力シート!A297)","v":""},{"$f":"IF(入力シート!B297=\"\",\"\",入力シート!B297)","v":""},{"$f":"IF(入力シート!C297=\"\",\"\",入力シート!C297)","v":""},{"$f":"IF(入力シート!D297=\"\",\"\",TEXT(入力シート!D297,\"yyyy-mm-dd\"))","v":""},{"$f":"IF(入力シート!P297=\"\",\"\",TEXT(入力シート!P297,\"000-0000\"))","v":""},{"$f":"IF(入力シート!G297=\"\",\"\",入力シート!G297)","v":""},{"$f":"IF(入力シート!H297=\"\",\"\",入力シート!H297)","v":""},{"$f":"IF(入力シート!I297=\"\",\"\",入力シート!I297)","v":""},{"$f":"IF(入力シート!J297=\"\",\"\",入力シート!J297)","v":""},{"$f":"IF(入力シート!K297=\"\",\"\",入力シート!K297)","v":""},{"$f":"IF(入力シート!L297=\"\",\"\",入力シート!L297)","v":""},{"$f":"IF(入力シート!M297=\"\",\"\",入力シート!M297)","v":""},{"$f":"IF(入力シート!N297=\"\",\"\",入力シート!N297)","v":""},{"$f":"IF(入力シート!O297=\"\",\"\",入力シート!Q297)","v":""}]
[{"$f":"IF(入力シート!A298=\"\",\"\",入力シート!A298)","v":""},{"$f":"IF(入力シート!B298=\"\",\"\",入力シート!B298)","v":""},{"$f":"IF(入力シート!C298=\"\",\"\",入力シート!C298)","v":""},{"$f":"IF(入力シート!D298=\"\",\"\",TEXT(入力シート!D298,\"yyyy-mm-dd\"))","v":""},{"$f":"IF(入力シート!P298=\"\",\"\",TEXT(入力シート!P298,\"000-0000\"))","v":""},{"$f":"IF(入力シート!G298=\"\",\"\",入力シート!G298)","v":""},{"$f":"IF(入力シート!H298=\"\",\"\",入力シート!H298)","v":""},{"$f":"IF(入力シート!I298=\"\",\"\",入力シート!I298)","v":""},{"$f":"IF(入力シート!J298=\"\",\"\",入力シート!J298)","v":""},{"$f":"IF(入力シート!K298=\"\",\"\",入力シート!K298)","v":""},{"$f":"IF(入力シート!L298=\"\",\"\",入力シート!L298)","v":""},{"$f":"IF(入力シート!M298=\"\",\"\",入力シート!M298)","v":""},{"$f":"IF(入力シート!N298=\"\",\"\",入力シート!N298)","v":""},{"$f":"IF(入力シート!O298=\"\",\"\",入力シート!Q298)","v":""}]
[{"$f":"IF(入力シート!A299=\"\",\"\",入力シート!A299)","v":""},{"$f":"IF(入力シート!B299=\"\",\"\",入力シート!B299)","v":""},{"$f":"IF(入力シート!C299=\"\",\"\",入力シート!C299)","v":""},{"$f":"IF(入力シート!D299=\"\",\"\",TEXT(入力シート!D299,\"yyyy-mm-dd\"))","v":""},{"$f":"IF(入力シート!P299=\"\",\"\",TEXT(入力シート!P299,\"000-0000\"))","v":""},{"$f":"IF(入力シート!G299=\"\",\"\",入力シート!G299)","v":""},{"$f":"IF(入力シート!H299=\"\",\"\",入力シート!H299)","v":""},{"$f":"IF(入力シート!I299=\"\",\"\",入力シート!I299)","v":""},{"$f":"IF(入力シート!J299=\"\",\"\",入力シート!J299)","v":""},{"$f":"IF(入力シート!K299=\"\",\"\",入力シート!K299)","v":""},{"$f":"IF(入力シート!L299=\"\",\"\",入力シート!L299)","v":""},{"$f":"IF(入力シート!M299=\"\",\"\",入力シート!M299)","v":""},{"$f":"IF(入力シート!N299=\"\",\"\",入力シート!N299)","v":""},{"$f":"IF(入力シート!O299=\"\",\"\",入力シート!Q299)","v":""}]
[{"$f":"IF(入力シート!A300=\"\",\"\",入力シート!A300)","v":""},{"$f":"IF(入力シート!B300=\"\",\"\",入力シート!B300)","v":""},{"$f":"IF(入力シート!C300=\"\",\"\",入力シート!C300)","v":""},{"$f":"IF(入力シート!D300=\"\",\"\",TEXT(入力シート!D300,\"yyyy-mm-dd\"))","v":""},{"$f":"IF(入力シート!P300=\"\",\"\",TEXT(入力シート!P300,\"000-0000\"))","v":""},{"$f":"IF(入力シート!G300=\"\",\"\",入力シート!G300)","v":""},{"$f":"IF(入力シート!H300=\"\",\"\",入力シート!H300)","v":""},{"$f":"IF(入力シート!I300=\"\",\"\",入力シート!I300)","v":""},{"$f":"IF(入力シート!J300=\"\",\"\",入力シート!J300)","v":""},{"$f":"IF(入力シート!K300=\"\",\"\",入力シート!K300)","v":""},{"$f":"IF(入力シート!L300=\"\",\"\",入力シート!L300)","v":""},{"$f":"IF(入力シート!M300=\"\",\"\",入力シート!M300)","v":""},{"$f":"IF(入力シート!N300=\"\",\"\",入力シート!N300)","v":""},{"$f":"IF(入力シート!O300=\"\",\"\",入力シート!Q300)","v":""}]
[{"$f":"IF(入力シート!A301=\"\",\"\",入力シート!A301)","v":""},{"$f":"IF(入力シート!B301=\"\",\"\",入力シート!B301)","v":""},{"$f":"IF(入力シート!C301=\"\",\"\",入力シート!C301)","v":""},{"$f":"IF(入力シート!D301=\"\",\"\",TEXT(入力シート!D301,\"yyyy-mm-dd\"))","v":""},{"$f":"IF(入力シート!P301=\"\",\"\",TEXT(入力シート!P301,\"000-0000\"))","v":""},{"$f":"IF(入力シート!G301=\"\",\"\",入力シート!G301)","v":""},{"$f":"IF(入力シート!H301=\"\",\"\",入力シート!H301)","v":""},{"$f":"IF(入力シート!I301=\"\",\"\",入力シート!I301)","v":""},{"$f":"IF(入力シート!J301=\"\",\"\",入力シート!J301)","v":""},{"$f":"IF(入力シート!K301=\"\",\"\",入力シート!K301)","v":""},{"$f":"IF(入力シート!L301=\"\",\"\",入力シート!L301)","v":""},{"$f":"IF(入力シート!M301=\"\",\"\",入力シート!M301)","v":""},{"$f":"IF(入力シート!N301=\"\",\"\",入力シート!N301)","v":""},{"$f":"IF(入力シート!O301=\"\",\"\",入力シート!Q301)","v":""}]
[{"$f":"IF(入力シート!A302=\"\",\"\",入力シート!A302)","v":""},{"$f":"IF(入力シート!B302=\"\",\"\",入力シート!B302)","v":""},{"$f":"IF(入力シート!C302=\"\",\"\",入力シート!C302)","v":""},{"$f":"IF(入力シート!D302=\"\",\"\",TEXT(入力シート!D302,\"yyyy-mm-dd\"))","v":""},{"$f":"IF(入力シート!P302=\"\",\"\",TEXT(入力シート!P302,\"000-0000\"))","v":""},{"$f":"IF(入力シート!G302=\"\",\"\",入力シート!G302)","v":""},{"$f":"IF(入力シート!H302=\"\",\"\",入力シート!H302)","v":""},{"$f":"IF(入力シート!I302=\"\",\"\",入力シート!I302)","v":""},{"$f":"IF(入力シート!J302=\"\",\"\",入力シート!J302)","v":""},{"$f":"IF(入力シート!K302=\"\",\"\",入力シート!K302)","v":""},{"$f":"IF(入力シート!L302=\"\",\"\",入力シート!L302)","v":""},{"$f":"IF(入力シート!M302=\"\",\"\",入力シート!M302)","v":""},{"$f":"IF(入力シート!N302=\"\",\"\",入力シート!N302)","v":""},{"$f":"IF(入力シート!O302=\"\",\"\",入力シート!Q302)","v":""}]
[{"$f":"IF(入力シート!A303=\"\",\"\",入力シート!A303)","v":""},{"$f":"IF(入力シート!B303=\"\",\"\",入力シート!B303)","v":""},{"$f":"IF(入力シート!C303=\"\",\"\",入力シート!C303)","v":""},{"$f":"IF(入力シート!D303=\"\",\"\",TEXT(入力シート!D303,\"yyyy-mm-dd\"))","v":""},{"$f":"IF(入力シート!P303=\"\",\"\",TEXT(入力シート!P303,\"000-0000\"))","v":""},{"$f":"IF(入力シート!G303=\"\",\"\",入力シート!G303)","v":""},{"$f":"IF(入力シート!H303=\"\",\"\",入力シート!H303)","v":""},{"$f":"IF(入力シート!I303=\"\",\"\",入力シート!I303)","v":""},{"$f":"IF(入力シート!J303=\"\",\"\",入力シート!J303)","v":""},{"$f":"IF(入力シート!K303=\"\",\"\",入力シート!K303)","v":""},{"$f":"IF(入力シート!L303=\"\",\"\",入力シート!L303)","v":""},{"$f":"IF(入力シート!M303=\"\",\"\",入力シート!M303)","v":""},{"$f":"IF(入力シート!N303=\"\",\"\",入力シート!N303)","v":""},{"$f":"IF(入力シート!O303=\"\",\"\",入力シート!Q303)","v":""}]
[{"$f":"IF(入力シート!A304=\"\",\"\",入力シート!A304)","v":""},{"$f":"IF(入力シート!B304=\"\",\"\",入力シート!B304)","v":""},{"$f":"IF(入力シート!C304=\"\",\"\",入力シート!C304)","v":""},{"$f":"IF(入力シート!D304=\"\",\"\",TEXT(入力シート!D304,\"yyyy-mm-dd\"))","v":""},{"$f":"IF(入力シート!P304=\"\",\"\",TEXT(入力シート!P304,\"000-0000\"))","v":""},{"$f":"IF(入力シート!G304=\"\",\"\",入力シート!G304)","v":""},{"$f":"IF(入力シート!H304=\"\",\"\",入力シート!H304)","v":""},{"$f":"IF(入力シート!I304=\"\",\"\",入力シート!I304)","v":""},{"$f":"IF(入力シート!J304=\"\",\"\",入力シート!J304)","v":""},{"$f":"IF(入力シート!K304=\"\",\"\",入力シート!K304)","v":""},{"$f":"IF(入力シート!L304=\"\",\"\",入力シート!L304)","v":""},{"$f":"IF(入力シート!M304=\"\",\"\",入力シート!M304)","v":""},{"$f":"IF(入力シート!N304=\"\",\"\",入力シート!N304)","v":""},{"$f":"IF(入力シート!O304=\"\",\"\",入力シート!Q304)","v":""}]
[{"$f":"IF(入力シート!A305=\"\",\"\",入力シート!A305)","v":""},{"$f":"IF(入力シート!B305=\"\",\"\",入力シート!B305)","v":""},{"$f":"IF(入力シート!C305=\"\",\"\",入力シート!C305)","v":""},{"$f":"IF(入力シート!D305=\"\",\"\",TEXT(入力シート!D305,\"yyyy-mm-dd\"))","v":""},{"$f":"IF(入力シート!P305=\"\",\"\",TEXT(入力シート!P305,\"000-0000\"))","v":""},{"$f":"IF(入力シート!G305=\"\",\"\",入力シート!G305)","v":""},{"$f":"IF(入力シート!H305=\"\",\"\",入力シート!H305)","v":""},{"$f":"IF(入力シート!I305=\"\",\"\",入力シート!I305)","v":""},{"$f":"IF(入力シート!J305=\"\",\"\",入力シート!J305)","v":""},{"$f":"IF(入力シート!K305=\"\",\"\",入力シート!K305)","v":""},{"$f":"IF(入力シート!L305=\"\",\"\",入力シート!L305)","v":""},{"$f":"IF(入力シート!M305=\"\",\"\",入力シート!M305)","v":""},{"$f":"IF(入力シート!N305=\"\",\"\",入力シート!N305)","v":""},{"$f":"IF(入力シート!O305=\"\",\"\",入力シート!Q305)","v":""}]
[{"$f":"IF(入力シート!A306=\"\",\"\",入力シート!A306)","v":""},{"$f":"IF(入力シート!B306=\"\",\"\",入力シート!B306)","v":""},{"$f":"IF(入力シート!C306=\"\",\"\",入力シート!C306)","v":""},{"$f":"IF(入力シート!D306=\"\",\"\",TEXT(入力シート!D306,\"yyyy-mm-dd\"))","v":""},{"$f":"IF(入力シート!P306=\"\",\"\",TEXT(入力シート!P306,\"000-0000\"))","v":""},{"$f":"IF(入力シート!G306=\"\",\"\",入力シート!G306)","v":""},{"$f":"IF(入力シート!H306=\"\",\"\",入力シート!H306)","v":""},{"$f":"IF(入力シート!I306=\"\",\"\",入力シート!I306)","v":""},{"$f":"IF(入力シート!J306=\"\",\"\",入力シート!J306)","v":""},{"$f":"IF(入力シート!K306=\"\",\"\",入力シート!K306)","v":""},{"$f":"IF(入力シート!L306=\"\",\"\",入力シート!L306)","v":""},{"$f":"IF(入力シート!M306=\"\",\"\",入力シート!M306)","v":""},{"$f":"IF(入力シート!N306=\"\",\"\",入力シート!N306)","v":""},{"$f":"IF(入力シート!O306=\"\",\"\",入力シート!Q306)","v":""}]
[{"$f":"IF(入力シート!A307=\"\",\"\",入力シート!A307)","v":""},{"$f":"IF(入力シート!B307=\"\",\"\",入力シート!B307)","v":""},{"$f":"IF(入力シート!C307=\"\",\"\",入力シート!C307)","v":""},{"$f":"IF(入力シート!D307=\"\",\"\",TEXT(入力シート!D307,\"yyyy-mm-dd\"))","v":""},{"$f":"IF(入力シート!P307=\"\",\"\",TEXT(入力シート!P307,\"000-0000\"))","v":""},{"$f":"IF(入力シート!G307=\"\",\"\",入力シート!G307)","v":""},{"$f":"IF(入力シート!H307=\"\",\"\",入力シート!H307)","v":""},{"$f":"IF(入力シート!I307=\"\",\"\",入力シート!I307)","v":""},{"$f":"IF(入力シート!J307=\"\",\"\",入力シート!J307)","v":""},{"$f":"IF(入力シート!K307=\"\",\"\",入力シート!K307)","v":""},{"$f":"IF(入力シート!L307=\"\",\"\",入力シート!L307)","v":""},{"$f":"IF(入力シート!M307=\"\",\"\",入力シート!M307)","v":""},{"$f":"IF(入力シート!N307=\"\",\"\",入力シート!N307)","v":""},{"$f":"IF(入力シート!O307=\"\",\"\",入力シート!Q307)","v":""}]
[{"$f":"IF(入力シート!A308=\"\",\"\",入力シート!A308)","v":""},{"$f":"IF(入力シート!B308=\"\",\"\",入力シート!B308)","v":""},{"$f":"IF(入力シート!C308=\"\",\"\",入力シート!C308)","v":""},{"$f":"IF(入力シート!D308=\"\",\"\",TEXT(入力シート!D308,\"yyyy-mm-dd\"))","v":""},{"$f":"IF(入力シート!P308=\"\",\"\",TEXT(入力シート!P308,\"000-0000\"))","v":""},{"$f":"IF(入力シート!G308=\"\",\"\",入力シート!G308)","v":""},{"$f":"IF(入力シート!H308=\"\",\"\",入力シート!H308)","v":""},{"$f":"IF(入力シート!I308=\"\",\"\",入力シート!I308)","v":""},{"$f":"IF(入力シート!J308=\"\",\"\",入力シート!J308)","v":""},{"$f":"IF(入力シート!K308=\"\",\"\",入力シート!K308)","v":""},{"$f":"IF(入力シート!L308=\"\",\"\",入力シート!L308)","v":""},{"$f":"IF(入力シート!M308=\"\",\"\",入力シート!M308)","v":""},{"$f":"IF(入力シート!N308=\"\",\"\",入力シート!N308)","v":""},{"$f":"IF(入力シート!O308=\"\",\"\",入力シート!Q308)","v":""}]
[{"$f":"IF(入力シート!A309=\"\",\"\",入力シート!A309)","v":""},{"$f":"IF(入力シート!B309=\"\",\"\",入力シート!B309)","v":""},{"$f":"IF(入力シート!C309=\"\",\"\",入力シート!C309)","v":""},{"$f":"IF(入力シート!D309=\"\",\"\",TEXT(入力シート!D309,\"yyyy-mm-dd\"))","v":""},{"$f":"IF(入力シート!P309=\"\",\"\",TEXT(入力シート!P309,\"000-0000\"))","v":""},{"$f":"IF(入力シート!G309=\"\",\"\",入力シート!G309)","v":""},{"$f":"IF(入力シート!H309=\"\",\"\",入力シート!H309)","v":""},{"$f":"IF(入力シート!I309=\"\",\"\",入力シート!I309)","v":""},{"$f":"IF(入力シート!J309=\"\",\"\",入力シート!J309)","v":""},{"$f":"IF(入力シート!K309=\"\",\"\",入力シート!K309)","v":""},{"$f":"IF(入力シート!L309=\"\",\"\",入力シート!L309)","v":""},{"$f":"IF(入力シート!M309=\"\",\"\",入力シート!M309)","v":""},{"$f":"IF(入力シート!N309=\"\",\"\",入力シート!N309)","v":""},{"$f":"IF(入力シート!O309=\"\",\"\",入力シート!Q309)","v":""}]
[{"$f":"IF(入力シート!A310=\"\",\"\",入力シート!A310)","v":""},{"$f":"IF(入力シート!B310=\"\",\"\",入力シート!B310)","v":""},{"$f":"IF(入力シート!C310=\"\",\"\",入力シート!C310)","v":""},{"$f":"IF(入力シート!D310=\"\",\"\",TEXT(入力シート!D310,\"yyyy-mm-dd\"))","v":""},{"$f":"IF(入力シート!P310=\"\",\"\",TEXT(入力シート!P310,\"000-0000\"))","v":""},{"$f":"IF(入力シート!G310=\"\",\"\",入力シート!G310)","v":""},{"$f":"IF(入力シート!H310=\"\",\"\",入力シート!H310)","v":""},{"$f":"IF(入力シート!I310=\"\",\"\",入力シート!I310)","v":""},{"$f":"IF(入力シート!J310=\"\",\"\",入力シート!J310)","v":""},{"$f":"IF(入力シート!K310=\"\",\"\",入力シート!K310)","v":""},{"$f":"IF(入力シート!L310=\"\",\"\",入力シート!L310)","v":""},{"$f":"IF(入力シート!M310=\"\",\"\",入力シート!M310)","v":""},{"$f":"IF(入力シート!N310=\"\",\"\",入力シート!N310)","v":""},{"$f":"IF(入力シート!O310=\"\",\"\",入力シート!Q310)","v":""}]
[{"$f":"IF(入力シート!A311=\"\",\"\",入力シート!A311)","v":""},{"$f":"IF(入力シート!B311=\"\",\"\",入力シート!B311)","v":""},{"$f":"IF(入力シート!C311=\"\",\"\",入力シート!C311)","v":""},{"$f":"IF(入力シート!D311=\"\",\"\",TEXT(入力シート!D311,\"yyyy-mm-dd\"))","v":""},{"$f":"IF(入力シート!P311=\"\",\"\",TEXT(入力シート!P311,\"000-0000\"))","v":""},{"$f":"IF(入力シート!G311=\"\",\"\",入力シート!G311)","v":""},{"$f":"IF(入力シート!H311=\"\",\"\",入力シート!H311)","v":""},{"$f":"IF(入力シート!I311=\"\",\"\",入力シート!I311)","v":""},{"$f":"IF(入力シート!J311=\"\",\"\",入力シート!J311)","v":""},{"$f":"IF(入力シート!K311=\"\",\"\",入力シート!K311)","v":""},{"$f":"IF(入力シート!L311=\"\",\"\",入力シート!L311)","v":""},{"$f":"IF(入力シート!M311=\"\",\"\",入力シート!M311)","v":""},{"$f":"IF(入力シート!N311=\"\",\"\",入力シート!N311)","v":""},{"$f":"IF(入力シート!O311=\"\",\"\",入力シート!Q311)","v":""}]
[{"$f":"IF(入力シート!A312=\"\",\"\",入力シート!A312)","v":""},{"$f":"IF(入力シート!B312=\"\",\"\",入力シート!B312)","v":""},{"$f":"IF(入力シート!C312=\"\",\"\",入力シート!C312)","v":""},{"$f":"IF(入力シート!D312=\"\",\"\",TEXT(入力シート!D312,\"yyyy-mm-dd\"))","v":""},{"$f":"IF(入力シート!P312=\"\",\"\",TEXT(入力シート!P312,\"000-0000\"))","v":""},{"$f":"IF(入力シート!G312=\"\",\"\",入力シート!G312)","v":""},{"$f":"IF(入力シート!H312=\"\",\"\",入力シート!H312)","v":""},{"$f":"IF(入力シート!I312=\"\",\"\",入力シート!I312)","v":""},{"$f":"IF(入力シート!J312=\"\",\"\",入力シート!J312)","v":""},{"$f":"IF(入力シート!K312=\"\",\"\",入力シート!K312)","v":""},{"$f":"IF(入力シート!L312=\"\",\"\",入力シート!L312)","v":""},{"$f":"IF(入力シート!M312=\"\",\"\",入力シート!M312)","v":""},{"$f":"IF(入力シート!N312=\"\",\"\",入力シート!N312)","v":""},{"$f":"IF(入力シート!O312=\"\",\"\",入力シート!Q312)","v":""}]
[{"$f":"IF(入力シート!A313=\"\",\"\",入力シート!A313)","v":""},{"$f":"IF(入力シート!B313=\"\",\"\",入力シート!B313)","v":""},{"$f":"IF(入力シート!C313=\"\",\"\",入力シート!C313)","v":""},{"$f":"IF(入力シート!D313=\"\",\"\",TEXT(入力シート!D313,\"yyyy-mm-dd\"))","v":""},{"$f":"IF(入力シート!P313=\"\",\"\",TEXT(入力シート!P313,\"000-0000\"))","v":""},{"$f":"IF(入力シート!G313=\"\",\"\",入力シート!G313)","v":""},{"$f":"IF(入力シート!H313=\"\",\"\",入力シート!H313)","v":""},{"$f":"IF(入力シート!I313=\"\",\"\",入力シート!I313)","v":""},{"$f":"IF(入力シート!J313=\"\",\"\",入力シート!J313)","v":""},{"$f":"IF(入力シート!K313=\"\",\"\",入力シート!K313)","v":""},{"$f":"IF(入力シート!L313=\"\",\"\",入力シート!L313)","v":""},{"$f":"IF(入力シート!M313=\"\",\"\",入力シート!M313)","v":""},{"$f":"IF(入力シート!N313=\"\",\"\",入力シート!N313)","v":""},{"$f":"IF(入力シート!O313=\"\",\"\",入力シート!Q313)","v":""}]
[{"$f":"IF(入力シート!A314=\"\",\"\",入力シート!A314)","v":""},{"$f":"IF(入力シート!B314=\"\",\"\",入力シート!B314)","v":""},{"$f":"IF(入力シート!C314=\"\",\"\",入力シート!C314)","v":""},{"$f":"IF(入力シート!D314=\"\",\"\",TEXT(入力シート!D314,\"yyyy-mm-dd\"))","v":""},{"$f":"IF(入力シート!P314=\"\",\"\",TEXT(入力シート!P314,\"000-0000\"))","v":""},{"$f":"IF(入力シート!G314=\"\",\"\",入力シート!G314)","v":""},{"$f":"IF(入力シート!H314=\"\",\"\",入力シート!H314)","v":""},{"$f":"IF(入力シート!I314=\"\",\"\",入力シート!I314)","v":""},{"$f":"IF(入力シート!J314=\"\",\"\",入力シート!J314)","v":""},{"$f":"IF(入力シート!K314=\"\",\"\",入力シート!K314)","v":""},{"$f":"IF(入力シート!L314=\"\",\"\",入力シート!L314)","v":""},{"$f":"IF(入力シート!M314=\"\",\"\",入力シート!M314)","v":""},{"$f":"IF(入力シート!N314=\"\",\"\",入力シート!N314)","v":""},{"$f":"IF(入力シート!O314=\"\",\"\",入力シート!Q314)","v":""}]
[{"$f":"IF(入力シート!A315=\"\",\"\",入力シート!A315)","v":""},{"$f":"IF(入力シート!B315=\"\",\"\",入力シート!B315)","v":""},{"$f":"IF(入力シート!C315=\"\",\"\",入力シート!C315)","v":""},{"$f":"IF(入力シート!D315=\"\",\"\",TEXT(入力シート!D315,\"yyyy-mm-dd\"))","v":""},{"$f":"IF(入力シート!P315=\"\",\"\",TEXT(入力シート!P315,\"000-0000\"))","v":""},{"$f":"IF(入力シート!G315=\"\",\"\",入力シート!G315)","v":""},{"$f":"IF(入力シート!H315=\"\",\"\",入力シート!H315)","v":""},{"$f":"IF(入力シート!I315=\"\",\"\",入力シート!I315)","v":""},{"$f":"IF(入力シート!J315=\"\",\"\",入力シート!J315)","v":""},{"$f":"IF(入力シート!K315=\"\",\"\",入力シート!K315)","v":""},{"$f":"IF(入力シート!L315=\"\",\"\",入力シート!L315)","v":""},{"$f":"IF(入力シート!M315=\"\",\"\",入力シート!M315)","v":""},{"$f":"IF(入力シート!N315=\"\",\"\",入力シート!N315)","v":""},{"$f":"IF(入力シート!O315=\"\",\"\",入力シート!Q315)","v":""}]
[{"$f":"IF(入力シート!A316=\"\",\"\",入力シート!A316)","v":""},{"$f":"IF(入力シート!B316=\"\",\"\",入力シート!B316)","v":""},{"$f":"IF(入力シート!C316=\"\",\"\",入力シート!C316)","v":""},{"$f":"IF(入力シート!D316=\"\",\"\",TEXT(入力シート!D316,\"yyyy-mm-dd\"))","v":""},{"$f":"IF(入力シート!P316=\"\",\"\",TEXT(入力シート!P316,\"000-0000\"))","v":""},{"$f":"IF(入力シート!G316=\"\",\"\",入力シート!G316)","v":""},{"$f":"IF(入力シート!H316=\"\",\"\",入力シート!H316)","v":""},{"$f":"IF(入力シート!I316=\"\",\"\",入力シート!I316)","v":""},{"$f":"IF(入力シート!J316=\"\",\"\",入力シート!J316)","v":""},{"$f":"IF(入力シート!K316=\"\",\"\",入力シート!K316)","v":""},{"$f":"IF(入力シート!L316=\"\",\"\",入力シート!L316)","v":""},{"$f":"IF(入力シート!M316=\"\",\"\",入力シート!M316)","v":""},{"$f":"IF(入力シート!N316=\"\",\"\",入力シート!N316)","v":""},{"$f":"IF(入力シート!O316=\"\",\"\",入力シート!Q316)","v":""}]
[{"$f":"IF(入力シート!A317=\"\",\"\",入力シート!A317)","v":""},{"$f":"IF(入力シート!B317=\"\",\"\",入力シート!B317)","v":""},{"$f":"IF(入力シート!C317=\"\",\"\",入力シート!C317)","v":""},{"$f":"IF(入力シート!D317=\"\",\"\",TEXT(入力シート!D317,\"yyyy-mm-dd\"))","v":""},{"$f":"IF(入力シート!P317=\"\",\"\",TEXT(入力シート!P317,\"000-0000\"))","v":""},{"$f":"IF(入力シート!G317=\"\",\"\",入力シート!G317)","v":""},{"$f":"IF(入力シート!H317=\"\",\"\",入力シート!H317)","v":""},{"$f":"IF(入力シート!I317=\"\",\"\",入力シート!I317)","v":""},{"$f":"IF(入力シート!J317=\"\",\"\",入力シート!J317)","v":""},{"$f":"IF(入力シート!K317=\"\",\"\",入力シート!K317)","v":""},{"$f":"IF(入力シート!L317=\"\",\"\",入力シート!L317)","v":""},{"$f":"IF(入力シート!M317=\"\",\"\",入力シート!M317)","v":""},{"$f":"IF(入力シート!N317=\"\",\"\",入力シート!N317)","v":""},{"$f":"IF(入力シート!O317=\"\",\"\",入力シート!Q317)","v":""}]
[{"$f":"IF(入力シート!A318=\"\",\"\",入力シート!A318)","v":""},{"$f":"IF(入力シート!B318=\"\",\"\",入力シート!B318)","v":""},{"$f":"IF(入力シート!C318=\"\",\"\",入力シート!C318)","v":""},{"$f":"IF(入力シート!D318=\"\",\"\",TEXT(入力シート!D318,\"yyyy-mm-dd\"))","v":""},{"$f":"IF(入力シート!P318=\"\",\"\",TEXT(入力シート!P318,\"000-0000\"))","v":""},{"$f":"IF(入力シート!G318=\"\",\"\",入力シート!G318)","v":""},{"$f":"IF(入力シート!H318=\"\",\"\",入力シート!H318)","v":""},{"$f":"IF(入力シート!I318=\"\",\"\",入力シート!I318)","v":""},{"$f":"IF(入力シート!J318=\"\",\"\",入力シート!J318)","v":""},{"$f":"IF(入力シート!K318=\"\",\"\",入力シート!K318)","v":""},{"$f":"IF(入力シート!L318=\"\",\"\",入力シート!L318)","v":""},{"$f":"IF(入力シート!M318=\"\",\"\",入力シート!M318)","v":""},{"$f":"IF(入力シート!N318=\"\",\"\",入力シート!N318)","v":""},{"$f":"IF(入力シート!O318=\"\",\"\",入力シート!Q318)","v":""}]
[{"$f":"IF(入力シート!A319=\"\",\"\",入力シート!A319)","v":""},{"$f":"IF(入力シート!B319=\"\",\"\",入力シート!B319)","v":""},{"$f":"IF(入力シート!C319=\"\",\"\",入力シート!C319)","v":""},{"$f":"IF(入力シート!D319=\"\",\"\",TEXT(入力シート!D319,\"yyyy-mm-dd\"))","v":""},{"$f":"IF(入力シート!P319=\"\",\"\",TEXT(入力シート!P319,\"000-0000\"))","v":""},{"$f":"IF(入力シート!G319=\"\",\"\",入力シート!G319)","v":""},{"$f":"IF(入力シート!H319=\"\",\"\",入力シート!H319)","v":""},{"$f":"IF(入力シート!I319=\"\",\"\",入力シート!I319)","v":""},{"$f":"IF(入力シート!J319=\"\",\"\",入力シート!J319)","v":""},{"$f":"IF(入力シート!K319=\"\",\"\",入力シート!K319)","v":""},{"$f":"IF(入力シート!L319=\"\",\"\",入力シート!L319)","v":""},{"$f":"IF(入力シート!M319=\"\",\"\",入力シート!M319)","v":""},{"$f":"IF(入力シート!N319=\"\",\"\",入力シート!N319)","v":""},{"$f":"IF(入力シート!O319=\"\",\"\",入力シート!Q319)","v":""}]
[{"$f":"IF(入力シート!A320=\"\",\"\",入力シート!A320)","v":""},{"$f":"IF(入力シート!B320=\"\",\"\",入力シート!B320)","v":""},{"$f":"IF(入力シート!C320=\"\",\"\",入力シート!C320)","v":""},{"$f":"IF(入力シート!D320=\"\",\"\",TEXT(入力シート!D320,\"yyyy-mm-dd\"))","v":""},{"$f":"IF(入力シート!P320=\"\",\"\",TEXT(入力シート!P320,\"000-0000\"))","v":""},{"$f":"IF(入力シート!G320=\"\",\"\",入力シート!G320)","v":""},{"$f":"IF(入力シート!H320=\"\",\"\",入力シート!H320)","v":""},{"$f":"IF(入力シート!I320=\"\",\"\",入力シート!I320)","v":""},{"$f":"IF(入力シート!J320=\"\",\"\",入力シート!J320)","v":""},{"$f":"IF(入力シート!K320=\"\",\"\",入力シート!K320)","v":""},{"$f":"IF(入力シート!L320=\"\",\"\",入力シート!L320)","v":""},{"$f":"IF(入力シート!M320=\"\",\"\",入力シート!M320)","v":""},{"$f":"IF(入力シート!N320=\"\",\"\",入力シート!N320)","v":""},{"$f":"IF(入力シート!O320=\"\",\"\",入力シート!Q320)","v":""}]
[{"$f":"IF(入力シート!A321=\"\",\"\",入力シート!A321)","v":""},{"$f":"IF(入力シート!B321=\"\",\"\",入力シート!B321)","v":""},{"$f":"IF(入力シート!C321=\"\",\"\",入力シート!C321)","v":""},{"$f":"IF(入力シート!D321=\"\",\"\",TEXT(入力シート!D321,\"yyyy-mm-dd\"))","v":""},{"$f":"IF(入力シート!P321=\"\",\"\",TEXT(入力シート!P321,\"000-0000\"))","v":""},{"$f":"IF(入力シート!G321=\"\",\"\",入力シート!G321)","v":""},{"$f":"IF(入力シート!H321=\"\",\"\",入力シート!H321)","v":""},{"$f":"IF(入力シート!I321=\"\",\"\",入力シート!I321)","v":""},{"$f":"IF(入力シート!J321=\"\",\"\",入力シート!J321)","v":""},{"$f":"IF(入力シート!K321=\"\",\"\",入力シート!K321)","v":""},{"$f":"IF(入力シート!L321=\"\",\"\",入力シート!L321)","v":""},{"$f":"IF(入力シート!M321=\"\",\"\",入力シート!M321)","v":""},{"$f":"IF(入力シート!N321=\"\",\"\",入力シート!N321)","v":""},{"$f":"IF(入力シート!O321=\"\",\"\",入力シート!Q321)","v":""}]
[{"$f":"IF(入力シート!A322=\"\",\"\",入力シート!A322)","v":""},{"$f":"IF(入力シート!B322=\"\",\"\",入力シート!B322)","v":""},{"$f":"IF(入力シート!C322=\"\",\"\",入力シート!C322)","v":""},{"$f":"IF(入力シート!D322=\"\",\"\",TEXT(入力シート!D322,\"yyyy-mm-dd\"))","v":""},{"$f":"IF(入力シート!P322=\"\",\"\",TEXT(入力シート!P322,\"000-0000\"))","v":""},{"$f":"IF(入力シート!G322=\"\",\"\",入力シート!G322)","v":""},{"$f":"IF(入力シート!H322=\"\",\"\",入力シート!H322)","v":""},{"$f":"IF(入力シート!I322=\"\",\"\",入力シート!I322)","v":""},{"$f":"IF(入力シート!J322=\"\",\"\",入力シート!J322)","v":""},{"$f":"IF(入力シート!K322=\"\",\"\",入力シート!K322)","v":""},{"$f":"IF(入力シート!L322=\"\",\"\",入力シート!L322)","v":""},{"$f":"IF(入力シート!M322=\"\",\"\",入力シート!M322)","v":""},{"$f":"IF(入力シート!N322=\"\",\"\",入力シート!N322)","v":""},{"$f":"IF(入力シート!O322=\"\",\"\",入力シート!Q322)","v":""}]
[{"$f":"IF(入力シート!A323=\"\",\"\",入力シート!A323)","v":""},{"$f":"IF(入力シート!B323=\"\",\"\",入力シート!B323)","v":""},{"$f":"IF(入力シート!C323=\"\",\"\",入力シート!C323)","v":""},{"$f":"IF(入力シート!D323=\"\",\"\",TEXT(入力シート!D323,\"yyyy-mm-dd\"))","v":""},{"$f":"IF(入力シート!P323=\"\",\"\",TEXT(入力シート!P323,\"000-0000\"))","v":""},{"$f":"IF(入力シート!G323=\"\",\"\",入力シート!G323)","v":""},{"$f":"IF(入力シート!H323=\"\",\"\",入力シート!H323)","v":""},{"$f":"IF(入力シート!I323=\"\",\"\",入力シート!I323)","v":""},{"$f":"IF(入力シート!J323=\"\",\"\",入力シート!J323)","v":""},{"$f":"IF(入力シート!K323=\"\",\"\",入力シート!K323)","v":""},{"$f":"IF(入力シート!L323=\"\",\"\",入力シート!L323)","v":""},{"$f":"IF(入力シート!M323=\"\",\"\",入力シート!M323)","v":""},{"$f":"IF(入力シート!N323=\"\",\"\",入力シート!N323)","v":""},{"$f":"IF(入力シート!O323=\"\",\"\",入力シート!Q323)","v":""}]
[{"$f":"IF(入力シート!A324=\"\",\"\",入力シート!A324)","v":""},{"$f":"IF(入力シート!B324=\"\",\"\",入力シート!B324)","v":""},{"$f":"IF(入力シート!C324=\"\",\"\",入力シート!C324)","v":""},{"$f":"IF(入力シート!D324=\"\",\"\",TEXT(入力シート!D324,\"yyyy-mm-dd\"))","v":""},{"$f":"IF(入力シート!P324=\"\",\"\",TEXT(入力シート!P324,\"000-0000\"))","v":""},{"$f":"IF(入力シート!G324=\"\",\"\",入力シート!G324)","v":""},{"$f":"IF(入力シート!H324=\"\",\"\",入力シート!H324)","v":""},{"$f":"IF(入力シート!I324=\"\",\"\",入力シート!I324)","v":""},{"$f":"IF(入力シート!J324=\"\",\"\",入力シート!J324)","v":""},{"$f":"IF(入力シート!K324=\"\",\"\",入力シート!K324)","v":""},{"$f":"IF(入力シート!L324=\"\",\"\",入力シート!L324)","v":""},{"$f":"IF(入力シート!M324=\"\",\"\",入力シート!M324)","v":""},{"$f":"IF(入力シート!N324=\"\",\"\",入力シート!N324)","v":""},{"$f":"IF(入力シート!O324=\"\",\"\",入力シート!Q324)","v":""}]
[{"$f":"IF(入力シート!A325=\"\",\"\",入力シート!A325)","v":""},{"$f":"IF(入力シート!B325=\"\",\"\",入力シート!B325)","v":""},{"$f":"IF(入力シート!C325=\"\",\"\",入力シート!C325)","v":""},{"$f":"IF(入力シート!D325=\"\",\"\",TEXT(入力シート!D325,\"yyyy-mm-dd\"))","v":""},{"$f":"IF(入力シート!P325=\"\",\"\",TEXT(入力シート!P325,\"000-0000\"))","v":""},{"$f":"IF(入力シート!G325=\"\",\"\",入力シート!G325)","v":""},{"$f":"IF(入力シート!H325=\"\",\"\",入力シート!H325)","v":""},{"$f":"IF(入力シート!I325=\"\",\"\",入力シート!I325)","v":""},{"$f":"IF(入力シート!J325=\"\",\"\",入力シート!J325)","v":""},{"$f":"IF(入力シート!K325=\"\",\"\",入力シート!K325)","v":""},{"$f":"IF(入力シート!L325=\"\",\"\",入力シート!L325)","v":""},{"$f":"IF(入力シート!M325=\"\",\"\",入力シート!M325)","v":""},{"$f":"IF(入力シート!N325=\"\",\"\",入力シート!N325)","v":""},{"$f":"IF(入力シート!O325=\"\",\"\",入力シート!Q325)","v":""}]
[{"$f":"IF(入力シート!A326=\"\",\"\",入力シート!A326)","v":""},{"$f":"IF(入力シート!B326=\"\",\"\",入力シート!B326)","v":""},{"$f":"IF(入力シート!C326=\"\",\"\",入力シート!C326)","v":""},{"$f":"IF(入力シート!D326=\"\",\"\",TEXT(入力シート!D326,\"yyyy-mm-dd\"))","v":""},{"$f":"IF(入力シート!P326=\"\",\"\",TEXT(入力シート!P326,\"000-0000\"))","v":""},{"$f":"IF(入力シート!G326=\"\",\"\",入力シート!G326)","v":""},{"$f":"IF(入力シート!H326=\"\",\"\",入力シート!H326)","v":""},{"$f":"IF(入力シート!I326=\"\",\"\",入力シート!I326)","v":""},{"$f":"IF(入力シート!J326=\"\",\"\",入力シート!J326)","v":""},{"$f":"IF(入力シート!K326=\"\",\"\",入力シート!K326)","v":""},{"$f":"IF(入力シート!L326=\"\",\"\",入力シート!L326)","v":""},{"$f":"IF(入力シート!M326=\"\",\"\",入力シート!M326)","v":""},{"$f":"IF(入力シート!N326=\"\",\"\",入力シート!N326)","v":""},{"$f":"IF(入力シート!O326=\"\",\"\",入力シート!Q326)","v":""}]
[{"$f":"IF(入力シート!A327=\"\",\"\",入力シート!A327)","v":""},{"$f":"IF(入力シート!B327=\"\",\"\",入力シート!B327)","v":""},{"$f":"IF(入力シート!C327=\"\",\"\",入力シート!C327)","v":""},{"$f":"IF(入力シート!D327=\"\",\"\",TEXT(入力シート!D327,\"yyyy-mm-dd\"))","v":""},{"$f":"IF(入力シート!P327=\"\",\"\",TEXT(入力シート!P327,\"000-0000\"))","v":""},{"$f":"IF(入力シート!G327=\"\",\"\",入力シート!G327)","v":""},{"$f":"IF(入力シート!H327=\"\",\"\",入力シート!H327)","v":""},{"$f":"IF(入力シート!I327=\"\",\"\",入力シート!I327)","v":""},{"$f":"IF(入力シート!J327=\"\",\"\",入力シート!J327)","v":""},{"$f":"IF(入力シート!K327=\"\",\"\",入力シート!K327)","v":""},{"$f":"IF(入力シート!L327=\"\",\"\",入力シート!L327)","v":""},{"$f":"IF(入力シート!M327=\"\",\"\",入力シート!M327)","v":""},{"$f":"IF(入力シート!N327=\"\",\"\",入力シート!N327)","v":""},{"$f":"IF(入力シート!O327=\"\",\"\",入力シート!Q327)","v":""}]
[{"$f":"IF(入力シート!A328=\"\",\"\",入力シート!A328)","v":""},{"$f":"IF(入力シート!B328=\"\",\"\",入力シート!B328)","v":""},{"$f":"IF(入力シート!C328=\"\",\"\",入力シート!C328)","v":""},{"$f":"IF(入力シート!D328=\"\",\"\",TEXT(入力シート!D328,\"yyyy-mm-dd\"))","v":""},{"$f":"IF(入力シート!P328=\"\",\"\",TEXT(入力シート!P328,\"000-0000\"))","v":""},{"$f":"IF(入力シート!G328=\"\",\"\",入力シート!G328)","v":""},{"$f":"IF(入力シート!H328=\"\",\"\",入力シート!H328)","v":""},{"$f":"IF(入力シート!I328=\"\",\"\",入力シート!I328)","v":""},{"$f":"IF(入力シート!J328=\"\",\"\",入力シート!J328)","v":""},{"$f":"IF(入力シート!K328=\"\",\"\",入力シート!K328)","v":""},{"$f":"IF(入力シート!L328=\"\",\"\",入力シート!L328)","v":""},{"$f":"IF(入力シート!M328=\"\",\"\",入力シート!M328)","v":""},{"$f":"IF(入力シート!N328=\"\",\"\",入力シート!N328)","v":""},{"$f":"IF(入力シート!O328=\"\",\"\",入力シート!Q328)","v":""}]
[{"$f":"IF(入力シート!A329=\"\",\"\",入力シート!A329)","v":""},{"$f":"IF(入力シート!B329=\"\",\"\",入力シート!B329)","v":""},{"$f":"IF(入力シート!C329=\"\",\"\",入力シート!C329)","v":""},{"$f":"IF(入力シート!D329=\"\",\"\",TEXT(入力シート!D329,\"yyyy-mm-dd\"))","v":""},{"$f":"IF(入力シート!P329=\"\",\"\",TEXT(入力シート!P329,\"000-0000\"))","v":""},{"$f":"IF(入力シート!G329=\"\",\"\",入力シート!G329)","v":""},{"$f":"IF(入力シート!H329=\"\",\"\",入力シート!H329)","v":""},{"$f":"IF(入力シート!I329=\"\",\"\",入力シート!I329)","v":""},{"$f":"IF(入力シート!J329=\"\",\"\",入力シート!J329)","v":""},{"$f":"IF(入力シート!K329=\"\",\"\",入力シート!K329)","v":""},{"$f":"IF(入力シート!L329=\"\",\"\",入力シート!L329)","v":""},{"$f":"IF(入力シート!M329=\"\",\"\",入力シート!M329)","v":""},{"$f":"IF(入力シート!N329=\"\",\"\",入力シート!N329)","v":""},{"$f":"IF(入力シート!O329=\"\",\"\",入力シート!Q329)","v":""}]
[{"$f":"IF(入力シート!A330=\"\",\"\",入力シート!A330)","v":""},{"$f":"IF(入力シート!B330=\"\",\"\",入力シート!B330)","v":""},{"$f":"IF(入力シート!C330=\"\",\"\",入力シート!C330)","v":""},{"$f":"IF(入力シート!D330=\"\",\"\",TEXT(入力シート!D330,\"yyyy-mm-dd\"))","v":""},{"$f":"IF(入力シート!P330=\"\",\"\",TEXT(入力シート!P330,\"000-0000\"))","v":""},{"$f":"IF(入力シート!G330=\"\",\"\",入力シート!G330)","v":""},{"$f":"IF(入力シート!H330=\"\",\"\",入力シート!H330)","v":""},{"$f":"IF(入力シート!I330=\"\",\"\",入力シート!I330)","v":""},{"$f":"IF(入力シート!J330=\"\",\"\",入力シート!J330)","v":""},{"$f":"IF(入力シート!K330=\"\",\"\",入力シート!K330)","v":""},{"$f":"IF(入力シート!L330=\"\",\"\",入力シート!L330)","v":""},{"$f":"IF(入力シート!M330=\"\",\"\",入力シート!M330)","v":""},{"$f":"IF(入力シート!N330=\"\",\"\",入力シート!N330)","v":""},{"$f":"IF(入力シート!O330=\"\",\"\",入力シート!Q330)","v":""}]
[{"$f":"IF(入力シート!A331=\"\",\"\",入力シート!A331)","v":""},{"$f":"IF(入力シート!B331=\"\",\"\",入力シート!B331)","v":""},{"$f":"IF(入力シート!C331=\"\",\"\",入力シート!C331)","v":""},{"$f":"IF(入力シート!D331=\"\",\"\",TEXT(入力シート!D331,\"yyyy-mm-dd\"))","v":""},{"$f":"IF(入力シート!P331=\"\",\"\",TEXT(入力シート!P331,\"000-0000\"))","v":""},{"$f":"IF(入力シート!G331=\"\",\"\",入力シート!G331)","v":""},{"$f":"IF(入力シート!H331=\"\",\"\",入力シート!H331)","v":""},{"$f":"IF(入力シート!I331=\"\",\"\",入力シート!I331)","v":""},{"$f":"IF(入力シート!J331=\"\",\"\",入力シート!J331)","v":""},{"$f":"IF(入力シート!K331=\"\",\"\",入力シート!K331)","v":""},{"$f":"IF(入力シート!L331=\"\",\"\",入力シート!L331)","v":""},{"$f":"IF(入力シート!M331=\"\",\"\",入力シート!M331)","v":""},{"$f":"IF(入力シート!N331=\"\",\"\",入力シート!N331)","v":""},{"$f":"IF(入力シート!O331=\"\",\"\",入力シート!Q331)","v":""}]
[{"$f":"IF(入力シート!A332=\"\",\"\",入力シート!A332)","v":""},{"$f":"IF(入力シート!B332=\"\",\"\",入力シート!B332)","v":""},{"$f":"IF(入力シート!C332=\"\",\"\",入力シート!C332)","v":""},{"$f":"IF(入力シート!D332=\"\",\"\",TEXT(入力シート!D332,\"yyyy-mm-dd\"))","v":""},{"$f":"IF(入力シート!P332=\"\",\"\",TEXT(入力シート!P332,\"000-0000\"))","v":""},{"$f":"IF(入力シート!G332=\"\",\"\",入力シート!G332)","v":""},{"$f":"IF(入力シート!H332=\"\",\"\",入力シート!H332)","v":""},{"$f":"IF(入力シート!I332=\"\",\"\",入力シート!I332)","v":""},{"$f":"IF(入力シート!J332=\"\",\"\",入力シート!J332)","v":""},{"$f":"IF(入力シート!K332=\"\",\"\",入力シート!K332)","v":""},{"$f":"IF(入力シート!L332=\"\",\"\",入力シート!L332)","v":""},{"$f":"IF(入力シート!M332=\"\",\"\",入力シート!M332)","v":""},{"$f":"IF(入力シート!N332=\"\",\"\",入力シート!N332)","v":""},{"$f":"IF(入力シート!O332=\"\",\"\",入力シート!Q332)","v":""}]
[{"$f":"IF(入力シート!A333=\"\",\"\",入力シート!A333)","v":""},{"$f":"IF(入力シート!B333=\"\",\"\",入力シート!B333)","v":""},{"$f":"IF(入力シート!C333=\"\",\"\",入力シート!C333)","v":""},{"$f":"IF(入力シート!D333=\"\",\"\",TEXT(入力シート!D333,\"yyyy-mm-dd\"))","v":""},{"$f":"IF(入力シート!P333=\"\",\"\",TEXT(入力シート!P333,\"000-0000\"))","v":""},{"$f":"IF(入力シート!G333=\"\",\"\",入力シート!G333)","v":""},{"$f":"IF(入力シート!H333=\"\",\"\",入力シート!H333)","v":""},{"$f":"IF(入力シート!I333=\"\",\"\",入力シート!I333)","v":""},{"$f":"IF(入力シート!J333=\"\",\"\",入力シート!J333)","v":""},{"$f":"IF(入力シート!K333=\"\",\"\",入力シート!K333)","v":""},{"$f":"IF(入力シート!L333=\"\",\"\",入力シート!L333)","v":""},{"$f":"IF(入力シート!M333=\"\",\"\",入力シート!M333)","v":""},{"$f":"IF(入力シート!N333=\"\",\"\",入力シート!N333)","v":""},{"$f":"IF(入力シート!O333=\"\",\"\",入力シート!Q333)","v":""}]
[{"$f":"IF(入力シート!A334=\"\",\"\",入力シート!A334)","v":""},{"$f":"IF(入力シート!B334=\"\",\"\",入力シート!B334)","v":""},{"$f":"IF(入力シート!C334=\"\",\"\",入力シート!C334)","v":""},{"$f":"IF(入力シート!D334=\"\",\"\",TEXT(入力シート!D334,\"yyyy-mm-dd\"))","v":""},{"$f":"IF(入力シート!P334=\"\",\"\",TEXT(入力シート!P334,\"000-0000\"))","v":""},{"$f":"IF(入力シート!G334=\"\",\"\",入力シート!G334)","v":""},{"$f":"IF(入力シート!H334=\"\",\"\",入力シート!H334)","v":""},{"$f":"IF(入力シート!I334=\"\",\"\",入力シート!I334)","v":""},{"$f":"IF(入力シート!J334=\"\",\"\",入力シート!J334)","v":""},{"$f":"IF(入力シート!K334=\"\",\"\",入力シート!K334)","v":""},{"$f":"IF(入力シート!L334=\"\",\"\",入力シート!L334)","v":""},{"$f":"IF(入力シート!M334=\"\",\"\",入力シート!M334)","v":""},{"$f":"IF(入力シート!N334=\"\",\"\",入力シート!N334)","v":""},{"$f":"IF(入力シート!O334=\"\",\"\",入力シート!Q334)","v":""}]
[{"$f":"IF(入力シート!A335=\"\",\"\",入力シート!A335)","v":""},{"$f":"IF(入力シート!B335=\"\",\"\",入力シート!B335)","v":""},{"$f":"IF(入力シート!C335=\"\",\"\",入力シート!C335)","v":""},{"$f":"IF(入力シート!D335=\"\",\"\",TEXT(入力シート!D335,\"yyyy-mm-dd\"))","v":""},{"$f":"IF(入力シート!P335=\"\",\"\",TEXT(入力シート!P335,\"000-0000\"))","v":""},{"$f":"IF(入力シート!G335=\"\",\"\",入力シート!G335)","v":""},{"$f":"IF(入力シート!H335=\"\",\"\",入力シート!H335)","v":""},{"$f":"IF(入力シート!I335=\"\",\"\",入力シート!I335)","v":""},{"$f":"IF(入力シート!J335=\"\",\"\",入力シート!J335)","v":""},{"$f":"IF(入力シート!K335=\"\",\"\",入力シート!K335)","v":""},{"$f":"IF(入力シート!L335=\"\",\"\",入力シート!L335)","v":""},{"$f":"IF(入力シート!M335=\"\",\"\",入力シート!M335)","v":""},{"$f":"IF(入力シート!N335=\"\",\"\",入力シート!N335)","v":""},{"$f":"IF(入力シート!O335=\"\",\"\",入力シート!Q335)","v":""}]
[{"$f":"IF(入力シート!A336=\"\",\"\",入力シート!A336)","v":""},{"$f":"IF(入力シート!B336=\"\",\"\",入力シート!B336)","v":""},{"$f":"IF(入力シート!C336=\"\",\"\",入力シート!C336)","v":""},{"$f":"IF(入力シート!D336=\"\",\"\",TEXT(入力シート!D336,\"yyyy-mm-dd\"))","v":""},{"$f":"IF(入力シート!P336=\"\",\"\",TEXT(入力シート!P336,\"000-0000\"))","v":""},{"$f":"IF(入力シート!G336=\"\",\"\",入力シート!G336)","v":""},{"$f":"IF(入力シート!H336=\"\",\"\",入力シート!H336)","v":""},{"$f":"IF(入力シート!I336=\"\",\"\",入力シート!I336)","v":""},{"$f":"IF(入力シート!J336=\"\",\"\",入力シート!J336)","v":""},{"$f":"IF(入力シート!K336=\"\",\"\",入力シート!K336)","v":""},{"$f":"IF(入力シート!L336=\"\",\"\",入力シート!L336)","v":""},{"$f":"IF(入力シート!M336=\"\",\"\",入力シート!M336)","v":""},{"$f":"IF(入力シート!N336=\"\",\"\",入力シート!N336)","v":""},{"$f":"IF(入力シート!O336=\"\",\"\",入力シート!Q336)","v":""}]
[{"$f":"IF(入力シート!A337=\"\",\"\",入力シート!A337)","v":""},{"$f":"IF(入力シート!B337=\"\",\"\",入力シート!B337)","v":""},{"$f":"IF(入力シート!C337=\"\",\"\",入力シート!C337)","v":""},{"$f":"IF(入力シート!D337=\"\",\"\",TEXT(入力シート!D337,\"yyyy-mm-dd\"))","v":""},{"$f":"IF(入力シート!P337=\"\",\"\",TEXT(入力シート!P337,\"000-0000\"))","v":""},{"$f":"IF(入力シート!G337=\"\",\"\",入力シート!G337)","v":""},{"$f":"IF(入力シート!H337=\"\",\"\",入力シート!H337)","v":""},{"$f":"IF(入力シート!I337=\"\",\"\",入力シート!I337)","v":""},{"$f":"IF(入力シート!J337=\"\",\"\",入力シート!J337)","v":""},{"$f":"IF(入力シート!K337=\"\",\"\",入力シート!K337)","v":""},{"$f":"IF(入力シート!L337=\"\",\"\",入力シート!L337)","v":""},{"$f":"IF(入力シート!M337=\"\",\"\",入力シート!M337)","v":""},{"$f":"IF(入力シート!N337=\"\",\"\",入力シート!N337)","v":""},{"$f":"IF(入力シート!O337=\"\",\"\",入力シート!Q337)","v":""}]
[{"$f":"IF(入力シート!A338=\"\",\"\",入力シート!A338)","v":""},{"$f":"IF(入力シート!B338=\"\",\"\",入力シート!B338)","v":""},{"$f":"IF(入力シート!C338=\"\",\"\",入力シート!C338)","v":""},{"$f":"IF(入力シート!D338=\"\",\"\",TEXT(入力シート!D338,\"yyyy-mm-dd\"))","v":""},{"$f":"IF(入力シート!P338=\"\",\"\",TEXT(入力シート!P338,\"000-0000\"))","v":""},{"$f":"IF(入力シート!G338=\"\",\"\",入力シート!G338)","v":""},{"$f":"IF(入力シート!H338=\"\",\"\",入力シート!H338)","v":""},{"$f":"IF(入力シート!I338=\"\",\"\",入力シート!I338)","v":""},{"$f":"IF(入力シート!J338=\"\",\"\",入力シート!J338)","v":""},{"$f":"IF(入力シート!K338=\"\",\"\",入力シート!K338)","v":""},{"$f":"IF(入力シート!L338=\"\",\"\",入力シート!L338)","v":""},{"$f":"IF(入力シート!M338=\"\",\"\",入力シート!M338)","v":""},{"$f":"IF(入力シート!N338=\"\",\"\",入力シート!N338)","v":""},{"$f":"IF(入力シート!O338=\"\",\"\",入力シート!Q338)","v":""}]
[{"$f":"IF(入力シート!A339=\"\",\"\",入力シート!A339)","v":""},{"$f":"IF(入力シート!B339=\"\",\"\",入力シート!B339)","v":""},{"$f":"IF(入力シート!C339=\"\",\"\",入力シート!C339)","v":""},{"$f":"IF(入力シート!D339=\"\",\"\",TEXT(入力シート!D339,\"yyyy-mm-dd\"))","v":""},{"$f":"IF(入力シート!P339=\"\",\"\",TEXT(入力シート!P339,\"000-0000\"))","v":""},{"$f":"IF(入力シート!G339=\"\",\"\",入力シート!G339)","v":""},{"$f":"IF(入力シート!H339=\"\",\"\",入力シート!H339)","v":""},{"$f":"IF(入力シート!I339=\"\",\"\",入力シート!I339)","v":""},{"$f":"IF(入力シート!J339=\"\",\"\",入力シート!J339)","v":""},{"$f":"IF(入力シート!K339=\"\",\"\",入力シート!K339)","v":""},{"$f":"IF(入力シート!L339=\"\",\"\",入力シート!L339)","v":""},{"$f":"IF(入力シート!M339=\"\",\"\",入力シート!M339)","v":""},{"$f":"IF(入力シート!N339=\"\",\"\",入力シート!N339)","v":""},{"$f":"IF(入力シート!O339=\"\",\"\",入力シート!Q339)","v":""}]
[{"$f":"IF(入力シート!A340=\"\",\"\",入力シート!A340)","v":""},{"$f":"IF(入力シート!B340=\"\",\"\",入力シート!B340)","v":""},{"$f":"IF(入力シート!C340=\"\",\"\",入力シート!C340)","v":""},{"$f":"IF(入力シート!D340=\"\",\"\",TEXT(入力シート!D340,\"yyyy-mm-dd\"))","v":""},{"$f":"IF(入力シート!P340=\"\",\"\",TEXT(入力シート!P340,\"000-0000\"))","v":""},{"$f":"IF(入力シート!G340=\"\",\"\",入力シート!G340)","v":""},{"$f":"IF(入力シート!H340=\"\",\"\",入力シート!H340)","v":""},{"$f":"IF(入力シート!I340=\"\",\"\",入力シート!I340)","v":""},{"$f":"IF(入力シート!J340=\"\",\"\",入力シート!J340)","v":""},{"$f":"IF(入力シート!K340=\"\",\"\",入力シート!K340)","v":""},{"$f":"IF(入力シート!L340=\"\",\"\",入力シート!L340)","v":""},{"$f":"IF(入力シート!M340=\"\",\"\",入力シート!M340)","v":""},{"$f":"IF(入力シート!N340=\"\",\"\",入力シート!N340)","v":""},{"$f":"IF(入力シート!O340=\"\",\"\",入力シート!Q340)","v":""}]
[{"$f":"IF(入力シート!A341=\"\",\"\",入力シート!A341)","v":""},{"$f":"IF(入力シート!B341=\"\",\"\",入力シート!B341)","v":""},{"$f":"IF(入力シート!C341=\"\",\"\",入力シート!C341)","v":""},{"$f":"IF(入力シート!D341=\"\",\"\",TEXT(入力シート!D341,\"yyyy-mm-dd\"))","v":""},{"$f":"IF(入力シート!P341=\"\",\"\",TEXT(入力シート!P341,\"000-0000\"))","v":""},{"$f":"IF(入力シート!G341=\"\",\"\",入力シート!G341)","v":""},{"$f":"IF(入力シート!H341=\"\",\"\",入力シート!H341)","v":""},{"$f":"IF(入力シート!I341=\"\",\"\",入力シート!I341)","v":""},{"$f":"IF(入力シート!J341=\"\",\"\",入力シート!J341)","v":""},{"$f":"IF(入力シート!K341=\"\",\"\",入力シート!K341)","v":""},{"$f":"IF(入力シート!L341=\"\",\"\",入力シート!L341)","v":""},{"$f":"IF(入力シート!M341=\"\",\"\",入力シート!M341)","v":""},{"$f":"IF(入力シート!N341=\"\",\"\",入力シート!N341)","v":""},{"$f":"IF(入力シート!O341=\"\",\"\",入力シート!Q341)","v":""}]
[{"$f":"IF(入力シート!A342=\"\",\"\",入力シート!A342)","v":""},{"$f":"IF(入力シート!B342=\"\",\"\",入力シート!B342)","v":""},{"$f":"IF(入力シート!C342=\"\",\"\",入力シート!C342)","v":""},{"$f":"IF(入力シート!D342=\"\",\"\",TEXT(入力シート!D342,\"yyyy-mm-dd\"))","v":""},{"$f":"IF(入力シート!P342=\"\",\"\",TEXT(入力シート!P342,\"000-0000\"))","v":""},{"$f":"IF(入力シート!G342=\"\",\"\",入力シート!G342)","v":""},{"$f":"IF(入力シート!H342=\"\",\"\",入力シート!H342)","v":""},{"$f":"IF(入力シート!I342=\"\",\"\",入力シート!I342)","v":""},{"$f":"IF(入力シート!J342=\"\",\"\",入力シート!J342)","v":""},{"$f":"IF(入力シート!K342=\"\",\"\",入力シート!K342)","v":""},{"$f":"IF(入力シート!L342=\"\",\"\",入力シート!L342)","v":""},{"$f":"IF(入力シート!M342=\"\",\"\",入力シート!M342)","v":""},{"$f":"IF(入力シート!N342=\"\",\"\",入力シート!N342)","v":""},{"$f":"IF(入力シート!O342=\"\",\"\",入力シート!Q342)","v":""}]
[{"$f":"IF(入力シート!A343=\"\",\"\",入力シート!A343)","v":""},{"$f":"IF(入力シート!B343=\"\",\"\",入力シート!B343)","v":""},{"$f":"IF(入力シート!C343=\"\",\"\",入力シート!C343)","v":""},{"$f":"IF(入力シート!D343=\"\",\"\",TEXT(入力シート!D343,\"yyyy-mm-dd\"))","v":""},{"$f":"IF(入力シート!P343=\"\",\"\",TEXT(入力シート!P343,\"000-0000\"))","v":""},{"$f":"IF(入力シート!G343=\"\",\"\",入力シート!G343)","v":""},{"$f":"IF(入力シート!H343=\"\",\"\",入力シート!H343)","v":""},{"$f":"IF(入力シート!I343=\"\",\"\",入力シート!I343)","v":""},{"$f":"IF(入力シート!J343=\"\",\"\",入力シート!J343)","v":""},{"$f":"IF(入力シート!K343=\"\",\"\",入力シート!K343)","v":""},{"$f":"IF(入力シート!L343=\"\",\"\",入力シート!L343)","v":""},{"$f":"IF(入力シート!M343=\"\",\"\",入力シート!M343)","v":""},{"$f":"IF(入力シート!N343=\"\",\"\",入力シート!N343)","v":""},{"$f":"IF(入力シート!O343=\"\",\"\",入力シート!Q343)","v":""}]
[{"$f":"IF(入力シート!A344=\"\",\"\",入力シート!A344)","v":""},{"$f":"IF(入力シート!B344=\"\",\"\",入力シート!B344)","v":""},{"$f":"IF(入力シート!C344=\"\",\"\",入力シート!C344)","v":""},{"$f":"IF(入力シート!D344=\"\",\"\",TEXT(入力シート!D344,\"yyyy-mm-dd\"))","v":""},{"$f":"IF(入力シート!P344=\"\",\"\",TEXT(入力シート!P344,\"000-0000\"))","v":""},{"$f":"IF(入力シート!G344=\"\",\"\",入力シート!G344)","v":""},{"$f":"IF(入力シート!H344=\"\",\"\",入力シート!H344)","v":""},{"$f":"IF(入力シート!I344=\"\",\"\",入力シート!I344)","v":""},{"$f":"IF(入力シート!J344=\"\",\"\",入力シート!J344)","v":""},{"$f":"IF(入力シート!K344=\"\",\"\",入力シート!K344)","v":""},{"$f":"IF(入力シート!L344=\"\",\"\",入力シート!L344)","v":""},{"$f":"IF(入力シート!M344=\"\",\"\",入力シート!M344)","v":""},{"$f":"IF(入力シート!N344=\"\",\"\",入力シート!N344)","v":""},{"$f":"IF(入力シート!O344=\"\",\"\",入力シート!Q344)","v":""}]
[{"$f":"IF(入力シート!A345=\"\",\"\",入力シート!A345)","v":""},{"$f":"IF(入力シート!B345=\"\",\"\",入力シート!B345)","v":""},{"$f":"IF(入力シート!C345=\"\",\"\",入力シート!C345)","v":""},{"$f":"IF(入力シート!D345=\"\",\"\",TEXT(入力シート!D345,\"yyyy-mm-dd\"))","v":""},{"$f":"IF(入力シート!P345=\"\",\"\",TEXT(入力シート!P345,\"000-0000\"))","v":""},{"$f":"IF(入力シート!G345=\"\",\"\",入力シート!G345)","v":""},{"$f":"IF(入力シート!H345=\"\",\"\",入力シート!H345)","v":""},{"$f":"IF(入力シート!I345=\"\",\"\",入力シート!I345)","v":""},{"$f":"IF(入力シート!J345=\"\",\"\",入力シート!J345)","v":""},{"$f":"IF(入力シート!K345=\"\",\"\",入力シート!K345)","v":""},{"$f":"IF(入力シート!L345=\"\",\"\",入力シート!L345)","v":""},{"$f":"IF(入力シート!M345=\"\",\"\",入力シート!M345)","v":""},{"$f":"IF(入力シート!N345=\"\",\"\",入力シート!N345)","v":""},{"$f":"IF(入力シート!O345=\"\",\"\",入力シート!Q345)","v":""}]
[{"$f":"IF(入力シート!A346=\"\",\"\",入力シート!A346)","v":""},{"$f":"IF(入力シート!B346=\"\",\"\",入力シート!B346)","v":""},{"$f":"IF(入力シート!C346=\"\",\"\",入力シート!C346)","v":""},{"$f":"IF(入力シート!D346=\"\",\"\",TEXT(入力シート!D346,\"yyyy-mm-dd\"))","v":""},{"$f":"IF(入力シート!P346=\"\",\"\",TEXT(入力シート!P346,\"000-0000\"))","v":""},{"$f":"IF(入力シート!G346=\"\",\"\",入力シート!G346)","v":""},{"$f":"IF(入力シート!H346=\"\",\"\",入力シート!H346)","v":""},{"$f":"IF(入力シート!I346=\"\",\"\",入力シート!I346)","v":""},{"$f":"IF(入力シート!J346=\"\",\"\",入力シート!J346)","v":""},{"$f":"IF(入力シート!K346=\"\",\"\",入力シート!K346)","v":""},{"$f":"IF(入力シート!L346=\"\",\"\",入力シート!L346)","v":""},{"$f":"IF(入力シート!M346=\"\",\"\",入力シート!M346)","v":""},{"$f":"IF(入力シート!N346=\"\",\"\",入力シート!N346)","v":""},{"$f":"IF(入力シート!O346=\"\",\"\",入力シート!Q346)","v":""}]
[{"$f":"IF(入力シート!A347=\"\",\"\",入力シート!A347)","v":""},{"$f":"IF(入力シート!B347=\"\",\"\",入力シート!B347)","v":""},{"$f":"IF(入力シート!C347=\"\",\"\",入力シート!C347)","v":""},{"$f":"IF(入力シート!D347=\"\",\"\",TEXT(入力シート!D347,\"yyyy-mm-dd\"))","v":""},{"$f":"IF(入力シート!P347=\"\",\"\",TEXT(入力シート!P347,\"000-0000\"))","v":""},{"$f":"IF(入力シート!G347=\"\",\"\",入力シート!G347)","v":""},{"$f":"IF(入力シート!H347=\"\",\"\",入力シート!H347)","v":""},{"$f":"IF(入力シート!I347=\"\",\"\",入力シート!I347)","v":""},{"$f":"IF(入力シート!J347=\"\",\"\",入力シート!J347)","v":""},{"$f":"IF(入力シート!K347=\"\",\"\",入力シート!K347)","v":""},{"$f":"IF(入力シート!L347=\"\",\"\",入力シート!L347)","v":""},{"$f":"IF(入力シート!M347=\"\",\"\",入力シート!M347)","v":""},{"$f":"IF(入力シート!N347=\"\",\"\",入力シート!N347)","v":""},{"$f":"IF(入力シート!O347=\"\",\"\",入力シート!Q347)","v":""}]
[{"$f":"IF(入力シート!A348=\"\",\"\",入力シート!A348)","v":""},{"$f":"IF(入力シート!B348=\"\",\"\",入力シート!B348)","v":""},{"$f":"IF(入力シート!C348=\"\",\"\",入力シート!C348)","v":""},{"$f":"IF(入力シート!D348=\"\",\"\",TEXT(入力シート!D348,\"yyyy-mm-dd\"))","v":""},{"$f":"IF(入力シート!P348=\"\",\"\",TEXT(入力シート!P348,\"000-0000\"))","v":""},{"$f":"IF(入力シート!G348=\"\",\"\",入力シート!G348)","v":""},{"$f":"IF(入力シート!H348=\"\",\"\",入力シート!H348)","v":""},{"$f":"IF(入力シート!I348=\"\",\"\",入力シート!I348)","v":""},{"$f":"IF(入力シート!J348=\"\",\"\",入力シート!J348)","v":""},{"$f":"IF(入力シート!K348=\"\",\"\",入力シート!K348)","v":""},{"$f":"IF(入力シート!L348=\"\",\"\",入力シート!L348)","v":""},{"$f":"IF(入力シート!M348=\"\",\"\",入力シート!M348)","v":""},{"$f":"IF(入力シート!N348=\"\",\"\",入力シート!N348)","v":""},{"$f":"IF(入力シート!O348=\"\",\"\",入力シート!Q348)","v":""}]
[{"$f":"IF(入力シート!A349=\"\",\"\",入力シート!A349)","v":""},{"$f":"IF(入力シート!B349=\"\",\"\",入力シート!B349)","v":""},{"$f":"IF(入力シート!C349=\"\",\"\",入力シート!C349)","v":""},{"$f":"IF(入力シート!D349=\"\",\"\",TEXT(入力シート!D349,\"yyyy-mm-dd\"))","v":""},{"$f":"IF(入力シート!P349=\"\",\"\",TEXT(入力シート!P349,\"000-0000\"))","v":""},{"$f":"IF(入力シート!G349=\"\",\"\",入力シート!G349)","v":""},{"$f":"IF(入力シート!H349=\"\",\"\",入力シート!H349)","v":""},{"$f":"IF(入力シート!I349=\"\",\"\",入力シート!I349)","v":""},{"$f":"IF(入力シート!J349=\"\",\"\",入力シート!J349)","v":""},{"$f":"IF(入力シート!K349=\"\",\"\",入力シート!K349)","v":""},{"$f":"IF(入力シート!L349=\"\",\"\",入力シート!L349)","v":""},{"$f":"IF(入力シート!M349=\"\",\"\",入力シート!M349)","v":""},{"$f":"IF(入力シート!N349=\"\",\"\",入力シート!N349)","v":""},{"$f":"IF(入力シート!O349=\"\",\"\",入力シート!Q349)","v":""}]
[{"$f":"IF(入力シート!A350=\"\",\"\",入力シート!A350)","v":""},{"$f":"IF(入力シート!B350=\"\",\"\",入力シート!B350)","v":""},{"$f":"IF(入力シート!C350=\"\",\"\",入力シート!C350)","v":""},{"$f":"IF(入力シート!D350=\"\",\"\",TEXT(入力シート!D350,\"yyyy-mm-dd\"))","v":""},{"$f":"IF(入力シート!P350=\"\",\"\",TEXT(入力シート!P350,\"000-0000\"))","v":""},{"$f":"IF(入力シート!G350=\"\",\"\",入力シート!G350)","v":""},{"$f":"IF(入力シート!H350=\"\",\"\",入力シート!H350)","v":""},{"$f":"IF(入力シート!I350=\"\",\"\",入力シート!I350)","v":""},{"$f":"IF(入力シート!J350=\"\",\"\",入力シート!J350)","v":""},{"$f":"IF(入力シート!K350=\"\",\"\",入力シート!K350)","v":""},{"$f":"IF(入力シート!L350=\"\",\"\",入力シート!L350)","v":""},{"$f":"IF(入力シート!M350=\"\",\"\",入力シート!M350)","v":""},{"$f":"IF(入力シート!N350=\"\",\"\",入力シート!N350)","v":""},{"$f":"IF(入力シート!O350=\"\",\"\",入力シート!Q350)","v":""}]
[{"$f":"IF(入力シート!A351=\"\",\"\",入力シート!A351)","v":""},{"$f":"IF(入力シート!B351=\"\",\"\",入力シート!B351)","v":""},{"$f":"IF(入力シート!C351=\"\",\"\",入力シート!C351)","v":""},{"$f":"IF(入力シート!D351=\"\",\"\",TEXT(入力シート!D351,\"yyyy-mm-dd\"))","v":""},{"$f":"IF(入力シート!P351=\"\",\"\",TEXT(入力シート!P351,\"000-0000\"))","v":""},{"$f":"IF(入力シート!G351=\"\",\"\",入力シート!G351)","v":""},{"$f":"IF(入力シート!H351=\"\",\"\",入力シート!H351)","v":""},{"$f":"IF(入力シート!I351=\"\",\"\",入力シート!I351)","v":""},{"$f":"IF(入力シート!J351=\"\",\"\",入力シート!J351)","v":""},{"$f":"IF(入力シート!K351=\"\",\"\",入力シート!K351)","v":""},{"$f":"IF(入力シート!L351=\"\",\"\",入力シート!L351)","v":""},{"$f":"IF(入力シート!M351=\"\",\"\",入力シート!M351)","v":""},{"$f":"IF(入力シート!N351=\"\",\"\",入力シート!N351)","v":""},{"$f":"IF(入力シート!O351=\"\",\"\",入力シート!Q351)","v":""}]
[{"$f":"IF(入力シート!A352=\"\",\"\",入力シート!A352)","v":""},{"$f":"IF(入力シート!B352=\"\",\"\",入力シート!B352)","v":""},{"$f":"IF(入力シート!C352=\"\",\"\",入力シート!C352)","v":""},{"$f":"IF(入力シート!D352=\"\",\"\",TEXT(入力シート!D352,\"yyyy-mm-dd\"))","v":""},{"$f":"IF(入力シート!P352=\"\",\"\",TEXT(入力シート!P352,\"000-0000\"))","v":""},{"$f":"IF(入力シート!G352=\"\",\"\",入力シート!G352)","v":""},{"$f":"IF(入力シート!H352=\"\",\"\",入力シート!H352)","v":""},{"$f":"IF(入力シート!I352=\"\",\"\",入力シート!I352)","v":""},{"$f":"IF(入力シート!J352=\"\",\"\",入力シート!J352)","v":""},{"$f":"IF(入力シート!K352=\"\",\"\",入力シート!K352)","v":""},{"$f":"IF(入力シート!L352=\"\",\"\",入力シート!L352)","v":""},{"$f":"IF(入力シート!M352=\"\",\"\",入力シート!M352)","v":""},{"$f":"IF(入力シート!N352=\"\",\"\",入力シート!N352)","v":""},{"$f":"IF(入力シート!O352=\"\",\"\",入力シート!Q352)","v":""}]
[{"$f":"IF(入力シート!A353=\"\",\"\",入力シート!A353)","v":""},{"$f":"IF(入力シート!B353=\"\",\"\",入力シート!B353)","v":""},{"$f":"IF(入力シート!C353=\"\",\"\",入力シート!C353)","v":""},{"$f":"IF(入力シート!D353=\"\",\"\",TEXT(入力シート!D353,\"yyyy-mm-dd\"))","v":""},{"$f":"IF(入力シート!P353=\"\",\"\",TEXT(入力シート!P353,\"000-0000\"))","v":""},{"$f":"IF(入力シート!G353=\"\",\"\",入力シート!G353)","v":""},{"$f":"IF(入力シート!H353=\"\",\"\",入力シート!H353)","v":""},{"$f":"IF(入力シート!I353=\"\",\"\",入力シート!I353)","v":""},{"$f":"IF(入力シート!J353=\"\",\"\",入力シート!J353)","v":""},{"$f":"IF(入力シート!K353=\"\",\"\",入力シート!K353)","v":""},{"$f":"IF(入力シート!L353=\"\",\"\",入力シート!L353)","v":""},{"$f":"IF(入力シート!M353=\"\",\"\",入力シート!M353)","v":""},{"$f":"IF(入力シート!N353=\"\",\"\",入力シート!N353)","v":""},{"$f":"IF(入力シート!O353=\"\",\"\",入力シート!Q353)","v":""}]
[{"$f":"IF(入力シート!A354=\"\",\"\",入力シート!A354)","v":""},{"$f":"IF(入力シート!B354=\"\",\"\",入力シート!B354)","v":""},{"$f":"IF(入力シート!C354=\"\",\"\",入力シート!C354)","v":""},{"$f":"IF(入力シート!D354=\"\",\"\",TEXT(入力シート!D354,\"yyyy-mm-dd\"))","v":""},{"$f":"IF(入力シート!P354=\"\",\"\",TEXT(入力シート!P354,\"000-0000\"))","v":""},{"$f":"IF(入力シート!G354=\"\",\"\",入力シート!G354)","v":""},{"$f":"IF(入力シート!H354=\"\",\"\",入力シート!H354)","v":""},{"$f":"IF(入力シート!I354=\"\",\"\",入力シート!I354)","v":""},{"$f":"IF(入力シート!J354=\"\",\"\",入力シート!J354)","v":""},{"$f":"IF(入力シート!K354=\"\",\"\",入力シート!K354)","v":""},{"$f":"IF(入力シート!L354=\"\",\"\",入力シート!L354)","v":""},{"$f":"IF(入力シート!M354=\"\",\"\",入力シート!M354)","v":""},{"$f":"IF(入力シート!N354=\"\",\"\",入力シート!N354)","v":""},{"$f":"IF(入力シート!O354=\"\",\"\",入力シート!Q354)","v":""}]
[{"$f":"IF(入力シート!A355=\"\",\"\",入力シート!A355)","v":""},{"$f":"IF(入力シート!B355=\"\",\"\",入力シート!B355)","v":""},{"$f":"IF(入力シート!C355=\"\",\"\",入力シート!C355)","v":""},{"$f":"IF(入力シート!D355=\"\",\"\",TEXT(入力シート!D355,\"yyyy-mm-dd\"))","v":""},{"$f":"IF(入力シート!P355=\"\",\"\",TEXT(入力シート!P355,\"000-0000\"))","v":""},{"$f":"IF(入力シート!G355=\"\",\"\",入力シート!G355)","v":""},{"$f":"IF(入力シート!H355=\"\",\"\",入力シート!H355)","v":""},{"$f":"IF(入力シート!I355=\"\",\"\",入力シート!I355)","v":""},{"$f":"IF(入力シート!J355=\"\",\"\",入力シート!J355)","v":""},{"$f":"IF(入力シート!K355=\"\",\"\",入力シート!K355)","v":""},{"$f":"IF(入力シート!L355=\"\",\"\",入力シート!L355)","v":""},{"$f":"IF(入力シート!M355=\"\",\"\",入力シート!M355)","v":""},{"$f":"IF(入力シート!N355=\"\",\"\",入力シート!N355)","v":""},{"$f":"IF(入力シート!O355=\"\",\"\",入力シート!Q355)","v":""}]
[{"$f":"IF(入力シート!A356=\"\",\"\",入力シート!A356)","v":""},{"$f":"IF(入力シート!B356=\"\",\"\",入力シート!B356)","v":""},{"$f":"IF(入力シート!C356=\"\",\"\",入力シート!C356)","v":""},{"$f":"IF(入力シート!D356=\"\",\"\",TEXT(入力シート!D356,\"yyyy-mm-dd\"))","v":""},{"$f":"IF(入力シート!P356=\"\",\"\",TEXT(入力シート!P356,\"000-0000\"))","v":""},{"$f":"IF(入力シート!G356=\"\",\"\",入力シート!G356)","v":""},{"$f":"IF(入力シート!H356=\"\",\"\",入力シート!H356)","v":""},{"$f":"IF(入力シート!I356=\"\",\"\",入力シート!I356)","v":""},{"$f":"IF(入力シート!J356=\"\",\"\",入力シート!J356)","v":""},{"$f":"IF(入力シート!K356=\"\",\"\",入力シート!K356)","v":""},{"$f":"IF(入力シート!L356=\"\",\"\",入力シート!L356)","v":""},{"$f":"IF(入力シート!M356=\"\",\"\",入力シート!M356)","v":""},{"$f":"IF(入力シート!N356=\"\",\"\",入力シート!N356)","v":""},{"$f":"IF(入力シート!O356=\"\",\"\",入力シート!Q356)","v":""}]
[{"$f":"IF(入力シート!A357=\"\",\"\",入力シート!A357)","v":""},{"$f":"IF(入力シート!B357=\"\",\"\",入力シート!B357)","v":""},{"$f":"IF(入力シート!C357=\"\",\"\",入力シート!C357)","v":""},{"$f":"IF(入力シート!D357=\"\",\"\",TEXT(入力シート!D357,\"yyyy-mm-dd\"))","v":""},{"$f":"IF(入力シート!P357=\"\",\"\",TEXT(入力シート!P357,\"000-0000\"))","v":""},{"$f":"IF(入力シート!G357=\"\",\"\",入力シート!G357)","v":""},{"$f":"IF(入力シート!H357=\"\",\"\",入力シート!H357)","v":""},{"$f":"IF(入力シート!I357=\"\",\"\",入力シート!I357)","v":""},{"$f":"IF(入力シート!J357=\"\",\"\",入力シート!J357)","v":""},{"$f":"IF(入力シート!K357=\"\",\"\",入力シート!K357)","v":""},{"$f":"IF(入力シート!L357=\"\",\"\",入力シート!L357)","v":""},{"$f":"IF(入力シート!M357=\"\",\"\",入力シート!M357)","v":""},{"$f":"IF(入力シート!N357=\"\",\"\",入力シート!N357)","v":""},{"$f":"IF(入力シート!O357=\"\",\"\",入力シート!Q357)","v":""}]
[{"$f":"IF(入力シート!A358=\"\",\"\",入力シート!A358)","v":""},{"$f":"IF(入力シート!B358=\"\",\"\",入力シート!B358)","v":""},{"$f":"IF(入力シート!C358=\"\",\"\",入力シート!C358)","v":""},{"$f":"IF(入力シート!D358=\"\",\"\",TEXT(入力シート!D358,\"yyyy-mm-dd\"))","v":""},{"$f":"IF(入力シート!P358=\"\",\"\",TEXT(入力シート!P358,\"000-0000\"))","v":""},{"$f":"IF(入力シート!G358=\"\",\"\",入力シート!G358)","v":""},{"$f":"IF(入力シート!H358=\"\",\"\",入力シート!H358)","v":""},{"$f":"IF(入力シート!I358=\"\",\"\",入力シート!I358)","v":""},{"$f":"IF(入力シート!J358=\"\",\"\",入力シート!J358)","v":""},{"$f":"IF(入力シート!K358=\"\",\"\",入力シート!K358)","v":""},{"$f":"IF(入力シート!L358=\"\",\"\",入力シート!L358)","v":""},{"$f":"IF(入力シート!M358=\"\",\"\",入力シート!M358)","v":""},{"$f":"IF(入力シート!N358=\"\",\"\",入力シート!N358)","v":""},{"$f":"IF(入力シート!O358=\"\",\"\",入力シート!Q358)","v":""}]
[{"$f":"IF(入力シート!A359=\"\",\"\",入力シート!A359)","v":""},{"$f":"IF(入力シート!B359=\"\",\"\",入力シート!B359)","v":""},{"$f":"IF(入力シート!C359=\"\",\"\",入力シート!C359)","v":""},{"$f":"IF(入力シート!D359=\"\",\"\",TEXT(入力シート!D359,\"yyyy-mm-dd\"))","v":""},{"$f":"IF(入力シート!P359=\"\",\"\",TEXT(入力シート!P359,\"000-0000\"))","v":""},{"$f":"IF(入力シート!G359=\"\",\"\",入力シート!G359)","v":""},{"$f":"IF(入力シート!H359=\"\",\"\",入力シート!H359)","v":""},{"$f":"IF(入力シート!I359=\"\",\"\",入力シート!I359)","v":""},{"$f":"IF(入力シート!J359=\"\",\"\",入力シート!J359)","v":""},{"$f":"IF(入力シート!K359=\"\",\"\",入力シート!K359)","v":""},{"$f":"IF(入力シート!L359=\"\",\"\",入力シート!L359)","v":""},{"$f":"IF(入力シート!M359=\"\",\"\",入力シート!M359)","v":""},{"$f":"IF(入力シート!N359=\"\",\"\",入力シート!N359)","v":""},{"$f":"IF(入力シート!O359=\"\",\"\",入力シート!Q359)","v":""}]
[{"$f":"IF(入力シート!A360=\"\",\"\",入力シート!A360)","v":""},{"$f":"IF(入力シート!B360=\"\",\"\",入力シート!B360)","v":""},{"$f":"IF(入力シート!C360=\"\",\"\",入力シート!C360)","v":""},{"$f":"IF(入力シート!D360=\"\",\"\",TEXT(入力シート!D360,\"yyyy-mm-dd\"))","v":""},{"$f":"IF(入力シート!P360=\"\",\"\",TEXT(入力シート!P360,\"000-0000\"))","v":""},{"$f":"IF(入力シート!G360=\"\",\"\",入力シート!G360)","v":""},{"$f":"IF(入力シート!H360=\"\",\"\",入力シート!H360)","v":""},{"$f":"IF(入力シート!I360=\"\",\"\",入力シート!I360)","v":""},{"$f":"IF(入力シート!J360=\"\",\"\",入力シート!J360)","v":""},{"$f":"IF(入力シート!K360=\"\",\"\",入力シート!K360)","v":""},{"$f":"IF(入力シート!L360=\"\",\"\",入力シート!L360)","v":""},{"$f":"IF(入力シート!M360=\"\",\"\",入力シート!M360)","v":""},{"$f":"IF(入力シート!N360=\"\",\"\",入力シート!N360)","v":""},{"$f":"IF(入力シート!O360=\"\",\"\",入力シート!Q360)","v":""}]
[{"$f":"IF(入力シート!A361=\"\",\"\",入力シート!A361)","v":""},{"$f":"IF(入力シート!B361=\"\",\"\",入力シート!B361)","v":""},{"$f":"IF(入力シート!C361=\"\",\"\",入力シート!C361)","v":""},{"$f":"IF(入力シート!D361=\"\",\"\",TEXT(入力シート!D361,\"yyyy-mm-dd\"))","v":""},{"$f":"IF(入力シート!P361=\"\",\"\",TEXT(入力シート!P361,\"000-0000\"))","v":""},{"$f":"IF(入力シート!G361=\"\",\"\",入力シート!G361)","v":""},{"$f":"IF(入力シート!H361=\"\",\"\",入力シート!H361)","v":""},{"$f":"IF(入力シート!I361=\"\",\"\",入力シート!I361)","v":""},{"$f":"IF(入力シート!J361=\"\",\"\",入力シート!J361)","v":""},{"$f":"IF(入力シート!K361=\"\",\"\",入力シート!K361)","v":""},{"$f":"IF(入力シート!L361=\"\",\"\",入力シート!L361)","v":""},{"$f":"IF(入力シート!M361=\"\",\"\",入力シート!M361)","v":""},{"$f":"IF(入力シート!N361=\"\",\"\",入力シート!N361)","v":""},{"$f":"IF(入力シート!O361=\"\",\"\",入力シート!Q361)","v":""}]
[{"$f":"IF(入力シート!A362=\"\",\"\",入力シート!A362)","v":""},{"$f":"IF(入力シート!B362=\"\",\"\",入力シート!B362)","v":""},{"$f":"IF(入力シート!C362=\"\",\"\",入力シート!C362)","v":""},{"$f":"IF(入力シート!D362=\"\",\"\",TEXT(入力シート!D362,\"yyyy-mm-dd\"))","v":""},{"$f":"IF(入力シート!P362=\"\",\"\",TEXT(入力シート!P362,\"000-0000\"))","v":""},{"$f":"IF(入力シート!G362=\"\",\"\",入力シート!G362)","v":""},{"$f":"IF(入力シート!H362=\"\",\"\",入力シート!H362)","v":""},{"$f":"IF(入力シート!I362=\"\",\"\",入力シート!I362)","v":""},{"$f":"IF(入力シート!J362=\"\",\"\",入力シート!J362)","v":""},{"$f":"IF(入力シート!K362=\"\",\"\",入力シート!K362)","v":""},{"$f":"IF(入力シート!L362=\"\",\"\",入力シート!L362)","v":""},{"$f":"IF(入力シート!M362=\"\",\"\",入力シート!M362)","v":""},{"$f":"IF(入力シート!N362=\"\",\"\",入力シート!N362)","v":""},{"$f":"IF(入力シート!O362=\"\",\"\",入力シート!Q362)","v":""}]
[{"$f":"IF(入力シート!A363=\"\",\"\",入力シート!A363)","v":""},{"$f":"IF(入力シート!B363=\"\",\"\",入力シート!B363)","v":""},{"$f":"IF(入力シート!C363=\"\",\"\",入力シート!C363)","v":""},{"$f":"IF(入力シート!D363=\"\",\"\",TEXT(入力シート!D363,\"yyyy-mm-dd\"))","v":""},{"$f":"IF(入力シート!P363=\"\",\"\",TEXT(入力シート!P363,\"000-0000\"))","v":""},{"$f":"IF(入力シート!G363=\"\",\"\",入力シート!G363)","v":""},{"$f":"IF(入力シート!H363=\"\",\"\",入力シート!H363)","v":""},{"$f":"IF(入力シート!I363=\"\",\"\",入力シート!I363)","v":""},{"$f":"IF(入力シート!J363=\"\",\"\",入力シート!J363)","v":""},{"$f":"IF(入力シート!K363=\"\",\"\",入力シート!K363)","v":""},{"$f":"IF(入力シート!L363=\"\",\"\",入力シート!L363)","v":""},{"$f":"IF(入力シート!M363=\"\",\"\",入力シート!M363)","v":""},{"$f":"IF(入力シート!N363=\"\",\"\",入力シート!N363)","v":""},{"$f":"IF(入力シート!O363=\"\",\"\",入力シート!Q363)","v":""}]
[{"$f":"IF(入力シート!A364=\"\",\"\",入力シート!A364)","v":""},{"$f":"IF(入力シート!B364=\"\",\"\",入力シート!B364)","v":""},{"$f":"IF(入力シート!C364=\"\",\"\",入力シート!C364)","v":""},{"$f":"IF(入力シート!D364=\"\",\"\",TEXT(入力シート!D364,\"yyyy-mm-dd\"))","v":""},{"$f":"IF(入力シート!P364=\"\",\"\",TEXT(入力シート!P364,\"000-0000\"))","v":""},{"$f":"IF(入力シート!G364=\"\",\"\",入力シート!G364)","v":""},{"$f":"IF(入力シート!H364=\"\",\"\",入力シート!H364)","v":""},{"$f":"IF(入力シート!I364=\"\",\"\",入力シート!I364)","v":""},{"$f":"IF(入力シート!J364=\"\",\"\",入力シート!J364)","v":""},{"$f":"IF(入力シート!K364=\"\",\"\",入力シート!K364)","v":""},{"$f":"IF(入力シート!L364=\"\",\"\",入力シート!L364)","v":""},{"$f":"IF(入力シート!M364=\"\",\"\",入力シート!M364)","v":""},{"$f":"IF(入力シート!N364=\"\",\"\",入力シート!N364)","v":""},{"$f":"IF(入力シート!O364=\"\",\"\",入力シート!Q364)","v":""}]
[{"$f":"IF(入力シート!A365=\"\",\"\",入力シート!A365)","v":""},{"$f":"IF(入力シート!B365=\"\",\"\",入力シート!B365)","v":""},{"$f":"IF(入力シート!C365=\"\",\"\",入力シート!C365)","v":""},{"$f":"IF(入力シート!D365=\"\",\"\",TEXT(入力シート!D365,\"yyyy-mm-dd\"))","v":""},{"$f":"IF(入力シート!P365=\"\",\"\",TEXT(入力シート!P365,\"000-0000\"))","v":""},{"$f":"IF(入力シート!G365=\"\",\"\",入力シート!G365)","v":""},{"$f":"IF(入力シート!H365=\"\",\"\",入力シート!H365)","v":""},{"$f":"IF(入力シート!I365=\"\",\"\",入力シート!I365)","v":""},{"$f":"IF(入力シート!J365=\"\",\"\",入力シート!J365)","v":""},{"$f":"IF(入力シート!K365=\"\",\"\",入力シート!K365)","v":""},{"$f":"IF(入力シート!L365=\"\",\"\",入力シート!L365)","v":""},{"$f":"IF(入力シート!M365=\"\",\"\",入力シート!M365)","v":""},{"$f":"IF(入力シート!N365=\"\",\"\",入力シート!N365)","v":""},{"$f":"IF(入力シート!O365=\"\",\"\",入力シート!Q365)","v":""}]
[{"$f":"IF(入力シート!A366=\"\",\"\",入力シート!A366)","v":""},{"$f":"IF(入力シート!B366=\"\",\"\",入力シート!B366)","v":""},{"$f":"IF(入力シート!C366=\"\",\"\",入力シート!C366)","v":""},{"$f":"IF(入力シート!D366=\"\",\"\",TEXT(入力シート!D366,\"yyyy-mm-dd\"))","v":""},{"$f":"IF(入力シート!P366=\"\",\"\",TEXT(入力シート!P366,\"000-0000\"))","v":""},{"$f":"IF(入力シート!G366=\"\",\"\",入力シート!G366)","v":""},{"$f":"IF(入力シート!H366=\"\",\"\",入力シート!H366)","v":""},{"$f":"IF(入力シート!I366=\"\",\"\",入力シート!I366)","v":""},{"$f":"IF(入力シート!J366=\"\",\"\",入力シート!J366)","v":""},{"$f":"IF(入力シート!K366=\"\",\"\",入力シート!K366)","v":""},{"$f":"IF(入力シート!L366=\"\",\"\",入力シート!L366)","v":""},{"$f":"IF(入力シート!M366=\"\",\"\",入力シート!M366)","v":""},{"$f":"IF(入力シート!N366=\"\",\"\",入力シート!N366)","v":""},{"$f":"IF(入力シート!O366=\"\",\"\",入力シート!Q366)","v":""}]
[{"$f":"IF(入力シート!A367=\"\",\"\",入力シート!A367)","v":""},{"$f":"IF(入力シート!B367=\"\",\"\",入力シート!B367)","v":""},{"$f":"IF(入力シート!C367=\"\",\"\",入力シート!C367)","v":""},{"$f":"IF(入力シート!D367=\"\",\"\",TEXT(入力シート!D367,\"yyyy-mm-dd\"))","v":""},{"$f":"IF(入力シート!P367=\"\",\"\",TEXT(入力シート!P367,\"000-0000\"))","v":""},{"$f":"IF(入力シート!G367=\"\",\"\",入力シート!G367)","v":""},{"$f":"IF(入力シート!H367=\"\",\"\",入力シート!H367)","v":""},{"$f":"IF(入力シート!I367=\"\",\"\",入力シート!I367)","v":""},{"$f":"IF(入力シート!J367=\"\",\"\",入力シート!J367)","v":""},{"$f":"IF(入力シート!K367=\"\",\"\",入力シート!K367)","v":""},{"$f":"IF(入力シート!L367=\"\",\"\",入力シート!L367)","v":""},{"$f":"IF(入力シート!M367=\"\",\"\",入力シート!M367)","v":""},{"$f":"IF(入力シート!N367=\"\",\"\",入力シート!N367)","v":""},{"$f":"IF(入力シート!O367=\"\",\"\",入力シート!Q367)","v":""}]
[{"$f":"IF(入力シート!A368=\"\",\"\",入力シート!A368)","v":""},{"$f":"IF(入力シート!B368=\"\",\"\",入力シート!B368)","v":""},{"$f":"IF(入力シート!C368=\"\",\"\",入力シート!C368)","v":""},{"$f":"IF(入力シート!D368=\"\",\"\",TEXT(入力シート!D368,\"yyyy-mm-dd\"))","v":""},{"$f":"IF(入力シート!P368=\"\",\"\",TEXT(入力シート!P368,\"000-0000\"))","v":""},{"$f":"IF(入力シート!G368=\"\",\"\",入力シート!G368)","v":""},{"$f":"IF(入力シート!H368=\"\",\"\",入力シート!H368)","v":""},{"$f":"IF(入力シート!I368=\"\",\"\",入力シート!I368)","v":""},{"$f":"IF(入力シート!J368=\"\",\"\",入力シート!J368)","v":""},{"$f":"IF(入力シート!K368=\"\",\"\",入力シート!K368)","v":""},{"$f":"IF(入力シート!L368=\"\",\"\",入力シート!L368)","v":""},{"$f":"IF(入力シート!M368=\"\",\"\",入力シート!M368)","v":""},{"$f":"IF(入力シート!N368=\"\",\"\",入力シート!N368)","v":""},{"$f":"IF(入力シート!O368=\"\",\"\",入力シート!Q368)","v":""}]
[{"$f":"IF(入力シート!A369=\"\",\"\",入力シート!A369)","v":""},{"$f":"IF(入力シート!B369=\"\",\"\",入力シート!B369)","v":""},{"$f":"IF(入力シート!C369=\"\",\"\",入力シート!C369)","v":""},{"$f":"IF(入力シート!D369=\"\",\"\",TEXT(入力シート!D369,\"yyyy-mm-dd\"))","v":""},{"$f":"IF(入力シート!P369=\"\",\"\",TEXT(入力シート!P369,\"000-0000\"))","v":""},{"$f":"IF(入力シート!G369=\"\",\"\",入力シート!G369)","v":""},{"$f":"IF(入力シート!H369=\"\",\"\",入力シート!H369)","v":""},{"$f":"IF(入力シート!I369=\"\",\"\",入力シート!I369)","v":""},{"$f":"IF(入力シート!J369=\"\",\"\",入力シート!J369)","v":""},{"$f":"IF(入力シート!K369=\"\",\"\",入力シート!K369)","v":""},{"$f":"IF(入力シート!L369=\"\",\"\",入力シート!L369)","v":""},{"$f":"IF(入力シート!M369=\"\",\"\",入力シート!M369)","v":""},{"$f":"IF(入力シート!N369=\"\",\"\",入力シート!N369)","v":""},{"$f":"IF(入力シート!O369=\"\",\"\",入力シート!Q369)","v":""}]
[{"$f":"IF(入力シート!A370=\"\",\"\",入力シート!A370)","v":""},{"$f":"IF(入力シート!B370=\"\",\"\",入力シート!B370)","v":""},{"$f":"IF(入力シート!C370=\"\",\"\",入力シート!C370)","v":""},{"$f":"IF(入力シート!D370=\"\",\"\",TEXT(入力シート!D370,\"yyyy-mm-dd\"))","v":""},{"$f":"IF(入力シート!P370=\"\",\"\",TEXT(入力シート!P370,\"000-0000\"))","v":""},{"$f":"IF(入力シート!G370=\"\",\"\",入力シート!G370)","v":""},{"$f":"IF(入力シート!H370=\"\",\"\",入力シート!H370)","v":""},{"$f":"IF(入力シート!I370=\"\",\"\",入力シート!I370)","v":""},{"$f":"IF(入力シート!J370=\"\",\"\",入力シート!J370)","v":""},{"$f":"IF(入力シート!K370=\"\",\"\",入力シート!K370)","v":""},{"$f":"IF(入力シート!L370=\"\",\"\",入力シート!L370)","v":""},{"$f":"IF(入力シート!M370=\"\",\"\",入力シート!M370)","v":""},{"$f":"IF(入力シート!N370=\"\",\"\",入力シート!N370)","v":""},{"$f":"IF(入力シート!O370=\"\",\"\",入力シート!Q370)","v":""}]
[{"$f":"IF(入力シート!A371=\"\",\"\",入力シート!A371)","v":""},{"$f":"IF(入力シート!B371=\"\",\"\",入力シート!B371)","v":""},{"$f":"IF(入力シート!C371=\"\",\"\",入力シート!C371)","v":""},{"$f":"IF(入力シート!D371=\"\",\"\",TEXT(入力シート!D371,\"yyyy-mm-dd\"))","v":""},{"$f":"IF(入力シート!P371=\"\",\"\",TEXT(入力シート!P371,\"000-0000\"))","v":""},{"$f":"IF(入力シート!G371=\"\",\"\",入力シート!G371)","v":""},{"$f":"IF(入力シート!H371=\"\",\"\",入力シート!H371)","v":""},{"$f":"IF(入力シート!I371=\"\",\"\",入力シート!I371)","v":""},{"$f":"IF(入力シート!J371=\"\",\"\",入力シート!J371)","v":""},{"$f":"IF(入力シート!K371=\"\",\"\",入力シート!K371)","v":""},{"$f":"IF(入力シート!L371=\"\",\"\",入力シート!L371)","v":""},{"$f":"IF(入力シート!M371=\"\",\"\",入力シート!M371)","v":""},{"$f":"IF(入力シート!N371=\"\",\"\",入力シート!N371)","v":""},{"$f":"IF(入力シート!O371=\"\",\"\",入力シート!Q371)","v":""}]
[{"$f":"IF(入力シート!A372=\"\",\"\",入力シート!A372)","v":""},{"$f":"IF(入力シート!B372=\"\",\"\",入力シート!B372)","v":""},{"$f":"IF(入力シート!C372=\"\",\"\",入力シート!C372)","v":""},{"$f":"IF(入力シート!D372=\"\",\"\",TEXT(入力シート!D372,\"yyyy-mm-dd\"))","v":""},{"$f":"IF(入力シート!P372=\"\",\"\",TEXT(入力シート!P372,\"000-0000\"))","v":""},{"$f":"IF(入力シート!G372=\"\",\"\",入力シート!G372)","v":""},{"$f":"IF(入力シート!H372=\"\",\"\",入力シート!H372)","v":""},{"$f":"IF(入力シート!I372=\"\",\"\",入力シート!I372)","v":""},{"$f":"IF(入力シート!J372=\"\",\"\",入力シート!J372)","v":""},{"$f":"IF(入力シート!K372=\"\",\"\",入力シート!K372)","v":""},{"$f":"IF(入力シート!L372=\"\",\"\",入力シート!L372)","v":""},{"$f":"IF(入力シート!M372=\"\",\"\",入力シート!M372)","v":""},{"$f":"IF(入力シート!N372=\"\",\"\",入力シート!N372)","v":""},{"$f":"IF(入力シート!O372=\"\",\"\",入力シート!Q372)","v":""}]
[{"$f":"IF(入力シート!A373=\"\",\"\",入力シート!A373)","v":""},{"$f":"IF(入力シート!B373=\"\",\"\",入力シート!B373)","v":""},{"$f":"IF(入力シート!C373=\"\",\"\",入力シート!C373)","v":""},{"$f":"IF(入力シート!D373=\"\",\"\",TEXT(入力シート!D373,\"yyyy-mm-dd\"))","v":""},{"$f":"IF(入力シート!P373=\"\",\"\",TEXT(入力シート!P373,\"000-0000\"))","v":""},{"$f":"IF(入力シート!G373=\"\",\"\",入力シート!G373)","v":""},{"$f":"IF(入力シート!H373=\"\",\"\",入力シート!H373)","v":""},{"$f":"IF(入力シート!I373=\"\",\"\",入力シート!I373)","v":""},{"$f":"IF(入力シート!J373=\"\",\"\",入力シート!J373)","v":""},{"$f":"IF(入力シート!K373=\"\",\"\",入力シート!K373)","v":""},{"$f":"IF(入力シート!L373=\"\",\"\",入力シート!L373)","v":""},{"$f":"IF(入力シート!M373=\"\",\"\",入力シート!M373)","v":""},{"$f":"IF(入力シート!N373=\"\",\"\",入力シート!N373)","v":""},{"$f":"IF(入力シート!O373=\"\",\"\",入力シート!Q373)","v":""}]
[{"$f":"IF(入力シート!A374=\"\",\"\",入力シート!A374)","v":""},{"$f":"IF(入力シート!B374=\"\",\"\",入力シート!B374)","v":""},{"$f":"IF(入力シート!C374=\"\",\"\",入力シート!C374)","v":""},{"$f":"IF(入力シート!D374=\"\",\"\",TEXT(入力シート!D374,\"yyyy-mm-dd\"))","v":""},{"$f":"IF(入力シート!P374=\"\",\"\",TEXT(入力シート!P374,\"000-0000\"))","v":""},{"$f":"IF(入力シート!G374=\"\",\"\",入力シート!G374)","v":""},{"$f":"IF(入力シート!H374=\"\",\"\",入力シート!H374)","v":""},{"$f":"IF(入力シート!I374=\"\",\"\",入力シート!I374)","v":""},{"$f":"IF(入力シート!J374=\"\",\"\",入力シート!J374)","v":""},{"$f":"IF(入力シート!K374=\"\",\"\",入力シート!K374)","v":""},{"$f":"IF(入力シート!L374=\"\",\"\",入力シート!L374)","v":""},{"$f":"IF(入力シート!M374=\"\",\"\",入力シート!M374)","v":""},{"$f":"IF(入力シート!N374=\"\",\"\",入力シート!N374)","v":""},{"$f":"IF(入力シート!O374=\"\",\"\",入力シート!Q374)","v":""}]
[{"$f":"IF(入力シート!A375=\"\",\"\",入力シート!A375)","v":""},{"$f":"IF(入力シート!B375=\"\",\"\",入力シート!B375)","v":""},{"$f":"IF(入力シート!C375=\"\",\"\",入力シート!C375)","v":""},{"$f":"IF(入力シート!D375=\"\",\"\",TEXT(入力シート!D375,\"yyyy-mm-dd\"))","v":""},{"$f":"IF(入力シート!P375=\"\",\"\",TEXT(入力シート!P375,\"000-0000\"))","v":""},{"$f":"IF(入力シート!G375=\"\",\"\",入力シート!G375)","v":""},{"$f":"IF(入力シート!H375=\"\",\"\",入力シート!H375)","v":""},{"$f":"IF(入力シート!I375=\"\",\"\",入力シート!I375)","v":""},{"$f":"IF(入力シート!J375=\"\",\"\",入力シート!J375)","v":""},{"$f":"IF(入力シート!K375=\"\",\"\",入力シート!K375)","v":""},{"$f":"IF(入力シート!L375=\"\",\"\",入力シート!L375)","v":""},{"$f":"IF(入力シート!M375=\"\",\"\",入力シート!M375)","v":""},{"$f":"IF(入力シート!N375=\"\",\"\",入力シート!N375)","v":""},{"$f":"IF(入力シート!O375=\"\",\"\",入力シート!Q375)","v":""}]
[{"$f":"IF(入力シート!A376=\"\",\"\",入力シート!A376)","v":""},{"$f":"IF(入力シート!B376=\"\",\"\",入力シート!B376)","v":""},{"$f":"IF(入力シート!C376=\"\",\"\",入力シート!C376)","v":""},{"$f":"IF(入力シート!D376=\"\",\"\",TEXT(入力シート!D376,\"yyyy-mm-dd\"))","v":""},{"$f":"IF(入力シート!P376=\"\",\"\",TEXT(入力シート!P376,\"000-0000\"))","v":""},{"$f":"IF(入力シート!G376=\"\",\"\",入力シート!G376)","v":""},{"$f":"IF(入力シート!H376=\"\",\"\",入力シート!H376)","v":""},{"$f":"IF(入力シート!I376=\"\",\"\",入力シート!I376)","v":""},{"$f":"IF(入力シート!J376=\"\",\"\",入力シート!J376)","v":""},{"$f":"IF(入力シート!K376=\"\",\"\",入力シート!K376)","v":""},{"$f":"IF(入力シート!L376=\"\",\"\",入力シート!L376)","v":""},{"$f":"IF(入力シート!M376=\"\",\"\",入力シート!M376)","v":""},{"$f":"IF(入力シート!N376=\"\",\"\",入力シート!N376)","v":""},{"$f":"IF(入力シート!O376=\"\",\"\",入力シート!Q376)","v":""}]
[{"$f":"IF(入力シート!A377=\"\",\"\",入力シート!A377)","v":""},{"$f":"IF(入力シート!B377=\"\",\"\",入力シート!B377)","v":""},{"$f":"IF(入力シート!C377=\"\",\"\",入力シート!C377)","v":""},{"$f":"IF(入力シート!D377=\"\",\"\",TEXT(入力シート!D377,\"yyyy-mm-dd\"))","v":""},{"$f":"IF(入力シート!P377=\"\",\"\",TEXT(入力シート!P377,\"000-0000\"))","v":""},{"$f":"IF(入力シート!G377=\"\",\"\",入力シート!G377)","v":""},{"$f":"IF(入力シート!H377=\"\",\"\",入力シート!H377)","v":""},{"$f":"IF(入力シート!I377=\"\",\"\",入力シート!I377)","v":""},{"$f":"IF(入力シート!J377=\"\",\"\",入力シート!J377)","v":""},{"$f":"IF(入力シート!K377=\"\",\"\",入力シート!K377)","v":""},{"$f":"IF(入力シート!L377=\"\",\"\",入力シート!L377)","v":""},{"$f":"IF(入力シート!M377=\"\",\"\",入力シート!M377)","v":""},{"$f":"IF(入力シート!N377=\"\",\"\",入力シート!N377)","v":""},{"$f":"IF(入力シート!O377=\"\",\"\",入力シート!Q377)","v":""}]
[{"$f":"IF(入力シート!A378=\"\",\"\",入力シート!A378)","v":""},{"$f":"IF(入力シート!B378=\"\",\"\",入力シート!B378)","v":""},{"$f":"IF(入力シート!C378=\"\",\"\",入力シート!C378)","v":""},{"$f":"IF(入力シート!D378=\"\",\"\",TEXT(入力シート!D378,\"yyyy-mm-dd\"))","v":""},{"$f":"IF(入力シート!P378=\"\",\"\",TEXT(入力シート!P378,\"000-0000\"))","v":""},{"$f":"IF(入力シート!G378=\"\",\"\",入力シート!G378)","v":""},{"$f":"IF(入力シート!H378=\"\",\"\",入力シート!H378)","v":""},{"$f":"IF(入力シート!I378=\"\",\"\",入力シート!I378)","v":""},{"$f":"IF(入力シート!J378=\"\",\"\",入力シート!J378)","v":""},{"$f":"IF(入力シート!K378=\"\",\"\",入力シート!K378)","v":""},{"$f":"IF(入力シート!L378=\"\",\"\",入力シート!L378)","v":""},{"$f":"IF(入力シート!M378=\"\",\"\",入力シート!M378)","v":""},{"$f":"IF(入力シート!N378=\"\",\"\",入力シート!N378)","v":""},{"$f":"IF(入力シート!O378=\"\",\"\",入力シート!Q378)","v":""}]
[{"$f":"IF(入力シート!A379=\"\",\"\",入力シート!A379)","v":""},{"$f":"IF(入力シート!B379=\"\",\"\",入力シート!B379)","v":""},{"$f":"IF(入力シート!C379=\"\",\"\",入力シート!C379)","v":""},{"$f":"IF(入力シート!D379=\"\",\"\",TEXT(入力シート!D379,\"yyyy-mm-dd\"))","v":""},{"$f":"IF(入力シート!P379=\"\",\"\",TEXT(入力シート!P379,\"000-0000\"))","v":""},{"$f":"IF(入力シート!G379=\"\",\"\",入力シート!G379)","v":""},{"$f":"IF(入力シート!H379=\"\",\"\",入力シート!H379)","v":""},{"$f":"IF(入力シート!I379=\"\",\"\",入力シート!I379)","v":""},{"$f":"IF(入力シート!J379=\"\",\"\",入力シート!J379)","v":""},{"$f":"IF(入力シート!K379=\"\",\"\",入力シート!K379)","v":""},{"$f":"IF(入力シート!L379=\"\",\"\",入力シート!L379)","v":""},{"$f":"IF(入力シート!M379=\"\",\"\",入力シート!M379)","v":""},{"$f":"IF(入力シート!N379=\"\",\"\",入力シート!N379)","v":""},{"$f":"IF(入力シート!O379=\"\",\"\",入力シート!Q379)","v":""}]
[{"$f":"IF(入力シート!A380=\"\",\"\",入力シート!A380)","v":""},{"$f":"IF(入力シート!B380=\"\",\"\",入力シート!B380)","v":""},{"$f":"IF(入力シート!C380=\"\",\"\",入力シート!C380)","v":""},{"$f":"IF(入力シート!D380=\"\",\"\",TEXT(入力シート!D380,\"yyyy-mm-dd\"))","v":""},{"$f":"IF(入力シート!P380=\"\",\"\",TEXT(入力シート!P380,\"000-0000\"))","v":""},{"$f":"IF(入力シート!G380=\"\",\"\",入力シート!G380)","v":""},{"$f":"IF(入力シート!H380=\"\",\"\",入力シート!H380)","v":""},{"$f":"IF(入力シート!I380=\"\",\"\",入力シート!I380)","v":""},{"$f":"IF(入力シート!J380=\"\",\"\",入力シート!J380)","v":""},{"$f":"IF(入力シート!K380=\"\",\"\",入力シート!K380)","v":""},{"$f":"IF(入力シート!L380=\"\",\"\",入力シート!L380)","v":""},{"$f":"IF(入力シート!M380=\"\",\"\",入力シート!M380)","v":""},{"$f":"IF(入力シート!N380=\"\",\"\",入力シート!N380)","v":""},{"$f":"IF(入力シート!O380=\"\",\"\",入力シート!Q380)","v":""}]
[{"$f":"IF(入力シート!A381=\"\",\"\",入力シート!A381)","v":""},{"$f":"IF(入力シート!B381=\"\",\"\",入力シート!B381)","v":""},{"$f":"IF(入力シート!C381=\"\",\"\",入力シート!C381)","v":""},{"$f":"IF(入力シート!D381=\"\",\"\",TEXT(入力シート!D381,\"yyyy-mm-dd\"))","v":""},{"$f":"IF(入力シート!P381=\"\",\"\",TEXT(入力シート!P381,\"000-0000\"))","v":""},{"$f":"IF(入力シート!G381=\"\",\"\",入力シート!G381)","v":""},{"$f":"IF(入力シート!H381=\"\",\"\",入力シート!H381)","v":""},{"$f":"IF(入力シート!I381=\"\",\"\",入力シート!I381)","v":""},{"$f":"IF(入力シート!J381=\"\",\"\",入力シート!J381)","v":""},{"$f":"IF(入力シート!K381=\"\",\"\",入力シート!K381)","v":""},{"$f":"IF(入力シート!L381=\"\",\"\",入力シート!L381)","v":""},{"$f":"IF(入力シート!M381=\"\",\"\",入力シート!M381)","v":""},{"$f":"IF(入力シート!N381=\"\",\"\",入力シート!N381)","v":""},{"$f":"IF(入力シート!O381=\"\",\"\",入力シート!Q381)","v":""}]
[{"$f":"IF(入力シート!A382=\"\",\"\",入力シート!A382)","v":""},{"$f":"IF(入力シート!B382=\"\",\"\",入力シート!B382)","v":""},{"$f":"IF(入力シート!C382=\"\",\"\",入力シート!C382)","v":""},{"$f":"IF(入力シート!D382=\"\",\"\",TEXT(入力シート!D382,\"yyyy-mm-dd\"))","v":""},{"$f":"IF(入力シート!P382=\"\",\"\",TEXT(入力シート!P382,\"000-0000\"))","v":""},{"$f":"IF(入力シート!G382=\"\",\"\",入力シート!G382)","v":""},{"$f":"IF(入力シート!H382=\"\",\"\",入力シート!H382)","v":""},{"$f":"IF(入力シート!I382=\"\",\"\",入力シート!I382)","v":""},{"$f":"IF(入力シート!J382=\"\",\"\",入力シート!J382)","v":""},{"$f":"IF(入力シート!K382=\"\",\"\",入力シート!K382)","v":""},{"$f":"IF(入力シート!L382=\"\",\"\",入力シート!L382)","v":""},{"$f":"IF(入力シート!M382=\"\",\"\",入力シート!M382)","v":""},{"$f":"IF(入力シート!N382=\"\",\"\",入力シート!N382)","v":""},{"$f":"IF(入力シート!O382=\"\",\"\",入力シート!Q382)","v":""}]
[{"$f":"IF(入力シート!A383=\"\",\"\",入力シート!A383)","v":""},{"$f":"IF(入力シート!B383=\"\",\"\",入力シート!B383)","v":""},{"$f":"IF(入力シート!C383=\"\",\"\",入力シート!C383)","v":""},{"$f":"IF(入力シート!D383=\"\",\"\",TEXT(入力シート!D383,\"yyyy-mm-dd\"))","v":""},{"$f":"IF(入力シート!P383=\"\",\"\",TEXT(入力シート!P383,\"000-0000\"))","v":""},{"$f":"IF(入力シート!G383=\"\",\"\",入力シート!G383)","v":""},{"$f":"IF(入力シート!H383=\"\",\"\",入力シート!H383)","v":""},{"$f":"IF(入力シート!I383=\"\",\"\",入力シート!I383)","v":""},{"$f":"IF(入力シート!J383=\"\",\"\",入力シート!J383)","v":""},{"$f":"IF(入力シート!K383=\"\",\"\",入力シート!K383)","v":""},{"$f":"IF(入力シート!L383=\"\",\"\",入力シート!L383)","v":""},{"$f":"IF(入力シート!M383=\"\",\"\",入力シート!M383)","v":""},{"$f":"IF(入力シート!N383=\"\",\"\",入力シート!N383)","v":""},{"$f":"IF(入力シート!O383=\"\",\"\",入力シート!Q383)","v":""}]
[{"$f":"IF(入力シート!A384=\"\",\"\",入力シート!A384)","v":""},{"$f":"IF(入力シート!B384=\"\",\"\",入力シート!B384)","v":""},{"$f":"IF(入力シート!C384=\"\",\"\",入力シート!C384)","v":""},{"$f":"IF(入力シート!D384=\"\",\"\",TEXT(入力シート!D384,\"yyyy-mm-dd\"))","v":""},{"$f":"IF(入力シート!P384=\"\",\"\",TEXT(入力シート!P384,\"000-0000\"))","v":""},{"$f":"IF(入力シート!G384=\"\",\"\",入力シート!G384)","v":""},{"$f":"IF(入力シート!H384=\"\",\"\",入力シート!H384)","v":""},{"$f":"IF(入力シート!I384=\"\",\"\",入力シート!I384)","v":""},{"$f":"IF(入力シート!J384=\"\",\"\",入力シート!J384)","v":""},{"$f":"IF(入力シート!K384=\"\",\"\",入力シート!K384)","v":""},{"$f":"IF(入力シート!L384=\"\",\"\",入力シート!L384)","v":""},{"$f":"IF(入力シート!M384=\"\",\"\",入力シート!M384)","v":""},{"$f":"IF(入力シート!N384=\"\",\"\",入力シート!N384)","v":""},{"$f":"IF(入力シート!O384=\"\",\"\",入力シート!Q384)","v":""}]
[{"$f":"IF(入力シート!A385=\"\",\"\",入力シート!A385)","v":""},{"$f":"IF(入力シート!B385=\"\",\"\",入力シート!B385)","v":""},{"$f":"IF(入力シート!C385=\"\",\"\",入力シート!C385)","v":""},{"$f":"IF(入力シート!D385=\"\",\"\",TEXT(入力シート!D385,\"yyyy-mm-dd\"))","v":""},{"$f":"IF(入力シート!P385=\"\",\"\",TEXT(入力シート!P385,\"000-0000\"))","v":""},{"$f":"IF(入力シート!G385=\"\",\"\",入力シート!G385)","v":""},{"$f":"IF(入力シート!H385=\"\",\"\",入力シート!H385)","v":""},{"$f":"IF(入力シート!I385=\"\",\"\",入力シート!I385)","v":""},{"$f":"IF(入力シート!J385=\"\",\"\",入力シート!J385)","v":""},{"$f":"IF(入力シート!K385=\"\",\"\",入力シート!K385)","v":""},{"$f":"IF(入力シート!L385=\"\",\"\",入力シート!L385)","v":""},{"$f":"IF(入力シート!M385=\"\",\"\",入力シート!M385)","v":""},{"$f":"IF(入力シート!N385=\"\",\"\",入力シート!N385)","v":""},{"$f":"IF(入力シート!O385=\"\",\"\",入力シート!Q385)","v":""}]
[{"$f":"IF(入力シート!A386=\"\",\"\",入力シート!A386)","v":""},{"$f":"IF(入力シート!B386=\"\",\"\",入力シート!B386)","v":""},{"$f":"IF(入力シート!C386=\"\",\"\",入力シート!C386)","v":""},{"$f":"IF(入力シート!D386=\"\",\"\",TEXT(入力シート!D386,\"yyyy-mm-dd\"))","v":""},{"$f":"IF(入力シート!P386=\"\",\"\",TEXT(入力シート!P386,\"000-0000\"))","v":""},{"$f":"IF(入力シート!G386=\"\",\"\",入力シート!G386)","v":""},{"$f":"IF(入力シート!H386=\"\",\"\",入力シート!H386)","v":""},{"$f":"IF(入力シート!I386=\"\",\"\",入力シート!I386)","v":""},{"$f":"IF(入力シート!J386=\"\",\"\",入力シート!J386)","v":""},{"$f":"IF(入力シート!K386=\"\",\"\",入力シート!K386)","v":""},{"$f":"IF(入力シート!L386=\"\",\"\",入力シート!L386)","v":""},{"$f":"IF(入力シート!M386=\"\",\"\",入力シート!M386)","v":""},{"$f":"IF(入力シート!N386=\"\",\"\",入力シート!N386)","v":""},{"$f":"IF(入力シート!O386=\"\",\"\",入力シート!Q386)","v":""}]
[{"$f":"IF(入力シート!A387=\"\",\"\",入力シート!A387)","v":""},{"$f":"IF(入力シート!B387=\"\",\"\",入力シート!B387)","v":""},{"$f":"IF(入力シート!C387=\"\",\"\",入力シート!C387)","v":""},{"$f":"IF(入力シート!D387=\"\",\"\",TEXT(入力シート!D387,\"yyyy-mm-dd\"))","v":""},{"$f":"IF(入力シート!P387=\"\",\"\",TEXT(入力シート!P387,\"000-0000\"))","v":""},{"$f":"IF(入力シート!G387=\"\",\"\",入力シート!G387)","v":""},{"$f":"IF(入力シート!H387=\"\",\"\",入力シート!H387)","v":""},{"$f":"IF(入力シート!I387=\"\",\"\",入力シート!I387)","v":""},{"$f":"IF(入力シート!J387=\"\",\"\",入力シート!J387)","v":""},{"$f":"IF(入力シート!K387=\"\",\"\",入力シート!K387)","v":""},{"$f":"IF(入力シート!L387=\"\",\"\",入力シート!L387)","v":""},{"$f":"IF(入力シート!M387=\"\",\"\",入力シート!M387)","v":""},{"$f":"IF(入力シート!N387=\"\",\"\",入力シート!N387)","v":""},{"$f":"IF(入力シート!O387=\"\",\"\",入力シート!Q387)","v":""}]
[{"$f":"IF(入力シート!A388=\"\",\"\",入力シート!A388)","v":""},{"$f":"IF(入力シート!B388=\"\",\"\",入力シート!B388)","v":""},{"$f":"IF(入力シート!C388=\"\",\"\",入力シート!C388)","v":""},{"$f":"IF(入力シート!D388=\"\",\"\",TEXT(入力シート!D388,\"yyyy-mm-dd\"))","v":""},{"$f":"IF(入力シート!P388=\"\",\"\",TEXT(入力シート!P388,\"000-0000\"))","v":""},{"$f":"IF(入力シート!G388=\"\",\"\",入力シート!G388)","v":""},{"$f":"IF(入力シート!H388=\"\",\"\",入力シート!H388)","v":""},{"$f":"IF(入力シート!I388=\"\",\"\",入力シート!I388)","v":""},{"$f":"IF(入力シート!J388=\"\",\"\",入力シート!J388)","v":""},{"$f":"IF(入力シート!K388=\"\",\"\",入力シート!K388)","v":""},{"$f":"IF(入力シート!L388=\"\",\"\",入力シート!L388)","v":""},{"$f":"IF(入力シート!M388=\"\",\"\",入力シート!M388)","v":""},{"$f":"IF(入力シート!N388=\"\",\"\",入力シート!N388)","v":""},{"$f":"IF(入力シート!O388=\"\",\"\",入力シート!Q388)","v":""}]
[{"$f":"IF(入力シート!A389=\"\",\"\",入力シート!A389)","v":""},{"$f":"IF(入力シート!B389=\"\",\"\",入力シート!B389)","v":""},{"$f":"IF(入力シート!C389=\"\",\"\",入力シート!C389)","v":""},{"$f":"IF(入力シート!D389=\"\",\"\",TEXT(入力シート!D389,\"yyyy-mm-dd\"))","v":""},{"$f":"IF(入力シート!P389=\"\",\"\",TEXT(入力シート!P389,\"000-0000\"))","v":""},{"$f":"IF(入力シート!G389=\"\",\"\",入力シート!G389)","v":""},{"$f":"IF(入力シート!H389=\"\",\"\",入力シート!H389)","v":""},{"$f":"IF(入力シート!I389=\"\",\"\",入力シート!I389)","v":""},{"$f":"IF(入力シート!J389=\"\",\"\",入力シート!J389)","v":""},{"$f":"IF(入力シート!K389=\"\",\"\",入力シート!K389)","v":""},{"$f":"IF(入力シート!L389=\"\",\"\",入力シート!L389)","v":""},{"$f":"IF(入力シート!M389=\"\",\"\",入力シート!M389)","v":""},{"$f":"IF(入力シート!N389=\"\",\"\",入力シート!N389)","v":""},{"$f":"IF(入力シート!O389=\"\",\"\",入力シート!Q389)","v":""}]
[{"$f":"IF(入力シート!A390=\"\",\"\",入力シート!A390)","v":""},{"$f":"IF(入力シート!B390=\"\",\"\",入力シート!B390)","v":""},{"$f":"IF(入力シート!C390=\"\",\"\",入力シート!C390)","v":""},{"$f":"IF(入力シート!D390=\"\",\"\",TEXT(入力シート!D390,\"yyyy-mm-dd\"))","v":""},{"$f":"IF(入力シート!P390=\"\",\"\",TEXT(入力シート!P390,\"000-0000\"))","v":""},{"$f":"IF(入力シート!G390=\"\",\"\",入力シート!G390)","v":""},{"$f":"IF(入力シート!H390=\"\",\"\",入力シート!H390)","v":""},{"$f":"IF(入力シート!I390=\"\",\"\",入力シート!I390)","v":""},{"$f":"IF(入力シート!J390=\"\",\"\",入力シート!J390)","v":""},{"$f":"IF(入力シート!K390=\"\",\"\",入力シート!K390)","v":""},{"$f":"IF(入力シート!L390=\"\",\"\",入力シート!L390)","v":""},{"$f":"IF(入力シート!M390=\"\",\"\",入力シート!M390)","v":""},{"$f":"IF(入力シート!N390=\"\",\"\",入力シート!N390)","v":""},{"$f":"IF(入力シート!O390=\"\",\"\",入力シート!Q390)","v":""}]
[{"$f":"IF(入力シート!A391=\"\",\"\",入力シート!A391)","v":""},{"$f":"IF(入力シート!B391=\"\",\"\",入力シート!B391)","v":""},{"$f":"IF(入力シート!C391=\"\",\"\",入力シート!C391)","v":""},{"$f":"IF(入力シート!D391=\"\",\"\",TEXT(入力シート!D391,\"yyyy-mm-dd\"))","v":""},{"$f":"IF(入力シート!P391=\"\",\"\",TEXT(入力シート!P391,\"000-0000\"))","v":""},{"$f":"IF(入力シート!G391=\"\",\"\",入力シート!G391)","v":""},{"$f":"IF(入力シート!H391=\"\",\"\",入力シート!H391)","v":""},{"$f":"IF(入力シート!I391=\"\",\"\",入力シート!I391)","v":""},{"$f":"IF(入力シート!J391=\"\",\"\",入力シート!J391)","v":""},{"$f":"IF(入力シート!K391=\"\",\"\",入力シート!K391)","v":""},{"$f":"IF(入力シート!L391=\"\",\"\",入力シート!L391)","v":""},{"$f":"IF(入力シート!M391=\"\",\"\",入力シート!M391)","v":""},{"$f":"IF(入力シート!N391=\"\",\"\",入力シート!N391)","v":""},{"$f":"IF(入力シート!O391=\"\",\"\",入力シート!Q391)","v":""}]
[{"$f":"IF(入力シート!A392=\"\",\"\",入力シート!A392)","v":""},{"$f":"IF(入力シート!B392=\"\",\"\",入力シート!B392)","v":""},{"$f":"IF(入力シート!C392=\"\",\"\",入力シート!C392)","v":""},{"$f":"IF(入力シート!D392=\"\",\"\",TEXT(入力シート!D392,\"yyyy-mm-dd\"))","v":""},{"$f":"IF(入力シート!P392=\"\",\"\",TEXT(入力シート!P392,\"000-0000\"))","v":""},{"$f":"IF(入力シート!G392=\"\",\"\",入力シート!G392)","v":""},{"$f":"IF(入力シート!H392=\"\",\"\",入力シート!H392)","v":""},{"$f":"IF(入力シート!I392=\"\",\"\",入力シート!I392)","v":""},{"$f":"IF(入力シート!J392=\"\",\"\",入力シート!J392)","v":""},{"$f":"IF(入力シート!K392=\"\",\"\",入力シート!K392)","v":""},{"$f":"IF(入力シート!L392=\"\",\"\",入力シート!L392)","v":""},{"$f":"IF(入力シート!M392=\"\",\"\",入力シート!M392)","v":""},{"$f":"IF(入力シート!N392=\"\",\"\",入力シート!N392)","v":""},{"$f":"IF(入力シート!O392=\"\",\"\",入力シート!Q392)","v":""}]
[{"$f":"IF(入力シート!A393=\"\",\"\",入力シート!A393)","v":""},{"$f":"IF(入力シート!B393=\"\",\"\",入力シート!B393)","v":""},{"$f":"IF(入力シート!C393=\"\",\"\",入力シート!C393)","v":""},{"$f":"IF(入力シート!D393=\"\",\"\",TEXT(入力シート!D393,\"yyyy-mm-dd\"))","v":""},{"$f":"IF(入力シート!P393=\"\",\"\",TEXT(入力シート!P393,\"000-0000\"))","v":""},{"$f":"IF(入力シート!G393=\"\",\"\",入力シート!G393)","v":""},{"$f":"IF(入力シート!H393=\"\",\"\",入力シート!H393)","v":""},{"$f":"IF(入力シート!I393=\"\",\"\",入力シート!I393)","v":""},{"$f":"IF(入力シート!J393=\"\",\"\",入力シート!J393)","v":""},{"$f":"IF(入力シート!K393=\"\",\"\",入力シート!K393)","v":""},{"$f":"IF(入力シート!L393=\"\",\"\",入力シート!L393)","v":""},{"$f":"IF(入力シート!M393=\"\",\"\",入力シート!M393)","v":""},{"$f":"IF(入力シート!N393=\"\",\"\",入力シート!N393)","v":""},{"$f":"IF(入力シート!O393=\"\",\"\",入力シート!Q393)","v":""}]
[{"$f":"IF(入力シート!A394=\"\",\"\",入力シート!A394)","v":""},{"$f":"IF(入力シート!B394=\"\",\"\",入力シート!B394)","v":""},{"$f":"IF(入力シート!C394=\"\",\"\",入力シート!C394)","v":""},{"$f":"IF(入力シート!D394=\"\",\"\",TEXT(入力シート!D394,\"yyyy-mm-dd\"))","v":""},{"$f":"IF(入力シート!P394=\"\",\"\",TEXT(入力シート!P394,\"000-0000\"))","v":""},{"$f":"IF(入力シート!G394=\"\",\"\",入力シート!G394)","v":""},{"$f":"IF(入力シート!H394=\"\",\"\",入力シート!H394)","v":""},{"$f":"IF(入力シート!I394=\"\",\"\",入力シート!I394)","v":""},{"$f":"IF(入力シート!J394=\"\",\"\",入力シート!J394)","v":""},{"$f":"IF(入力シート!K394=\"\",\"\",入力シート!K394)","v":""},{"$f":"IF(入力シート!L394=\"\",\"\",入力シート!L394)","v":""},{"$f":"IF(入力シート!M394=\"\",\"\",入力シート!M394)","v":""},{"$f":"IF(入力シート!N394=\"\",\"\",入力シート!N394)","v":""},{"$f":"IF(入力シート!O394=\"\",\"\",入力シート!Q394)","v":""}]
[{"$f":"IF(入力シート!A395=\"\",\"\",入力シート!A395)","v":""},{"$f":"IF(入力シート!B395=\"\",\"\",入力シート!B395)","v":""},{"$f":"IF(入力シート!C395=\"\",\"\",入力シート!C395)","v":""},{"$f":"IF(入力シート!D395=\"\",\"\",TEXT(入力シート!D395,\"yyyy-mm-dd\"))","v":""},{"$f":"IF(入力シート!P395=\"\",\"\",TEXT(入力シート!P395,\"000-0000\"))","v":""},{"$f":"IF(入力シート!G395=\"\",\"\",入力シート!G395)","v":""},{"$f":"IF(入力シート!H395=\"\",\"\",入力シート!H395)","v":""},{"$f":"IF(入力シート!I395=\"\",\"\",入力シート!I395)","v":""},{"$f":"IF(入力シート!J395=\"\",\"\",入力シート!J395)","v":""},{"$f":"IF(入力シート!K395=\"\",\"\",入力シート!K395)","v":""},{"$f":"IF(入力シート!L395=\"\",\"\",入力シート!L395)","v":""},{"$f":"IF(入力シート!M395=\"\",\"\",入力シート!M395)","v":""},{"$f":"IF(入力シート!N395=\"\",\"\",入力シート!N395)","v":""},{"$f":"IF(入力シート!O395=\"\",\"\",入力シート!Q395)","v":""}]
[{"$f":"IF(入力シート!A396=\"\",\"\",入力シート!A396)","v":""},{"$f":"IF(入力シート!B396=\"\",\"\",入力シート!B396)","v":""},{"$f":"IF(入力シート!C396=\"\",\"\",入力シート!C396)","v":""},{"$f":"IF(入力シート!D396=\"\",\"\",TEXT(入力シート!D396,\"yyyy-mm-dd\"))","v":""},{"$f":"IF(入力シート!P396=\"\",\"\",TEXT(入力シート!P396,\"000-0000\"))","v":""},{"$f":"IF(入力シート!G396=\"\",\"\",入力シート!G396)","v":""},{"$f":"IF(入力シート!H396=\"\",\"\",入力シート!H396)","v":""},{"$f":"IF(入力シート!I396=\"\",\"\",入力シート!I396)","v":""},{"$f":"IF(入力シート!J396=\"\",\"\",入力シート!J396)","v":""},{"$f":"IF(入力シート!K396=\"\",\"\",入力シート!K396)","v":""},{"$f":"IF(入力シート!L396=\"\",\"\",入力シート!L396)","v":""},{"$f":"IF(入力シート!M396=\"\",\"\",入力シート!M396)","v":""},{"$f":"IF(入力シート!N396=\"\",\"\",入力シート!N396)","v":""},{"$f":"IF(入力シート!O396=\"\",\"\",入力シート!Q396)","v":""}]
[{"$f":"IF(入力シート!A397=\"\",\"\",入力シート!A397)","v":""},{"$f":"IF(入力シート!B397=\"\",\"\",入力シート!B397)","v":""},{"$f":"IF(入力シート!C397=\"\",\"\",入力シート!C397)","v":""},{"$f":"IF(入力シート!D397=\"\",\"\",TEXT(入力シート!D397,\"yyyy-mm-dd\"))","v":""},{"$f":"IF(入力シート!P397=\"\",\"\",TEXT(入力シート!P397,\"000-0000\"))","v":""},{"$f":"IF(入力シート!G397=\"\",\"\",入力シート!G397)","v":""},{"$f":"IF(入力シート!H397=\"\",\"\",入力シート!H397)","v":""},{"$f":"IF(入力シート!I397=\"\",\"\",入力シート!I397)","v":""},{"$f":"IF(入力シート!J397=\"\",\"\",入力シート!J397)","v":""},{"$f":"IF(入力シート!K397=\"\",\"\",入力シート!K397)","v":""},{"$f":"IF(入力シート!L397=\"\",\"\",入力シート!L397)","v":""},{"$f":"IF(入力シート!M397=\"\",\"\",入力シート!M397)","v":""},{"$f":"IF(入力シート!N397=\"\",\"\",入力シート!N397)","v":""},{"$f":"IF(入力シート!O397=\"\",\"\",入力シート!Q397)","v":""}]
[{"$f":"IF(入力シート!A398=\"\",\"\",入力シート!A398)","v":""},{"$f":"IF(入力シート!B398=\"\",\"\",入力シート!B398)","v":""},{"$f":"IF(入力シート!C398=\"\",\"\",入力シート!C398)","v":""},{"$f":"IF(入力シート!D398=\"\",\"\",TEXT(入力シート!D398,\"yyyy-mm-dd\"))","v":""},{"$f":"IF(入力シート!P398=\"\",\"\",TEXT(入力シート!P398,\"000-0000\"))","v":""},{"$f":"IF(入力シート!G398=\"\",\"\",入力シート!G398)","v":""},{"$f":"IF(入力シート!H398=\"\",\"\",入力シート!H398)","v":""},{"$f":"IF(入力シート!I398=\"\",\"\",入力シート!I398)","v":""},{"$f":"IF(入力シート!J398=\"\",\"\",入力シート!J398)","v":""},{"$f":"IF(入力シート!K398=\"\",\"\",入力シート!K398)","v":""},{"$f":"IF(入力シート!L398=\"\",\"\",入力シート!L398)","v":""},{"$f":"IF(入力シート!M398=\"\",\"\",入力シート!M398)","v":""},{"$f":"IF(入力シート!N398=\"\",\"\",入力シート!N398)","v":""},{"$f":"IF(入力シート!O398=\"\",\"\",入力シート!Q398)","v":""}]
[{"$f":"IF(入力シート!A399=\"\",\"\",入力シート!A399)","v":""},{"$f":"IF(入力シート!B399=\"\",\"\",入力シート!B399)","v":""},{"$f":"IF(入力シート!C399=\"\",\"\",入力シート!C399)","v":""},{"$f":"IF(入力シート!D399=\"\",\"\",TEXT(入力シート!D399,\"yyyy-mm-dd\"))","v":""},{"$f":"IF(入力シート!P399=\"\",\"\",TEXT(入力シート!P399,\"000-0000\"))","v":""},{"$f":"IF(入力シート!G399=\"\",\"\",入力シート!G399)","v":""},{"$f":"IF(入力シート!H399=\"\",\"\",入力シート!H399)","v":""},{"$f":"IF(入力シート!I399=\"\",\"\",入力シート!I399)","v":""},{"$f":"IF(入力シート!J399=\"\",\"\",入力シート!J399)","v":""},{"$f":"IF(入力シート!K399=\"\",\"\",入力シート!K399)","v":""},{"$f":"IF(入力シート!L399=\"\",\"\",入力シート!L399)","v":""},{"$f":"IF(入力シート!M399=\"\",\"\",入力シート!M399)","v":""},{"$f":"IF(入力シート!N399=\"\",\"\",入力シート!N399)","v":""},{"$f":"IF(入力シート!O399=\"\",\"\",入力シート!Q399)","v":""}]
[{"$f":"IF(入力シート!A400=\"\",\"\",入力シート!A400)","v":""},{"$f":"IF(入力シート!B400=\"\",\"\",入力シート!B400)","v":""},{"$f":"IF(入力シート!C400=\"\",\"\",入力シート!C400)","v":""},{"$f":"IF(入力シート!D400=\"\",\"\",TEXT(入力シート!D400,\"yyyy-mm-dd\"))","v":""},{"$f":"IF(入力シート!P400=\"\",\"\",TEXT(入力シート!P400,\"000-0000\"))","v":""},{"$f":"IF(入力シート!G400=\"\",\"\",入力シート!G400)","v":""},{"$f":"IF(入力シート!H400=\"\",\"\",入力シート!H400)","v":""},{"$f":"IF(入力シート!I400=\"\",\"\",入力シート!I400)","v":""},{"$f":"IF(入力シート!J400=\"\",\"\",入力シート!J400)","v":""},{"$f":"IF(入力シート!K400=\"\",\"\",入力シート!K400)","v":""},{"$f":"IF(入力シート!L400=\"\",\"\",入力シート!L400)","v":""},{"$f":"IF(入力シート!M400=\"\",\"\",入力シート!M400)","v":""},{"$f":"IF(入力シート!N400=\"\",\"\",入力シート!N400)","v":""},{"$f":"IF(入力シート!O400=\"\",\"\",入力シート!Q400)","v":""}]
[{"$f":"IF(入力シート!A401=\"\",\"\",入力シート!A401)","v":""},{"$f":"IF(入力シート!B401=\"\",\"\",入力シート!B401)","v":""},{"$f":"IF(入力シート!C401=\"\",\"\",入力シート!C401)","v":""},{"$f":"IF(入力シート!D401=\"\",\"\",TEXT(入力シート!D401,\"yyyy-mm-dd\"))","v":""},{"$f":"IF(入力シート!P401=\"\",\"\",TEXT(入力シート!P401,\"000-0000\"))","v":""},{"$f":"IF(入力シート!G401=\"\",\"\",入力シート!G401)","v":""},{"$f":"IF(入力シート!H401=\"\",\"\",入力シート!H401)","v":""},{"$f":"IF(入力シート!I401=\"\",\"\",入力シート!I401)","v":""},{"$f":"IF(入力シート!J401=\"\",\"\",入力シート!J401)","v":""},{"$f":"IF(入力シート!K401=\"\",\"\",入力シート!K401)","v":""},{"$f":"IF(入力シート!L401=\"\",\"\",入力シート!L401)","v":""},{"$f":"IF(入力シート!M401=\"\",\"\",入力シート!M401)","v":""},{"$f":"IF(入力シート!N401=\"\",\"\",入力シート!N401)","v":""},{"$f":"IF(入力シート!O401=\"\",\"\",入力シート!Q401)","v":""}]
[{"$f":"IF(入力シート!A402=\"\",\"\",入力シート!A402)","v":""},{"$f":"IF(入力シート!B402=\"\",\"\",入力シート!B402)","v":""},{"$f":"IF(入力シート!C402=\"\",\"\",入力シート!C402)","v":""},{"$f":"IF(入力シート!D402=\"\",\"\",TEXT(入力シート!D402,\"yyyy-mm-dd\"))","v":""},{"$f":"IF(入力シート!P402=\"\",\"\",TEXT(入力シート!P402,\"000-0000\"))","v":""},{"$f":"IF(入力シート!G402=\"\",\"\",入力シート!G402)","v":""},{"$f":"IF(入力シート!H402=\"\",\"\",入力シート!H402)","v":""},{"$f":"IF(入力シート!I402=\"\",\"\",入力シート!I402)","v":""},{"$f":"IF(入力シート!J402=\"\",\"\",入力シート!J402)","v":""},{"$f":"IF(入力シート!K402=\"\",\"\",入力シート!K402)","v":""},{"$f":"IF(入力シート!L402=\"\",\"\",入力シート!L402)","v":""},{"$f":"IF(入力シート!M402=\"\",\"\",入力シート!M402)","v":""},{"$f":"IF(入力シート!N402=\"\",\"\",入力シート!N402)","v":""},{"$f":"IF(入力シート!O402=\"\",\"\",入力シート!Q402)","v":""}]
[{"$f":"IF(入力シート!A403=\"\",\"\",入力シート!A403)","v":""},{"$f":"IF(入力シート!B403=\"\",\"\",入力シート!B403)","v":""},{"$f":"IF(入力シート!C403=\"\",\"\",入力シート!C403)","v":""},{"$f":"IF(入力シート!D403=\"\",\"\",TEXT(入力シート!D403,\"yyyy-mm-dd\"))","v":""},{"$f":"IF(入力シート!P403=\"\",\"\",TEXT(入力シート!P403,\"000-0000\"))","v":""},{"$f":"IF(入力シート!G403=\"\",\"\",入力シート!G403)","v":""},{"$f":"IF(入力シート!H403=\"\",\"\",入力シート!H403)","v":""},{"$f":"IF(入力シート!I403=\"\",\"\",入力シート!I403)","v":""},{"$f":"IF(入力シート!J403=\"\",\"\",入力シート!J403)","v":""},{"$f":"IF(入力シート!K403=\"\",\"\",入力シート!K403)","v":""},{"$f":"IF(入力シート!L403=\"\",\"\",入力シート!L403)","v":""},{"$f":"IF(入力シート!M403=\"\",\"\",入力シート!M403)","v":""},{"$f":"IF(入力シート!N403=\"\",\"\",入力シート!N403)","v":""},{"$f":"IF(入力シート!O403=\"\",\"\",入力シート!Q403)","v":""}]
[{"$f":"IF(入力シート!A404=\"\",\"\",入力シート!A404)","v":""},{"$f":"IF(入力シート!B404=\"\",\"\",入力シート!B404)","v":""},{"$f":"IF(入力シート!C404=\"\",\"\",入力シート!C404)","v":""},{"$f":"IF(入力シート!D404=\"\",\"\",TEXT(入力シート!D404,\"yyyy-mm-dd\"))","v":""},{"$f":"IF(入力シート!P404=\"\",\"\",TEXT(入力シート!P404,\"000-0000\"))","v":""},{"$f":"IF(入力シート!G404=\"\",\"\",入力シート!G404)","v":""},{"$f":"IF(入力シート!H404=\"\",\"\",入力シート!H404)","v":""},{"$f":"IF(入力シート!I404=\"\",\"\",入力シート!I404)","v":""},{"$f":"IF(入力シート!J404=\"\",\"\",入力シート!J404)","v":""},{"$f":"IF(入力シート!K404=\"\",\"\",入力シート!K404)","v":""},{"$f":"IF(入力シート!L404=\"\",\"\",入力シート!L404)","v":""},{"$f":"IF(入力シート!M404=\"\",\"\",入力シート!M404)","v":""},{"$f":"IF(入力シート!N404=\"\",\"\",入力シート!N404)","v":""},{"$f":"IF(入力シート!O404=\"\",\"\",入力シート!Q404)","v":""}]
[{"$f":"IF(入力シート!A405=\"\",\"\",入力シート!A405)","v":""},{"$f":"IF(入力シート!B405=\"\",\"\",入力シート!B405)","v":""},{"$f":"IF(入力シート!C405=\"\",\"\",入力シート!C405)","v":""},{"$f":"IF(入力シート!D405=\"\",\"\",TEXT(入力シート!D405,\"yyyy-mm-dd\"))","v":""},{"$f":"IF(入力シート!P405=\"\",\"\",TEXT(入力シート!P405,\"000-0000\"))","v":""},{"$f":"IF(入力シート!G405=\"\",\"\",入力シート!G405)","v":""},{"$f":"IF(入力シート!H405=\"\",\"\",入力シート!H405)","v":""},{"$f":"IF(入力シート!I405=\"\",\"\",入力シート!I405)","v":""},{"$f":"IF(入力シート!J405=\"\",\"\",入力シート!J405)","v":""},{"$f":"IF(入力シート!K405=\"\",\"\",入力シート!K405)","v":""},{"$f":"IF(入力シート!L405=\"\",\"\",入力シート!L405)","v":""},{"$f":"IF(入力シート!M405=\"\",\"\",入力シート!M405)","v":""},{"$f":"IF(入力シート!N405=\"\",\"\",入力シート!N405)","v":""},{"$f":"IF(入力シート!O405=\"\",\"\",入力シート!Q405)","v":""}]
[{"$f":"IF(入力シート!A406=\"\",\"\",入力シート!A406)","v":""},{"$f":"IF(入力シート!B406=\"\",\"\",入力シート!B406)","v":""},{"$f":"IF(入力シート!C406=\"\",\"\",入力シート!C406)","v":""},{"$f":"IF(入力シート!D406=\"\",\"\",TEXT(入力シート!D406,\"yyyy-mm-dd\"))","v":""},{"$f":"IF(入力シート!P406=\"\",\"\",TEXT(入力シート!P406,\"000-0000\"))","v":""},{"$f":"IF(入力シート!G406=\"\",\"\",入力シート!G406)","v":""},{"$f":"IF(入力シート!H406=\"\",\"\",入力シート!H406)","v":""},{"$f":"IF(入力シート!I406=\"\",\"\",入力シート!I406)","v":""},{"$f":"IF(入力シート!J406=\"\",\"\",入力シート!J406)","v":""},{"$f":"IF(入力シート!K406=\"\",\"\",入力シート!K406)","v":""},{"$f":"IF(入力シート!L406=\"\",\"\",入力シート!L406)","v":""},{"$f":"IF(入力シート!M406=\"\",\"\",入力シート!M406)","v":""},{"$f":"IF(入力シート!N406=\"\",\"\",入力シート!N406)","v":""},{"$f":"IF(入力シート!O406=\"\",\"\",入力シート!Q406)","v":""}]
[{"$f":"IF(入力シート!A407=\"\",\"\",入力シート!A407)","v":""},{"$f":"IF(入力シート!B407=\"\",\"\",入力シート!B407)","v":""},{"$f":"IF(入力シート!C407=\"\",\"\",入力シート!C407)","v":""},{"$f":"IF(入力シート!D407=\"\",\"\",TEXT(入力シート!D407,\"yyyy-mm-dd\"))","v":""},{"$f":"IF(入力シート!P407=\"\",\"\",TEXT(入力シート!P407,\"000-0000\"))","v":""},{"$f":"IF(入力シート!G407=\"\",\"\",入力シート!G407)","v":""},{"$f":"IF(入力シート!H407=\"\",\"\",入力シート!H407)","v":""},{"$f":"IF(入力シート!I407=\"\",\"\",入力シート!I407)","v":""},{"$f":"IF(入力シート!J407=\"\",\"\",入力シート!J407)","v":""},{"$f":"IF(入力シート!K407=\"\",\"\",入力シート!K407)","v":""},{"$f":"IF(入力シート!L407=\"\",\"\",入力シート!L407)","v":""},{"$f":"IF(入力シート!M407=\"\",\"\",入力シート!M407)","v":""},{"$f":"IF(入力シート!N407=\"\",\"\",入力シート!N407)","v":""},{"$f":"IF(入力シート!O407=\"\",\"\",入力シート!Q407)","v":""}]
[{"$f":"IF(入力シート!A408=\"\",\"\",入力シート!A408)","v":""},{"$f":"IF(入力シート!B408=\"\",\"\",入力シート!B408)","v":""},{"$f":"IF(入力シート!C408=\"\",\"\",入力シート!C408)","v":""},{"$f":"IF(入力シート!D408=\"\",\"\",TEXT(入力シート!D408,\"yyyy-mm-dd\"))","v":""},{"$f":"IF(入力シート!P408=\"\",\"\",TEXT(入力シート!P408,\"000-0000\"))","v":""},{"$f":"IF(入力シート!G408=\"\",\"\",入力シート!G408)","v":""},{"$f":"IF(入力シート!H408=\"\",\"\",入力シート!H408)","v":""},{"$f":"IF(入力シート!I408=\"\",\"\",入力シート!I408)","v":""},{"$f":"IF(入力シート!J408=\"\",\"\",入力シート!J408)","v":""},{"$f":"IF(入力シート!K408=\"\",\"\",入力シート!K408)","v":""},{"$f":"IF(入力シート!L408=\"\",\"\",入力シート!L408)","v":""},{"$f":"IF(入力シート!M408=\"\",\"\",入力シート!M408)","v":""},{"$f":"IF(入力シート!N408=\"\",\"\",入力シート!N408)","v":""},{"$f":"IF(入力シート!O408=\"\",\"\",入力シート!Q408)","v":""}]
[{"$f":"IF(入力シート!A409=\"\",\"\",入力シート!A409)","v":""},{"$f":"IF(入力シート!B409=\"\",\"\",入力シート!B409)","v":""},{"$f":"IF(入力シート!C409=\"\",\"\",入力シート!C409)","v":""},{"$f":"IF(入力シート!D409=\"\",\"\",TEXT(入力シート!D409,\"yyyy-mm-dd\"))","v":""},{"$f":"IF(入力シート!P409=\"\",\"\",TEXT(入力シート!P409,\"000-0000\"))","v":""},{"$f":"IF(入力シート!G409=\"\",\"\",入力シート!G409)","v":""},{"$f":"IF(入力シート!H409=\"\",\"\",入力シート!H409)","v":""},{"$f":"IF(入力シート!I409=\"\",\"\",入力シート!I409)","v":""},{"$f":"IF(入力シート!J409=\"\",\"\",入力シート!J409)","v":""},{"$f":"IF(入力シート!K409=\"\",\"\",入力シート!K409)","v":""},{"$f":"IF(入力シート!L409=\"\",\"\",入力シート!L409)","v":""},{"$f":"IF(入力シート!M409=\"\",\"\",入力シート!M409)","v":""},{"$f":"IF(入力シート!N409=\"\",\"\",入力シート!N409)","v":""},{"$f":"IF(入力シート!O409=\"\",\"\",入力シート!Q409)","v":""}]
[{"$f":"IF(入力シート!A410=\"\",\"\",入力シート!A410)","v":""},{"$f":"IF(入力シート!B410=\"\",\"\",入力シート!B410)","v":""},{"$f":"IF(入力シート!C410=\"\",\"\",入力シート!C410)","v":""},{"$f":"IF(入力シート!D410=\"\",\"\",TEXT(入力シート!D410,\"yyyy-mm-dd\"))","v":""},{"$f":"IF(入力シート!P410=\"\",\"\",TEXT(入力シート!P410,\"000-0000\"))","v":""},{"$f":"IF(入力シート!G410=\"\",\"\",入力シート!G410)","v":""},{"$f":"IF(入力シート!H410=\"\",\"\",入力シート!H410)","v":""},{"$f":"IF(入力シート!I410=\"\",\"\",入力シート!I410)","v":""},{"$f":"IF(入力シート!J410=\"\",\"\",入力シート!J410)","v":""},{"$f":"IF(入力シート!K410=\"\",\"\",入力シート!K410)","v":""},{"$f":"IF(入力シート!L410=\"\",\"\",入力シート!L410)","v":""},{"$f":"IF(入力シート!M410=\"\",\"\",入力シート!M410)","v":""},{"$f":"IF(入力シート!N410=\"\",\"\",入力シート!N410)","v":""},{"$f":"IF(入力シート!O410=\"\",\"\",入力シート!Q410)","v":""}]
[{"$f":"IF(入力シート!A411=\"\",\"\",入力シート!A411)","v":""},{"$f":"IF(入力シート!B411=\"\",\"\",入力シート!B411)","v":""},{"$f":"IF(入力シート!C411=\"\",\"\",入力シート!C411)","v":""},{"$f":"IF(入力シート!D411=\"\",\"\",TEXT(入力シート!D411,\"yyyy-mm-dd\"))","v":""},{"$f":"IF(入力シート!P411=\"\",\"\",TEXT(入力シート!P411,\"000-0000\"))","v":""},{"$f":"IF(入力シート!G411=\"\",\"\",入力シート!G411)","v":""},{"$f":"IF(入力シート!H411=\"\",\"\",入力シート!H411)","v":""},{"$f":"IF(入力シート!I411=\"\",\"\",入力シート!I411)","v":""},{"$f":"IF(入力シート!J411=\"\",\"\",入力シート!J411)","v":""},{"$f":"IF(入力シート!K411=\"\",\"\",入力シート!K411)","v":""},{"$f":"IF(入力シート!L411=\"\",\"\",入力シート!L411)","v":""},{"$f":"IF(入力シート!M411=\"\",\"\",入力シート!M411)","v":""},{"$f":"IF(入力シート!N411=\"\",\"\",入力シート!N411)","v":""},{"$f":"IF(入力シート!O411=\"\",\"\",入力シート!Q411)","v":""}]
[{"$f":"IF(入力シート!A412=\"\",\"\",入力シート!A412)","v":""},{"$f":"IF(入力シート!B412=\"\",\"\",入力シート!B412)","v":""},{"$f":"IF(入力シート!C412=\"\",\"\",入力シート!C412)","v":""},{"$f":"IF(入力シート!D412=\"\",\"\",TEXT(入力シート!D412,\"yyyy-mm-dd\"))","v":""},{"$f":"IF(入力シート!P412=\"\",\"\",TEXT(入力シート!P412,\"000-0000\"))","v":""},{"$f":"IF(入力シート!G412=\"\",\"\",入力シート!G412)","v":""},{"$f":"IF(入力シート!H412=\"\",\"\",入力シート!H412)","v":""},{"$f":"IF(入力シート!I412=\"\",\"\",入力シート!I412)","v":""},{"$f":"IF(入力シート!J412=\"\",\"\",入力シート!J412)","v":""},{"$f":"IF(入力シート!K412=\"\",\"\",入力シート!K412)","v":""},{"$f":"IF(入力シート!L412=\"\",\"\",入力シート!L412)","v":""},{"$f":"IF(入力シート!M412=\"\",\"\",入力シート!M412)","v":""},{"$f":"IF(入力シート!N412=\"\",\"\",入力シート!N412)","v":""},{"$f":"IF(入力シート!O412=\"\",\"\",入力シート!Q412)","v":""}]
[{"$f":"IF(入力シート!A413=\"\",\"\",入力シート!A413)","v":""},{"$f":"IF(入力シート!B413=\"\",\"\",入力シート!B413)","v":""},{"$f":"IF(入力シート!C413=\"\",\"\",入力シート!C413)","v":""},{"$f":"IF(入力シート!D413=\"\",\"\",TEXT(入力シート!D413,\"yyyy-mm-dd\"))","v":""},{"$f":"IF(入力シート!P413=\"\",\"\",TEXT(入力シート!P413,\"000-0000\"))","v":""},{"$f":"IF(入力シート!G413=\"\",\"\",入力シート!G413)","v":""},{"$f":"IF(入力シート!H413=\"\",\"\",入力シート!H413)","v":""},{"$f":"IF(入力シート!I413=\"\",\"\",入力シート!I413)","v":""},{"$f":"IF(入力シート!J413=\"\",\"\",入力シート!J413)","v":""},{"$f":"IF(入力シート!K413=\"\",\"\",入力シート!K413)","v":""},{"$f":"IF(入力シート!L413=\"\",\"\",入力シート!L413)","v":""},{"$f":"IF(入力シート!M413=\"\",\"\",入力シート!M413)","v":""},{"$f":"IF(入力シート!N413=\"\",\"\",入力シート!N413)","v":""},{"$f":"IF(入力シート!O413=\"\",\"\",入力シート!Q413)","v":""}]
[{"$f":"IF(入力シート!A414=\"\",\"\",入力シート!A414)","v":""},{"$f":"IF(入力シート!B414=\"\",\"\",入力シート!B414)","v":""},{"$f":"IF(入力シート!C414=\"\",\"\",入力シート!C414)","v":""},{"$f":"IF(入力シート!D414=\"\",\"\",TEXT(入力シート!D414,\"yyyy-mm-dd\"))","v":""},{"$f":"IF(入力シート!P414=\"\",\"\",TEXT(入力シート!P414,\"000-0000\"))","v":""},{"$f":"IF(入力シート!G414=\"\",\"\",入力シート!G414)","v":""},{"$f":"IF(入力シート!H414=\"\",\"\",入力シート!H414)","v":""},{"$f":"IF(入力シート!I414=\"\",\"\",入力シート!I414)","v":""},{"$f":"IF(入力シート!J414=\"\",\"\",入力シート!J414)","v":""},{"$f":"IF(入力シート!K414=\"\",\"\",入力シート!K414)","v":""},{"$f":"IF(入力シート!L414=\"\",\"\",入力シート!L414)","v":""},{"$f":"IF(入力シート!M414=\"\",\"\",入力シート!M414)","v":""},{"$f":"IF(入力シート!N414=\"\",\"\",入力シート!N414)","v":""},{"$f":"IF(入力シート!O414=\"\",\"\",入力シート!Q414)","v":""}]
[{"$f":"IF(入力シート!A415=\"\",\"\",入力シート!A415)","v":""},{"$f":"IF(入力シート!B415=\"\",\"\",入力シート!B415)","v":""},{"$f":"IF(入力シート!C415=\"\",\"\",入力シート!C415)","v":""},{"$f":"IF(入力シート!D415=\"\",\"\",TEXT(入力シート!D415,\"yyyy-mm-dd\"))","v":""},{"$f":"IF(入力シート!P415=\"\",\"\",TEXT(入力シート!P415,\"000-0000\"))","v":""},{"$f":"IF(入力シート!G415=\"\",\"\",入力シート!G415)","v":""},{"$f":"IF(入力シート!H415=\"\",\"\",入力シート!H415)","v":""},{"$f":"IF(入力シート!I415=\"\",\"\",入力シート!I415)","v":""},{"$f":"IF(入力シート!J415=\"\",\"\",入力シート!J415)","v":""},{"$f":"IF(入力シート!K415=\"\",\"\",入力シート!K415)","v":""},{"$f":"IF(入力シート!L415=\"\",\"\",入力シート!L415)","v":""},{"$f":"IF(入力シート!M415=\"\",\"\",入力シート!M415)","v":""},{"$f":"IF(入力シート!N415=\"\",\"\",入力シート!N415)","v":""},{"$f":"IF(入力シート!O415=\"\",\"\",入力シート!Q415)","v":""}]
[{"$f":"IF(入力シート!A416=\"\",\"\",入力シート!A416)","v":""},{"$f":"IF(入力シート!B416=\"\",\"\",入力シート!B416)","v":""},{"$f":"IF(入力シート!C416=\"\",\"\",入力シート!C416)","v":""},{"$f":"IF(入力シート!D416=\"\",\"\",TEXT(入力シート!D416,\"yyyy-mm-dd\"))","v":""},{"$f":"IF(入力シート!P416=\"\",\"\",TEXT(入力シート!P416,\"000-0000\"))","v":""},{"$f":"IF(入力シート!G416=\"\",\"\",入力シート!G416)","v":""},{"$f":"IF(入力シート!H416=\"\",\"\",入力シート!H416)","v":""},{"$f":"IF(入力シート!I416=\"\",\"\",入力シート!I416)","v":""},{"$f":"IF(入力シート!J416=\"\",\"\",入力シート!J416)","v":""},{"$f":"IF(入力シート!K416=\"\",\"\",入力シート!K416)","v":""},{"$f":"IF(入力シート!L416=\"\",\"\",入力シート!L416)","v":""},{"$f":"IF(入力シート!M416=\"\",\"\",入力シート!M416)","v":""},{"$f":"IF(入力シート!N416=\"\",\"\",入力シート!N416)","v":""},{"$f":"IF(入力シート!O416=\"\",\"\",入力シート!Q416)","v":""}]
[{"$f":"IF(入力シート!A417=\"\",\"\",入力シート!A417)","v":""},{"$f":"IF(入力シート!B417=\"\",\"\",入力シート!B417)","v":""},{"$f":"IF(入力シート!C417=\"\",\"\",入力シート!C417)","v":""},{"$f":"IF(入力シート!D417=\"\",\"\",TEXT(入力シート!D417,\"yyyy-mm-dd\"))","v":""},{"$f":"IF(入力シート!P417=\"\",\"\",TEXT(入力シート!P417,\"000-0000\"))","v":""},{"$f":"IF(入力シート!G417=\"\",\"\",入力シート!G417)","v":""},{"$f":"IF(入力シート!H417=\"\",\"\",入力シート!H417)","v":""},{"$f":"IF(入力シート!I417=\"\",\"\",入力シート!I417)","v":""},{"$f":"IF(入力シート!J417=\"\",\"\",入力シート!J417)","v":""},{"$f":"IF(入力シート!K417=\"\",\"\",入力シート!K417)","v":""},{"$f":"IF(入力シート!L417=\"\",\"\",入力シート!L417)","v":""},{"$f":"IF(入力シート!M417=\"\",\"\",入力シート!M417)","v":""},{"$f":"IF(入力シート!N417=\"\",\"\",入力シート!N417)","v":""},{"$f":"IF(入力シート!O417=\"\",\"\",入力シート!Q417)","v":""}]
[{"$f":"IF(入力シート!A418=\"\",\"\",入力シート!A418)","v":""},{"$f":"IF(入力シート!B418=\"\",\"\",入力シート!B418)","v":""},{"$f":"IF(入力シート!C418=\"\",\"\",入力シート!C418)","v":""},{"$f":"IF(入力シート!D418=\"\",\"\",TEXT(入力シート!D418,\"yyyy-mm-dd\"))","v":""},{"$f":"IF(入力シート!P418=\"\",\"\",TEXT(入力シート!P418,\"000-0000\"))","v":""},{"$f":"IF(入力シート!G418=\"\",\"\",入力シート!G418)","v":""},{"$f":"IF(入力シート!H418=\"\",\"\",入力シート!H418)","v":""},{"$f":"IF(入力シート!I418=\"\",\"\",入力シート!I418)","v":""},{"$f":"IF(入力シート!J418=\"\",\"\",入力シート!J418)","v":""},{"$f":"IF(入力シート!K418=\"\",\"\",入力シート!K418)","v":""},{"$f":"IF(入力シート!L418=\"\",\"\",入力シート!L418)","v":""},{"$f":"IF(入力シート!M418=\"\",\"\",入力シート!M418)","v":""},{"$f":"IF(入力シート!N418=\"\",\"\",入力シート!N418)","v":""},{"$f":"IF(入力シート!O418=\"\",\"\",入力シート!Q418)","v":""}]
[{"$f":"IF(入力シート!A419=\"\",\"\",入力シート!A419)","v":""},{"$f":"IF(入力シート!B419=\"\",\"\",入力シート!B419)","v":""},{"$f":"IF(入力シート!C419=\"\",\"\",入力シート!C419)","v":""},{"$f":"IF(入力シート!D419=\"\",\"\",TEXT(入力シート!D419,\"yyyy-mm-dd\"))","v":""},{"$f":"IF(入力シート!P419=\"\",\"\",TEXT(入力シート!P419,\"000-0000\"))","v":""},{"$f":"IF(入力シート!G419=\"\",\"\",入力シート!G419)","v":""},{"$f":"IF(入力シート!H419=\"\",\"\",入力シート!H419)","v":""},{"$f":"IF(入力シート!I419=\"\",\"\",入力シート!I419)","v":""},{"$f":"IF(入力シート!J419=\"\",\"\",入力シート!J419)","v":""},{"$f":"IF(入力シート!K419=\"\",\"\",入力シート!K419)","v":""},{"$f":"IF(入力シート!L419=\"\",\"\",入力シート!L419)","v":""},{"$f":"IF(入力シート!M419=\"\",\"\",入力シート!M419)","v":""},{"$f":"IF(入力シート!N419=\"\",\"\",入力シート!N419)","v":""},{"$f":"IF(入力シート!O419=\"\",\"\",入力シート!Q419)","v":""}]
[{"$f":"IF(入力シート!A420=\"\",\"\",入力シート!A420)","v":""},{"$f":"IF(入力シート!B420=\"\",\"\",入力シート!B420)","v":""},{"$f":"IF(入力シート!C420=\"\",\"\",入力シート!C420)","v":""},{"$f":"IF(入力シート!D420=\"\",\"\",TEXT(入力シート!D420,\"yyyy-mm-dd\"))","v":""},{"$f":"IF(入力シート!P420=\"\",\"\",TEXT(入力シート!P420,\"000-0000\"))","v":""},{"$f":"IF(入力シート!G420=\"\",\"\",入力シート!G420)","v":""},{"$f":"IF(入力シート!H420=\"\",\"\",入力シート!H420)","v":""},{"$f":"IF(入力シート!I420=\"\",\"\",入力シート!I420)","v":""},{"$f":"IF(入力シート!J420=\"\",\"\",入力シート!J420)","v":""},{"$f":"IF(入力シート!K420=\"\",\"\",入力シート!K420)","v":""},{"$f":"IF(入力シート!L420=\"\",\"\",入力シート!L420)","v":""},{"$f":"IF(入力シート!M420=\"\",\"\",入力シート!M420)","v":""},{"$f":"IF(入力シート!N420=\"\",\"\",入力シート!N420)","v":""},{"$f":"IF(入力シート!O420=\"\",\"\",入力シート!Q420)","v":""}]
[{"$f":"IF(入力シート!A421=\"\",\"\",入力シート!A421)","v":""},{"$f":"IF(入力シート!B421=\"\",\"\",入力シート!B421)","v":""},{"$f":"IF(入力シート!C421=\"\",\"\",入力シート!C421)","v":""},{"$f":"IF(入力シート!D421=\"\",\"\",TEXT(入力シート!D421,\"yyyy-mm-dd\"))","v":""},{"$f":"IF(入力シート!P421=\"\",\"\",TEXT(入力シート!P421,\"000-0000\"))","v":""},{"$f":"IF(入力シート!G421=\"\",\"\",入力シート!G421)","v":""},{"$f":"IF(入力シート!H421=\"\",\"\",入力シート!H421)","v":""},{"$f":"IF(入力シート!I421=\"\",\"\",入力シート!I421)","v":""},{"$f":"IF(入力シート!J421=\"\",\"\",入力シート!J421)","v":""},{"$f":"IF(入力シート!K421=\"\",\"\",入力シート!K421)","v":""},{"$f":"IF(入力シート!L421=\"\",\"\",入力シート!L421)","v":""},{"$f":"IF(入力シート!M421=\"\",\"\",入力シート!M421)","v":""},{"$f":"IF(入力シート!N421=\"\",\"\",入力シート!N421)","v":""},{"$f":"IF(入力シート!O421=\"\",\"\",入力シート!Q421)","v":""}]
[{"$f":"IF(入力シート!A422=\"\",\"\",入力シート!A422)","v":""},{"$f":"IF(入力シート!B422=\"\",\"\",入力シート!B422)","v":""},{"$f":"IF(入力シート!C422=\"\",\"\",入力シート!C422)","v":""},{"$f":"IF(入力シート!D422=\"\",\"\",TEXT(入力シート!D422,\"yyyy-mm-dd\"))","v":""},{"$f":"IF(入力シート!P422=\"\",\"\",TEXT(入力シート!P422,\"000-0000\"))","v":""},{"$f":"IF(入力シート!G422=\"\",\"\",入力シート!G422)","v":""},{"$f":"IF(入力シート!H422=\"\",\"\",入力シート!H422)","v":""},{"$f":"IF(入力シート!I422=\"\",\"\",入力シート!I422)","v":""},{"$f":"IF(入力シート!J422=\"\",\"\",入力シート!J422)","v":""},{"$f":"IF(入力シート!K422=\"\",\"\",入力シート!K422)","v":""},{"$f":"IF(入力シート!L422=\"\",\"\",入力シート!L422)","v":""},{"$f":"IF(入力シート!M422=\"\",\"\",入力シート!M422)","v":""},{"$f":"IF(入力シート!N422=\"\",\"\",入力シート!N422)","v":""},{"$f":"IF(入力シート!O422=\"\",\"\",入力シート!Q422)","v":""}]
[{"$f":"IF(入力シート!A423=\"\",\"\",入力シート!A423)","v":""},{"$f":"IF(入力シート!B423=\"\",\"\",入力シート!B423)","v":""},{"$f":"IF(入力シート!C423=\"\",\"\",入力シート!C423)","v":""},{"$f":"IF(入力シート!D423=\"\",\"\",TEXT(入力シート!D423,\"yyyy-mm-dd\"))","v":""},{"$f":"IF(入力シート!P423=\"\",\"\",TEXT(入力シート!P423,\"000-0000\"))","v":""},{"$f":"IF(入力シート!G423=\"\",\"\",入力シート!G423)","v":""},{"$f":"IF(入力シート!H423=\"\",\"\",入力シート!H423)","v":""},{"$f":"IF(入力シート!I423=\"\",\"\",入力シート!I423)","v":""},{"$f":"IF(入力シート!J423=\"\",\"\",入力シート!J423)","v":""},{"$f":"IF(入力シート!K423=\"\",\"\",入力シート!K423)","v":""},{"$f":"IF(入力シート!L423=\"\",\"\",入力シート!L423)","v":""},{"$f":"IF(入力シート!M423=\"\",\"\",入力シート!M423)","v":""},{"$f":"IF(入力シート!N423=\"\",\"\",入力シート!N423)","v":""},{"$f":"IF(入力シート!O423=\"\",\"\",入力シート!Q423)","v":""}]
[{"$f":"IF(入力シート!A424=\"\",\"\",入力シート!A424)","v":""},{"$f":"IF(入力シート!B424=\"\",\"\",入力シート!B424)","v":""},{"$f":"IF(入力シート!C424=\"\",\"\",入力シート!C424)","v":""},{"$f":"IF(入力シート!D424=\"\",\"\",TEXT(入力シート!D424,\"yyyy-mm-dd\"))","v":""},{"$f":"IF(入力シート!P424=\"\",\"\",TEXT(入力シート!P424,\"000-0000\"))","v":""},{"$f":"IF(入力シート!G424=\"\",\"\",入力シート!G424)","v":""},{"$f":"IF(入力シート!H424=\"\",\"\",入力シート!H424)","v":""},{"$f":"IF(入力シート!I424=\"\",\"\",入力シート!I424)","v":""},{"$f":"IF(入力シート!J424=\"\",\"\",入力シート!J424)","v":""},{"$f":"IF(入力シート!K424=\"\",\"\",入力シート!K424)","v":""},{"$f":"IF(入力シート!L424=\"\",\"\",入力シート!L424)","v":""},{"$f":"IF(入力シート!M424=\"\",\"\",入力シート!M424)","v":""},{"$f":"IF(入力シート!N424=\"\",\"\",入力シート!N424)","v":""},{"$f":"IF(入力シート!O424=\"\",\"\",入力シート!Q424)","v":""}]
[{"$f":"IF(入力シート!A425=\"\",\"\",入力シート!A425)","v":""},{"$f":"IF(入力シート!B425=\"\",\"\",入力シート!B425)","v":""},{"$f":"IF(入力シート!C425=\"\",\"\",入力シート!C425)","v":""},{"$f":"IF(入力シート!D425=\"\",\"\",TEXT(入力シート!D425,\"yyyy-mm-dd\"))","v":""},{"$f":"IF(入力シート!P425=\"\",\"\",TEXT(入力シート!P425,\"000-0000\"))","v":""},{"$f":"IF(入力シート!G425=\"\",\"\",入力シート!G425)","v":""},{"$f":"IF(入力シート!H425=\"\",\"\",入力シート!H425)","v":""},{"$f":"IF(入力シート!I425=\"\",\"\",入力シート!I425)","v":""},{"$f":"IF(入力シート!J425=\"\",\"\",入力シート!J425)","v":""},{"$f":"IF(入力シート!K425=\"\",\"\",入力シート!K425)","v":""},{"$f":"IF(入力シート!L425=\"\",\"\",入力シート!L425)","v":""},{"$f":"IF(入力シート!M425=\"\",\"\",入力シート!M425)","v":""},{"$f":"IF(入力シート!N425=\"\",\"\",入力シート!N425)","v":""},{"$f":"IF(入力シート!O425=\"\",\"\",入力シート!Q425)","v":""}]
[{"$f":"IF(入力シート!A426=\"\",\"\",入力シート!A426)","v":""},{"$f":"IF(入力シート!B426=\"\",\"\",入力シート!B426)","v":""},{"$f":"IF(入力シート!C426=\"\",\"\",入力シート!C426)","v":""},{"$f":"IF(入力シート!D426=\"\",\"\",TEXT(入力シート!D426,\"yyyy-mm-dd\"))","v":""},{"$f":"IF(入力シート!P426=\"\",\"\",TEXT(入力シート!P426,\"000-0000\"))","v":""},{"$f":"IF(入力シート!G426=\"\",\"\",入力シート!G426)","v":""},{"$f":"IF(入力シート!H426=\"\",\"\",入力シート!H426)","v":""},{"$f":"IF(入力シート!I426=\"\",\"\",入力シート!I426)","v":""},{"$f":"IF(入力シート!J426=\"\",\"\",入力シート!J426)","v":""},{"$f":"IF(入力シート!K426=\"\",\"\",入力シート!K426)","v":""},{"$f":"IF(入力シート!L426=\"\",\"\",入力シート!L426)","v":""},{"$f":"IF(入力シート!M426=\"\",\"\",入力シート!M426)","v":""},{"$f":"IF(入力シート!N426=\"\",\"\",入力シート!N426)","v":""},{"$f":"IF(入力シート!O426=\"\",\"\",入力シート!Q426)","v":""}]
[{"$f":"IF(入力シート!A427=\"\",\"\",入力シート!A427)","v":""},{"$f":"IF(入力シート!B427=\"\",\"\",入力シート!B427)","v":""},{"$f":"IF(入力シート!C427=\"\",\"\",入力シート!C427)","v":""},{"$f":"IF(入力シート!D427=\"\",\"\",TEXT(入力シート!D427,\"yyyy-mm-dd\"))","v":""},{"$f":"IF(入力シート!P427=\"\",\"\",TEXT(入力シート!P427,\"000-0000\"))","v":""},{"$f":"IF(入力シート!G427=\"\",\"\",入力シート!G427)","v":""},{"$f":"IF(入力シート!H427=\"\",\"\",入力シート!H427)","v":""},{"$f":"IF(入力シート!I427=\"\",\"\",入力シート!I427)","v":""},{"$f":"IF(入力シート!J427=\"\",\"\",入力シート!J427)","v":""},{"$f":"IF(入力シート!K427=\"\",\"\",入力シート!K427)","v":""},{"$f":"IF(入力シート!L427=\"\",\"\",入力シート!L427)","v":""},{"$f":"IF(入力シート!M427=\"\",\"\",入力シート!M427)","v":""},{"$f":"IF(入力シート!N427=\"\",\"\",入力シート!N427)","v":""},{"$f":"IF(入力シート!O427=\"\",\"\",入力シート!Q427)","v":""}]
[{"$f":"IF(入力シート!A428=\"\",\"\",入力シート!A428)","v":""},{"$f":"IF(入力シート!B428=\"\",\"\",入力シート!B428)","v":""},{"$f":"IF(入力シート!C428=\"\",\"\",入力シート!C428)","v":""},{"$f":"IF(入力シート!D428=\"\",\"\",TEXT(入力シート!D428,\"yyyy-mm-dd\"))","v":""},{"$f":"IF(入力シート!P428=\"\",\"\",TEXT(入力シート!P428,\"000-0000\"))","v":""},{"$f":"IF(入力シート!G428=\"\",\"\",入力シート!G428)","v":""},{"$f":"IF(入力シート!H428=\"\",\"\",入力シート!H428)","v":""},{"$f":"IF(入力シート!I428=\"\",\"\",入力シート!I428)","v":""},{"$f":"IF(入力シート!J428=\"\",\"\",入力シート!J428)","v":""},{"$f":"IF(入力シート!K428=\"\",\"\",入力シート!K428)","v":""},{"$f":"IF(入力シート!L428=\"\",\"\",入力シート!L428)","v":""},{"$f":"IF(入力シート!M428=\"\",\"\",入力シート!M428)","v":""},{"$f":"IF(入力シート!N428=\"\",\"\",入力シート!N428)","v":""},{"$f":"IF(入力シート!O428=\"\",\"\",入力シート!Q428)","v":""}]
[{"$f":"IF(入力シート!A429=\"\",\"\",入力シート!A429)","v":""},{"$f":"IF(入力シート!B429=\"\",\"\",入力シート!B429)","v":""},{"$f":"IF(入力シート!C429=\"\",\"\",入力シート!C429)","v":""},{"$f":"IF(入力シート!D429=\"\",\"\",TEXT(入力シート!D429,\"yyyy-mm-dd\"))","v":""},{"$f":"IF(入力シート!P429=\"\",\"\",TEXT(入力シート!P429,\"000-0000\"))","v":""},{"$f":"IF(入力シート!G429=\"\",\"\",入力シート!G429)","v":""},{"$f":"IF(入力シート!H429=\"\",\"\",入力シート!H429)","v":""},{"$f":"IF(入力シート!I429=\"\",\"\",入力シート!I429)","v":""},{"$f":"IF(入力シート!J429=\"\",\"\",入力シート!J429)","v":""},{"$f":"IF(入力シート!K429=\"\",\"\",入力シート!K429)","v":""},{"$f":"IF(入力シート!L429=\"\",\"\",入力シート!L429)","v":""},{"$f":"IF(入力シート!M429=\"\",\"\",入力シート!M429)","v":""},{"$f":"IF(入力シート!N429=\"\",\"\",入力シート!N429)","v":""},{"$f":"IF(入力シート!O429=\"\",\"\",入力シート!Q429)","v":""}]
[{"$f":"IF(入力シート!A430=\"\",\"\",入力シート!A430)","v":""},{"$f":"IF(入力シート!B430=\"\",\"\",入力シート!B430)","v":""},{"$f":"IF(入力シート!C430=\"\",\"\",入力シート!C430)","v":""},{"$f":"IF(入力シート!D430=\"\",\"\",TEXT(入力シート!D430,\"yyyy-mm-dd\"))","v":""},{"$f":"IF(入力シート!P430=\"\",\"\",TEXT(入力シート!P430,\"000-0000\"))","v":""},{"$f":"IF(入力シート!G430=\"\",\"\",入力シート!G430)","v":""},{"$f":"IF(入力シート!H430=\"\",\"\",入力シート!H430)","v":""},{"$f":"IF(入力シート!I430=\"\",\"\",入力シート!I430)","v":""},{"$f":"IF(入力シート!J430=\"\",\"\",入力シート!J430)","v":""},{"$f":"IF(入力シート!K430=\"\",\"\",入力シート!K430)","v":""},{"$f":"IF(入力シート!L430=\"\",\"\",入力シート!L430)","v":""},{"$f":"IF(入力シート!M430=\"\",\"\",入力シート!M430)","v":""},{"$f":"IF(入力シート!N430=\"\",\"\",入力シート!N430)","v":""},{"$f":"IF(入力シート!O430=\"\",\"\",入力シート!Q430)","v":""}]
[{"$f":"IF(入力シート!A431=\"\",\"\",入力シート!A431)","v":""},{"$f":"IF(入力シート!B431=\"\",\"\",入力シート!B431)","v":""},{"$f":"IF(入力シート!C431=\"\",\"\",入力シート!C431)","v":""},{"$f":"IF(入力シート!D431=\"\",\"\",TEXT(入力シート!D431,\"yyyy-mm-dd\"))","v":""},{"$f":"IF(入力シート!P431=\"\",\"\",TEXT(入力シート!P431,\"000-0000\"))","v":""},{"$f":"IF(入力シート!G431=\"\",\"\",入力シート!G431)","v":""},{"$f":"IF(入力シート!H431=\"\",\"\",入力シート!H431)","v":""},{"$f":"IF(入力シート!I431=\"\",\"\",入力シート!I431)","v":""},{"$f":"IF(入力シート!J431=\"\",\"\",入力シート!J431)","v":""},{"$f":"IF(入力シート!K431=\"\",\"\",入力シート!K431)","v":""},{"$f":"IF(入力シート!L431=\"\",\"\",入力シート!L431)","v":""},{"$f":"IF(入力シート!M431=\"\",\"\",入力シート!M431)","v":""},{"$f":"IF(入力シート!N431=\"\",\"\",入力シート!N431)","v":""},{"$f":"IF(入力シート!O431=\"\",\"\",入力シート!Q431)","v":""}]
[{"$f":"IF(入力シート!A432=\"\",\"\",入力シート!A432)","v":""},{"$f":"IF(入力シート!B432=\"\",\"\",入力シート!B432)","v":""},{"$f":"IF(入力シート!C432=\"\",\"\",入力シート!C432)","v":""},{"$f":"IF(入力シート!D432=\"\",\"\",TEXT(入力シート!D432,\"yyyy-mm-dd\"))","v":""},{"$f":"IF(入力シート!P432=\"\",\"\",TEXT(入力シート!P432,\"000-0000\"))","v":""},{"$f":"IF(入力シート!G432=\"\",\"\",入力シート!G432)","v":""},{"$f":"IF(入力シート!H432=\"\",\"\",入力シート!H432)","v":""},{"$f":"IF(入力シート!I432=\"\",\"\",入力シート!I432)","v":""},{"$f":"IF(入力シート!J432=\"\",\"\",入力シート!J432)","v":""},{"$f":"IF(入力シート!K432=\"\",\"\",入力シート!K432)","v":""},{"$f":"IF(入力シート!L432=\"\",\"\",入力シート!L432)","v":""},{"$f":"IF(入力シート!M432=\"\",\"\",入力シート!M432)","v":""},{"$f":"IF(入力シート!N432=\"\",\"\",入力シート!N432)","v":""},{"$f":"IF(入力シート!O432=\"\",\"\",入力シート!Q432)","v":""}]
[{"$f":"IF(入力シート!A433=\"\",\"\",入力シート!A433)","v":""},{"$f":"IF(入力シート!B433=\"\",\"\",入力シート!B433)","v":""},{"$f":"IF(入力シート!C433=\"\",\"\",入力シート!C433)","v":""},{"$f":"IF(入力シート!D433=\"\",\"\",TEXT(入力シート!D433,\"yyyy-mm-dd\"))","v":""},{"$f":"IF(入力シート!P433=\"\",\"\",TEXT(入力シート!P433,\"000-0000\"))","v":""},{"$f":"IF(入力シート!G433=\"\",\"\",入力シート!G433)","v":""},{"$f":"IF(入力シート!H433=\"\",\"\",入力シート!H433)","v":""},{"$f":"IF(入力シート!I433=\"\",\"\",入力シート!I433)","v":""},{"$f":"IF(入力シート!J433=\"\",\"\",入力シート!J433)","v":""},{"$f":"IF(入力シート!K433=\"\",\"\",入力シート!K433)","v":""},{"$f":"IF(入力シート!L433=\"\",\"\",入力シート!L433)","v":""},{"$f":"IF(入力シート!M433=\"\",\"\",入力シート!M433)","v":""},{"$f":"IF(入力シート!N433=\"\",\"\",入力シート!N433)","v":""},{"$f":"IF(入力シート!O433=\"\",\"\",入力シート!Q433)","v":""}]
[{"$f":"IF(入力シート!A434=\"\",\"\",入力シート!A434)","v":""},{"$f":"IF(入力シート!B434=\"\",\"\",入力シート!B434)","v":""},{"$f":"IF(入力シート!C434=\"\",\"\",入力シート!C434)","v":""},{"$f":"IF(入力シート!D434=\"\",\"\",TEXT(入力シート!D434,\"yyyy-mm-dd\"))","v":""},{"$f":"IF(入力シート!P434=\"\",\"\",TEXT(入力シート!P434,\"000-0000\"))","v":""},{"$f":"IF(入力シート!G434=\"\",\"\",入力シート!G434)","v":""},{"$f":"IF(入力シート!H434=\"\",\"\",入力シート!H434)","v":""},{"$f":"IF(入力シート!I434=\"\",\"\",入力シート!I434)","v":""},{"$f":"IF(入力シート!J434=\"\",\"\",入力シート!J434)","v":""},{"$f":"IF(入力シート!K434=\"\",\"\",入力シート!K434)","v":""},{"$f":"IF(入力シート!L434=\"\",\"\",入力シート!L434)","v":""},{"$f":"IF(入力シート!M434=\"\",\"\",入力シート!M434)","v":""},{"$f":"IF(入力シート!N434=\"\",\"\",入力シート!N434)","v":""},{"$f":"IF(入力シート!O434=\"\",\"\",入力シート!Q434)","v":""}]
[{"$f":"IF(入力シート!A435=\"\",\"\",入力シート!A435)","v":""},{"$f":"IF(入力シート!B435=\"\",\"\",入力シート!B435)","v":""},{"$f":"IF(入力シート!C435=\"\",\"\",入力シート!C435)","v":""},{"$f":"IF(入力シート!D435=\"\",\"\",TEXT(入力シート!D435,\"yyyy-mm-dd\"))","v":""},{"$f":"IF(入力シート!P435=\"\",\"\",TEXT(入力シート!P435,\"000-0000\"))","v":""},{"$f":"IF(入力シート!G435=\"\",\"\",入力シート!G435)","v":""},{"$f":"IF(入力シート!H435=\"\",\"\",入力シート!H435)","v":""},{"$f":"IF(入力シート!I435=\"\",\"\",入力シート!I435)","v":""},{"$f":"IF(入力シート!J435=\"\",\"\",入力シート!J435)","v":""},{"$f":"IF(入力シート!K435=\"\",\"\",入力シート!K435)","v":""},{"$f":"IF(入力シート!L435=\"\",\"\",入力シート!L435)","v":""},{"$f":"IF(入力シート!M435=\"\",\"\",入力シート!M435)","v":""},{"$f":"IF(入力シート!N435=\"\",\"\",入力シート!N435)","v":""},{"$f":"IF(入力シート!O435=\"\",\"\",入力シート!Q435)","v":""}]
[{"$f":"IF(入力シート!A436=\"\",\"\",入力シート!A436)","v":""},{"$f":"IF(入力シート!B436=\"\",\"\",入力シート!B436)","v":""},{"$f":"IF(入力シート!C436=\"\",\"\",入力シート!C436)","v":""},{"$f":"IF(入力シート!D436=\"\",\"\",TEXT(入力シート!D436,\"yyyy-mm-dd\"))","v":""},{"$f":"IF(入力シート!P436=\"\",\"\",TEXT(入力シート!P436,\"000-0000\"))","v":""},{"$f":"IF(入力シート!G436=\"\",\"\",入力シート!G436)","v":""},{"$f":"IF(入力シート!H436=\"\",\"\",入力シート!H436)","v":""},{"$f":"IF(入力シート!I436=\"\",\"\",入力シート!I436)","v":""},{"$f":"IF(入力シート!J436=\"\",\"\",入力シート!J436)","v":""},{"$f":"IF(入力シート!K436=\"\",\"\",入力シート!K436)","v":""},{"$f":"IF(入力シート!L436=\"\",\"\",入力シート!L436)","v":""},{"$f":"IF(入力シート!M436=\"\",\"\",入力シート!M436)","v":""},{"$f":"IF(入力シート!N436=\"\",\"\",入力シート!N436)","v":""},{"$f":"IF(入力シート!O436=\"\",\"\",入力シート!Q436)","v":""}]
[{"$f":"IF(入力シート!A437=\"\",\"\",入力シート!A437)","v":""},{"$f":"IF(入力シート!B437=\"\",\"\",入力シート!B437)","v":""},{"$f":"IF(入力シート!C437=\"\",\"\",入力シート!C437)","v":""},{"$f":"IF(入力シート!D437=\"\",\"\",TEXT(入力シート!D437,\"yyyy-mm-dd\"))","v":""},{"$f":"IF(入力シート!P437=\"\",\"\",TEXT(入力シート!P437,\"000-0000\"))","v":""},{"$f":"IF(入力シート!G437=\"\",\"\",入力シート!G437)","v":""},{"$f":"IF(入力シート!H437=\"\",\"\",入力シート!H437)","v":""},{"$f":"IF(入力シート!I437=\"\",\"\",入力シート!I437)","v":""},{"$f":"IF(入力シート!J437=\"\",\"\",入力シート!J437)","v":""},{"$f":"IF(入力シート!K437=\"\",\"\",入力シート!K437)","v":""},{"$f":"IF(入力シート!L437=\"\",\"\",入力シート!L437)","v":""},{"$f":"IF(入力シート!M437=\"\",\"\",入力シート!M437)","v":""},{"$f":"IF(入力シート!N437=\"\",\"\",入力シート!N437)","v":""},{"$f":"IF(入力シート!O437=\"\",\"\",入力シート!Q437)","v":""}]
[{"$f":"IF(入力シート!A438=\"\",\"\",入力シート!A438)","v":""},{"$f":"IF(入力シート!B438=\"\",\"\",入力シート!B438)","v":""},{"$f":"IF(入力シート!C438=\"\",\"\",入力シート!C438)","v":""},{"$f":"IF(入力シート!D438=\"\",\"\",TEXT(入力シート!D438,\"yyyy-mm-dd\"))","v":""},{"$f":"IF(入力シート!P438=\"\",\"\",TEXT(入力シート!P438,\"000-0000\"))","v":""},{"$f":"IF(入力シート!G438=\"\",\"\",入力シート!G438)","v":""},{"$f":"IF(入力シート!H438=\"\",\"\",入力シート!H438)","v":""},{"$f":"IF(入力シート!I438=\"\",\"\",入力シート!I438)","v":""},{"$f":"IF(入力シート!J438=\"\",\"\",入力シート!J438)","v":""},{"$f":"IF(入力シート!K438=\"\",\"\",入力シート!K438)","v":""},{"$f":"IF(入力シート!L438=\"\",\"\",入力シート!L438)","v":""},{"$f":"IF(入力シート!M438=\"\",\"\",入力シート!M438)","v":""},{"$f":"IF(入力シート!N438=\"\",\"\",入力シート!N438)","v":""},{"$f":"IF(入力シート!O438=\"\",\"\",入力シート!Q438)","v":""}]
[{"$f":"IF(入力シート!A439=\"\",\"\",入力シート!A439)","v":""},{"$f":"IF(入力シート!B439=\"\",\"\",入力シート!B439)","v":""},{"$f":"IF(入力シート!C439=\"\",\"\",入力シート!C439)","v":""},{"$f":"IF(入力シート!D439=\"\",\"\",TEXT(入力シート!D439,\"yyyy-mm-dd\"))","v":""},{"$f":"IF(入力シート!P439=\"\",\"\",TEXT(入力シート!P439,\"000-0000\"))","v":""},{"$f":"IF(入力シート!G439=\"\",\"\",入力シート!G439)","v":""},{"$f":"IF(入力シート!H439=\"\",\"\",入力シート!H439)","v":""},{"$f":"IF(入力シート!I439=\"\",\"\",入力シート!I439)","v":""},{"$f":"IF(入力シート!J439=\"\",\"\",入力シート!J439)","v":""},{"$f":"IF(入力シート!K439=\"\",\"\",入力シート!K439)","v":""},{"$f":"IF(入力シート!L439=\"\",\"\",入力シート!L439)","v":""},{"$f":"IF(入力シート!M439=\"\",\"\",入力シート!M439)","v":""},{"$f":"IF(入力シート!N439=\"\",\"\",入力シート!N439)","v":""},{"$f":"IF(入力シート!O439=\"\",\"\",入力シート!Q439)","v":""}]
[{"$f":"IF(入力シート!A440=\"\",\"\",入力シート!A440)","v":""},{"$f":"IF(入力シート!B440=\"\",\"\",入力シート!B440)","v":""},{"$f":"IF(入力シート!C440=\"\",\"\",入力シート!C440)","v":""},{"$f":"IF(入力シート!D440=\"\",\"\",TEXT(入力シート!D440,\"yyyy-mm-dd\"))","v":""},{"$f":"IF(入力シート!P440=\"\",\"\",TEXT(入力シート!P440,\"000-0000\"))","v":""},{"$f":"IF(入力シート!G440=\"\",\"\",入力シート!G440)","v":""},{"$f":"IF(入力シート!H440=\"\",\"\",入力シート!H440)","v":""},{"$f":"IF(入力シート!I440=\"\",\"\",入力シート!I440)","v":""},{"$f":"IF(入力シート!J440=\"\",\"\",入力シート!J440)","v":""},{"$f":"IF(入力シート!K440=\"\",\"\",入力シート!K440)","v":""},{"$f":"IF(入力シート!L440=\"\",\"\",入力シート!L440)","v":""},{"$f":"IF(入力シート!M440=\"\",\"\",入力シート!M440)","v":""},{"$f":"IF(入力シート!N440=\"\",\"\",入力シート!N440)","v":""},{"$f":"IF(入力シート!O440=\"\",\"\",入力シート!Q440)","v":""}]
[{"$f":"IF(入力シート!A441=\"\",\"\",入力シート!A441)","v":""},{"$f":"IF(入力シート!B441=\"\",\"\",入力シート!B441)","v":""},{"$f":"IF(入力シート!C441=\"\",\"\",入力シート!C441)","v":""},{"$f":"IF(入力シート!D441=\"\",\"\",TEXT(入力シート!D441,\"yyyy-mm-dd\"))","v":""},{"$f":"IF(入力シート!P441=\"\",\"\",TEXT(入力シート!P441,\"000-0000\"))","v":""},{"$f":"IF(入力シート!G441=\"\",\"\",入力シート!G441)","v":""},{"$f":"IF(入力シート!H441=\"\",\"\",入力シート!H441)","v":""},{"$f":"IF(入力シート!I441=\"\",\"\",入力シート!I441)","v":""},{"$f":"IF(入力シート!J441=\"\",\"\",入力シート!J441)","v":""},{"$f":"IF(入力シート!K441=\"\",\"\",入力シート!K441)","v":""},{"$f":"IF(入力シート!L441=\"\",\"\",入力シート!L441)","v":""},{"$f":"IF(入力シート!M441=\"\",\"\",入力シート!M441)","v":""},{"$f":"IF(入力シート!N441=\"\",\"\",入力シート!N441)","v":""},{"$f":"IF(入力シート!O441=\"\",\"\",入力シート!Q441)","v":""}]
[{"$f":"IF(入力シート!A442=\"\",\"\",入力シート!A442)","v":""},{"$f":"IF(入力シート!B442=\"\",\"\",入力シート!B442)","v":""},{"$f":"IF(入力シート!C442=\"\",\"\",入力シート!C442)","v":""},{"$f":"IF(入力シート!D442=\"\",\"\",TEXT(入力シート!D442,\"yyyy-mm-dd\"))","v":""},{"$f":"IF(入力シート!P442=\"\",\"\",TEXT(入力シート!P442,\"000-0000\"))","v":""},{"$f":"IF(入力シート!G442=\"\",\"\",入力シート!G442)","v":""},{"$f":"IF(入力シート!H442=\"\",\"\",入力シート!H442)","v":""},{"$f":"IF(入力シート!I442=\"\",\"\",入力シート!I442)","v":""},{"$f":"IF(入力シート!J442=\"\",\"\",入力シート!J442)","v":""},{"$f":"IF(入力シート!K442=\"\",\"\",入力シート!K442)","v":""},{"$f":"IF(入力シート!L442=\"\",\"\",入力シート!L442)","v":""},{"$f":"IF(入力シート!M442=\"\",\"\",入力シート!M442)","v":""},{"$f":"IF(入力シート!N442=\"\",\"\",入力シート!N442)","v":""},{"$f":"IF(入力シート!O442=\"\",\"\",入力シート!Q442)","v":""}]
[{"$f":"IF(入力シート!A443=\"\",\"\",入力シート!A443)","v":""},{"$f":"IF(入力シート!B443=\"\",\"\",入力シート!B443)","v":""},{"$f":"IF(入力シート!C443=\"\",\"\",入力シート!C443)","v":""},{"$f":"IF(入力シート!D443=\"\",\"\",TEXT(入力シート!D443,\"yyyy-mm-dd\"))","v":""},{"$f":"IF(入力シート!P443=\"\",\"\",TEXT(入力シート!P443,\"000-0000\"))","v":""},{"$f":"IF(入力シート!G443=\"\",\"\",入力シート!G443)","v":""},{"$f":"IF(入力シート!H443=\"\",\"\",入力シート!H443)","v":""},{"$f":"IF(入力シート!I443=\"\",\"\",入力シート!I443)","v":""},{"$f":"IF(入力シート!J443=\"\",\"\",入力シート!J443)","v":""},{"$f":"IF(入力シート!K443=\"\",\"\",入力シート!K443)","v":""},{"$f":"IF(入力シート!L443=\"\",\"\",入力シート!L443)","v":""},{"$f":"IF(入力シート!M443=\"\",\"\",入力シート!M443)","v":""},{"$f":"IF(入力シート!N443=\"\",\"\",入力シート!N443)","v":""},{"$f":"IF(入力シート!O443=\"\",\"\",入力シート!Q443)","v":""}]
[{"$f":"IF(入力シート!A444=\"\",\"\",入力シート!A444)","v":""},{"$f":"IF(入力シート!B444=\"\",\"\",入力シート!B444)","v":""},{"$f":"IF(入力シート!C444=\"\",\"\",入力シート!C444)","v":""},{"$f":"IF(入力シート!D444=\"\",\"\",TEXT(入力シート!D444,\"yyyy-mm-dd\"))","v":""},{"$f":"IF(入力シート!P444=\"\",\"\",TEXT(入力シート!P444,\"000-0000\"))","v":""},{"$f":"IF(入力シート!G444=\"\",\"\",入力シート!G444)","v":""},{"$f":"IF(入力シート!H444=\"\",\"\",入力シート!H444)","v":""},{"$f":"IF(入力シート!I444=\"\",\"\",入力シート!I444)","v":""},{"$f":"IF(入力シート!J444=\"\",\"\",入力シート!J444)","v":""},{"$f":"IF(入力シート!K444=\"\",\"\",入力シート!K444)","v":""},{"$f":"IF(入力シート!L444=\"\",\"\",入力シート!L444)","v":""},{"$f":"IF(入力シート!M444=\"\",\"\",入力シート!M444)","v":""},{"$f":"IF(入力シート!N444=\"\",\"\",入力シート!N444)","v":""},{"$f":"IF(入力シート!O444=\"\",\"\",入力シート!Q444)","v":""}]
[{"$f":"IF(入力シート!A445=\"\",\"\",入力シート!A445)","v":""},{"$f":"IF(入力シート!B445=\"\",\"\",入力シート!B445)","v":""},{"$f":"IF(入力シート!C445=\"\",\"\",入力シート!C445)","v":""},{"$f":"IF(入力シート!D445=\"\",\"\",TEXT(入力シート!D445,\"yyyy-mm-dd\"))","v":""},{"$f":"IF(入力シート!P445=\"\",\"\",TEXT(入力シート!P445,\"000-0000\"))","v":""},{"$f":"IF(入力シート!G445=\"\",\"\",入力シート!G445)","v":""},{"$f":"IF(入力シート!H445=\"\",\"\",入力シート!H445)","v":""},{"$f":"IF(入力シート!I445=\"\",\"\",入力シート!I445)","v":""},{"$f":"IF(入力シート!J445=\"\",\"\",入力シート!J445)","v":""},{"$f":"IF(入力シート!K445=\"\",\"\",入力シート!K445)","v":""},{"$f":"IF(入力シート!L445=\"\",\"\",入力シート!L445)","v":""},{"$f":"IF(入力シート!M445=\"\",\"\",入力シート!M445)","v":""},{"$f":"IF(入力シート!N445=\"\",\"\",入力シート!N445)","v":""},{"$f":"IF(入力シート!O445=\"\",\"\",入力シート!Q445)","v":""}]
[{"$f":"IF(入力シート!A446=\"\",\"\",入力シート!A446)","v":""},{"$f":"IF(入力シート!B446=\"\",\"\",入力シート!B446)","v":""},{"$f":"IF(入力シート!C446=\"\",\"\",入力シート!C446)","v":""},{"$f":"IF(入力シート!D446=\"\",\"\",TEXT(入力シート!D446,\"yyyy-mm-dd\"))","v":""},{"$f":"IF(入力シート!P446=\"\",\"\",TEXT(入力シート!P446,\"000-0000\"))","v":""},{"$f":"IF(入力シート!G446=\"\",\"\",入力シート!G446)","v":""},{"$f":"IF(入力シート!H446=\"\",\"\",入力シート!H446)","v":""},{"$f":"IF(入力シート!I446=\"\",\"\",入力シート!I446)","v":""},{"$f":"IF(入力シート!J446=\"\",\"\",入力シート!J446)","v":""},{"$f":"IF(入力シート!K446=\"\",\"\",入力シート!K446)","v":""},{"$f":"IF(入力シート!L446=\"\",\"\",入力シート!L446)","v":""},{"$f":"IF(入力シート!M446=\"\",\"\",入力シート!M446)","v":""},{"$f":"IF(入力シート!N446=\"\",\"\",入力シート!N446)","v":""},{"$f":"IF(入力シート!O446=\"\",\"\",入力シート!Q446)","v":""}]
[{"$f":"IF(入力シート!A447=\"\",\"\",入力シート!A447)","v":""},{"$f":"IF(入力シート!B447=\"\",\"\",入力シート!B447)","v":""},{"$f":"IF(入力シート!C447=\"\",\"\",入力シート!C447)","v":""},{"$f":"IF(入力シート!D447=\"\",\"\",TEXT(入力シート!D447,\"yyyy-mm-dd\"))","v":""},{"$f":"IF(入力シート!P447=\"\",\"\",TEXT(入力シート!P447,\"000-0000\"))","v":""},{"$f":"IF(入力シート!G447=\"\",\"\",入力シート!G447)","v":""},{"$f":"IF(入力シート!H447=\"\",\"\",入力シート!H447)","v":""},{"$f":"IF(入力シート!I447=\"\",\"\",入力シート!I447)","v":""},{"$f":"IF(入力シート!J447=\"\",\"\",入力シート!J447)","v":""},{"$f":"IF(入力シート!K447=\"\",\"\",入力シート!K447)","v":""},{"$f":"IF(入力シート!L447=\"\",\"\",入力シート!L447)","v":""},{"$f":"IF(入力シート!M447=\"\",\"\",入力シート!M447)","v":""},{"$f":"IF(入力シート!N447=\"\",\"\",入力シート!N447)","v":""},{"$f":"IF(入力シート!O447=\"\",\"\",入力シート!Q447)","v":""}]
[{"$f":"IF(入力シート!A448=\"\",\"\",入力シート!A448)","v":""},{"$f":"IF(入力シート!B448=\"\",\"\",入力シート!B448)","v":""},{"$f":"IF(入力シート!C448=\"\",\"\",入力シート!C448)","v":""},{"$f":"IF(入力シート!D448=\"\",\"\",TEXT(入力シート!D448,\"yyyy-mm-dd\"))","v":""},{"$f":"IF(入力シート!P448=\"\",\"\",TEXT(入力シート!P448,\"000-0000\"))","v":""},{"$f":"IF(入力シート!G448=\"\",\"\",入力シート!G448)","v":""},{"$f":"IF(入力シート!H448=\"\",\"\",入力シート!H448)","v":""},{"$f":"IF(入力シート!I448=\"\",\"\",入力シート!I448)","v":""},{"$f":"IF(入力シート!J448=\"\",\"\",入力シート!J448)","v":""},{"$f":"IF(入力シート!K448=\"\",\"\",入力シート!K448)","v":""},{"$f":"IF(入力シート!L448=\"\",\"\",入力シート!L448)","v":""},{"$f":"IF(入力シート!M448=\"\",\"\",入力シート!M448)","v":""},{"$f":"IF(入力シート!N448=\"\",\"\",入力シート!N448)","v":""},{"$f":"IF(入力シート!O448=\"\",\"\",入力シート!Q448)","v":""}]
[{"$f":"IF(入力シート!A449=\"\",\"\",入力シート!A449)","v":""},{"$f":"IF(入力シート!B449=\"\",\"\",入力シート!B449)","v":""},{"$f":"IF(入力シート!C449=\"\",\"\",入力シート!C449)","v":""},{"$f":"IF(入力シート!D449=\"\",\"\",TEXT(入力シート!D449,\"yyyy-mm-dd\"))","v":""},{"$f":"IF(入力シート!P449=\"\",\"\",TEXT(入力シート!P449,\"000-0000\"))","v":""},{"$f":"IF(入力シート!G449=\"\",\"\",入力シート!G449)","v":""},{"$f":"IF(入力シート!H449=\"\",\"\",入力シート!H449)","v":""},{"$f":"IF(入力シート!I449=\"\",\"\",入力シート!I449)","v":""},{"$f":"IF(入力シート!J449=\"\",\"\",入力シート!J449)","v":""},{"$f":"IF(入力シート!K449=\"\",\"\",入力シート!K449)","v":""},{"$f":"IF(入力シート!L449=\"\",\"\",入力シート!L449)","v":""},{"$f":"IF(入力シート!M449=\"\",\"\",入力シート!M449)","v":""},{"$f":"IF(入力シート!N449=\"\",\"\",入力シート!N449)","v":""},{"$f":"IF(入力シート!O449=\"\",\"\",入力シート!Q449)","v":""}]
[{"$f":"IF(入力シート!A450=\"\",\"\",入力シート!A450)","v":""},{"$f":"IF(入力シート!B450=\"\",\"\",入力シート!B450)","v":""},{"$f":"IF(入力シート!C450=\"\",\"\",入力シート!C450)","v":""},{"$f":"IF(入力シート!D450=\"\",\"\",TEXT(入力シート!D450,\"yyyy-mm-dd\"))","v":""},{"$f":"IF(入力シート!P450=\"\",\"\",TEXT(入力シート!P450,\"000-0000\"))","v":""},{"$f":"IF(入力シート!G450=\"\",\"\",入力シート!G450)","v":""},{"$f":"IF(入力シート!H450=\"\",\"\",入力シート!H450)","v":""},{"$f":"IF(入力シート!I450=\"\",\"\",入力シート!I450)","v":""},{"$f":"IF(入力シート!J450=\"\",\"\",入力シート!J450)","v":""},{"$f":"IF(入力シート!K450=\"\",\"\",入力シート!K450)","v":""},{"$f":"IF(入力シート!L450=\"\",\"\",入力シート!L450)","v":""},{"$f":"IF(入力シート!M450=\"\",\"\",入力シート!M450)","v":""},{"$f":"IF(入力シート!N450=\"\",\"\",入力シート!N450)","v":""},{"$f":"IF(入力シート!O450=\"\",\"\",入力シート!Q450)","v":""}]
[{"$f":"IF(入力シート!A451=\"\",\"\",入力シート!A451)","v":""},{"$f":"IF(入力シート!B451=\"\",\"\",入力シート!B451)","v":""},{"$f":"IF(入力シート!C451=\"\",\"\",入力シート!C451)","v":""},{"$f":"IF(入力シート!D451=\"\",\"\",TEXT(入力シート!D451,\"yyyy-mm-dd\"))","v":""},{"$f":"IF(入力シート!P451=\"\",\"\",TEXT(入力シート!P451,\"000-0000\"))","v":""},{"$f":"IF(入力シート!G451=\"\",\"\",入力シート!G451)","v":""},{"$f":"IF(入力シート!H451=\"\",\"\",入力シート!H451)","v":""},{"$f":"IF(入力シート!I451=\"\",\"\",入力シート!I451)","v":""},{"$f":"IF(入力シート!J451=\"\",\"\",入力シート!J451)","v":""},{"$f":"IF(入力シート!K451=\"\",\"\",入力シート!K451)","v":""},{"$f":"IF(入力シート!L451=\"\",\"\",入力シート!L451)","v":""},{"$f":"IF(入力シート!M451=\"\",\"\",入力シート!M451)","v":""},{"$f":"IF(入力シート!N451=\"\",\"\",入力シート!N451)","v":""},{"$f":"IF(入力シート!O451=\"\",\"\",入力シート!Q451)","v":""}]
[{"$f":"IF(入力シート!A452=\"\",\"\",入力シート!A452)","v":""},{"$f":"IF(入力シート!B452=\"\",\"\",入力シート!B452)","v":""},{"$f":"IF(入力シート!C452=\"\",\"\",入力シート!C452)","v":""},{"$f":"IF(入力シート!D452=\"\",\"\",TEXT(入力シート!D452,\"yyyy-mm-dd\"))","v":""},{"$f":"IF(入力シート!P452=\"\",\"\",TEXT(入力シート!P452,\"000-0000\"))","v":""},{"$f":"IF(入力シート!G452=\"\",\"\",入力シート!G452)","v":""},{"$f":"IF(入力シート!H452=\"\",\"\",入力シート!H452)","v":""},{"$f":"IF(入力シート!I452=\"\",\"\",入力シート!I452)","v":""},{"$f":"IF(入力シート!J452=\"\",\"\",入力シート!J452)","v":""},{"$f":"IF(入力シート!K452=\"\",\"\",入力シート!K452)","v":""},{"$f":"IF(入力シート!L452=\"\",\"\",入力シート!L452)","v":""},{"$f":"IF(入力シート!M452=\"\",\"\",入力シート!M452)","v":""},{"$f":"IF(入力シート!N452=\"\",\"\",入力シート!N452)","v":""},{"$f":"IF(入力シート!O452=\"\",\"\",入力シート!Q452)","v":""}]
[{"$f":"IF(入力シート!A453=\"\",\"\",入力シート!A453)","v":""},{"$f":"IF(入力シート!B453=\"\",\"\",入力シート!B453)","v":""},{"$f":"IF(入力シート!C453=\"\",\"\",入力シート!C453)","v":""},{"$f":"IF(入力シート!D453=\"\",\"\",TEXT(入力シート!D453,\"yyyy-mm-dd\"))","v":""},{"$f":"IF(入力シート!P453=\"\",\"\",TEXT(入力シート!P453,\"000-0000\"))","v":""},{"$f":"IF(入力シート!G453=\"\",\"\",入力シート!G453)","v":""},{"$f":"IF(入力シート!H453=\"\",\"\",入力シート!H453)","v":""},{"$f":"IF(入力シート!I453=\"\",\"\",入力シート!I453)","v":""},{"$f":"IF(入力シート!J453=\"\",\"\",入力シート!J453)","v":""},{"$f":"IF(入力シート!K453=\"\",\"\",入力シート!K453)","v":""},{"$f":"IF(入力シート!L453=\"\",\"\",入力シート!L453)","v":""},{"$f":"IF(入力シート!M453=\"\",\"\",入力シート!M453)","v":""},{"$f":"IF(入力シート!N453=\"\",\"\",入力シート!N453)","v":""},{"$f":"IF(入力シート!O453=\"\",\"\",入力シート!Q453)","v":""}]
[{"$f":"IF(入力シート!A454=\"\",\"\",入力シート!A454)","v":""},{"$f":"IF(入力シート!B454=\"\",\"\",入力シート!B454)","v":""},{"$f":"IF(入力シート!C454=\"\",\"\",入力シート!C454)","v":""},{"$f":"IF(入力シート!D454=\"\",\"\",TEXT(入力シート!D454,\"yyyy-mm-dd\"))","v":""},{"$f":"IF(入力シート!P454=\"\",\"\",TEXT(入力シート!P454,\"000-0000\"))","v":""},{"$f":"IF(入力シート!G454=\"\",\"\",入力シート!G454)","v":""},{"$f":"IF(入力シート!H454=\"\",\"\",入力シート!H454)","v":""},{"$f":"IF(入力シート!I454=\"\",\"\",入力シート!I454)","v":""},{"$f":"IF(入力シート!J454=\"\",\"\",入力シート!J454)","v":""},{"$f":"IF(入力シート!K454=\"\",\"\",入力シート!K454)","v":""},{"$f":"IF(入力シート!L454=\"\",\"\",入力シート!L454)","v":""},{"$f":"IF(入力シート!M454=\"\",\"\",入力シート!M454)","v":""},{"$f":"IF(入力シート!N454=\"\",\"\",入力シート!N454)","v":""},{"$f":"IF(入力シート!O454=\"\",\"\",入力シート!Q454)","v":""}]
[{"$f":"IF(入力シート!A455=\"\",\"\",入力シート!A455)","v":""},{"$f":"IF(入力シート!B455=\"\",\"\",入力シート!B455)","v":""},{"$f":"IF(入力シート!C455=\"\",\"\",入力シート!C455)","v":""},{"$f":"IF(入力シート!D455=\"\",\"\",TEXT(入力シート!D455,\"yyyy-mm-dd\"))","v":""},{"$f":"IF(入力シート!P455=\"\",\"\",TEXT(入力シート!P455,\"000-0000\"))","v":""},{"$f":"IF(入力シート!G455=\"\",\"\",入力シート!G455)","v":""},{"$f":"IF(入力シート!H455=\"\",\"\",入力シート!H455)","v":""},{"$f":"IF(入力シート!I455=\"\",\"\",入力シート!I455)","v":""},{"$f":"IF(入力シート!J455=\"\",\"\",入力シート!J455)","v":""},{"$f":"IF(入力シート!K455=\"\",\"\",入力シート!K455)","v":""},{"$f":"IF(入力シート!L455=\"\",\"\",入力シート!L455)","v":""},{"$f":"IF(入力シート!M455=\"\",\"\",入力シート!M455)","v":""},{"$f":"IF(入力シート!N455=\"\",\"\",入力シート!N455)","v":""},{"$f":"IF(入力シート!O455=\"\",\"\",入力シート!Q455)","v":""}]
[{"$f":"IF(入力シート!A456=\"\",\"\",入力シート!A456)","v":""},{"$f":"IF(入力シート!B456=\"\",\"\",入力シート!B456)","v":""},{"$f":"IF(入力シート!C456=\"\",\"\",入力シート!C456)","v":""},{"$f":"IF(入力シート!D456=\"\",\"\",TEXT(入力シート!D456,\"yyyy-mm-dd\"))","v":""},{"$f":"IF(入力シート!P456=\"\",\"\",TEXT(入力シート!P456,\"000-0000\"))","v":""},{"$f":"IF(入力シート!G456=\"\",\"\",入力シート!G456)","v":""},{"$f":"IF(入力シート!H456=\"\",\"\",入力シート!H456)","v":""},{"$f":"IF(入力シート!I456=\"\",\"\",入力シート!I456)","v":""},{"$f":"IF(入力シート!J456=\"\",\"\",入力シート!J456)","v":""},{"$f":"IF(入力シート!K456=\"\",\"\",入力シート!K456)","v":""},{"$f":"IF(入力シート!L456=\"\",\"\",入力シート!L456)","v":""},{"$f":"IF(入力シート!M456=\"\",\"\",入力シート!M456)","v":""},{"$f":"IF(入力シート!N456=\"\",\"\",入力シート!N456)","v":""},{"$f":"IF(入力シート!O456=\"\",\"\",入力シート!Q456)","v":""}]
[{"$f":"IF(入力シート!A457=\"\",\"\",入力シート!A457)","v":""},{"$f":"IF(入力シート!B457=\"\",\"\",入力シート!B457)","v":""},{"$f":"IF(入力シート!C457=\"\",\"\",入力シート!C457)","v":""},{"$f":"IF(入力シート!D457=\"\",\"\",TEXT(入力シート!D457,\"yyyy-mm-dd\"))","v":""},{"$f":"IF(入力シート!P457=\"\",\"\",TEXT(入力シート!P457,\"000-0000\"))","v":""},{"$f":"IF(入力シート!G457=\"\",\"\",入力シート!G457)","v":""},{"$f":"IF(入力シート!H457=\"\",\"\",入力シート!H457)","v":""},{"$f":"IF(入力シート!I457=\"\",\"\",入力シート!I457)","v":""},{"$f":"IF(入力シート!J457=\"\",\"\",入力シート!J457)","v":""},{"$f":"IF(入力シート!K457=\"\",\"\",入力シート!K457)","v":""},{"$f":"IF(入力シート!L457=\"\",\"\",入力シート!L457)","v":""},{"$f":"IF(入力シート!M457=\"\",\"\",入力シート!M457)","v":""},{"$f":"IF(入力シート!N457=\"\",\"\",入力シート!N457)","v":""},{"$f":"IF(入力シート!O457=\"\",\"\",入力シート!Q457)","v":""}]
[{"$f":"IF(入力シート!A458=\"\",\"\",入力シート!A458)","v":""},{"$f":"IF(入力シート!B458=\"\",\"\",入力シート!B458)","v":""},{"$f":"IF(入力シート!C458=\"\",\"\",入力シート!C458)","v":""},{"$f":"IF(入力シート!D458=\"\",\"\",TEXT(入力シート!D458,\"yyyy-mm-dd\"))","v":""},{"$f":"IF(入力シート!P458=\"\",\"\",TEXT(入力シート!P458,\"000-0000\"))","v":""},{"$f":"IF(入力シート!G458=\"\",\"\",入力シート!G458)","v":""},{"$f":"IF(入力シート!H458=\"\",\"\",入力シート!H458)","v":""},{"$f":"IF(入力シート!I458=\"\",\"\",入力シート!I458)","v":""},{"$f":"IF(入力シート!J458=\"\",\"\",入力シート!J458)","v":""},{"$f":"IF(入力シート!K458=\"\",\"\",入力シート!K458)","v":""},{"$f":"IF(入力シート!L458=\"\",\"\",入力シート!L458)","v":""},{"$f":"IF(入力シート!M458=\"\",\"\",入力シート!M458)","v":""},{"$f":"IF(入力シート!N458=\"\",\"\",入力シート!N458)","v":""},{"$f":"IF(入力シート!O458=\"\",\"\",入力シート!Q458)","v":""}]
[{"$f":"IF(入力シート!A459=\"\",\"\",入力シート!A459)","v":""},{"$f":"IF(入力シート!B459=\"\",\"\",入力シート!B459)","v":""},{"$f":"IF(入力シート!C459=\"\",\"\",入力シート!C459)","v":""},{"$f":"IF(入力シート!D459=\"\",\"\",TEXT(入力シート!D459,\"yyyy-mm-dd\"))","v":""},{"$f":"IF(入力シート!P459=\"\",\"\",TEXT(入力シート!P459,\"000-0000\"))","v":""},{"$f":"IF(入力シート!G459=\"\",\"\",入力シート!G459)","v":""},{"$f":"IF(入力シート!H459=\"\",\"\",入力シート!H459)","v":""},{"$f":"IF(入力シート!I459=\"\",\"\",入力シート!I459)","v":""},{"$f":"IF(入力シート!J459=\"\",\"\",入力シート!J459)","v":""},{"$f":"IF(入力シート!K459=\"\",\"\",入力シート!K459)","v":""},{"$f":"IF(入力シート!L459=\"\",\"\",入力シート!L459)","v":""},{"$f":"IF(入力シート!M459=\"\",\"\",入力シート!M459)","v":""},{"$f":"IF(入力シート!N459=\"\",\"\",入力シート!N459)","v":""},{"$f":"IF(入力シート!O459=\"\",\"\",入力シート!Q459)","v":""}]
[{"$f":"IF(入力シート!A460=\"\",\"\",入力シート!A460)","v":""},{"$f":"IF(入力シート!B460=\"\",\"\",入力シート!B460)","v":""},{"$f":"IF(入力シート!C460=\"\",\"\",入力シート!C460)","v":""},{"$f":"IF(入力シート!D460=\"\",\"\",TEXT(入力シート!D460,\"yyyy-mm-dd\"))","v":""},{"$f":"IF(入力シート!P460=\"\",\"\",TEXT(入力シート!P460,\"000-0000\"))","v":""},{"$f":"IF(入力シート!G460=\"\",\"\",入力シート!G460)","v":""},{"$f":"IF(入力シート!H460=\"\",\"\",入力シート!H460)","v":""},{"$f":"IF(入力シート!I460=\"\",\"\",入力シート!I460)","v":""},{"$f":"IF(入力シート!J460=\"\",\"\",入力シート!J460)","v":""},{"$f":"IF(入力シート!K460=\"\",\"\",入力シート!K460)","v":""},{"$f":"IF(入力シート!L460=\"\",\"\",入力シート!L460)","v":""},{"$f":"IF(入力シート!M460=\"\",\"\",入力シート!M460)","v":""},{"$f":"IF(入力シート!N460=\"\",\"\",入力シート!N460)","v":""},{"$f":"IF(入力シート!O460=\"\",\"\",入力シート!Q460)","v":""}]
[{"$f":"IF(入力シート!A461=\"\",\"\",入力シート!A461)","v":""},{"$f":"IF(入力シート!B461=\"\",\"\",入力シート!B461)","v":""},{"$f":"IF(入力シート!C461=\"\",\"\",入力シート!C461)","v":""},{"$f":"IF(入力シート!D461=\"\",\"\",TEXT(入力シート!D461,\"yyyy-mm-dd\"))","v":""},{"$f":"IF(入力シート!P461=\"\",\"\",TEXT(入力シート!P461,\"000-0000\"))","v":""},{"$f":"IF(入力シート!G461=\"\",\"\",入力シート!G461)","v":""},{"$f":"IF(入力シート!H461=\"\",\"\",入力シート!H461)","v":""},{"$f":"IF(入力シート!I461=\"\",\"\",入力シート!I461)","v":""},{"$f":"IF(入力シート!J461=\"\",\"\",入力シート!J461)","v":""},{"$f":"IF(入力シート!K461=\"\",\"\",入力シート!K461)","v":""},{"$f":"IF(入力シート!L461=\"\",\"\",入力シート!L461)","v":""},{"$f":"IF(入力シート!M461=\"\",\"\",入力シート!M461)","v":""},{"$f":"IF(入力シート!N461=\"\",\"\",入力シート!N461)","v":""},{"$f":"IF(入力シート!O461=\"\",\"\",入力シート!Q461)","v":""}]
[{"$f":"IF(入力シート!A462=\"\",\"\",入力シート!A462)","v":""},{"$f":"IF(入力シート!B462=\"\",\"\",入力シート!B462)","v":""},{"$f":"IF(入力シート!C462=\"\",\"\",入力シート!C462)","v":""},{"$f":"IF(入力シート!D462=\"\",\"\",TEXT(入力シート!D462,\"yyyy-mm-dd\"))","v":""},{"$f":"IF(入力シート!P462=\"\",\"\",TEXT(入力シート!P462,\"000-0000\"))","v":""},{"$f":"IF(入力シート!G462=\"\",\"\",入力シート!G462)","v":""},{"$f":"IF(入力シート!H462=\"\",\"\",入力シート!H462)","v":""},{"$f":"IF(入力シート!I462=\"\",\"\",入力シート!I462)","v":""},{"$f":"IF(入力シート!J462=\"\",\"\",入力シート!J462)","v":""},{"$f":"IF(入力シート!K462=\"\",\"\",入力シート!K462)","v":""},{"$f":"IF(入力シート!L462=\"\",\"\",入力シート!L462)","v":""},{"$f":"IF(入力シート!M462=\"\",\"\",入力シート!M462)","v":""},{"$f":"IF(入力シート!N462=\"\",\"\",入力シート!N462)","v":""},{"$f":"IF(入力シート!O462=\"\",\"\",入力シート!Q462)","v":""}]
[{"$f":"IF(入力シート!A463=\"\",\"\",入力シート!A463)","v":""},{"$f":"IF(入力シート!B463=\"\",\"\",入力シート!B463)","v":""},{"$f":"IF(入力シート!C463=\"\",\"\",入力シート!C463)","v":""},{"$f":"IF(入力シート!D463=\"\",\"\",TEXT(入力シート!D463,\"yyyy-mm-dd\"))","v":""},{"$f":"IF(入力シート!P463=\"\",\"\",TEXT(入力シート!P463,\"000-0000\"))","v":""},{"$f":"IF(入力シート!G463=\"\",\"\",入力シート!G463)","v":""},{"$f":"IF(入力シート!H463=\"\",\"\",入力シート!H463)","v":""},{"$f":"IF(入力シート!I463=\"\",\"\",入力シート!I463)","v":""},{"$f":"IF(入力シート!J463=\"\",\"\",入力シート!J463)","v":""},{"$f":"IF(入力シート!K463=\"\",\"\",入力シート!K463)","v":""},{"$f":"IF(入力シート!L463=\"\",\"\",入力シート!L463)","v":""},{"$f":"IF(入力シート!M463=\"\",\"\",入力シート!M463)","v":""},{"$f":"IF(入力シート!N463=\"\",\"\",入力シート!N463)","v":""},{"$f":"IF(入力シート!O463=\"\",\"\",入力シート!Q463)","v":""}]
[{"$f":"IF(入力シート!A464=\"\",\"\",入力シート!A464)","v":""},{"$f":"IF(入力シート!B464=\"\",\"\",入力シート!B464)","v":""},{"$f":"IF(入力シート!C464=\"\",\"\",入力シート!C464)","v":""},{"$f":"IF(入力シート!D464=\"\",\"\",TEXT(入力シート!D464,\"yyyy-mm-dd\"))","v":""},{"$f":"IF(入力シート!P464=\"\",\"\",TEXT(入力シート!P464,\"000-0000\"))","v":""},{"$f":"IF(入力シート!G464=\"\",\"\",入力シート!G464)","v":""},{"$f":"IF(入力シート!H464=\"\",\"\",入力シート!H464)","v":""},{"$f":"IF(入力シート!I464=\"\",\"\",入力シート!I464)","v":""},{"$f":"IF(入力シート!J464=\"\",\"\",入力シート!J464)","v":""},{"$f":"IF(入力シート!K464=\"\",\"\",入力シート!K464)","v":""},{"$f":"IF(入力シート!L464=\"\",\"\",入力シート!L464)","v":""},{"$f":"IF(入力シート!M464=\"\",\"\",入力シート!M464)","v":""},{"$f":"IF(入力シート!N464=\"\",\"\",入力シート!N464)","v":""},{"$f":"IF(入力シート!O464=\"\",\"\",入力シート!Q464)","v":""}]
[{"$f":"IF(入力シート!A465=\"\",\"\",入力シート!A465)","v":""},{"$f":"IF(入力シート!B465=\"\",\"\",入力シート!B465)","v":""},{"$f":"IF(入力シート!C465=\"\",\"\",入力シート!C465)","v":""},{"$f":"IF(入力シート!D465=\"\",\"\",TEXT(入力シート!D465,\"yyyy-mm-dd\"))","v":""},{"$f":"IF(入力シート!P465=\"\",\"\",TEXT(入力シート!P465,\"000-0000\"))","v":""},{"$f":"IF(入力シート!G465=\"\",\"\",入力シート!G465)","v":""},{"$f":"IF(入力シート!H465=\"\",\"\",入力シート!H465)","v":""},{"$f":"IF(入力シート!I465=\"\",\"\",入力シート!I465)","v":""},{"$f":"IF(入力シート!J465=\"\",\"\",入力シート!J465)","v":""},{"$f":"IF(入力シート!K465=\"\",\"\",入力シート!K465)","v":""},{"$f":"IF(入力シート!L465=\"\",\"\",入力シート!L465)","v":""},{"$f":"IF(入力シート!M465=\"\",\"\",入力シート!M465)","v":""},{"$f":"IF(入力シート!N465=\"\",\"\",入力シート!N465)","v":""},{"$f":"IF(入力シート!O465=\"\",\"\",入力シート!Q465)","v":""}]
[{"$f":"IF(入力シート!A466=\"\",\"\",入力シート!A466)","v":""},{"$f":"IF(入力シート!B466=\"\",\"\",入力シート!B466)","v":""},{"$f":"IF(入力シート!C466=\"\",\"\",入力シート!C466)","v":""},{"$f":"IF(入力シート!D466=\"\",\"\",TEXT(入力シート!D466,\"yyyy-mm-dd\"))","v":""},{"$f":"IF(入力シート!P466=\"\",\"\",TEXT(入力シート!P466,\"000-0000\"))","v":""},{"$f":"IF(入力シート!G466=\"\",\"\",入力シート!G466)","v":""},{"$f":"IF(入力シート!H466=\"\",\"\",入力シート!H466)","v":""},{"$f":"IF(入力シート!I466=\"\",\"\",入力シート!I466)","v":""},{"$f":"IF(入力シート!J466=\"\",\"\",入力シート!J466)","v":""},{"$f":"IF(入力シート!K466=\"\",\"\",入力シート!K466)","v":""},{"$f":"IF(入力シート!L466=\"\",\"\",入力シート!L466)","v":""},{"$f":"IF(入力シート!M466=\"\",\"\",入力シート!M466)","v":""},{"$f":"IF(入力シート!N466=\"\",\"\",入力シート!N466)","v":""},{"$f":"IF(入力シート!O466=\"\",\"\",入力シート!Q466)","v":""}]
[{"$f":"IF(入力シート!A467=\"\",\"\",入力シート!A467)","v":""},{"$f":"IF(入力シート!B467=\"\",\"\",入力シート!B467)","v":""},{"$f":"IF(入力シート!C467=\"\",\"\",入力シート!C467)","v":""},{"$f":"IF(入力シート!D467=\"\",\"\",TEXT(入力シート!D467,\"yyyy-mm-dd\"))","v":""},{"$f":"IF(入力シート!P467=\"\",\"\",TEXT(入力シート!P467,\"000-0000\"))","v":""},{"$f":"IF(入力シート!G467=\"\",\"\",入力シート!G467)","v":""},{"$f":"IF(入力シート!H467=\"\",\"\",入力シート!H467)","v":""},{"$f":"IF(入力シート!I467=\"\",\"\",入力シート!I467)","v":""},{"$f":"IF(入力シート!J467=\"\",\"\",入力シート!J467)","v":""},{"$f":"IF(入力シート!K467=\"\",\"\",入力シート!K467)","v":""},{"$f":"IF(入力シート!L467=\"\",\"\",入力シート!L467)","v":""},{"$f":"IF(入力シート!M467=\"\",\"\",入力シート!M467)","v":""},{"$f":"IF(入力シート!N467=\"\",\"\",入力シート!N467)","v":""},{"$f":"IF(入力シート!O467=\"\",\"\",入力シート!Q467)","v":""}]
[{"$f":"IF(入力シート!A468=\"\",\"\",入力シート!A468)","v":""},{"$f":"IF(入力シート!B468=\"\",\"\",入力シート!B468)","v":""},{"$f":"IF(入力シート!C468=\"\",\"\",入力シート!C468)","v":""},{"$f":"IF(入力シート!D468=\"\",\"\",TEXT(入力シート!D468,\"yyyy-mm-dd\"))","v":""},{"$f":"IF(入力シート!P468=\"\",\"\",TEXT(入力シート!P468,\"000-0000\"))","v":""},{"$f":"IF(入力シート!G468=\"\",\"\",入力シート!G468)","v":""},{"$f":"IF(入力シート!H468=\"\",\"\",入力シート!H468)","v":""},{"$f":"IF(入力シート!I468=\"\",\"\",入力シート!I468)","v":""},{"$f":"IF(入力シート!J468=\"\",\"\",入力シート!J468)","v":""},{"$f":"IF(入力シート!K468=\"\",\"\",入力シート!K468)","v":""},{"$f":"IF(入力シート!L468=\"\",\"\",入力シート!L468)","v":""},{"$f":"IF(入力シート!M468=\"\",\"\",入力シート!M468)","v":""},{"$f":"IF(入力シート!N468=\"\",\"\",入力シート!N468)","v":""},{"$f":"IF(入力シート!O468=\"\",\"\",入力シート!Q468)","v":""}]
[{"$f":"IF(入力シート!A469=\"\",\"\",入力シート!A469)","v":""},{"$f":"IF(入力シート!B469=\"\",\"\",入力シート!B469)","v":""},{"$f":"IF(入力シート!C469=\"\",\"\",入力シート!C469)","v":""},{"$f":"IF(入力シート!D469=\"\",\"\",TEXT(入力シート!D469,\"yyyy-mm-dd\"))","v":""},{"$f":"IF(入力シート!P469=\"\",\"\",TEXT(入力シート!P469,\"000-0000\"))","v":""},{"$f":"IF(入力シート!G469=\"\",\"\",入力シート!G469)","v":""},{"$f":"IF(入力シート!H469=\"\",\"\",入力シート!H469)","v":""},{"$f":"IF(入力シート!I469=\"\",\"\",入力シート!I469)","v":""},{"$f":"IF(入力シート!J469=\"\",\"\",入力シート!J469)","v":""},{"$f":"IF(入力シート!K469=\"\",\"\",入力シート!K469)","v":""},{"$f":"IF(入力シート!L469=\"\",\"\",入力シート!L469)","v":""},{"$f":"IF(入力シート!M469=\"\",\"\",入力シート!M469)","v":""},{"$f":"IF(入力シート!N469=\"\",\"\",入力シート!N469)","v":""},{"$f":"IF(入力シート!O469=\"\",\"\",入力シート!Q469)","v":""}]
[{"$f":"IF(入力シート!A470=\"\",\"\",入力シート!A470)","v":""},{"$f":"IF(入力シート!B470=\"\",\"\",入力シート!B470)","v":""},{"$f":"IF(入力シート!C470=\"\",\"\",入力シート!C470)","v":""},{"$f":"IF(入力シート!D470=\"\",\"\",TEXT(入力シート!D470,\"yyyy-mm-dd\"))","v":""},{"$f":"IF(入力シート!P470=\"\",\"\",TEXT(入力シート!P470,\"000-0000\"))","v":""},{"$f":"IF(入力シート!G470=\"\",\"\",入力シート!G470)","v":""},{"$f":"IF(入力シート!H470=\"\",\"\",入力シート!H470)","v":""},{"$f":"IF(入力シート!I470=\"\",\"\",入力シート!I470)","v":""},{"$f":"IF(入力シート!J470=\"\",\"\",入力シート!J470)","v":""},{"$f":"IF(入力シート!K470=\"\",\"\",入力シート!K470)","v":""},{"$f":"IF(入力シート!L470=\"\",\"\",入力シート!L470)","v":""},{"$f":"IF(入力シート!M470=\"\",\"\",入力シート!M470)","v":""},{"$f":"IF(入力シート!N470=\"\",\"\",入力シート!N470)","v":""},{"$f":"IF(入力シート!O470=\"\",\"\",入力シート!Q470)","v":""}]
[{"$f":"IF(入力シート!A471=\"\",\"\",入力シート!A471)","v":""},{"$f":"IF(入力シート!B471=\"\",\"\",入力シート!B471)","v":""},{"$f":"IF(入力シート!C471=\"\",\"\",入力シート!C471)","v":""},{"$f":"IF(入力シート!D471=\"\",\"\",TEXT(入力シート!D471,\"yyyy-mm-dd\"))","v":""},{"$f":"IF(入力シート!P471=\"\",\"\",TEXT(入力シート!P471,\"000-0000\"))","v":""},{"$f":"IF(入力シート!G471=\"\",\"\",入力シート!G471)","v":""},{"$f":"IF(入力シート!H471=\"\",\"\",入力シート!H471)","v":""},{"$f":"IF(入力シート!I471=\"\",\"\",入力シート!I471)","v":""},{"$f":"IF(入力シート!J471=\"\",\"\",入力シート!J471)","v":""},{"$f":"IF(入力シート!K471=\"\",\"\",入力シート!K471)","v":""},{"$f":"IF(入力シート!L471=\"\",\"\",入力シート!L471)","v":""},{"$f":"IF(入力シート!M471=\"\",\"\",入力シート!M471)","v":""},{"$f":"IF(入力シート!N471=\"\",\"\",入力シート!N471)","v":""},{"$f":"IF(入力シート!O471=\"\",\"\",入力シート!Q471)","v":""}]
[{"$f":"IF(入力シート!A472=\"\",\"\",入力シート!A472)","v":""},{"$f":"IF(入力シート!B472=\"\",\"\",入力シート!B472)","v":""},{"$f":"IF(入力シート!C472=\"\",\"\",入力シート!C472)","v":""},{"$f":"IF(入力シート!D472=\"\",\"\",TEXT(入力シート!D472,\"yyyy-mm-dd\"))","v":""},{"$f":"IF(入力シート!P472=\"\",\"\",TEXT(入力シート!P472,\"000-0000\"))","v":""},{"$f":"IF(入力シート!G472=\"\",\"\",入力シート!G472)","v":""},{"$f":"IF(入力シート!H472=\"\",\"\",入力シート!H472)","v":""},{"$f":"IF(入力シート!I472=\"\",\"\",入力シート!I472)","v":""},{"$f":"IF(入力シート!J472=\"\",\"\",入力シート!J472)","v":""},{"$f":"IF(入力シート!K472=\"\",\"\",入力シート!K472)","v":""},{"$f":"IF(入力シート!L472=\"\",\"\",入力シート!L472)","v":""},{"$f":"IF(入力シート!M472=\"\",\"\",入力シート!M472)","v":""},{"$f":"IF(入力シート!N472=\"\",\"\",入力シート!N472)","v":""},{"$f":"IF(入力シート!O472=\"\",\"\",入力シート!Q472)","v":""}]
[{"$f":"IF(入力シート!A473=\"\",\"\",入力シート!A473)","v":""},{"$f":"IF(入力シート!B473=\"\",\"\",入力シート!B473)","v":""},{"$f":"IF(入力シート!C473=\"\",\"\",入力シート!C473)","v":""},{"$f":"IF(入力シート!D473=\"\",\"\",TEXT(入力シート!D473,\"yyyy-mm-dd\"))","v":""},{"$f":"IF(入力シート!P473=\"\",\"\",TEXT(入力シート!P473,\"000-0000\"))","v":""},{"$f":"IF(入力シート!G473=\"\",\"\",入力シート!G473)","v":""},{"$f":"IF(入力シート!H473=\"\",\"\",入力シート!H473)","v":""},{"$f":"IF(入力シート!I473=\"\",\"\",入力シート!I473)","v":""},{"$f":"IF(入力シート!J473=\"\",\"\",入力シート!J473)","v":""},{"$f":"IF(入力シート!K473=\"\",\"\",入力シート!K473)","v":""},{"$f":"IF(入力シート!L473=\"\",\"\",入力シート!L473)","v":""},{"$f":"IF(入力シート!M473=\"\",\"\",入力シート!M473)","v":""},{"$f":"IF(入力シート!N473=\"\",\"\",入力シート!N473)","v":""},{"$f":"IF(入力シート!O473=\"\",\"\",入力シート!Q473)","v":""}]
[{"$f":"IF(入力シート!A474=\"\",\"\",入力シート!A474)","v":""},{"$f":"IF(入力シート!B474=\"\",\"\",入力シート!B474)","v":""},{"$f":"IF(入力シート!C474=\"\",\"\",入力シート!C474)","v":""},{"$f":"IF(入力シート!D474=\"\",\"\",TEXT(入力シート!D474,\"yyyy-mm-dd\"))","v":""},{"$f":"IF(入力シート!P474=\"\",\"\",TEXT(入力シート!P474,\"000-0000\"))","v":""},{"$f":"IF(入力シート!G474=\"\",\"\",入力シート!G474)","v":""},{"$f":"IF(入力シート!H474=\"\",\"\",入力シート!H474)","v":""},{"$f":"IF(入力シート!I474=\"\",\"\",入力シート!I474)","v":""},{"$f":"IF(入力シート!J474=\"\",\"\",入力シート!J474)","v":""},{"$f":"IF(入力シート!K474=\"\",\"\",入力シート!K474)","v":""},{"$f":"IF(入力シート!L474=\"\",\"\",入力シート!L474)","v":""},{"$f":"IF(入力シート!M474=\"\",\"\",入力シート!M474)","v":""},{"$f":"IF(入力シート!N474=\"\",\"\",入力シート!N474)","v":""},{"$f":"IF(入力シート!O474=\"\",\"\",入力シート!Q474)","v":""}]
[{"$f":"IF(入力シート!A475=\"\",\"\",入力シート!A475)","v":""},{"$f":"IF(入力シート!B475=\"\",\"\",入力シート!B475)","v":""},{"$f":"IF(入力シート!C475=\"\",\"\",入力シート!C475)","v":""},{"$f":"IF(入力シート!D475=\"\",\"\",TEXT(入力シート!D475,\"yyyy-mm-dd\"))","v":""},{"$f":"IF(入力シート!P475=\"\",\"\",TEXT(入力シート!P475,\"000-0000\"))","v":""},{"$f":"IF(入力シート!G475=\"\",\"\",入力シート!G475)","v":""},{"$f":"IF(入力シート!H475=\"\",\"\",入力シート!H475)","v":""},{"$f":"IF(入力シート!I475=\"\",\"\",入力シート!I475)","v":""},{"$f":"IF(入力シート!J475=\"\",\"\",入力シート!J475)","v":""},{"$f":"IF(入力シート!K475=\"\",\"\",入力シート!K475)","v":""},{"$f":"IF(入力シート!L475=\"\",\"\",入力シート!L475)","v":""},{"$f":"IF(入力シート!M475=\"\",\"\",入力シート!M475)","v":""},{"$f":"IF(入力シート!N475=\"\",\"\",入力シート!N475)","v":""},{"$f":"IF(入力シート!O475=\"\",\"\",入力シート!Q475)","v":""}]
[{"$f":"IF(入力シート!A476=\"\",\"\",入力シート!A476)","v":""},{"$f":"IF(入力シート!B476=\"\",\"\",入力シート!B476)","v":""},{"$f":"IF(入力シート!C476=\"\",\"\",入力シート!C476)","v":""},{"$f":"IF(入力シート!D476=\"\",\"\",TEXT(入力シート!D476,\"yyyy-mm-dd\"))","v":""},{"$f":"IF(入力シート!P476=\"\",\"\",TEXT(入力シート!P476,\"000-0000\"))","v":""},{"$f":"IF(入力シート!G476=\"\",\"\",入力シート!G476)","v":""},{"$f":"IF(入力シート!H476=\"\",\"\",入力シート!H476)","v":""},{"$f":"IF(入力シート!I476=\"\",\"\",入力シート!I476)","v":""},{"$f":"IF(入力シート!J476=\"\",\"\",入力シート!J476)","v":""},{"$f":"IF(入力シート!K476=\"\",\"\",入力シート!K476)","v":""},{"$f":"IF(入力シート!L476=\"\",\"\",入力シート!L476)","v":""},{"$f":"IF(入力シート!M476=\"\",\"\",入力シート!M476)","v":""},{"$f":"IF(入力シート!N476=\"\",\"\",入力シート!N476)","v":""},{"$f":"IF(入力シート!O476=\"\",\"\",入力シート!Q476)","v":""}]
[{"$f":"IF(入力シート!A477=\"\",\"\",入力シート!A477)","v":""},{"$f":"IF(入力シート!B477=\"\",\"\",入力シート!B477)","v":""},{"$f":"IF(入力シート!C477=\"\",\"\",入力シート!C477)","v":""},{"$f":"IF(入力シート!D477=\"\",\"\",TEXT(入力シート!D477,\"yyyy-mm-dd\"))","v":""},{"$f":"IF(入力シート!P477=\"\",\"\",TEXT(入力シート!P477,\"000-0000\"))","v":""},{"$f":"IF(入力シート!G477=\"\",\"\",入力シート!G477)","v":""},{"$f":"IF(入力シート!H477=\"\",\"\",入力シート!H477)","v":""},{"$f":"IF(入力シート!I477=\"\",\"\",入力シート!I477)","v":""},{"$f":"IF(入力シート!J477=\"\",\"\",入力シート!J477)","v":""},{"$f":"IF(入力シート!K477=\"\",\"\",入力シート!K477)","v":""},{"$f":"IF(入力シート!L477=\"\",\"\",入力シート!L477)","v":""},{"$f":"IF(入力シート!M477=\"\",\"\",入力シート!M477)","v":""},{"$f":"IF(入力シート!N477=\"\",\"\",入力シート!N477)","v":""},{"$f":"IF(入力シート!O477=\"\",\"\",入力シート!Q477)","v":""}]
[{"$f":"IF(入力シート!A478=\"\",\"\",入力シート!A478)","v":""},{"$f":"IF(入力シート!B478=\"\",\"\",入力シート!B478)","v":""},{"$f":"IF(入力シート!C478=\"\",\"\",入力シート!C478)","v":""},{"$f":"IF(入力シート!D478=\"\",\"\",TEXT(入力シート!D478,\"yyyy-mm-dd\"))","v":""},{"$f":"IF(入力シート!P478=\"\",\"\",TEXT(入力シート!P478,\"000-0000\"))","v":""},{"$f":"IF(入力シート!G478=\"\",\"\",入力シート!G478)","v":""},{"$f":"IF(入力シート!H478=\"\",\"\",入力シート!H478)","v":""},{"$f":"IF(入力シート!I478=\"\",\"\",入力シート!I478)","v":""},{"$f":"IF(入力シート!J478=\"\",\"\",入力シート!J478)","v":""},{"$f":"IF(入力シート!K478=\"\",\"\",入力シート!K478)","v":""},{"$f":"IF(入力シート!L478=\"\",\"\",入力シート!L478)","v":""},{"$f":"IF(入力シート!M478=\"\",\"\",入力シート!M478)","v":""},{"$f":"IF(入力シート!N478=\"\",\"\",入力シート!N478)","v":""},{"$f":"IF(入力シート!O478=\"\",\"\",入力シート!Q478)","v":""}]
[{"$f":"IF(入力シート!A479=\"\",\"\",入力シート!A479)","v":""},{"$f":"IF(入力シート!B479=\"\",\"\",入力シート!B479)","v":""},{"$f":"IF(入力シート!C479=\"\",\"\",入力シート!C479)","v":""},{"$f":"IF(入力シート!D479=\"\",\"\",TEXT(入力シート!D479,\"yyyy-mm-dd\"))","v":""},{"$f":"IF(入力シート!P479=\"\",\"\",TEXT(入力シート!P479,\"000-0000\"))","v":""},{"$f":"IF(入力シート!G479=\"\",\"\",入力シート!G479)","v":""},{"$f":"IF(入力シート!H479=\"\",\"\",入力シート!H479)","v":""},{"$f":"IF(入力シート!I479=\"\",\"\",入力シート!I479)","v":""},{"$f":"IF(入力シート!J479=\"\",\"\",入力シート!J479)","v":""},{"$f":"IF(入力シート!K479=\"\",\"\",入力シート!K479)","v":""},{"$f":"IF(入力シート!L479=\"\",\"\",入力シート!L479)","v":""},{"$f":"IF(入力シート!M479=\"\",\"\",入力シート!M479)","v":""},{"$f":"IF(入力シート!N479=\"\",\"\",入力シート!N479)","v":""},{"$f":"IF(入力シート!O479=\"\",\"\",入力シート!Q479)","v":""}]
[{"$f":"IF(入力シート!A480=\"\",\"\",入力シート!A480)","v":""},{"$f":"IF(入力シート!B480=\"\",\"\",入力シート!B480)","v":""},{"$f":"IF(入力シート!C480=\"\",\"\",入力シート!C480)","v":""},{"$f":"IF(入力シート!D480=\"\",\"\",TEXT(入力シート!D480,\"yyyy-mm-dd\"))","v":""},{"$f":"IF(入力シート!P480=\"\",\"\",TEXT(入力シート!P480,\"000-0000\"))","v":""},{"$f":"IF(入力シート!G480=\"\",\"\",入力シート!G480)","v":""},{"$f":"IF(入力シート!H480=\"\",\"\",入力シート!H480)","v":""},{"$f":"IF(入力シート!I480=\"\",\"\",入力シート!I480)","v":""},{"$f":"IF(入力シート!J480=\"\",\"\",入力シート!J480)","v":""},{"$f":"IF(入力シート!K480=\"\",\"\",入力シート!K480)","v":""},{"$f":"IF(入力シート!L480=\"\",\"\",入力シート!L480)","v":""},{"$f":"IF(入力シート!M480=\"\",\"\",入力シート!M480)","v":""},{"$f":"IF(入力シート!N480=\"\",\"\",入力シート!N480)","v":""},{"$f":"IF(入力シート!O480=\"\",\"\",入力シート!Q480)","v":""}]
[{"$f":"IF(入力シート!A481=\"\",\"\",入力シート!A481)","v":""},{"$f":"IF(入力シート!B481=\"\",\"\",入力シート!B481)","v":""},{"$f":"IF(入力シート!C481=\"\",\"\",入力シート!C481)","v":""},{"$f":"IF(入力シート!D481=\"\",\"\",TEXT(入力シート!D481,\"yyyy-mm-dd\"))","v":""},{"$f":"IF(入力シート!P481=\"\",\"\",TEXT(入力シート!P481,\"000-0000\"))","v":""},{"$f":"IF(入力シート!G481=\"\",\"\",入力シート!G481)","v":""},{"$f":"IF(入力シート!H481=\"\",\"\",入力シート!H481)","v":""},{"$f":"IF(入力シート!I481=\"\",\"\",入力シート!I481)","v":""},{"$f":"IF(入力シート!J481=\"\",\"\",入力シート!J481)","v":""},{"$f":"IF(入力シート!K481=\"\",\"\",入力シート!K481)","v":""},{"$f":"IF(入力シート!L481=\"\",\"\",入力シート!L481)","v":""},{"$f":"IF(入力シート!M481=\"\",\"\",入力シート!M481)","v":""},{"$f":"IF(入力シート!N481=\"\",\"\",入力シート!N481)","v":""},{"$f":"IF(入力シート!O481=\"\",\"\",入力シート!Q481)","v":""}]
[{"$f":"IF(入力シート!A482=\"\",\"\",入力シート!A482)","v":""},{"$f":"IF(入力シート!B482=\"\",\"\",入力シート!B482)","v":""},{"$f":"IF(入力シート!C482=\"\",\"\",入力シート!C482)","v":""},{"$f":"IF(入力シート!D482=\"\",\"\",TEXT(入力シート!D482,\"yyyy-mm-dd\"))","v":""},{"$f":"IF(入力シート!P482=\"\",\"\",TEXT(入力シート!P482,\"000-0000\"))","v":""},{"$f":"IF(入力シート!G482=\"\",\"\",入力シート!G482)","v":""},{"$f":"IF(入力シート!H482=\"\",\"\",入力シート!H482)","v":""},{"$f":"IF(入力シート!I482=\"\",\"\",入力シート!I482)","v":""},{"$f":"IF(入力シート!J482=\"\",\"\",入力シート!J482)","v":""},{"$f":"IF(入力シート!K482=\"\",\"\",入力シート!K482)","v":""},{"$f":"IF(入力シート!L482=\"\",\"\",入力シート!L482)","v":""},{"$f":"IF(入力シート!M482=\"\",\"\",入力シート!M482)","v":""},{"$f":"IF(入力シート!N482=\"\",\"\",入力シート!N482)","v":""},{"$f":"IF(入力シート!O482=\"\",\"\",入力シート!Q482)","v":""}]
[{"$f":"IF(入力シート!A483=\"\",\"\",入力シート!A483)","v":""},{"$f":"IF(入力シート!B483=\"\",\"\",入力シート!B483)","v":""},{"$f":"IF(入力シート!C483=\"\",\"\",入力シート!C483)","v":""},{"$f":"IF(入力シート!D483=\"\",\"\",TEXT(入力シート!D483,\"yyyy-mm-dd\"))","v":""},{"$f":"IF(入力シート!P483=\"\",\"\",TEXT(入力シート!P483,\"000-0000\"))","v":""},{"$f":"IF(入力シート!G483=\"\",\"\",入力シート!G483)","v":""},{"$f":"IF(入力シート!H483=\"\",\"\",入力シート!H483)","v":""},{"$f":"IF(入力シート!I483=\"\",\"\",入力シート!I483)","v":""},{"$f":"IF(入力シート!J483=\"\",\"\",入力シート!J483)","v":""},{"$f":"IF(入力シート!K483=\"\",\"\",入力シート!K483)","v":""},{"$f":"IF(入力シート!L483=\"\",\"\",入力シート!L483)","v":""},{"$f":"IF(入力シート!M483=\"\",\"\",入力シート!M483)","v":""},{"$f":"IF(入力シート!N483=\"\",\"\",入力シート!N483)","v":""},{"$f":"IF(入力シート!O483=\"\",\"\",入力シート!Q483)","v":""}]
[{"$f":"IF(入力シート!A484=\"\",\"\",入力シート!A484)","v":""},{"$f":"IF(入力シート!B484=\"\",\"\",入力シート!B484)","v":""},{"$f":"IF(入力シート!C484=\"\",\"\",入力シート!C484)","v":""},{"$f":"IF(入力シート!D484=\"\",\"\",TEXT(入力シート!D484,\"yyyy-mm-dd\"))","v":""},{"$f":"IF(入力シート!P484=\"\",\"\",TEXT(入力シート!P484,\"000-0000\"))","v":""},{"$f":"IF(入力シート!G484=\"\",\"\",入力シート!G484)","v":""},{"$f":"IF(入力シート!H484=\"\",\"\",入力シート!H484)","v":""},{"$f":"IF(入力シート!I484=\"\",\"\",入力シート!I484)","v":""},{"$f":"IF(入力シート!J484=\"\",\"\",入力シート!J484)","v":""},{"$f":"IF(入力シート!K484=\"\",\"\",入力シート!K484)","v":""},{"$f":"IF(入力シート!L484=\"\",\"\",入力シート!L484)","v":""},{"$f":"IF(入力シート!M484=\"\",\"\",入力シート!M484)","v":""},{"$f":"IF(入力シート!N484=\"\",\"\",入力シート!N484)","v":""},{"$f":"IF(入力シート!O484=\"\",\"\",入力シート!Q484)","v":""}]
[{"$f":"IF(入力シート!A485=\"\",\"\",入力シート!A485)","v":""},{"$f":"IF(入力シート!B485=\"\",\"\",入力シート!B485)","v":""},{"$f":"IF(入力シート!C485=\"\",\"\",入力シート!C485)","v":""},{"$f":"IF(入力シート!D485=\"\",\"\",TEXT(入力シート!D485,\"yyyy-mm-dd\"))","v":""},{"$f":"IF(入力シート!P485=\"\",\"\",TEXT(入力シート!P485,\"000-0000\"))","v":""},{"$f":"IF(入力シート!G485=\"\",\"\",入力シート!G485)","v":""},{"$f":"IF(入力シート!H485=\"\",\"\",入力シート!H485)","v":""},{"$f":"IF(入力シート!I485=\"\",\"\",入力シート!I485)","v":""},{"$f":"IF(入力シート!J485=\"\",\"\",入力シート!J485)","v":""},{"$f":"IF(入力シート!K485=\"\",\"\",入力シート!K485)","v":""},{"$f":"IF(入力シート!L485=\"\",\"\",入力シート!L485)","v":""},{"$f":"IF(入力シート!M485=\"\",\"\",入力シート!M485)","v":""},{"$f":"IF(入力シート!N485=\"\",\"\",入力シート!N485)","v":""},{"$f":"IF(入力シート!O485=\"\",\"\",入力シート!Q485)","v":""}]
[{"$f":"IF(入力シート!A486=\"\",\"\",入力シート!A486)","v":""},{"$f":"IF(入力シート!B486=\"\",\"\",入力シート!B486)","v":""},{"$f":"IF(入力シート!C486=\"\",\"\",入力シート!C486)","v":""},{"$f":"IF(入力シート!D486=\"\",\"\",TEXT(入力シート!D486,\"yyyy-mm-dd\"))","v":""},{"$f":"IF(入力シート!P486=\"\",\"\",TEXT(入力シート!P486,\"000-0000\"))","v":""},{"$f":"IF(入力シート!G486=\"\",\"\",入力シート!G486)","v":""},{"$f":"IF(入力シート!H486=\"\",\"\",入力シート!H486)","v":""},{"$f":"IF(入力シート!I486=\"\",\"\",入力シート!I486)","v":""},{"$f":"IF(入力シート!J486=\"\",\"\",入力シート!J486)","v":""},{"$f":"IF(入力シート!K486=\"\",\"\",入力シート!K486)","v":""},{"$f":"IF(入力シート!L486=\"\",\"\",入力シート!L486)","v":""},{"$f":"IF(入力シート!M486=\"\",\"\",入力シート!M486)","v":""},{"$f":"IF(入力シート!N486=\"\",\"\",入力シート!N486)","v":""},{"$f":"IF(入力シート!O486=\"\",\"\",入力シート!Q486)","v":""}]
[{"$f":"IF(入力シート!A487=\"\",\"\",入力シート!A487)","v":""},{"$f":"IF(入力シート!B487=\"\",\"\",入力シート!B487)","v":""},{"$f":"IF(入力シート!C487=\"\",\"\",入力シート!C487)","v":""},{"$f":"IF(入力シート!D487=\"\",\"\",TEXT(入力シート!D487,\"yyyy-mm-dd\"))","v":""},{"$f":"IF(入力シート!P487=\"\",\"\",TEXT(入力シート!P487,\"000-0000\"))","v":""},{"$f":"IF(入力シート!G487=\"\",\"\",入力シート!G487)","v":""},{"$f":"IF(入力シート!H487=\"\",\"\",入力シート!H487)","v":""},{"$f":"IF(入力シート!I487=\"\",\"\",入力シート!I487)","v":""},{"$f":"IF(入力シート!J487=\"\",\"\",入力シート!J487)","v":""},{"$f":"IF(入力シート!K487=\"\",\"\",入力シート!K487)","v":""},{"$f":"IF(入力シート!L487=\"\",\"\",入力シート!L487)","v":""},{"$f":"IF(入力シート!M487=\"\",\"\",入力シート!M487)","v":""},{"$f":"IF(入力シート!N487=\"\",\"\",入力シート!N487)","v":""},{"$f":"IF(入力シート!O487=\"\",\"\",入力シート!Q487)","v":""}]
[{"$f":"IF(入力シート!A488=\"\",\"\",入力シート!A488)","v":""},{"$f":"IF(入力シート!B488=\"\",\"\",入力シート!B488)","v":""},{"$f":"IF(入力シート!C488=\"\",\"\",入力シート!C488)","v":""},{"$f":"IF(入力シート!D488=\"\",\"\",TEXT(入力シート!D488,\"yyyy-mm-dd\"))","v":""},{"$f":"IF(入力シート!P488=\"\",\"\",TEXT(入力シート!P488,\"000-0000\"))","v":""},{"$f":"IF(入力シート!G488=\"\",\"\",入力シート!G488)","v":""},{"$f":"IF(入力シート!H488=\"\",\"\",入力シート!H488)","v":""},{"$f":"IF(入力シート!I488=\"\",\"\",入力シート!I488)","v":""},{"$f":"IF(入力シート!J488=\"\",\"\",入力シート!J488)","v":""},{"$f":"IF(入力シート!K488=\"\",\"\",入力シート!K488)","v":""},{"$f":"IF(入力シート!L488=\"\",\"\",入力シート!L488)","v":""},{"$f":"IF(入力シート!M488=\"\",\"\",入力シート!M488)","v":""},{"$f":"IF(入力シート!N488=\"\",\"\",入力シート!N488)","v":""},{"$f":"IF(入力シート!O488=\"\",\"\",入力シート!Q488)","v":""}]
[{"$f":"IF(入力シート!A489=\"\",\"\",入力シート!A489)","v":""},{"$f":"IF(入力シート!B489=\"\",\"\",入力シート!B489)","v":""},{"$f":"IF(入力シート!C489=\"\",\"\",入力シート!C489)","v":""},{"$f":"IF(入力シート!D489=\"\",\"\",TEXT(入力シート!D489,\"yyyy-mm-dd\"))","v":""},{"$f":"IF(入力シート!P489=\"\",\"\",TEXT(入力シート!P489,\"000-0000\"))","v":""},{"$f":"IF(入力シート!G489=\"\",\"\",入力シート!G489)","v":""},{"$f":"IF(入力シート!H489=\"\",\"\",入力シート!H489)","v":""},{"$f":"IF(入力シート!I489=\"\",\"\",入力シート!I489)","v":""},{"$f":"IF(入力シート!J489=\"\",\"\",入力シート!J489)","v":""},{"$f":"IF(入力シート!K489=\"\",\"\",入力シート!K489)","v":""},{"$f":"IF(入力シート!L489=\"\",\"\",入力シート!L489)","v":""},{"$f":"IF(入力シート!M489=\"\",\"\",入力シート!M489)","v":""},{"$f":"IF(入力シート!N489=\"\",\"\",入力シート!N489)","v":""},{"$f":"IF(入力シート!O489=\"\",\"\",入力シート!Q489)","v":""}]
[{"$f":"IF(入力シート!A490=\"\",\"\",入力シート!A490)","v":""},{"$f":"IF(入力シート!B490=\"\",\"\",入力シート!B490)","v":""},{"$f":"IF(入力シート!C490=\"\",\"\",入力シート!C490)","v":""},{"$f":"IF(入力シート!D490=\"\",\"\",TEXT(入力シート!D490,\"yyyy-mm-dd\"))","v":""},{"$f":"IF(入力シート!P490=\"\",\"\",TEXT(入力シート!P490,\"000-0000\"))","v":""},{"$f":"IF(入力シート!G490=\"\",\"\",入力シート!G490)","v":""},{"$f":"IF(入力シート!H490=\"\",\"\",入力シート!H490)","v":""},{"$f":"IF(入力シート!I490=\"\",\"\",入力シート!I490)","v":""},{"$f":"IF(入力シート!J490=\"\",\"\",入力シート!J490)","v":""},{"$f":"IF(入力シート!K490=\"\",\"\",入力シート!K490)","v":""},{"$f":"IF(入力シート!L490=\"\",\"\",入力シート!L490)","v":""},{"$f":"IF(入力シート!M490=\"\",\"\",入力シート!M490)","v":""},{"$f":"IF(入力シート!N490=\"\",\"\",入力シート!N490)","v":""},{"$f":"IF(入力シート!O490=\"\",\"\",入力シート!Q490)","v":""}]
[{"$f":"IF(入力シート!A491=\"\",\"\",入力シート!A491)","v":""},{"$f":"IF(入力シート!B491=\"\",\"\",入力シート!B491)","v":""},{"$f":"IF(入力シート!C491=\"\",\"\",入力シート!C491)","v":""},{"$f":"IF(入力シート!D491=\"\",\"\",TEXT(入力シート!D491,\"yyyy-mm-dd\"))","v":""},{"$f":"IF(入力シート!P491=\"\",\"\",TEXT(入力シート!P491,\"000-0000\"))","v":""},{"$f":"IF(入力シート!G491=\"\",\"\",入力シート!G491)","v":""},{"$f":"IF(入力シート!H491=\"\",\"\",入力シート!H491)","v":""},{"$f":"IF(入力シート!I491=\"\",\"\",入力シート!I491)","v":""},{"$f":"IF(入力シート!J491=\"\",\"\",入力シート!J491)","v":""},{"$f":"IF(入力シート!K491=\"\",\"\",入力シート!K491)","v":""},{"$f":"IF(入力シート!L491=\"\",\"\",入力シート!L491)","v":""},{"$f":"IF(入力シート!M491=\"\",\"\",入力シート!M491)","v":""},{"$f":"IF(入力シート!N491=\"\",\"\",入力シート!N491)","v":""},{"$f":"IF(入力シート!O491=\"\",\"\",入力シート!Q491)","v":""}]
[{"$f":"IF(入力シート!A492=\"\",\"\",入力シート!A492)","v":""},{"$f":"IF(入力シート!B492=\"\",\"\",入力シート!B492)","v":""},{"$f":"IF(入力シート!C492=\"\",\"\",入力シート!C492)","v":""},{"$f":"IF(入力シート!D492=\"\",\"\",TEXT(入力シート!D492,\"yyyy-mm-dd\"))","v":""},{"$f":"IF(入力シート!P492=\"\",\"\",TEXT(入力シート!P492,\"000-0000\"))","v":""},{"$f":"IF(入力シート!G492=\"\",\"\",入力シート!G492)","v":""},{"$f":"IF(入力シート!H492=\"\",\"\",入力シート!H492)","v":""},{"$f":"IF(入力シート!I492=\"\",\"\",入力シート!I492)","v":""},{"$f":"IF(入力シート!J492=\"\",\"\",入力シート!J492)","v":""},{"$f":"IF(入力シート!K492=\"\",\"\",入力シート!K492)","v":""},{"$f":"IF(入力シート!L492=\"\",\"\",入力シート!L492)","v":""},{"$f":"IF(入力シート!M492=\"\",\"\",入力シート!M492)","v":""},{"$f":"IF(入力シート!N492=\"\",\"\",入力シート!N492)","v":""},{"$f":"IF(入力シート!O492=\"\",\"\",入力シート!Q492)","v":""}]
[{"$f":"IF(入力シート!A493=\"\",\"\",入力シート!A493)","v":""},{"$f":"IF(入力シート!B493=\"\",\"\",入力シート!B493)","v":""},{"$f":"IF(入力シート!C493=\"\",\"\",入力シート!C493)","v":""},{"$f":"IF(入力シート!D493=\"\",\"\",TEXT(入力シート!D493,\"yyyy-mm-dd\"))","v":""},{"$f":"IF(入力シート!P493=\"\",\"\",TEXT(入力シート!P493,\"000-0000\"))","v":""},{"$f":"IF(入力シート!G493=\"\",\"\",入力シート!G493)","v":""},{"$f":"IF(入力シート!H493=\"\",\"\",入力シート!H493)","v":""},{"$f":"IF(入力シート!I493=\"\",\"\",入力シート!I493)","v":""},{"$f":"IF(入力シート!J493=\"\",\"\",入力シート!J493)","v":""},{"$f":"IF(入力シート!K493=\"\",\"\",入力シート!K493)","v":""},{"$f":"IF(入力シート!L493=\"\",\"\",入力シート!L493)","v":""},{"$f":"IF(入力シート!M493=\"\",\"\",入力シート!M493)","v":""},{"$f":"IF(入力シート!N493=\"\",\"\",入力シート!N493)","v":""},{"$f":"IF(入力シート!O493=\"\",\"\",入力シート!Q493)","v":""}]
[{"$f":"IF(入力シート!A494=\"\",\"\",入力シート!A494)","v":""},{"$f":"IF(入力シート!B494=\"\",\"\",入力シート!B494)","v":""},{"$f":"IF(入力シート!C494=\"\",\"\",入力シート!C494)","v":""},{"$f":"IF(入力シート!D494=\"\",\"\",TEXT(入力シート!D494,\"yyyy-mm-dd\"))","v":""},{"$f":"IF(入力シート!P494=\"\",\"\",TEXT(入力シート!P494,\"000-0000\"))","v":""},{"$f":"IF(入力シート!G494=\"\",\"\",入力シート!G494)","v":""},{"$f":"IF(入力シート!H494=\"\",\"\",入力シート!H494)","v":""},{"$f":"IF(入力シート!I494=\"\",\"\",入力シート!I494)","v":""},{"$f":"IF(入力シート!J494=\"\",\"\",入力シート!J494)","v":""},{"$f":"IF(入力シート!K494=\"\",\"\",入力シート!K494)","v":""},{"$f":"IF(入力シート!L494=\"\",\"\",入力シート!L494)","v":""},{"$f":"IF(入力シート!M494=\"\",\"\",入力シート!M494)","v":""},{"$f":"IF(入力シート!N494=\"\",\"\",入力シート!N494)","v":""},{"$f":"IF(入力シート!O494=\"\",\"\",入力シート!Q494)","v":""}]
[{"$f":"IF(入力シート!A495=\"\",\"\",入力シート!A495)","v":""},{"$f":"IF(入力シート!B495=\"\",\"\",入力シート!B495)","v":""},{"$f":"IF(入力シート!C495=\"\",\"\",入力シート!C495)","v":""},{"$f":"IF(入力シート!D495=\"\",\"\",TEXT(入力シート!D495,\"yyyy-mm-dd\"))","v":""},{"$f":"IF(入力シート!P495=\"\",\"\",TEXT(入力シート!P495,\"000-0000\"))","v":""},{"$f":"IF(入力シート!G495=\"\",\"\",入力シート!G495)","v":""},{"$f":"IF(入力シート!H495=\"\",\"\",入力シート!H495)","v":""},{"$f":"IF(入力シート!I495=\"\",\"\",入力シート!I495)","v":""},{"$f":"IF(入力シート!J495=\"\",\"\",入力シート!J495)","v":""},{"$f":"IF(入力シート!K495=\"\",\"\",入力シート!K495)","v":""},{"$f":"IF(入力シート!L495=\"\",\"\",入力シート!L495)","v":""},{"$f":"IF(入力シート!M495=\"\",\"\",入力シート!M495)","v":""},{"$f":"IF(入力シート!N495=\"\",\"\",入力シート!N495)","v":""},{"$f":"IF(入力シート!O495=\"\",\"\",入力シート!Q495)","v":""}]
[{"$f":"IF(入力シート!A496=\"\",\"\",入力シート!A496)","v":""},{"$f":"IF(入力シート!B496=\"\",\"\",入力シート!B496)","v":""},{"$f":"IF(入力シート!C496=\"\",\"\",入力シート!C496)","v":""},{"$f":"IF(入力シート!D496=\"\",\"\",TEXT(入力シート!D496,\"yyyy-mm-dd\"))","v":""},{"$f":"IF(入力シート!P496=\"\",\"\",TEXT(入力シート!P496,\"000-0000\"))","v":""},{"$f":"IF(入力シート!G496=\"\",\"\",入力シート!G496)","v":""},{"$f":"IF(入力シート!H496=\"\",\"\",入力シート!H496)","v":""},{"$f":"IF(入力シート!I496=\"\",\"\",入力シート!I496)","v":""},{"$f":"IF(入力シート!J496=\"\",\"\",入力シート!J496)","v":""},{"$f":"IF(入力シート!K496=\"\",\"\",入力シート!K496)","v":""},{"$f":"IF(入力シート!L496=\"\",\"\",入力シート!L496)","v":""},{"$f":"IF(入力シート!M496=\"\",\"\",入力シート!M496)","v":""},{"$f":"IF(入力シート!N496=\"\",\"\",入力シート!N496)","v":""},{"$f":"IF(入力シート!O496=\"\",\"\",入力シート!Q496)","v":""}]
[{"$f":"IF(入力シート!A497=\"\",\"\",入力シート!A497)","v":""},{"$f":"IF(入力シート!B497=\"\",\"\",入力シート!B497)","v":""},{"$f":"IF(入力シート!C497=\"\",\"\",入力シート!C497)","v":""},{"$f":"IF(入力シート!D497=\"\",\"\",TEXT(入力シート!D497,\"yyyy-mm-dd\"))","v":""},{"$f":"IF(入力シート!P497=\"\",\"\",TEXT(入力シート!P497,\"000-0000\"))","v":""},{"$f":"IF(入力シート!G497=\"\",\"\",入力シート!G497)","v":""},{"$f":"IF(入力シート!H497=\"\",\"\",入力シート!H497)","v":""},{"$f":"IF(入力シート!I497=\"\",\"\",入力シート!I497)","v":""},{"$f":"IF(入力シート!J497=\"\",\"\",入力シート!J497)","v":""},{"$f":"IF(入力シート!K497=\"\",\"\",入力シート!K497)","v":""},{"$f":"IF(入力シート!L497=\"\",\"\",入力シート!L497)","v":""},{"$f":"IF(入力シート!M497=\"\",\"\",入力シート!M497)","v":""},{"$f":"IF(入力シート!N497=\"\",\"\",入力シート!N497)","v":""},{"$f":"IF(入力シート!O497=\"\",\"\",入力シート!Q497)","v":""}]
[{"$f":"IF(入力シート!A498=\"\",\"\",入力シート!A498)","v":""},{"$f":"IF(入力シート!B498=\"\",\"\",入力シート!B498)","v":""},{"$f":"IF(入力シート!C498=\"\",\"\",入力シート!C498)","v":""},{"$f":"IF(入力シート!D498=\"\",\"\",TEXT(入力シート!D498,\"yyyy-mm-dd\"))","v":""},{"$f":"IF(入力シート!P498=\"\",\"\",TEXT(入力シート!P498,\"000-0000\"))","v":""},{"$f":"IF(入力シート!G498=\"\",\"\",入力シート!G498)","v":""},{"$f":"IF(入力シート!H498=\"\",\"\",入力シート!H498)","v":""},{"$f":"IF(入力シート!I498=\"\",\"\",入力シート!I498)","v":""},{"$f":"IF(入力シート!J498=\"\",\"\",入力シート!J498)","v":""},{"$f":"IF(入力シート!K498=\"\",\"\",入力シート!K498)","v":""},{"$f":"IF(入力シート!L498=\"\",\"\",入力シート!L498)","v":""},{"$f":"IF(入力シート!M498=\"\",\"\",入力シート!M498)","v":""},{"$f":"IF(入力シート!N498=\"\",\"\",入力シート!N498)","v":""},{"$f":"IF(入力シート!O498=\"\",\"\",入力シート!Q498)","v":""}]
[{"$f":"IF(入力シート!A499=\"\",\"\",入力シート!A499)","v":""},{"$f":"IF(入力シート!B499=\"\",\"\",入力シート!B499)","v":""},{"$f":"IF(入力シート!C499=\"\",\"\",入力シート!C499)","v":""},{"$f":"IF(入力シート!D499=\"\",\"\",TEXT(入力シート!D499,\"yyyy-mm-dd\"))","v":""},{"$f":"IF(入力シート!P499=\"\",\"\",TEXT(入力シート!P499,\"000-0000\"))","v":""},{"$f":"IF(入力シート!G499=\"\",\"\",入力シート!G499)","v":""},{"$f":"IF(入力シート!H499=\"\",\"\",入力シート!H499)","v":""},{"$f":"IF(入力シート!I499=\"\",\"\",入力シート!I499)","v":""},{"$f":"IF(入力シート!J499=\"\",\"\",入力シート!J499)","v":""},{"$f":"IF(入力シート!K499=\"\",\"\",入力シート!K499)","v":""},{"$f":"IF(入力シート!L499=\"\",\"\",入力シート!L499)","v":""},{"$f":"IF(入力シート!M499=\"\",\"\",入力シート!M499)","v":""},{"$f":"IF(入力シート!N499=\"\",\"\",入力シート!N499)","v":""},{"$f":"IF(入力シート!O499=\"\",\"\",入力シート!Q499)","v":""}]
[{"$f":"IF(入力シート!A500=\"\",\"\",入力シート!A500)","v":""},{"$f":"IF(入力シート!B500=\"\",\"\",入力シート!B500)","v":""},{"$f":"IF(入力シート!C500=\"\",\"\",入力シート!C500)","v":""},{"$f":"IF(入力シート!D500=\"\",\"\",TEXT(入力シート!D500,\"yyyy-mm-dd\"))","v":""},{"$f":"IF(入力シート!P500=\"\",\"\",TEXT(入力シート!P500,\"000-0000\"))","v":""},{"$f":"IF(入力シート!G500=\"\",\"\",入力シート!G500)","v":""},{"$f":"IF(入力シート!H500=\"\",\"\",入力シート!H500)","v":""},{"$f":"IF(入力シート!I500=\"\",\"\",入力シート!I500)","v":""},{"$f":"IF(入力シート!J500=\"\",\"\",入力シート!J500)","v":""},{"$f":"IF(入力シート!K500=\"\",\"\",入力シート!K500)","v":""},{"$f":"IF(入力シート!L500=\"\",\"\",入力シート!L500)","v":""},{"$f":"IF(入力シート!M500=\"\",\"\",入力シート!M500)","v":""},{"$f":"IF(入力シート!N500=\"\",\"\",入力シート!N500)","v":""},{"$f":"IF(入力シート!O500=\"\",\"\",入力シート!Q500)","v":""}]
[{"$f":"IF(入力シート!A501=\"\",\"\",入力シート!A501)","v":""},{"$f":"IF(入力シート!B501=\"\",\"\",入力シート!B501)","v":""},{"$f":"IF(入力シート!C501=\"\",\"\",入力シート!C501)","v":""},{"$f":"IF(入力シート!D501=\"\",\"\",TEXT(入力シート!D501,\"yyyy-mm-dd\"))","v":""},{"$f":"IF(入力シート!P501=\"\",\"\",TEXT(入力シート!P501,\"000-0000\"))","v":""},{"$f":"IF(入力シート!G501=\"\",\"\",入力シート!G501)","v":""},{"$f":"IF(入力シート!H501=\"\",\"\",入力シート!H501)","v":""},{"$f":"IF(入力シート!I501=\"\",\"\",入力シート!I501)","v":""},{"$f":"IF(入力シート!J501=\"\",\"\",入力シート!J501)","v":""},{"$f":"IF(入力シート!K501=\"\",\"\",入力シート!K501)","v":""},{"$f":"IF(入力シート!L501=\"\",\"\",入力シート!L501)","v":""},{"$f":"IF(入力シート!M501=\"\",\"\",入力シート!M501)","v":""},{"$f":"IF(入力シート!N501=\"\",\"\",入力シート!N501)","v":""},{"$f":"IF(入力シート!O501=\"\",\"\",入力シート!Q501)","v":""}]
[{"$f":"IF(入力シート!A502=\"\",\"\",入力シート!A502)","v":""},{"$f":"IF(入力シート!B502=\"\",\"\",入力シート!B502)","v":""},{"$f":"IF(入力シート!C502=\"\",\"\",入力シート!C502)","v":""},{"$f":"IF(入力シート!D502=\"\",\"\",TEXT(入力シート!D502,\"yyyy-mm-dd\"))","v":""},{"$f":"IF(入力シート!P502=\"\",\"\",TEXT(入力シート!P502,\"000-0000\"))","v":""},{"$f":"IF(入力シート!G502=\"\",\"\",入力シート!G502)","v":""},{"$f":"IF(入力シート!H502=\"\",\"\",入力シート!H502)","v":""},{"$f":"IF(入力シート!I502=\"\",\"\",入力シート!I502)","v":""},{"$f":"IF(入力シート!J502=\"\",\"\",入力シート!J502)","v":""},{"$f":"IF(入力シート!K502=\"\",\"\",入力シート!K502)","v":""},{"$f":"IF(入力シート!L502=\"\",\"\",入力シート!L502)","v":""},{"$f":"IF(入力シート!M502=\"\",\"\",入力シート!M502)","v":""},{"$f":"IF(入力シート!N502=\"\",\"\",入力シート!N502)","v":""},{"$f":"IF(入力シート!O502=\"\",\"\",入力シート!Q502)","v":""}]
[{"$f":"IF(入力シート!A503=\"\",\"\",入力シート!A503)","v":""},{"$f":"IF(入力シート!B503=\"\",\"\",入力シート!B503)","v":""},{"$f":"IF(入力シート!C503=\"\",\"\",入力シート!C503)","v":""},{"$f":"IF(入力シート!D503=\"\",\"\",TEXT(入力シート!D503,\"yyyy-mm-dd\"))","v":""},{"$f":"IF(入力シート!P503=\"\",\"\",TEXT(入力シート!P503,\"000-0000\"))","v":""},{"$f":"IF(入力シート!G503=\"\",\"\",入力シート!G503)","v":""},{"$f":"IF(入力シート!H503=\"\",\"\",入力シート!H503)","v":""},{"$f":"IF(入力シート!I503=\"\",\"\",入力シート!I503)","v":""},{"$f":"IF(入力シート!J503=\"\",\"\",入力シート!J503)","v":""},{"$f":"IF(入力シート!K503=\"\",\"\",入力シート!K503)","v":""},{"$f":"IF(入力シート!L503=\"\",\"\",入力シート!L503)","v":""},{"$f":"IF(入力シート!M503=\"\",\"\",入力シート!M503)","v":""},{"$f":"IF(入力シート!N503=\"\",\"\",入力シート!N503)","v":""},{"$f":"IF(入力シート!O503=\"\",\"\",入力シート!Q503)","v":""}]
[{"$f":"IF(入力シート!A504=\"\",\"\",入力シート!A504)","v":""},{"$f":"IF(入力シート!B504=\"\",\"\",入力シート!B504)","v":""},{"$f":"IF(入力シート!C504=\"\",\"\",入力シート!C504)","v":""},{"$f":"IF(入力シート!D504=\"\",\"\",TEXT(入力シート!D504,\"yyyy-mm-dd\"))","v":""},{"$f":"IF(入力シート!P504=\"\",\"\",TEXT(入力シート!P504,\"000-0000\"))","v":""},{"$f":"IF(入力シート!G504=\"\",\"\",入力シート!G504)","v":""},{"$f":"IF(入力シート!H504=\"\",\"\",入力シート!H504)","v":""},{"$f":"IF(入力シート!I504=\"\",\"\",入力シート!I504)","v":""},{"$f":"IF(入力シート!J504=\"\",\"\",入力シート!J504)","v":""},{"$f":"IF(入力シート!K504=\"\",\"\",入力シート!K504)","v":""},{"$f":"IF(入力シート!L504=\"\",\"\",入力シート!L504)","v":""},{"$f":"IF(入力シート!M504=\"\",\"\",入力シート!M504)","v":""},{"$f":"IF(入力シート!N504=\"\",\"\",入力シート!N504)","v":""},{"$f":"IF(入力シート!O504=\"\",\"\",入力シート!Q504)","v":""}]
[{"$f":"IF(入力シート!A505=\"\",\"\",入力シート!A505)","v":""},{"$f":"IF(入力シート!B505=\"\",\"\",入力シート!B505)","v":""},{"$f":"IF(入力シート!C505=\"\",\"\",入力シート!C505)","v":""},{"$f":"IF(入力シート!D505=\"\",\"\",TEXT(入力シート!D505,\"yyyy-mm-dd\"))","v":""},{"$f":"IF(入力シート!P505=\"\",\"\",TEXT(入力シート!P505,\"000-0000\"))","v":""},{"$f":"IF(入力シート!G505=\"\",\"\",入力シート!G505)","v":""},{"$f":"IF(入力シート!H505=\"\",\"\",入力シート!H505)","v":""},{"$f":"IF(入力シート!I505=\"\",\"\",入力シート!I505)","v":""},{"$f":"IF(入力シート!J505=\"\",\"\",入力シート!J505)","v":""},{"$f":"IF(入力シート!K505=\"\",\"\",入力シート!K505)","v":""},{"$f":"IF(入力シート!L505=\"\",\"\",入力シート!L505)","v":""},{"$f":"IF(入力シート!M505=\"\",\"\",入力シート!M505)","v":""},{"$f":"IF(入力シート!N505=\"\",\"\",入力シート!N505)","v":""},{"$f":"IF(入力シート!O505=\"\",\"\",入力シート!Q505)","v":""}]
[{"$f":"IF(入力シート!A506=\"\",\"\",入力シート!A506)","v":""},{"$f":"IF(入力シート!B506=\"\",\"\",入力シート!B506)","v":""},{"$f":"IF(入力シート!C506=\"\",\"\",入力シート!C506)","v":""},{"$f":"IF(入力シート!D506=\"\",\"\",TEXT(入力シート!D506,\"yyyy-mm-dd\"))","v":""},{"$f":"IF(入力シート!P506=\"\",\"\",TEXT(入力シート!P506,\"000-0000\"))","v":""},{"$f":"IF(入力シート!G506=\"\",\"\",入力シート!G506)","v":""},{"$f":"IF(入力シート!H506=\"\",\"\",入力シート!H506)","v":""},{"$f":"IF(入力シート!I506=\"\",\"\",入力シート!I506)","v":""},{"$f":"IF(入力シート!J506=\"\",\"\",入力シート!J506)","v":""},{"$f":"IF(入力シート!K506=\"\",\"\",入力シート!K506)","v":""},{"$f":"IF(入力シート!L506=\"\",\"\",入力シート!L506)","v":""},{"$f":"IF(入力シート!M506=\"\",\"\",入力シート!M506)","v":""},{"$f":"IF(入力シート!N506=\"\",\"\",入力シート!N506)","v":""},{"$f":"IF(入力シート!O506=\"\",\"\",入力シート!Q506)","v":""}]
[{"$f":"IF(入力シート!A507=\"\",\"\",入力シート!A507)","v":""},{"$f":"IF(入力シート!B507=\"\",\"\",入力シート!B507)","v":""},{"$f":"IF(入力シート!C507=\"\",\"\",入力シート!C507)","v":""},{"$f":"IF(入力シート!D507=\"\",\"\",TEXT(入力シート!D507,\"yyyy-mm-dd\"))","v":""},{"$f":"IF(入力シート!P507=\"\",\"\",TEXT(入力シート!P507,\"000-0000\"))","v":""},{"$f":"IF(入力シート!G507=\"\",\"\",入力シート!G507)","v":""},{"$f":"IF(入力シート!H507=\"\",\"\",入力シート!H507)","v":""},{"$f":"IF(入力シート!I507=\"\",\"\",入力シート!I507)","v":""},{"$f":"IF(入力シート!J507=\"\",\"\",入力シート!J507)","v":""},{"$f":"IF(入力シート!K507=\"\",\"\",入力シート!K507)","v":""},{"$f":"IF(入力シート!L507=\"\",\"\",入力シート!L507)","v":""},{"$f":"IF(入力シート!M507=\"\",\"\",入力シート!M507)","v":""},{"$f":"IF(入力シート!N507=\"\",\"\",入力シート!N507)","v":""},{"$f":"IF(入力シート!O507=\"\",\"\",入力シート!Q507)","v":""}]
[{"$f":"IF(入力シート!A508=\"\",\"\",入力シート!A508)","v":""},{"$f":"IF(入力シート!B508=\"\",\"\",入力シート!B508)","v":""},{"$f":"IF(入力シート!C508=\"\",\"\",入力シート!C508)","v":""},{"$f":"IF(入力シート!D508=\"\",\"\",TEXT(入力シート!D508,\"yyyy-mm-dd\"))","v":""},{"$f":"IF(入力シート!P508=\"\",\"\",TEXT(入力シート!P508,\"000-0000\"))","v":""},{"$f":"IF(入力シート!G508=\"\",\"\",入力シート!G508)","v":""},{"$f":"IF(入力シート!H508=\"\",\"\",入力シート!H508)","v":""},{"$f":"IF(入力シート!I508=\"\",\"\",入力シート!I508)","v":""},{"$f":"IF(入力シート!J508=\"\",\"\",入力シート!J508)","v":""},{"$f":"IF(入力シート!K508=\"\",\"\",入力シート!K508)","v":""},{"$f":"IF(入力シート!L508=\"\",\"\",入力シート!L508)","v":""},{"$f":"IF(入力シート!M508=\"\",\"\",入力シート!M508)","v":""},{"$f":"IF(入力シート!N508=\"\",\"\",入力シート!N508)","v":""},{"$f":"IF(入力シート!O508=\"\",\"\",入力シート!Q508)","v":""}]
[{"$f":"IF(入力シート!A509=\"\",\"\",入力シート!A509)","v":""},{"$f":"IF(入力シート!B509=\"\",\"\",入力シート!B509)","v":""},{"$f":"IF(入力シート!C509=\"\",\"\",入力シート!C509)","v":""},{"$f":"IF(入力シート!D509=\"\",\"\",TEXT(入力シート!D509,\"yyyy-mm-dd\"))","v":""},{"$f":"IF(入力シート!P509=\"\",\"\",TEXT(入力シート!P509,\"000-0000\"))","v":""},{"$f":"IF(入力シート!G509=\"\",\"\",入力シート!G509)","v":""},{"$f":"IF(入力シート!H509=\"\",\"\",入力シート!H509)","v":""},{"$f":"IF(入力シート!I509=\"\",\"\",入力シート!I509)","v":""},{"$f":"IF(入力シート!J509=\"\",\"\",入力シート!J509)","v":""},{"$f":"IF(入力シート!K509=\"\",\"\",入力シート!K509)","v":""},{"$f":"IF(入力シート!L509=\"\",\"\",入力シート!L509)","v":""},{"$f":"IF(入力シート!M509=\"\",\"\",入力シート!M509)","v":""},{"$f":"IF(入力シート!N509=\"\",\"\",入力シート!N509)","v":""},{"$f":"IF(入力シート!O509=\"\",\"\",入力シート!Q509)","v":""}]
[{"$f":"IF(入力シート!A510=\"\",\"\",入力シート!A510)","v":""},{"$f":"IF(入力シート!B510=\"\",\"\",入力シート!B510)","v":""},{"$f":"IF(入力シート!C510=\"\",\"\",入力シート!C510)","v":""},{"$f":"IF(入力シート!D510=\"\",\"\",TEXT(入力シート!D510,\"yyyy-mm-dd\"))","v":""},{"$f":"IF(入力シート!P510=\"\",\"\",TEXT(入力シート!P510,\"000-0000\"))","v":""},{"$f":"IF(入力シート!G510=\"\",\"\",入力シート!G510)","v":""},{"$f":"IF(入力シート!H510=\"\",\"\",入力シート!H510)","v":""},{"$f":"IF(入力シート!I510=\"\",\"\",入力シート!I510)","v":""},{"$f":"IF(入力シート!J510=\"\",\"\",入力シート!J510)","v":""},{"$f":"IF(入力シート!K510=\"\",\"\",入力シート!K510)","v":""},{"$f":"IF(入力シート!L510=\"\",\"\",入力シート!L510)","v":""},{"$f":"IF(入力シート!M510=\"\",\"\",入力シート!M510)","v":""},{"$f":"IF(入力シート!N510=\"\",\"\",入力シート!N510)","v":""},{"$f":"IF(入力シート!O510=\"\",\"\",入力シート!Q510)","v":""}]
[{"$f":"IF(入力シート!A511=\"\",\"\",入力シート!A511)","v":""},{"$f":"IF(入力シート!B511=\"\",\"\",入力シート!B511)","v":""},{"$f":"IF(入力シート!C511=\"\",\"\",入力シート!C511)","v":""},{"$f":"IF(入力シート!D511=\"\",\"\",TEXT(入力シート!D511,\"yyyy-mm-dd\"))","v":""},{"$f":"IF(入力シート!P511=\"\",\"\",TEXT(入力シート!P511,\"000-0000\"))","v":""},{"$f":"IF(入力シート!G511=\"\",\"\",入力シート!G511)","v":""},{"$f":"IF(入力シート!H511=\"\",\"\",入力シート!H511)","v":""},{"$f":"IF(入力シート!I511=\"\",\"\",入力シート!I511)","v":""},{"$f":"IF(入力シート!J511=\"\",\"\",入力シート!J511)","v":""},{"$f":"IF(入力シート!K511=\"\",\"\",入力シート!K511)","v":""},{"$f":"IF(入力シート!L511=\"\",\"\",入力シート!L511)","v":""},{"$f":"IF(入力シート!M511=\"\",\"\",入力シート!M511)","v":""},{"$f":"IF(入力シート!N511=\"\",\"\",入力シート!N511)","v":""},{"$f":"IF(入力シート!O511=\"\",\"\",入力シート!Q511)","v":""}]
[{"$f":"IF(入力シート!A512=\"\",\"\",入力シート!A512)","v":""},{"$f":"IF(入力シート!B512=\"\",\"\",入力シート!B512)","v":""},{"$f":"IF(入力シート!C512=\"\",\"\",入力シート!C512)","v":""},{"$f":"IF(入力シート!D512=\"\",\"\",TEXT(入力シート!D512,\"yyyy-mm-dd\"))","v":""},{"$f":"IF(入力シート!P512=\"\",\"\",TEXT(入力シート!P512,\"000-0000\"))","v":""},{"$f":"IF(入力シート!G512=\"\",\"\",入力シート!G512)","v":""},{"$f":"IF(入力シート!H512=\"\",\"\",入力シート!H512)","v":""},{"$f":"IF(入力シート!I512=\"\",\"\",入力シート!I512)","v":""},{"$f":"IF(入力シート!J512=\"\",\"\",入力シート!J512)","v":""},{"$f":"IF(入力シート!K512=\"\",\"\",入力シート!K512)","v":""},{"$f":"IF(入力シート!L512=\"\",\"\",入力シート!L512)","v":""},{"$f":"IF(入力シート!M512=\"\",\"\",入力シート!M512)","v":""},{"$f":"IF(入力シート!N512=\"\",\"\",入力シート!N512)","v":""},{"$f":"IF(入力シート!O512=\"\",\"\",入力シート!Q512)","v":""}]
[{"$f":"IF(入力シート!A513=\"\",\"\",入力シート!A513)","v":""},{"$f":"IF(入力シート!B513=\"\",\"\",入力シート!B513)","v":""},{"$f":"IF(入力シート!C513=\"\",\"\",入力シート!C513)","v":""},{"$f":"IF(入力シート!D513=\"\",\"\",TEXT(入力シート!D513,\"yyyy-mm-dd\"))","v":""},{"$f":"IF(入力シート!P513=\"\",\"\",TEXT(入力シート!P513,\"000-0000\"))","v":""},{"$f":"IF(入力シート!G513=\"\",\"\",入力シート!G513)","v":""},{"$f":"IF(入力シート!H513=\"\",\"\",入力シート!H513)","v":""},{"$f":"IF(入力シート!I513=\"\",\"\",入力シート!I513)","v":""},{"$f":"IF(入力シート!J513=\"\",\"\",入力シート!J513)","v":""},{"$f":"IF(入力シート!K513=\"\",\"\",入力シート!K513)","v":""},{"$f":"IF(入力シート!L513=\"\",\"\",入力シート!L513)","v":""},{"$f":"IF(入力シート!M513=\"\",\"\",入力シート!M513)","v":""},{"$f":"IF(入力シート!N513=\"\",\"\",入力シート!N513)","v":""},{"$f":"IF(入力シート!O513=\"\",\"\",入力シート!Q513)","v":""}]
[{"$f":"IF(入力シート!A514=\"\",\"\",入力シート!A514)","v":""},{"$f":"IF(入力シート!B514=\"\",\"\",入力シート!B514)","v":""},{"$f":"IF(入力シート!C514=\"\",\"\",入力シート!C514)","v":""},{"$f":"IF(入力シート!D514=\"\",\"\",TEXT(入力シート!D514,\"yyyy-mm-dd\"))","v":""},{"$f":"IF(入力シート!P514=\"\",\"\",TEXT(入力シート!P514,\"000-0000\"))","v":""},{"$f":"IF(入力シート!G514=\"\",\"\",入力シート!G514)","v":""},{"$f":"IF(入力シート!H514=\"\",\"\",入力シート!H514)","v":""},{"$f":"IF(入力シート!I514=\"\",\"\",入力シート!I514)","v":""},{"$f":"IF(入力シート!J514=\"\",\"\",入力シート!J514)","v":""},{"$f":"IF(入力シート!K514=\"\",\"\",入力シート!K514)","v":""},{"$f":"IF(入力シート!L514=\"\",\"\",入力シート!L514)","v":""},{"$f":"IF(入力シート!M514=\"\",\"\",入力シート!M514)","v":""},{"$f":"IF(入力シート!N514=\"\",\"\",入力シート!N514)","v":""},{"$f":"IF(入力シート!O514=\"\",\"\",入力シート!Q514)","v":""}]
[{"$f":"IF(入力シート!A515=\"\",\"\",入力シート!A515)","v":""},{"$f":"IF(入力シート!B515=\"\",\"\",入力シート!B515)","v":""},{"$f":"IF(入力シート!C515=\"\",\"\",入力シート!C515)","v":""},{"$f":"IF(入力シート!D515=\"\",\"\",TEXT(入力シート!D515,\"yyyy-mm-dd\"))","v":""},{"$f":"IF(入力シート!P515=\"\",\"\",TEXT(入力シート!P515,\"000-0000\"))","v":""},{"$f":"IF(入力シート!G515=\"\",\"\",入力シート!G515)","v":""},{"$f":"IF(入力シート!H515=\"\",\"\",入力シート!H515)","v":""},{"$f":"IF(入力シート!I515=\"\",\"\",入力シート!I515)","v":""},{"$f":"IF(入力シート!J515=\"\",\"\",入力シート!J515)","v":""},{"$f":"IF(入力シート!K515=\"\",\"\",入力シート!K515)","v":""},{"$f":"IF(入力シート!L515=\"\",\"\",入力シート!L515)","v":""},{"$f":"IF(入力シート!M515=\"\",\"\",入力シート!M515)","v":""},{"$f":"IF(入力シート!N515=\"\",\"\",入力シート!N515)","v":""},{"$f":"IF(入力シート!O515=\"\",\"\",入力シート!Q515)","v":""}]
[{"$f":"IF(入力シート!A516=\"\",\"\",入力シート!A516)","v":""},{"$f":"IF(入力シート!B516=\"\",\"\",入力シート!B516)","v":""},{"$f":"IF(入力シート!C516=\"\",\"\",入力シート!C516)","v":""},{"$f":"IF(入力シート!D516=\"\",\"\",TEXT(入力シート!D516,\"yyyy-mm-dd\"))","v":""},{"$f":"IF(入力シート!P516=\"\",\"\",TEXT(入力シート!P516,\"000-0000\"))","v":""},{"$f":"IF(入力シート!G516=\"\",\"\",入力シート!G516)","v":""},{"$f":"IF(入力シート!H516=\"\",\"\",入力シート!H516)","v":""},{"$f":"IF(入力シート!I516=\"\",\"\",入力シート!I516)","v":""},{"$f":"IF(入力シート!J516=\"\",\"\",入力シート!J516)","v":""},{"$f":"IF(入力シート!K516=\"\",\"\",入力シート!K516)","v":""},{"$f":"IF(入力シート!L516=\"\",\"\",入力シート!L516)","v":""},{"$f":"IF(入力シート!M516=\"\",\"\",入力シート!M516)","v":""},{"$f":"IF(入力シート!N516=\"\",\"\",入力シート!N516)","v":""},{"$f":"IF(入力シート!O516=\"\",\"\",入力シート!Q516)","v":""}]
[{"$f":"IF(入力シート!A517=\"\",\"\",入力シート!A517)","v":""},{"$f":"IF(入力シート!B517=\"\",\"\",入力シート!B517)","v":""},{"$f":"IF(入力シート!C517=\"\",\"\",入力シート!C517)","v":""},{"$f":"IF(入力シート!D517=\"\",\"\",TEXT(入力シート!D517,\"yyyy-mm-dd\"))","v":""},{"$f":"IF(入力シート!P517=\"\",\"\",TEXT(入力シート!P517,\"000-0000\"))","v":""},{"$f":"IF(入力シート!G517=\"\",\"\",入力シート!G517)","v":""},{"$f":"IF(入力シート!H517=\"\",\"\",入力シート!H517)","v":""},{"$f":"IF(入力シート!I517=\"\",\"\",入力シート!I517)","v":""},{"$f":"IF(入力シート!J517=\"\",\"\",入力シート!J517)","v":""},{"$f":"IF(入力シート!K517=\"\",\"\",入力シート!K517)","v":""},{"$f":"IF(入力シート!L517=\"\",\"\",入力シート!L517)","v":""},{"$f":"IF(入力シート!M517=\"\",\"\",入力シート!M517)","v":""},{"$f":"IF(入力シート!N517=\"\",\"\",入力シート!N517)","v":""},{"$f":"IF(入力シート!O517=\"\",\"\",入力シート!Q517)","v":""}]
[{"$f":"IF(入力シート!A518=\"\",\"\",入力シート!A518)","v":""},{"$f":"IF(入力シート!B518=\"\",\"\",入力シート!B518)","v":""},{"$f":"IF(入力シート!C518=\"\",\"\",入力シート!C518)","v":""},{"$f":"IF(入力シート!D518=\"\",\"\",TEXT(入力シート!D518,\"yyyy-mm-dd\"))","v":""},{"$f":"IF(入力シート!P518=\"\",\"\",TEXT(入力シート!P518,\"000-0000\"))","v":""},{"$f":"IF(入力シート!G518=\"\",\"\",入力シート!G518)","v":""},{"$f":"IF(入力シート!H518=\"\",\"\",入力シート!H518)","v":""},{"$f":"IF(入力シート!I518=\"\",\"\",入力シート!I518)","v":""},{"$f":"IF(入力シート!J518=\"\",\"\",入力シート!J518)","v":""},{"$f":"IF(入力シート!K518=\"\",\"\",入力シート!K518)","v":""},{"$f":"IF(入力シート!L518=\"\",\"\",入力シート!L518)","v":""},{"$f":"IF(入力シート!M518=\"\",\"\",入力シート!M518)","v":""},{"$f":"IF(入力シート!N518=\"\",\"\",入力シート!N518)","v":""},{"$f":"IF(入力シート!O518=\"\",\"\",入力シート!Q518)","v":""}]
[{"$f":"IF(入力シート!A519=\"\",\"\",入力シート!A519)","v":""},{"$f":"IF(入力シート!B519=\"\",\"\",入力シート!B519)","v":""},{"$f":"IF(入力シート!C519=\"\",\"\",入力シート!C519)","v":""},{"$f":"IF(入力シート!D519=\"\",\"\",TEXT(入力シート!D519,\"yyyy-mm-dd\"))","v":""},{"$f":"IF(入力シート!P519=\"\",\"\",TEXT(入力シート!P519,\"000-0000\"))","v":""},{"$f":"IF(入力シート!G519=\"\",\"\",入力シート!G519)","v":""},{"$f":"IF(入力シート!H519=\"\",\"\",入力シート!H519)","v":""},{"$f":"IF(入力シート!I519=\"\",\"\",入力シート!I519)","v":""},{"$f":"IF(入力シート!J519=\"\",\"\",入力シート!J519)","v":""},{"$f":"IF(入力シート!K519=\"\",\"\",入力シート!K519)","v":""},{"$f":"IF(入力シート!L519=\"\",\"\",入力シート!L519)","v":""},{"$f":"IF(入力シート!M519=\"\",\"\",入力シート!M519)","v":""},{"$f":"IF(入力シート!N519=\"\",\"\",入力シート!N519)","v":""},{"$f":"IF(入力シート!O519=\"\",\"\",入力シート!Q519)","v":""}]
[{"$f":"IF(入力シート!A520=\"\",\"\",入力シート!A520)","v":""},{"$f":"IF(入力シート!B520=\"\",\"\",入力シート!B520)","v":""},{"$f":"IF(入力シート!C520=\"\",\"\",入力シート!C520)","v":""},{"$f":"IF(入力シート!D520=\"\",\"\",TEXT(入力シート!D520,\"yyyy-mm-dd\"))","v":""},{"$f":"IF(入力シート!P520=\"\",\"\",TEXT(入力シート!P520,\"000-0000\"))","v":""},{"$f":"IF(入力シート!G520=\"\",\"\",入力シート!G520)","v":""},{"$f":"IF(入力シート!H520=\"\",\"\",入力シート!H520)","v":""},{"$f":"IF(入力シート!I520=\"\",\"\",入力シート!I520)","v":""},{"$f":"IF(入力シート!J520=\"\",\"\",入力シート!J520)","v":""},{"$f":"IF(入力シート!K520=\"\",\"\",入力シート!K520)","v":""},{"$f":"IF(入力シート!L520=\"\",\"\",入力シート!L520)","v":""},{"$f":"IF(入力シート!M520=\"\",\"\",入力シート!M520)","v":""},{"$f":"IF(入力シート!N520=\"\",\"\",入力シート!N520)","v":""},{"$f":"IF(入力シート!O520=\"\",\"\",入力シート!Q520)","v":""}]
[{"$f":"IF(入力シート!A521=\"\",\"\",入力シート!A521)","v":""},{"$f":"IF(入力シート!B521=\"\",\"\",入力シート!B521)","v":""},{"$f":"IF(入力シート!C521=\"\",\"\",入力シート!C521)","v":""},{"$f":"IF(入力シート!D521=\"\",\"\",TEXT(入力シート!D521,\"yyyy-mm-dd\"))","v":""},{"$f":"IF(入力シート!P521=\"\",\"\",TEXT(入力シート!P521,\"000-0000\"))","v":""},{"$f":"IF(入力シート!G521=\"\",\"\",入力シート!G521)","v":""},{"$f":"IF(入力シート!H521=\"\",\"\",入力シート!H521)","v":""},{"$f":"IF(入力シート!I521=\"\",\"\",入力シート!I521)","v":""},{"$f":"IF(入力シート!J521=\"\",\"\",入力シート!J521)","v":""},{"$f":"IF(入力シート!K521=\"\",\"\",入力シート!K521)","v":""},{"$f":"IF(入力シート!L521=\"\",\"\",入力シート!L521)","v":""},{"$f":"IF(入力シート!M521=\"\",\"\",入力シート!M521)","v":""},{"$f":"IF(入力シート!N521=\"\",\"\",入力シート!N521)","v":""},{"$f":"IF(入力シート!O521=\"\",\"\",入力シート!Q521)","v":""}]
[{"$f":"IF(入力シート!A522=\"\",\"\",入力シート!A522)","v":""},{"$f":"IF(入力シート!B522=\"\",\"\",入力シート!B522)","v":""},{"$f":"IF(入力シート!C522=\"\",\"\",入力シート!C522)","v":""},{"$f":"IF(入力シート!D522=\"\",\"\",TEXT(入力シート!D522,\"yyyy-mm-dd\"))","v":""},{"$f":"IF(入力シート!P522=\"\",\"\",TEXT(入力シート!P522,\"000-0000\"))","v":""},{"$f":"IF(入力シート!G522=\"\",\"\",入力シート!G522)","v":""},{"$f":"IF(入力シート!H522=\"\",\"\",入力シート!H522)","v":""},{"$f":"IF(入力シート!I522=\"\",\"\",入力シート!I522)","v":""},{"$f":"IF(入力シート!J522=\"\",\"\",入力シート!J522)","v":""},{"$f":"IF(入力シート!K522=\"\",\"\",入力シート!K522)","v":""},{"$f":"IF(入力シート!L522=\"\",\"\",入力シート!L522)","v":""},{"$f":"IF(入力シート!M522=\"\",\"\",入力シート!M522)","v":""},{"$f":"IF(入力シート!N522=\"\",\"\",入力シート!N522)","v":""},{"$f":"IF(入力シート!O522=\"\",\"\",入力シート!Q522)","v":""}]
[{"$f":"IF(入力シート!A523=\"\",\"\",入力シート!A523)","v":""},{"$f":"IF(入力シート!B523=\"\",\"\",入力シート!B523)","v":""},{"$f":"IF(入力シート!C523=\"\",\"\",入力シート!C523)","v":""},{"$f":"IF(入力シート!D523=\"\",\"\",TEXT(入力シート!D523,\"yyyy-mm-dd\"))","v":""},{"$f":"IF(入力シート!P523=\"\",\"\",TEXT(入力シート!P523,\"000-0000\"))","v":""},{"$f":"IF(入力シート!G523=\"\",\"\",入力シート!G523)","v":""},{"$f":"IF(入力シート!H523=\"\",\"\",入力シート!H523)","v":""},{"$f":"IF(入力シート!I523=\"\",\"\",入力シート!I523)","v":""},{"$f":"IF(入力シート!J523=\"\",\"\",入力シート!J523)","v":""},{"$f":"IF(入力シート!K523=\"\",\"\",入力シート!K523)","v":""},{"$f":"IF(入力シート!L523=\"\",\"\",入力シート!L523)","v":""},{"$f":"IF(入力シート!M523=\"\",\"\",入力シート!M523)","v":""},{"$f":"IF(入力シート!N523=\"\",\"\",入力シート!N523)","v":""},{"$f":"IF(入力シート!O523=\"\",\"\",入力シート!Q523)","v":""}]
[{"$f":"IF(入力シート!A524=\"\",\"\",入力シート!A524)","v":""},{"$f":"IF(入力シート!B524=\"\",\"\",入力シート!B524)","v":""},{"$f":"IF(入力シート!C524=\"\",\"\",入力シート!C524)","v":""},{"$f":"IF(入力シート!D524=\"\",\"\",TEXT(入力シート!D524,\"yyyy-mm-dd\"))","v":""},{"$f":"IF(入力シート!P524=\"\",\"\",TEXT(入力シート!P524,\"000-0000\"))","v":""},{"$f":"IF(入力シート!G524=\"\",\"\",入力シート!G524)","v":""},{"$f":"IF(入力シート!H524=\"\",\"\",入力シート!H524)","v":""},{"$f":"IF(入力シート!I524=\"\",\"\",入力シート!I524)","v":""},{"$f":"IF(入力シート!J524=\"\",\"\",入力シート!J524)","v":""},{"$f":"IF(入力シート!K524=\"\",\"\",入力シート!K524)","v":""},{"$f":"IF(入力シート!L524=\"\",\"\",入力シート!L524)","v":""},{"$f":"IF(入力シート!M524=\"\",\"\",入力シート!M524)","v":""},{"$f":"IF(入力シート!N524=\"\",\"\",入力シート!N524)","v":""},{"$f":"IF(入力シート!O524=\"\",\"\",入力シート!Q524)","v":""}]
[{"$f":"IF(入力シート!A525=\"\",\"\",入力シート!A525)","v":""},{"$f":"IF(入力シート!B525=\"\",\"\",入力シート!B525)","v":""},{"$f":"IF(入力シート!C525=\"\",\"\",入力シート!C525)","v":""},{"$f":"IF(入力シート!D525=\"\",\"\",TEXT(入力シート!D525,\"yyyy-mm-dd\"))","v":""},{"$f":"IF(入力シート!P525=\"\",\"\",TEXT(入力シート!P525,\"000-0000\"))","v":""},{"$f":"IF(入力シート!G525=\"\",\"\",入力シート!G525)","v":""},{"$f":"IF(入力シート!H525=\"\",\"\",入力シート!H525)","v":""},{"$f":"IF(入力シート!I525=\"\",\"\",入力シート!I525)","v":""},{"$f":"IF(入力シート!J525=\"\",\"\",入力シート!J525)","v":""},{"$f":"IF(入力シート!K525=\"\",\"\",入力シート!K525)","v":""},{"$f":"IF(入力シート!L525=\"\",\"\",入力シート!L525)","v":""},{"$f":"IF(入力シート!M525=\"\",\"\",入力シート!M525)","v":""},{"$f":"IF(入力シート!N525=\"\",\"\",入力シート!N525)","v":""},{"$f":"IF(入力シート!O525=\"\",\"\",入力シート!Q525)","v":""}]
[{"$f":"IF(入力シート!A526=\"\",\"\",入力シート!A526)","v":""},{"$f":"IF(入力シート!B526=\"\",\"\",入力シート!B526)","v":""},{"$f":"IF(入力シート!C526=\"\",\"\",入力シート!C526)","v":""},{"$f":"IF(入力シート!D526=\"\",\"\",TEXT(入力シート!D526,\"yyyy-mm-dd\"))","v":""},{"$f":"IF(入力シート!P526=\"\",\"\",TEXT(入力シート!P526,\"000-0000\"))","v":""},{"$f":"IF(入力シート!G526=\"\",\"\",入力シート!G526)","v":""},{"$f":"IF(入力シート!H526=\"\",\"\",入力シート!H526)","v":""},{"$f":"IF(入力シート!I526=\"\",\"\",入力シート!I526)","v":""},{"$f":"IF(入力シート!J526=\"\",\"\",入力シート!J526)","v":""},{"$f":"IF(入力シート!K526=\"\",\"\",入力シート!K526)","v":""},{"$f":"IF(入力シート!L526=\"\",\"\",入力シート!L526)","v":""},{"$f":"IF(入力シート!M526=\"\",\"\",入力シート!M526)","v":""},{"$f":"IF(入力シート!N526=\"\",\"\",入力シート!N526)","v":""},{"$f":"IF(入力シート!O526=\"\",\"\",入力シート!Q526)","v":""}]
[{"$f":"IF(入力シート!A527=\"\",\"\",入力シート!A527)","v":""},{"$f":"IF(入力シート!B527=\"\",\"\",入力シート!B527)","v":""},{"$f":"IF(入力シート!C527=\"\",\"\",入力シート!C527)","v":""},{"$f":"IF(入力シート!D527=\"\",\"\",TEXT(入力シート!D527,\"yyyy-mm-dd\"))","v":""},{"$f":"IF(入力シート!P527=\"\",\"\",TEXT(入力シート!P527,\"000-0000\"))","v":""},{"$f":"IF(入力シート!G527=\"\",\"\",入力シート!G527)","v":""},{"$f":"IF(入力シート!H527=\"\",\"\",入力シート!H527)","v":""},{"$f":"IF(入力シート!I527=\"\",\"\",入力シート!I527)","v":""},{"$f":"IF(入力シート!J527=\"\",\"\",入力シート!J527)","v":""},{"$f":"IF(入力シート!K527=\"\",\"\",入力シート!K527)","v":""},{"$f":"IF(入力シート!L527=\"\",\"\",入力シート!L527)","v":""},{"$f":"IF(入力シート!M527=\"\",\"\",入力シート!M527)","v":""},{"$f":"IF(入力シート!N527=\"\",\"\",入力シート!N527)","v":""},{"$f":"IF(入力シート!O527=\"\",\"\",入力シート!Q527)","v":""}]
[{"$f":"IF(入力シート!A528=\"\",\"\",入力シート!A528)","v":""},{"$f":"IF(入力シート!B528=\"\",\"\",入力シート!B528)","v":""},{"$f":"IF(入力シート!C528=\"\",\"\",入力シート!C528)","v":""},{"$f":"IF(入力シート!D528=\"\",\"\",TEXT(入力シート!D528,\"yyyy-mm-dd\"))","v":""},{"$f":"IF(入力シート!P528=\"\",\"\",TEXT(入力シート!P528,\"000-0000\"))","v":""},{"$f":"IF(入力シート!G528=\"\",\"\",入力シート!G528)","v":""},{"$f":"IF(入力シート!H528=\"\",\"\",入力シート!H528)","v":""},{"$f":"IF(入力シート!I528=\"\",\"\",入力シート!I528)","v":""},{"$f":"IF(入力シート!J528=\"\",\"\",入力シート!J528)","v":""},{"$f":"IF(入力シート!K528=\"\",\"\",入力シート!K528)","v":""},{"$f":"IF(入力シート!L528=\"\",\"\",入力シート!L528)","v":""},{"$f":"IF(入力シート!M528=\"\",\"\",入力シート!M528)","v":""},{"$f":"IF(入力シート!N528=\"\",\"\",入力シート!N528)","v":""},{"$f":"IF(入力シート!O528=\"\",\"\",入力シート!Q528)","v":""}]
[{"$f":"IF(入力シート!A529=\"\",\"\",入力シート!A529)","v":""},{"$f":"IF(入力シート!B529=\"\",\"\",入力シート!B529)","v":""},{"$f":"IF(入力シート!C529=\"\",\"\",入力シート!C529)","v":""},{"$f":"IF(入力シート!D529=\"\",\"\",TEXT(入力シート!D529,\"yyyy-mm-dd\"))","v":""},{"$f":"IF(入力シート!P529=\"\",\"\",TEXT(入力シート!P529,\"000-0000\"))","v":""},{"$f":"IF(入力シート!G529=\"\",\"\",入力シート!G529)","v":""},{"$f":"IF(入力シート!H529=\"\",\"\",入力シート!H529)","v":""},{"$f":"IF(入力シート!I529=\"\",\"\",入力シート!I529)","v":""},{"$f":"IF(入力シート!J529=\"\",\"\",入力シート!J529)","v":""},{"$f":"IF(入力シート!K529=\"\",\"\",入力シート!K529)","v":""},{"$f":"IF(入力シート!L529=\"\",\"\",入力シート!L529)","v":""},{"$f":"IF(入力シート!M529=\"\",\"\",入力シート!M529)","v":""},{"$f":"IF(入力シート!N529=\"\",\"\",入力シート!N529)","v":""},{"$f":"IF(入力シート!O529=\"\",\"\",入力シート!Q529)","v":""}]
[{"$f":"IF(入力シート!A530=\"\",\"\",入力シート!A530)","v":""},{"$f":"IF(入力シート!B530=\"\",\"\",入力シート!B530)","v":""},{"$f":"IF(入力シート!C530=\"\",\"\",入力シート!C530)","v":""},{"$f":"IF(入力シート!D530=\"\",\"\",TEXT(入力シート!D530,\"yyyy-mm-dd\"))","v":""},{"$f":"IF(入力シート!P530=\"\",\"\",TEXT(入力シート!P530,\"000-0000\"))","v":""},{"$f":"IF(入力シート!G530=\"\",\"\",入力シート!G530)","v":""},{"$f":"IF(入力シート!H530=\"\",\"\",入力シート!H530)","v":""},{"$f":"IF(入力シート!I530=\"\",\"\",入力シート!I530)","v":""},{"$f":"IF(入力シート!J530=\"\",\"\",入力シート!J530)","v":""},{"$f":"IF(入力シート!K530=\"\",\"\",入力シート!K530)","v":""},{"$f":"IF(入力シート!L530=\"\",\"\",入力シート!L530)","v":""},{"$f":"IF(入力シート!M530=\"\",\"\",入力シート!M530)","v":""},{"$f":"IF(入力シート!N530=\"\",\"\",入力シート!N530)","v":""},{"$f":"IF(入力シート!O530=\"\",\"\",入力シート!Q530)","v":""}]
[{"$f":"IF(入力シート!A531=\"\",\"\",入力シート!A531)","v":""},{"$f":"IF(入力シート!B531=\"\",\"\",入力シート!B531)","v":""},{"$f":"IF(入力シート!C531=\"\",\"\",入力シート!C531)","v":""},{"$f":"IF(入力シート!D531=\"\",\"\",TEXT(入力シート!D531,\"yyyy-mm-dd\"))","v":""},{"$f":"IF(入力シート!P531=\"\",\"\",TEXT(入力シート!P531,\"000-0000\"))","v":""},{"$f":"IF(入力シート!G531=\"\",\"\",入力シート!G531)","v":""},{"$f":"IF(入力シート!H531=\"\",\"\",入力シート!H531)","v":""},{"$f":"IF(入力シート!I531=\"\",\"\",入力シート!I531)","v":""},{"$f":"IF(入力シート!J531=\"\",\"\",入力シート!J531)","v":""},{"$f":"IF(入力シート!K531=\"\",\"\",入力シート!K531)","v":""},{"$f":"IF(入力シート!L531=\"\",\"\",入力シート!L531)","v":""},{"$f":"IF(入力シート!M531=\"\",\"\",入力シート!M531)","v":""},{"$f":"IF(入力シート!N531=\"\",\"\",入力シート!N531)","v":""},{"$f":"IF(入力シート!O531=\"\",\"\",入力シート!Q531)","v":""}]
[{"$f":"IF(入力シート!A532=\"\",\"\",入力シート!A532)","v":""},{"$f":"IF(入力シート!B532=\"\",\"\",入力シート!B532)","v":""},{"$f":"IF(入力シート!C532=\"\",\"\",入力シート!C532)","v":""},{"$f":"IF(入力シート!D532=\"\",\"\",TEXT(入力シート!D532,\"yyyy-mm-dd\"))","v":""},{"$f":"IF(入力シート!P532=\"\",\"\",TEXT(入力シート!P532,\"000-0000\"))","v":""},{"$f":"IF(入力シート!G532=\"\",\"\",入力シート!G532)","v":""},{"$f":"IF(入力シート!H532=\"\",\"\",入力シート!H532)","v":""},{"$f":"IF(入力シート!I532=\"\",\"\",入力シート!I532)","v":""},{"$f":"IF(入力シート!J532=\"\",\"\",入力シート!J532)","v":""},{"$f":"IF(入力シート!K532=\"\",\"\",入力シート!K532)","v":""},{"$f":"IF(入力シート!L532=\"\",\"\",入力シート!L532)","v":""},{"$f":"IF(入力シート!M532=\"\",\"\",入力シート!M532)","v":""},{"$f":"IF(入力シート!N532=\"\",\"\",入力シート!N532)","v":""},{"$f":"IF(入力シート!O532=\"\",\"\",入力シート!Q532)","v":""}]
[{"$f":"IF(入力シート!A533=\"\",\"\",入力シート!A533)","v":""},{"$f":"IF(入力シート!B533=\"\",\"\",入力シート!B533)","v":""},{"$f":"IF(入力シート!C533=\"\",\"\",入力シート!C533)","v":""},{"$f":"IF(入力シート!D533=\"\",\"\",TEXT(入力シート!D533,\"yyyy-mm-dd\"))","v":""},{"$f":"IF(入力シート!P533=\"\",\"\",TEXT(入力シート!P533,\"000-0000\"))","v":""},{"$f":"IF(入力シート!G533=\"\",\"\",入力シート!G533)","v":""},{"$f":"IF(入力シート!H533=\"\",\"\",入力シート!H533)","v":""},{"$f":"IF(入力シート!I533=\"\",\"\",入力シート!I533)","v":""},{"$f":"IF(入力シート!J533=\"\",\"\",入力シート!J533)","v":""},{"$f":"IF(入力シート!K533=\"\",\"\",入力シート!K533)","v":""},{"$f":"IF(入力シート!L533=\"\",\"\",入力シート!L533)","v":""},{"$f":"IF(入力シート!M533=\"\",\"\",入力シート!M533)","v":""},{"$f":"IF(入力シート!N533=\"\",\"\",入力シート!N533)","v":""},{"$f":"IF(入力シート!O533=\"\",\"\",入力シート!Q533)","v":""}]
[{"$f":"IF(入力シート!A534=\"\",\"\",入力シート!A534)","v":""},{"$f":"IF(入力シート!B534=\"\",\"\",入力シート!B534)","v":""},{"$f":"IF(入力シート!C534=\"\",\"\",入力シート!C534)","v":""},{"$f":"IF(入力シート!D534=\"\",\"\",TEXT(入力シート!D534,\"yyyy-mm-dd\"))","v":""},{"$f":"IF(入力シート!P534=\"\",\"\",TEXT(入力シート!P534,\"000-0000\"))","v":""},{"$f":"IF(入力シート!G534=\"\",\"\",入力シート!G534)","v":""},{"$f":"IF(入力シート!H534=\"\",\"\",入力シート!H534)","v":""},{"$f":"IF(入力シート!I534=\"\",\"\",入力シート!I534)","v":""},{"$f":"IF(入力シート!J534=\"\",\"\",入力シート!J534)","v":""},{"$f":"IF(入力シート!K534=\"\",\"\",入力シート!K534)","v":""},{"$f":"IF(入力シート!L534=\"\",\"\",入力シート!L534)","v":""},{"$f":"IF(入力シート!M534=\"\",\"\",入力シート!M534)","v":""},{"$f":"IF(入力シート!N534=\"\",\"\",入力シート!N534)","v":""},{"$f":"IF(入力シート!O534=\"\",\"\",入力シート!Q534)","v":""}]
[{"$f":"IF(入力シート!A535=\"\",\"\",入力シート!A535)","v":""},{"$f":"IF(入力シート!B535=\"\",\"\",入力シート!B535)","v":""},{"$f":"IF(入力シート!C535=\"\",\"\",入力シート!C535)","v":""},{"$f":"IF(入力シート!D535=\"\",\"\",TEXT(入力シート!D535,\"yyyy-mm-dd\"))","v":""},{"$f":"IF(入力シート!P535=\"\",\"\",TEXT(入力シート!P535,\"000-0000\"))","v":""},{"$f":"IF(入力シート!G535=\"\",\"\",入力シート!G535)","v":""},{"$f":"IF(入力シート!H535=\"\",\"\",入力シート!H535)","v":""},{"$f":"IF(入力シート!I535=\"\",\"\",入力シート!I535)","v":""},{"$f":"IF(入力シート!J535=\"\",\"\",入力シート!J535)","v":""},{"$f":"IF(入力シート!K535=\"\",\"\",入力シート!K535)","v":""},{"$f":"IF(入力シート!L535=\"\",\"\",入力シート!L535)","v":""},{"$f":"IF(入力シート!M535=\"\",\"\",入力シート!M535)","v":""},{"$f":"IF(入力シート!N535=\"\",\"\",入力シート!N535)","v":""},{"$f":"IF(入力シート!O535=\"\",\"\",入力シート!Q535)","v":""}]
[{"$f":"IF(入力シート!A536=\"\",\"\",入力シート!A536)","v":""},{"$f":"IF(入力シート!B536=\"\",\"\",入力シート!B536)","v":""},{"$f":"IF(入力シート!C536=\"\",\"\",入力シート!C536)","v":""},{"$f":"IF(入力シート!D536=\"\",\"\",TEXT(入力シート!D536,\"yyyy-mm-dd\"))","v":""},{"$f":"IF(入力シート!P536=\"\",\"\",TEXT(入力シート!P536,\"000-0000\"))","v":""},{"$f":"IF(入力シート!G536=\"\",\"\",入力シート!G536)","v":""},{"$f":"IF(入力シート!H536=\"\",\"\",入力シート!H536)","v":""},{"$f":"IF(入力シート!I536=\"\",\"\",入力シート!I536)","v":""},{"$f":"IF(入力シート!J536=\"\",\"\",入力シート!J536)","v":""},{"$f":"IF(入力シート!K536=\"\",\"\",入力シート!K536)","v":""},{"$f":"IF(入力シート!L536=\"\",\"\",入力シート!L536)","v":""},{"$f":"IF(入力シート!M536=\"\",\"\",入力シート!M536)","v":""},{"$f":"IF(入力シート!N536=\"\",\"\",入力シート!N536)","v":""},{"$f":"IF(入力シート!O536=\"\",\"\",入力シート!Q536)","v":""}]
[{"$f":"IF(入力シート!A537=\"\",\"\",入力シート!A537)","v":""},{"$f":"IF(入力シート!B537=\"\",\"\",入力シート!B537)","v":""},{"$f":"IF(入力シート!C537=\"\",\"\",入力シート!C537)","v":""},{"$f":"IF(入力シート!D537=\"\",\"\",TEXT(入力シート!D537,\"yyyy-mm-dd\"))","v":""},{"$f":"IF(入力シート!P537=\"\",\"\",TEXT(入力シート!P537,\"000-0000\"))","v":""},{"$f":"IF(入力シート!G537=\"\",\"\",入力シート!G537)","v":""},{"$f":"IF(入力シート!H537=\"\",\"\",入力シート!H537)","v":""},{"$f":"IF(入力シート!I537=\"\",\"\",入力シート!I537)","v":""},{"$f":"IF(入力シート!J537=\"\",\"\",入力シート!J537)","v":""},{"$f":"IF(入力シート!K537=\"\",\"\",入力シート!K537)","v":""},{"$f":"IF(入力シート!L537=\"\",\"\",入力シート!L537)","v":""},{"$f":"IF(入力シート!M537=\"\",\"\",入力シート!M537)","v":""},{"$f":"IF(入力シート!N537=\"\",\"\",入力シート!N537)","v":""},{"$f":"IF(入力シート!O537=\"\",\"\",入力シート!Q537)","v":""}]
[{"$f":"IF(入力シート!A538=\"\",\"\",入力シート!A538)","v":""},{"$f":"IF(入力シート!B538=\"\",\"\",入力シート!B538)","v":""},{"$f":"IF(入力シート!C538=\"\",\"\",入力シート!C538)","v":""},{"$f":"IF(入力シート!D538=\"\",\"\",TEXT(入力シート!D538,\"yyyy-mm-dd\"))","v":""},{"$f":"IF(入力シート!P538=\"\",\"\",TEXT(入力シート!P538,\"000-0000\"))","v":""},{"$f":"IF(入力シート!G538=\"\",\"\",入力シート!G538)","v":""},{"$f":"IF(入力シート!H538=\"\",\"\",入力シート!H538)","v":""},{"$f":"IF(入力シート!I538=\"\",\"\",入力シート!I538)","v":""},{"$f":"IF(入力シート!J538=\"\",\"\",入力シート!J538)","v":""},{"$f":"IF(入力シート!K538=\"\",\"\",入力シート!K538)","v":""},{"$f":"IF(入力シート!L538=\"\",\"\",入力シート!L538)","v":""},{"$f":"IF(入力シート!M538=\"\",\"\",入力シート!M538)","v":""},{"$f":"IF(入力シート!N538=\"\",\"\",入力シート!N538)","v":""},{"$f":"IF(入力シート!O538=\"\",\"\",入力シート!Q538)","v":""}]
[{"$f":"IF(入力シート!A539=\"\",\"\",入力シート!A539)","v":""},{"$f":"IF(入力シート!B539=\"\",\"\",入力シート!B539)","v":""},{"$f":"IF(入力シート!C539=\"\",\"\",入力シート!C539)","v":""},{"$f":"IF(入力シート!D539=\"\",\"\",TEXT(入力シート!D539,\"yyyy-mm-dd\"))","v":""},{"$f":"IF(入力シート!P539=\"\",\"\",TEXT(入力シート!P539,\"000-0000\"))","v":""},{"$f":"IF(入力シート!G539=\"\",\"\",入力シート!G539)","v":""},{"$f":"IF(入力シート!H539=\"\",\"\",入力シート!H539)","v":""},{"$f":"IF(入力シート!I539=\"\",\"\",入力シート!I539)","v":""},{"$f":"IF(入力シート!J539=\"\",\"\",入力シート!J539)","v":""},{"$f":"IF(入力シート!K539=\"\",\"\",入力シート!K539)","v":""},{"$f":"IF(入力シート!L539=\"\",\"\",入力シート!L539)","v":""},{"$f":"IF(入力シート!M539=\"\",\"\",入力シート!M539)","v":""},{"$f":"IF(入力シート!N539=\"\",\"\",入力シート!N539)","v":""},{"$f":"IF(入力シート!O539=\"\",\"\",入力シート!Q539)","v":""}]
[{"$f":"IF(入力シート!A540=\"\",\"\",入力シート!A540)","v":""},{"$f":"IF(入力シート!B540=\"\",\"\",入力シート!B540)","v":""},{"$f":"IF(入力シート!C540=\"\",\"\",入力シート!C540)","v":""},{"$f":"IF(入力シート!D540=\"\",\"\",TEXT(入力シート!D540,\"yyyy-mm-dd\"))","v":""},{"$f":"IF(入力シート!P540=\"\",\"\",TEXT(入力シート!P540,\"000-0000\"))","v":""},{"$f":"IF(入力シート!G540=\"\",\"\",入力シート!G540)","v":""},{"$f":"IF(入力シート!H540=\"\",\"\",入力シート!H540)","v":""},{"$f":"IF(入力シート!I540=\"\",\"\",入力シート!I540)","v":""},{"$f":"IF(入力シート!J540=\"\",\"\",入力シート!J540)","v":""},{"$f":"IF(入力シート!K540=\"\",\"\",入力シート!K540)","v":""},{"$f":"IF(入力シート!L540=\"\",\"\",入力シート!L540)","v":""},{"$f":"IF(入力シート!M540=\"\",\"\",入力シート!M540)","v":""},{"$f":"IF(入力シート!N540=\"\",\"\",入力シート!N540)","v":""},{"$f":"IF(入力シート!O540=\"\",\"\",入力シート!Q540)","v":""}]
[{"$f":"IF(入力シート!A541=\"\",\"\",入力シート!A541)","v":""},{"$f":"IF(入力シート!B541=\"\",\"\",入力シート!B541)","v":""},{"$f":"IF(入力シート!C541=\"\",\"\",入力シート!C541)","v":""},{"$f":"IF(入力シート!D541=\"\",\"\",TEXT(入力シート!D541,\"yyyy-mm-dd\"))","v":""},{"$f":"IF(入力シート!P541=\"\",\"\",TEXT(入力シート!P541,\"000-0000\"))","v":""},{"$f":"IF(入力シート!G541=\"\",\"\",入力シート!G541)","v":""},{"$f":"IF(入力シート!H541=\"\",\"\",入力シート!H541)","v":""},{"$f":"IF(入力シート!I541=\"\",\"\",入力シート!I541)","v":""},{"$f":"IF(入力シート!J541=\"\",\"\",入力シート!J541)","v":""},{"$f":"IF(入力シート!K541=\"\",\"\",入力シート!K541)","v":""},{"$f":"IF(入力シート!L541=\"\",\"\",入力シート!L541)","v":""},{"$f":"IF(入力シート!M541=\"\",\"\",入力シート!M541)","v":""},{"$f":"IF(入力シート!N541=\"\",\"\",入力シート!N541)","v":""},{"$f":"IF(入力シート!O541=\"\",\"\",入力シート!Q541)","v":""}]
[{"$f":"IF(入力シート!A542=\"\",\"\",入力シート!A542)","v":""},{"$f":"IF(入力シート!B542=\"\",\"\",入力シート!B542)","v":""},{"$f":"IF(入力シート!C542=\"\",\"\",入力シート!C542)","v":""},{"$f":"IF(入力シート!D542=\"\",\"\",TEXT(入力シート!D542,\"yyyy-mm-dd\"))","v":""},{"$f":"IF(入力シート!P542=\"\",\"\",TEXT(入力シート!P542,\"000-0000\"))","v":""},{"$f":"IF(入力シート!G542=\"\",\"\",入力シート!G542)","v":""},{"$f":"IF(入力シート!H542=\"\",\"\",入力シート!H542)","v":""},{"$f":"IF(入力シート!I542=\"\",\"\",入力シート!I542)","v":""},{"$f":"IF(入力シート!J542=\"\",\"\",入力シート!J542)","v":""},{"$f":"IF(入力シート!K542=\"\",\"\",入力シート!K542)","v":""},{"$f":"IF(入力シート!L542=\"\",\"\",入力シート!L542)","v":""},{"$f":"IF(入力シート!M542=\"\",\"\",入力シート!M542)","v":""},{"$f":"IF(入力シート!N542=\"\",\"\",入力シート!N542)","v":""},{"$f":"IF(入力シート!O542=\"\",\"\",入力シート!Q542)","v":""}]
[{"$f":"IF(入力シート!A543=\"\",\"\",入力シート!A543)","v":""},{"$f":"IF(入力シート!B543=\"\",\"\",入力シート!B543)","v":""},{"$f":"IF(入力シート!C543=\"\",\"\",入力シート!C543)","v":""},{"$f":"IF(入力シート!D543=\"\",\"\",TEXT(入力シート!D543,\"yyyy-mm-dd\"))","v":""},{"$f":"IF(入力シート!P543=\"\",\"\",TEXT(入力シート!P543,\"000-0000\"))","v":""},{"$f":"IF(入力シート!G543=\"\",\"\",入力シート!G543)","v":""},{"$f":"IF(入力シート!H543=\"\",\"\",入力シート!H543)","v":""},{"$f":"IF(入力シート!I543=\"\",\"\",入力シート!I543)","v":""},{"$f":"IF(入力シート!J543=\"\",\"\",入力シート!J543)","v":""},{"$f":"IF(入力シート!K543=\"\",\"\",入力シート!K543)","v":""},{"$f":"IF(入力シート!L543=\"\",\"\",入力シート!L543)","v":""},{"$f":"IF(入力シート!M543=\"\",\"\",入力シート!M543)","v":""},{"$f":"IF(入力シート!N543=\"\",\"\",入力シート!N543)","v":""},{"$f":"IF(入力シート!O543=\"\",\"\",入力シート!Q543)","v":""}]
[{"$f":"IF(入力シート!A544=\"\",\"\",入力シート!A544)","v":""},{"$f":"IF(入力シート!B544=\"\",\"\",入力シート!B544)","v":""},{"$f":"IF(入力シート!C544=\"\",\"\",入力シート!C544)","v":""},{"$f":"IF(入力シート!D544=\"\",\"\",TEXT(入力シート!D544,\"yyyy-mm-dd\"))","v":""},{"$f":"IF(入力シート!P544=\"\",\"\",TEXT(入力シート!P544,\"000-0000\"))","v":""},{"$f":"IF(入力シート!G544=\"\",\"\",入力シート!G544)","v":""},{"$f":"IF(入力シート!H544=\"\",\"\",入力シート!H544)","v":""},{"$f":"IF(入力シート!I544=\"\",\"\",入力シート!I544)","v":""},{"$f":"IF(入力シート!J544=\"\",\"\",入力シート!J544)","v":""},{"$f":"IF(入力シート!K544=\"\",\"\",入力シート!K544)","v":""},{"$f":"IF(入力シート!L544=\"\",\"\",入力シート!L544)","v":""},{"$f":"IF(入力シート!M544=\"\",\"\",入力シート!M544)","v":""},{"$f":"IF(入力シート!N544=\"\",\"\",入力シート!N544)","v":""},{"$f":"IF(入力シート!O544=\"\",\"\",入力シート!Q544)","v":""}]
[{"$f":"IF(入力シート!A545=\"\",\"\",入力シート!A545)","v":""},{"$f":"IF(入力シート!B545=\"\",\"\",入力シート!B545)","v":""},{"$f":"IF(入力シート!C545=\"\",\"\",入力シート!C545)","v":""},{"$f":"IF(入力シート!D545=\"\",\"\",TEXT(入力シート!D545,\"yyyy-mm-dd\"))","v":""},{"$f":"IF(入力シート!P545=\"\",\"\",TEXT(入力シート!P545,\"000-0000\"))","v":""},{"$f":"IF(入力シート!G545=\"\",\"\",入力シート!G545)","v":""},{"$f":"IF(入力シート!H545=\"\",\"\",入力シート!H545)","v":""},{"$f":"IF(入力シート!I545=\"\",\"\",入力シート!I545)","v":""},{"$f":"IF(入力シート!J545=\"\",\"\",入力シート!J545)","v":""},{"$f":"IF(入力シート!K545=\"\",\"\",入力シート!K545)","v":""},{"$f":"IF(入力シート!L545=\"\",\"\",入力シート!L545)","v":""},{"$f":"IF(入力シート!M545=\"\",\"\",入力シート!M545)","v":""},{"$f":"IF(入力シート!N545=\"\",\"\",入力シート!N545)","v":""},{"$f":"IF(入力シート!O545=\"\",\"\",入力シート!Q545)","v":""}]
[{"$f":"IF(入力シート!A546=\"\",\"\",入力シート!A546)","v":""},{"$f":"IF(入力シート!B546=\"\",\"\",入力シート!B546)","v":""},{"$f":"IF(入力シート!C546=\"\",\"\",入力シート!C546)","v":""},{"$f":"IF(入力シート!D546=\"\",\"\",TEXT(入力シート!D546,\"yyyy-mm-dd\"))","v":""},{"$f":"IF(入力シート!P546=\"\",\"\",TEXT(入力シート!P546,\"000-0000\"))","v":""},{"$f":"IF(入力シート!G546=\"\",\"\",入力シート!G546)","v":""},{"$f":"IF(入力シート!H546=\"\",\"\",入力シート!H546)","v":""},{"$f":"IF(入力シート!I546=\"\",\"\",入力シート!I546)","v":""},{"$f":"IF(入力シート!J546=\"\",\"\",入力シート!J546)","v":""},{"$f":"IF(入力シート!K546=\"\",\"\",入力シート!K546)","v":""},{"$f":"IF(入力シート!L546=\"\",\"\",入力シート!L546)","v":""},{"$f":"IF(入力シート!M546=\"\",\"\",入力シート!M546)","v":""},{"$f":"IF(入力シート!N546=\"\",\"\",入力シート!N546)","v":""},{"$f":"IF(入力シート!O546=\"\",\"\",入力シート!Q546)","v":""}]
[{"$f":"IF(入力シート!A547=\"\",\"\",入力シート!A547)","v":""},{"$f":"IF(入力シート!B547=\"\",\"\",入力シート!B547)","v":""},{"$f":"IF(入力シート!C547=\"\",\"\",入力シート!C547)","v":""},{"$f":"IF(入力シート!D547=\"\",\"\",TEXT(入力シート!D547,\"yyyy-mm-dd\"))","v":""},{"$f":"IF(入力シート!P547=\"\",\"\",TEXT(入力シート!P547,\"000-0000\"))","v":""},{"$f":"IF(入力シート!G547=\"\",\"\",入力シート!G547)","v":""},{"$f":"IF(入力シート!H547=\"\",\"\",入力シート!H547)","v":""},{"$f":"IF(入力シート!I547=\"\",\"\",入力シート!I547)","v":""},{"$f":"IF(入力シート!J547=\"\",\"\",入力シート!J547)","v":""},{"$f":"IF(入力シート!K547=\"\",\"\",入力シート!K547)","v":""},{"$f":"IF(入力シート!L547=\"\",\"\",入力シート!L547)","v":""},{"$f":"IF(入力シート!M547=\"\",\"\",入力シート!M547)","v":""},{"$f":"IF(入力シート!N547=\"\",\"\",入力シート!N547)","v":""},{"$f":"IF(入力シート!O547=\"\",\"\",入力シート!Q547)","v":""}]
[{"$f":"IF(入力シート!A548=\"\",\"\",入力シート!A548)","v":""},{"$f":"IF(入力シート!B548=\"\",\"\",入力シート!B548)","v":""},{"$f":"IF(入力シート!C548=\"\",\"\",入力シート!C548)","v":""},{"$f":"IF(入力シート!D548=\"\",\"\",TEXT(入力シート!D548,\"yyyy-mm-dd\"))","v":""},{"$f":"IF(入力シート!P548=\"\",\"\",TEXT(入力シート!P548,\"000-0000\"))","v":""},{"$f":"IF(入力シート!G548=\"\",\"\",入力シート!G548)","v":""},{"$f":"IF(入力シート!H548=\"\",\"\",入力シート!H548)","v":""},{"$f":"IF(入力シート!I548=\"\",\"\",入力シート!I548)","v":""},{"$f":"IF(入力シート!J548=\"\",\"\",入力シート!J548)","v":""},{"$f":"IF(入力シート!K548=\"\",\"\",入力シート!K548)","v":""},{"$f":"IF(入力シート!L548=\"\",\"\",入力シート!L548)","v":""},{"$f":"IF(入力シート!M548=\"\",\"\",入力シート!M548)","v":""},{"$f":"IF(入力シート!N548=\"\",\"\",入力シート!N548)","v":""},{"$f":"IF(入力シート!O548=\"\",\"\",入力シート!Q548)","v":""}]
[{"$f":"IF(入力シート!A549=\"\",\"\",入力シート!A549)","v":""},{"$f":"IF(入力シート!B549=\"\",\"\",入力シート!B549)","v":""},{"$f":"IF(入力シート!C549=\"\",\"\",入力シート!C549)","v":""},{"$f":"IF(入力シート!D549=\"\",\"\",TEXT(入力シート!D549,\"yyyy-mm-dd\"))","v":""},{"$f":"IF(入力シート!P549=\"\",\"\",TEXT(入力シート!P549,\"000-0000\"))","v":""},{"$f":"IF(入力シート!G549=\"\",\"\",入力シート!G549)","v":""},{"$f":"IF(入力シート!H549=\"\",\"\",入力シート!H549)","v":""},{"$f":"IF(入力シート!I549=\"\",\"\",入力シート!I549)","v":""},{"$f":"IF(入力シート!J549=\"\",\"\",入力シート!J549)","v":""},{"$f":"IF(入力シート!K549=\"\",\"\",入力シート!K549)","v":""},{"$f":"IF(入力シート!L549=\"\",\"\",入力シート!L549)","v":""},{"$f":"IF(入力シート!M549=\"\",\"\",入力シート!M549)","v":""},{"$f":"IF(入力シート!N549=\"\",\"\",入力シート!N549)","v":""},{"$f":"IF(入力シート!O549=\"\",\"\",入力シート!Q549)","v":""}]
[{"$f":"IF(入力シート!A550=\"\",\"\",入力シート!A550)","v":""},{"$f":"IF(入力シート!B550=\"\",\"\",入力シート!B550)","v":""},{"$f":"IF(入力シート!C550=\"\",\"\",入力シート!C550)","v":""},{"$f":"IF(入力シート!D550=\"\",\"\",TEXT(入力シート!D550,\"yyyy-mm-dd\"))","v":""},{"$f":"IF(入力シート!P550=\"\",\"\",TEXT(入力シート!P550,\"000-0000\"))","v":""},{"$f":"IF(入力シート!G550=\"\",\"\",入力シート!G550)","v":""},{"$f":"IF(入力シート!H550=\"\",\"\",入力シート!H550)","v":""},{"$f":"IF(入力シート!I550=\"\",\"\",入力シート!I550)","v":""},{"$f":"IF(入力シート!J550=\"\",\"\",入力シート!J550)","v":""},{"$f":"IF(入力シート!K550=\"\",\"\",入力シート!K550)","v":""},{"$f":"IF(入力シート!L550=\"\",\"\",入力シート!L550)","v":""},{"$f":"IF(入力シート!M550=\"\",\"\",入力シート!M550)","v":""},{"$f":"IF(入力シート!N550=\"\",\"\",入力シート!N550)","v":""},{"$f":"IF(入力シート!O550=\"\",\"\",入力シート!Q550)","v":""}]
[{"$f":"IF(入力シート!A551=\"\",\"\",入力シート!A551)","v":""},{"$f":"IF(入力シート!B551=\"\",\"\",入力シート!B551)","v":""},{"$f":"IF(入力シート!C551=\"\",\"\",入力シート!C551)","v":""},{"$f":"IF(入力シート!D551=\"\",\"\",TEXT(入力シート!D551,\"yyyy-mm-dd\"))","v":""},{"$f":"IF(入力シート!P551=\"\",\"\",TEXT(入力シート!P551,\"000-0000\"))","v":""},{"$f":"IF(入力シート!G551=\"\",\"\",入力シート!G551)","v":""},{"$f":"IF(入力シート!H551=\"\",\"\",入力シート!H551)","v":""},{"$f":"IF(入力シート!I551=\"\",\"\",入力シート!I551)","v":""},{"$f":"IF(入力シート!J551=\"\",\"\",入力シート!J551)","v":""},{"$f":"IF(入力シート!K551=\"\",\"\",入力シート!K551)","v":""},{"$f":"IF(入力シート!L551=\"\",\"\",入力シート!L551)","v":""},{"$f":"IF(入力シート!M551=\"\",\"\",入力シート!M551)","v":""},{"$f":"IF(入力シート!N551=\"\",\"\",入力シート!N551)","v":""},{"$f":"IF(入力シート!O551=\"\",\"\",入力シート!Q551)","v":""}]
[{"$f":"IF(入力シート!A552=\"\",\"\",入力シート!A552)","v":""},{"$f":"IF(入力シート!B552=\"\",\"\",入力シート!B552)","v":""},{"$f":"IF(入力シート!C552=\"\",\"\",入力シート!C552)","v":""},{"$f":"IF(入力シート!D552=\"\",\"\",TEXT(入力シート!D552,\"yyyy-mm-dd\"))","v":""},{"$f":"IF(入力シート!P552=\"\",\"\",TEXT(入力シート!P552,\"000-0000\"))","v":""},{"$f":"IF(入力シート!G552=\"\",\"\",入力シート!G552)","v":""},{"$f":"IF(入力シート!H552=\"\",\"\",入力シート!H552)","v":""},{"$f":"IF(入力シート!I552=\"\",\"\",入力シート!I552)","v":""},{"$f":"IF(入力シート!J552=\"\",\"\",入力シート!J552)","v":""},{"$f":"IF(入力シート!K552=\"\",\"\",入力シート!K552)","v":""},{"$f":"IF(入力シート!L552=\"\",\"\",入力シート!L552)","v":""},{"$f":"IF(入力シート!M552=\"\",\"\",入力シート!M552)","v":""},{"$f":"IF(入力シート!N552=\"\",\"\",入力シート!N552)","v":""},{"$f":"IF(入力シート!O552=\"\",\"\",入力シート!Q552)","v":""}]
[{"$f":"IF(入力シート!A553=\"\",\"\",入力シート!A553)","v":""},{"$f":"IF(入力シート!B553=\"\",\"\",入力シート!B553)","v":""},{"$f":"IF(入力シート!C553=\"\",\"\",入力シート!C553)","v":""},{"$f":"IF(入力シート!D553=\"\",\"\",TEXT(入力シート!D553,\"yyyy-mm-dd\"))","v":""},{"$f":"IF(入力シート!P553=\"\",\"\",TEXT(入力シート!P553,\"000-0000\"))","v":""},{"$f":"IF(入力シート!G553=\"\",\"\",入力シート!G553)","v":""},{"$f":"IF(入力シート!H553=\"\",\"\",入力シート!H553)","v":""},{"$f":"IF(入力シート!I553=\"\",\"\",入力シート!I553)","v":""},{"$f":"IF(入力シート!J553=\"\",\"\",入力シート!J553)","v":""},{"$f":"IF(入力シート!K553=\"\",\"\",入力シート!K553)","v":""},{"$f":"IF(入力シート!L553=\"\",\"\",入力シート!L553)","v":""},{"$f":"IF(入力シート!M553=\"\",\"\",入力シート!M553)","v":""},{"$f":"IF(入力シート!N553=\"\",\"\",入力シート!N553)","v":""},{"$f":"IF(入力シート!O553=\"\",\"\",入力シート!Q553)","v":""}]
[{"$f":"IF(入力シート!A554=\"\",\"\",入力シート!A554)","v":""},{"$f":"IF(入力シート!B554=\"\",\"\",入力シート!B554)","v":""},{"$f":"IF(入力シート!C554=\"\",\"\",入力シート!C554)","v":""},{"$f":"IF(入力シート!D554=\"\",\"\",TEXT(入力シート!D554,\"yyyy-mm-dd\"))","v":""},{"$f":"IF(入力シート!P554=\"\",\"\",TEXT(入力シート!P554,\"000-0000\"))","v":""},{"$f":"IF(入力シート!G554=\"\",\"\",入力シート!G554)","v":""},{"$f":"IF(入力シート!H554=\"\",\"\",入力シート!H554)","v":""},{"$f":"IF(入力シート!I554=\"\",\"\",入力シート!I554)","v":""},{"$f":"IF(入力シート!J554=\"\",\"\",入力シート!J554)","v":""},{"$f":"IF(入力シート!K554=\"\",\"\",入力シート!K554)","v":""},{"$f":"IF(入力シート!L554=\"\",\"\",入力シート!L554)","v":""},{"$f":"IF(入力シート!M554=\"\",\"\",入力シート!M554)","v":""},{"$f":"IF(入力シート!N554=\"\",\"\",入力シート!N554)","v":""},{"$f":"IF(入力シート!O554=\"\",\"\",入力シート!Q554)","v":""}]
[{"$f":"IF(入力シート!A555=\"\",\"\",入力シート!A555)","v":""},{"$f":"IF(入力シート!B555=\"\",\"\",入力シート!B555)","v":""},{"$f":"IF(入力シート!C555=\"\",\"\",入力シート!C555)","v":""},{"$f":"IF(入力シート!D555=\"\",\"\",TEXT(入力シート!D555,\"yyyy-mm-dd\"))","v":""},{"$f":"IF(入力シート!P555=\"\",\"\",TEXT(入力シート!P555,\"000-0000\"))","v":""},{"$f":"IF(入力シート!G555=\"\",\"\",入力シート!G555)","v":""},{"$f":"IF(入力シート!H555=\"\",\"\",入力シート!H555)","v":""},{"$f":"IF(入力シート!I555=\"\",\"\",入力シート!I555)","v":""},{"$f":"IF(入力シート!J555=\"\",\"\",入力シート!J555)","v":""},{"$f":"IF(入力シート!K555=\"\",\"\",入力シート!K555)","v":""},{"$f":"IF(入力シート!L555=\"\",\"\",入力シート!L555)","v":""},{"$f":"IF(入力シート!M555=\"\",\"\",入力シート!M555)","v":""},{"$f":"IF(入力シート!N555=\"\",\"\",入力シート!N555)","v":""},{"$f":"IF(入力シート!O555=\"\",\"\",入力シート!Q555)","v":""}]
[{"$f":"IF(入力シート!A556=\"\",\"\",入力シート!A556)","v":""},{"$f":"IF(入力シート!B556=\"\",\"\",入力シート!B556)","v":""},{"$f":"IF(入力シート!C556=\"\",\"\",入力シート!C556)","v":""},{"$f":"IF(入力シート!D556=\"\",\"\",TEXT(入力シート!D556,\"yyyy-mm-dd\"))","v":""},{"$f":"IF(入力シート!P556=\"\",\"\",TEXT(入力シート!P556,\"000-0000\"))","v":""},{"$f":"IF(入力シート!G556=\"\",\"\",入力シート!G556)","v":""},{"$f":"IF(入力シート!H556=\"\",\"\",入力シート!H556)","v":""},{"$f":"IF(入力シート!I556=\"\",\"\",入力シート!I556)","v":""},{"$f":"IF(入力シート!J556=\"\",\"\",入力シート!J556)","v":""},{"$f":"IF(入力シート!K556=\"\",\"\",入力シート!K556)","v":""},{"$f":"IF(入力シート!L556=\"\",\"\",入力シート!L556)","v":""},{"$f":"IF(入力シート!M556=\"\",\"\",入力シート!M556)","v":""},{"$f":"IF(入力シート!N556=\"\",\"\",入力シート!N556)","v":""},{"$f":"IF(入力シート!O556=\"\",\"\",入力シート!Q556)","v":""}]
[{"$f":"IF(入力シート!A557=\"\",\"\",入力シート!A557)","v":""},{"$f":"IF(入力シート!B557=\"\",\"\",入力シート!B557)","v":""},{"$f":"IF(入力シート!C557=\"\",\"\",入力シート!C557)","v":""},{"$f":"IF(入力シート!D557=\"\",\"\",TEXT(入力シート!D557,\"yyyy-mm-dd\"))","v":""},{"$f":"IF(入力シート!P557=\"\",\"\",TEXT(入力シート!P557,\"000-0000\"))","v":""},{"$f":"IF(入力シート!G557=\"\",\"\",入力シート!G557)","v":""},{"$f":"IF(入力シート!H557=\"\",\"\",入力シート!H557)","v":""},{"$f":"IF(入力シート!I557=\"\",\"\",入力シート!I557)","v":""},{"$f":"IF(入力シート!J557=\"\",\"\",入力シート!J557)","v":""},{"$f":"IF(入力シート!K557=\"\",\"\",入力シート!K557)","v":""},{"$f":"IF(入力シート!L557=\"\",\"\",入力シート!L557)","v":""},{"$f":"IF(入力シート!M557=\"\",\"\",入力シート!M557)","v":""},{"$f":"IF(入力シート!N557=\"\",\"\",入力シート!N557)","v":""},{"$f":"IF(入力シート!O557=\"\",\"\",入力シート!Q557)","v":""}]
[{"$f":"IF(入力シート!A558=\"\",\"\",入力シート!A558)","v":""},{"$f":"IF(入力シート!B558=\"\",\"\",入力シート!B558)","v":""},{"$f":"IF(入力シート!C558=\"\",\"\",入力シート!C558)","v":""},{"$f":"IF(入力シート!D558=\"\",\"\",TEXT(入力シート!D558,\"yyyy-mm-dd\"))","v":""},{"$f":"IF(入力シート!P558=\"\",\"\",TEXT(入力シート!P558,\"000-0000\"))","v":""},{"$f":"IF(入力シート!G558=\"\",\"\",入力シート!G558)","v":""},{"$f":"IF(入力シート!H558=\"\",\"\",入力シート!H558)","v":""},{"$f":"IF(入力シート!I558=\"\",\"\",入力シート!I558)","v":""},{"$f":"IF(入力シート!J558=\"\",\"\",入力シート!J558)","v":""},{"$f":"IF(入力シート!K558=\"\",\"\",入力シート!K558)","v":""},{"$f":"IF(入力シート!L558=\"\",\"\",入力シート!L558)","v":""},{"$f":"IF(入力シート!M558=\"\",\"\",入力シート!M558)","v":""},{"$f":"IF(入力シート!N558=\"\",\"\",入力シート!N558)","v":""},{"$f":"IF(入力シート!O558=\"\",\"\",入力シート!Q558)","v":""}]
[{"$f":"IF(入力シート!A559=\"\",\"\",入力シート!A559)","v":""},{"$f":"IF(入力シート!B559=\"\",\"\",入力シート!B559)","v":""},{"$f":"IF(入力シート!C559=\"\",\"\",入力シート!C559)","v":""},{"$f":"IF(入力シート!D559=\"\",\"\",TEXT(入力シート!D559,\"yyyy-mm-dd\"))","v":""},{"$f":"IF(入力シート!P559=\"\",\"\",TEXT(入力シート!P559,\"000-0000\"))","v":""},{"$f":"IF(入力シート!G559=\"\",\"\",入力シート!G559)","v":""},{"$f":"IF(入力シート!H559=\"\",\"\",入力シート!H559)","v":""},{"$f":"IF(入力シート!I559=\"\",\"\",入力シート!I559)","v":""},{"$f":"IF(入力シート!J559=\"\",\"\",入力シート!J559)","v":""},{"$f":"IF(入力シート!K559=\"\",\"\",入力シート!K559)","v":""},{"$f":"IF(入力シート!L559=\"\",\"\",入力シート!L559)","v":""},{"$f":"IF(入力シート!M559=\"\",\"\",入力シート!M559)","v":""},{"$f":"IF(入力シート!N559=\"\",\"\",入力シート!N559)","v":""},{"$f":"IF(入力シート!O559=\"\",\"\",入力シート!Q559)","v":""}]
[{"$f":"IF(入力シート!A560=\"\",\"\",入力シート!A560)","v":""},{"$f":"IF(入力シート!B560=\"\",\"\",入力シート!B560)","v":""},{"$f":"IF(入力シート!C560=\"\",\"\",入力シート!C560)","v":""},{"$f":"IF(入力シート!D560=\"\",\"\",TEXT(入力シート!D560,\"yyyy-mm-dd\"))","v":""},{"$f":"IF(入力シート!P560=\"\",\"\",TEXT(入力シート!P560,\"000-0000\"))","v":""},{"$f":"IF(入力シート!G560=\"\",\"\",入力シート!G560)","v":""},{"$f":"IF(入力シート!H560=\"\",\"\",入力シート!H560)","v":""},{"$f":"IF(入力シート!I560=\"\",\"\",入力シート!I560)","v":""},{"$f":"IF(入力シート!J560=\"\",\"\",入力シート!J560)","v":""},{"$f":"IF(入力シート!K560=\"\",\"\",入力シート!K560)","v":""},{"$f":"IF(入力シート!L560=\"\",\"\",入力シート!L560)","v":""},{"$f":"IF(入力シート!M560=\"\",\"\",入力シート!M560)","v":""},{"$f":"IF(入力シート!N560=\"\",\"\",入力シート!N560)","v":""},{"$f":"IF(入力シート!O560=\"\",\"\",入力シート!Q560)","v":""}]
[{"$f":"IF(入力シート!A561=\"\",\"\",入力シート!A561)","v":""},{"$f":"IF(入力シート!B561=\"\",\"\",入力シート!B561)","v":""},{"$f":"IF(入力シート!C561=\"\",\"\",入力シート!C561)","v":""},{"$f":"IF(入力シート!D561=\"\",\"\",TEXT(入力シート!D561,\"yyyy-mm-dd\"))","v":""},{"$f":"IF(入力シート!P561=\"\",\"\",TEXT(入力シート!P561,\"000-0000\"))","v":""},{"$f":"IF(入力シート!G561=\"\",\"\",入力シート!G561)","v":""},{"$f":"IF(入力シート!H561=\"\",\"\",入力シート!H561)","v":""},{"$f":"IF(入力シート!I561=\"\",\"\",入力シート!I561)","v":""},{"$f":"IF(入力シート!J561=\"\",\"\",入力シート!J561)","v":""},{"$f":"IF(入力シート!K561=\"\",\"\",入力シート!K561)","v":""},{"$f":"IF(入力シート!L561=\"\",\"\",入力シート!L561)","v":""},{"$f":"IF(入力シート!M561=\"\",\"\",入力シート!M561)","v":""},{"$f":"IF(入力シート!N561=\"\",\"\",入力シート!N561)","v":""},{"$f":"IF(入力シート!O561=\"\",\"\",入力シート!Q561)","v":""}]
[{"$f":"IF(入力シート!A562=\"\",\"\",入力シート!A562)","v":""},{"$f":"IF(入力シート!B562=\"\",\"\",入力シート!B562)","v":""},{"$f":"IF(入力シート!C562=\"\",\"\",入力シート!C562)","v":""},{"$f":"IF(入力シート!D562=\"\",\"\",TEXT(入力シート!D562,\"yyyy-mm-dd\"))","v":""},{"$f":"IF(入力シート!P562=\"\",\"\",TEXT(入力シート!P562,\"000-0000\"))","v":""},{"$f":"IF(入力シート!G562=\"\",\"\",入力シート!G562)","v":""},{"$f":"IF(入力シート!H562=\"\",\"\",入力シート!H562)","v":""},{"$f":"IF(入力シート!I562=\"\",\"\",入力シート!I562)","v":""},{"$f":"IF(入力シート!J562=\"\",\"\",入力シート!J562)","v":""},{"$f":"IF(入力シート!K562=\"\",\"\",入力シート!K562)","v":""},{"$f":"IF(入力シート!L562=\"\",\"\",入力シート!L562)","v":""},{"$f":"IF(入力シート!M562=\"\",\"\",入力シート!M562)","v":""},{"$f":"IF(入力シート!N562=\"\",\"\",入力シート!N562)","v":""},{"$f":"IF(入力シート!O562=\"\",\"\",入力シート!Q562)","v":""}]
[{"$f":"IF(入力シート!A563=\"\",\"\",入力シート!A563)","v":""},{"$f":"IF(入力シート!B563=\"\",\"\",入力シート!B563)","v":""},{"$f":"IF(入力シート!C563=\"\",\"\",入力シート!C563)","v":""},{"$f":"IF(入力シート!D563=\"\",\"\",TEXT(入力シート!D563,\"yyyy-mm-dd\"))","v":""},{"$f":"IF(入力シート!P563=\"\",\"\",TEXT(入力シート!P563,\"000-0000\"))","v":""},{"$f":"IF(入力シート!G563=\"\",\"\",入力シート!G563)","v":""},{"$f":"IF(入力シート!H563=\"\",\"\",入力シート!H563)","v":""},{"$f":"IF(入力シート!I563=\"\",\"\",入力シート!I563)","v":""},{"$f":"IF(入力シート!J563=\"\",\"\",入力シート!J563)","v":""},{"$f":"IF(入力シート!K563=\"\",\"\",入力シート!K563)","v":""},{"$f":"IF(入力シート!L563=\"\",\"\",入力シート!L563)","v":""},{"$f":"IF(入力シート!M563=\"\",\"\",入力シート!M563)","v":""},{"$f":"IF(入力シート!N563=\"\",\"\",入力シート!N563)","v":""},{"$f":"IF(入力シート!O563=\"\",\"\",入力シート!Q563)","v":""}]
[{"$f":"IF(入力シート!A564=\"\",\"\",入力シート!A564)","v":""},{"$f":"IF(入力シート!B564=\"\",\"\",入力シート!B564)","v":""},{"$f":"IF(入力シート!C564=\"\",\"\",入力シート!C564)","v":""},{"$f":"IF(入力シート!D564=\"\",\"\",TEXT(入力シート!D564,\"yyyy-mm-dd\"))","v":""},{"$f":"IF(入力シート!P564=\"\",\"\",TEXT(入力シート!P564,\"000-0000\"))","v":""},{"$f":"IF(入力シート!G564=\"\",\"\",入力シート!G564)","v":""},{"$f":"IF(入力シート!H564=\"\",\"\",入力シート!H564)","v":""},{"$f":"IF(入力シート!I564=\"\",\"\",入力シート!I564)","v":""},{"$f":"IF(入力シート!J564=\"\",\"\",入力シート!J564)","v":""},{"$f":"IF(入力シート!K564=\"\",\"\",入力シート!K564)","v":""},{"$f":"IF(入力シート!L564=\"\",\"\",入力シート!L564)","v":""},{"$f":"IF(入力シート!M564=\"\",\"\",入力シート!M564)","v":""},{"$f":"IF(入力シート!N564=\"\",\"\",入力シート!N564)","v":""},{"$f":"IF(入力シート!O564=\"\",\"\",入力シート!Q564)","v":""}]
[{"$f":"IF(入力シート!A565=\"\",\"\",入力シート!A565)","v":""},{"$f":"IF(入力シート!B565=\"\",\"\",入力シート!B565)","v":""},{"$f":"IF(入力シート!C565=\"\",\"\",入力シート!C565)","v":""},{"$f":"IF(入力シート!D565=\"\",\"\",TEXT(入力シート!D565,\"yyyy-mm-dd\"))","v":""},{"$f":"IF(入力シート!P565=\"\",\"\",TEXT(入力シート!P565,\"000-0000\"))","v":""},{"$f":"IF(入力シート!G565=\"\",\"\",入力シート!G565)","v":""},{"$f":"IF(入力シート!H565=\"\",\"\",入力シート!H565)","v":""},{"$f":"IF(入力シート!I565=\"\",\"\",入力シート!I565)","v":""},{"$f":"IF(入力シート!J565=\"\",\"\",入力シート!J565)","v":""},{"$f":"IF(入力シート!K565=\"\",\"\",入力シート!K565)","v":""},{"$f":"IF(入力シート!L565=\"\",\"\",入力シート!L565)","v":""},{"$f":"IF(入力シート!M565=\"\",\"\",入力シート!M565)","v":""},{"$f":"IF(入力シート!N565=\"\",\"\",入力シート!N565)","v":""},{"$f":"IF(入力シート!O565=\"\",\"\",入力シート!Q565)","v":""}]
[{"$f":"IF(入力シート!A566=\"\",\"\",入力シート!A566)","v":""},{"$f":"IF(入力シート!B566=\"\",\"\",入力シート!B566)","v":""},{"$f":"IF(入力シート!C566=\"\",\"\",入力シート!C566)","v":""},{"$f":"IF(入力シート!D566=\"\",\"\",TEXT(入力シート!D566,\"yyyy-mm-dd\"))","v":""},{"$f":"IF(入力シート!P566=\"\",\"\",TEXT(入力シート!P566,\"000-0000\"))","v":""},{"$f":"IF(入力シート!G566=\"\",\"\",入力シート!G566)","v":""},{"$f":"IF(入力シート!H566=\"\",\"\",入力シート!H566)","v":""},{"$f":"IF(入力シート!I566=\"\",\"\",入力シート!I566)","v":""},{"$f":"IF(入力シート!J566=\"\",\"\",入力シート!J566)","v":""},{"$f":"IF(入力シート!K566=\"\",\"\",入力シート!K566)","v":""},{"$f":"IF(入力シート!L566=\"\",\"\",入力シート!L566)","v":""},{"$f":"IF(入力シート!M566=\"\",\"\",入力シート!M566)","v":""},{"$f":"IF(入力シート!N566=\"\",\"\",入力シート!N566)","v":""},{"$f":"IF(入力シート!O566=\"\",\"\",入力シート!Q566)","v":""}]
[{"$f":"IF(入力シート!A567=\"\",\"\",入力シート!A567)","v":""},{"$f":"IF(入力シート!B567=\"\",\"\",入力シート!B567)","v":""},{"$f":"IF(入力シート!C567=\"\",\"\",入力シート!C567)","v":""},{"$f":"IF(入力シート!D567=\"\",\"\",TEXT(入力シート!D567,\"yyyy-mm-dd\"))","v":""},{"$f":"IF(入力シート!P567=\"\",\"\",TEXT(入力シート!P567,\"000-0000\"))","v":""},{"$f":"IF(入力シート!G567=\"\",\"\",入力シート!G567)","v":""},{"$f":"IF(入力シート!H567=\"\",\"\",入力シート!H567)","v":""},{"$f":"IF(入力シート!I567=\"\",\"\",入力シート!I567)","v":""},{"$f":"IF(入力シート!J567=\"\",\"\",入力シート!J567)","v":""},{"$f":"IF(入力シート!K567=\"\",\"\",入力シート!K567)","v":""},{"$f":"IF(入力シート!L567=\"\",\"\",入力シート!L567)","v":""},{"$f":"IF(入力シート!M567=\"\",\"\",入力シート!M567)","v":""},{"$f":"IF(入力シート!N567=\"\",\"\",入力シート!N567)","v":""},{"$f":"IF(入力シート!O567=\"\",\"\",入力シート!Q567)","v":""}]
[{"$f":"IF(入力シート!A568=\"\",\"\",入力シート!A568)","v":""},{"$f":"IF(入力シート!B568=\"\",\"\",入力シート!B568)","v":""},{"$f":"IF(入力シート!C568=\"\",\"\",入力シート!C568)","v":""},{"$f":"IF(入力シート!D568=\"\",\"\",TEXT(入力シート!D568,\"yyyy-mm-dd\"))","v":""},{"$f":"IF(入力シート!P568=\"\",\"\",TEXT(入力シート!P568,\"000-0000\"))","v":""},{"$f":"IF(入力シート!G568=\"\",\"\",入力シート!G568)","v":""},{"$f":"IF(入力シート!H568=\"\",\"\",入力シート!H568)","v":""},{"$f":"IF(入力シート!I568=\"\",\"\",入力シート!I568)","v":""},{"$f":"IF(入力シート!J568=\"\",\"\",入力シート!J568)","v":""},{"$f":"IF(入力シート!K568=\"\",\"\",入力シート!K568)","v":""},{"$f":"IF(入力シート!L568=\"\",\"\",入力シート!L568)","v":""},{"$f":"IF(入力シート!M568=\"\",\"\",入力シート!M568)","v":""},{"$f":"IF(入力シート!N568=\"\",\"\",入力シート!N568)","v":""},{"$f":"IF(入力シート!O568=\"\",\"\",入力シート!Q568)","v":""}]
[{"$f":"IF(入力シート!A569=\"\",\"\",入力シート!A569)","v":""},{"$f":"IF(入力シート!B569=\"\",\"\",入力シート!B569)","v":""},{"$f":"IF(入力シート!C569=\"\",\"\",入力シート!C569)","v":""},{"$f":"IF(入力シート!D569=\"\",\"\",TEXT(入力シート!D569,\"yyyy-mm-dd\"))","v":""},{"$f":"IF(入力シート!P569=\"\",\"\",TEXT(入力シート!P569,\"000-0000\"))","v":""},{"$f":"IF(入力シート!G569=\"\",\"\",入力シート!G569)","v":""},{"$f":"IF(入力シート!H569=\"\",\"\",入力シート!H569)","v":""},{"$f":"IF(入力シート!I569=\"\",\"\",入力シート!I569)","v":""},{"$f":"IF(入力シート!J569=\"\",\"\",入力シート!J569)","v":""},{"$f":"IF(入力シート!K569=\"\",\"\",入力シート!K569)","v":""},{"$f":"IF(入力シート!L569=\"\",\"\",入力シート!L569)","v":""},{"$f":"IF(入力シート!M569=\"\",\"\",入力シート!M569)","v":""},{"$f":"IF(入力シート!N569=\"\",\"\",入力シート!N569)","v":""},{"$f":"IF(入力シート!O569=\"\",\"\",入力シート!Q569)","v":""}]
[{"$f":"IF(入力シート!A570=\"\",\"\",入力シート!A570)","v":""},{"$f":"IF(入力シート!B570=\"\",\"\",入力シート!B570)","v":""},{"$f":"IF(入力シート!C570=\"\",\"\",入力シート!C570)","v":""},{"$f":"IF(入力シート!D570=\"\",\"\",TEXT(入力シート!D570,\"yyyy-mm-dd\"))","v":""},{"$f":"IF(入力シート!P570=\"\",\"\",TEXT(入力シート!P570,\"000-0000\"))","v":""},{"$f":"IF(入力シート!G570=\"\",\"\",入力シート!G570)","v":""},{"$f":"IF(入力シート!H570=\"\",\"\",入力シート!H570)","v":""},{"$f":"IF(入力シート!I570=\"\",\"\",入力シート!I570)","v":""},{"$f":"IF(入力シート!J570=\"\",\"\",入力シート!J570)","v":""},{"$f":"IF(入力シート!K570=\"\",\"\",入力シート!K570)","v":""},{"$f":"IF(入力シート!L570=\"\",\"\",入力シート!L570)","v":""},{"$f":"IF(入力シート!M570=\"\",\"\",入力シート!M570)","v":""},{"$f":"IF(入力シート!N570=\"\",\"\",入力シート!N570)","v":""},{"$f":"IF(入力シート!O570=\"\",\"\",入力シート!Q570)","v":""}]
[{"$f":"IF(入力シート!A571=\"\",\"\",入力シート!A571)","v":""},{"$f":"IF(入力シート!B571=\"\",\"\",入力シート!B571)","v":""},{"$f":"IF(入力シート!C571=\"\",\"\",入力シート!C571)","v":""},{"$f":"IF(入力シート!D571=\"\",\"\",TEXT(入力シート!D571,\"yyyy-mm-dd\"))","v":""},{"$f":"IF(入力シート!P571=\"\",\"\",TEXT(入力シート!P571,\"000-0000\"))","v":""},{"$f":"IF(入力シート!G571=\"\",\"\",入力シート!G571)","v":""},{"$f":"IF(入力シート!H571=\"\",\"\",入力シート!H571)","v":""},{"$f":"IF(入力シート!I571=\"\",\"\",入力シート!I571)","v":""},{"$f":"IF(入力シート!J571=\"\",\"\",入力シート!J571)","v":""},{"$f":"IF(入力シート!K571=\"\",\"\",入力シート!K571)","v":""},{"$f":"IF(入力シート!L571=\"\",\"\",入力シート!L571)","v":""},{"$f":"IF(入力シート!M571=\"\",\"\",入力シート!M571)","v":""},{"$f":"IF(入力シート!N571=\"\",\"\",入力シート!N571)","v":""},{"$f":"IF(入力シート!O571=\"\",\"\",入力シート!Q571)","v":""}]
[{"$f":"IF(入力シート!A572=\"\",\"\",入力シート!A572)","v":""},{"$f":"IF(入力シート!B572=\"\",\"\",入力シート!B572)","v":""},{"$f":"IF(入力シート!C572=\"\",\"\",入力シート!C572)","v":""},{"$f":"IF(入力シート!D572=\"\",\"\",TEXT(入力シート!D572,\"yyyy-mm-dd\"))","v":""},{"$f":"IF(入力シート!P572=\"\",\"\",TEXT(入力シート!P572,\"000-0000\"))","v":""},{"$f":"IF(入力シート!G572=\"\",\"\",入力シート!G572)","v":""},{"$f":"IF(入力シート!H572=\"\",\"\",入力シート!H572)","v":""},{"$f":"IF(入力シート!I572=\"\",\"\",入力シート!I572)","v":""},{"$f":"IF(入力シート!J572=\"\",\"\",入力シート!J572)","v":""},{"$f":"IF(入力シート!K572=\"\",\"\",入力シート!K572)","v":""},{"$f":"IF(入力シート!L572=\"\",\"\",入力シート!L572)","v":""},{"$f":"IF(入力シート!M572=\"\",\"\",入力シート!M572)","v":""},{"$f":"IF(入力シート!N572=\"\",\"\",入力シート!N572)","v":""},{"$f":"IF(入力シート!O572=\"\",\"\",入力シート!Q572)","v":""}]
[{"$f":"IF(入力シート!A573=\"\",\"\",入力シート!A573)","v":""},{"$f":"IF(入力シート!B573=\"\",\"\",入力シート!B573)","v":""},{"$f":"IF(入力シート!C573=\"\",\"\",入力シート!C573)","v":""},{"$f":"IF(入力シート!D573=\"\",\"\",TEXT(入力シート!D573,\"yyyy-mm-dd\"))","v":""},{"$f":"IF(入力シート!P573=\"\",\"\",TEXT(入力シート!P573,\"000-0000\"))","v":""},{"$f":"IF(入力シート!G573=\"\",\"\",入力シート!G573)","v":""},{"$f":"IF(入力シート!H573=\"\",\"\",入力シート!H573)","v":""},{"$f":"IF(入力シート!I573=\"\",\"\",入力シート!I573)","v":""},{"$f":"IF(入力シート!J573=\"\",\"\",入力シート!J573)","v":""},{"$f":"IF(入力シート!K573=\"\",\"\",入力シート!K573)","v":""},{"$f":"IF(入力シート!L573=\"\",\"\",入力シート!L573)","v":""},{"$f":"IF(入力シート!M573=\"\",\"\",入力シート!M573)","v":""},{"$f":"IF(入力シート!N573=\"\",\"\",入力シート!N573)","v":""},{"$f":"IF(入力シート!O573=\"\",\"\",入力シート!Q573)","v":""}]
[{"$f":"IF(入力シート!A574=\"\",\"\",入力シート!A574)","v":""},{"$f":"IF(入力シート!B574=\"\",\"\",入力シート!B574)","v":""},{"$f":"IF(入力シート!C574=\"\",\"\",入力シート!C574)","v":""},{"$f":"IF(入力シート!D574=\"\",\"\",TEXT(入力シート!D574,\"yyyy-mm-dd\"))","v":""},{"$f":"IF(入力シート!P574=\"\",\"\",TEXT(入力シート!P574,\"000-0000\"))","v":""},{"$f":"IF(入力シート!G574=\"\",\"\",入力シート!G574)","v":""},{"$f":"IF(入力シート!H574=\"\",\"\",入力シート!H574)","v":""},{"$f":"IF(入力シート!I574=\"\",\"\",入力シート!I574)","v":""},{"$f":"IF(入力シート!J574=\"\",\"\",入力シート!J574)","v":""},{"$f":"IF(入力シート!K574=\"\",\"\",入力シート!K574)","v":""},{"$f":"IF(入力シート!L574=\"\",\"\",入力シート!L574)","v":""},{"$f":"IF(入力シート!M574=\"\",\"\",入力シート!M574)","v":""},{"$f":"IF(入力シート!N574=\"\",\"\",入力シート!N574)","v":""},{"$f":"IF(入力シート!O574=\"\",\"\",入力シート!Q574)","v":""}]
[{"$f":"IF(入力シート!A575=\"\",\"\",入力シート!A575)","v":""},{"$f":"IF(入力シート!B575=\"\",\"\",入力シート!B575)","v":""},{"$f":"IF(入力シート!C575=\"\",\"\",入力シート!C575)","v":""},{"$f":"IF(入力シート!D575=\"\",\"\",TEXT(入力シート!D575,\"yyyy-mm-dd\"))","v":""},{"$f":"IF(入力シート!P575=\"\",\"\",TEXT(入力シート!P575,\"000-0000\"))","v":""},{"$f":"IF(入力シート!G575=\"\",\"\",入力シート!G575)","v":""},{"$f":"IF(入力シート!H575=\"\",\"\",入力シート!H575)","v":""},{"$f":"IF(入力シート!I575=\"\",\"\",入力シート!I575)","v":""},{"$f":"IF(入力シート!J575=\"\",\"\",入力シート!J575)","v":""},{"$f":"IF(入力シート!K575=\"\",\"\",入力シート!K575)","v":""},{"$f":"IF(入力シート!L575=\"\",\"\",入力シート!L575)","v":""},{"$f":"IF(入力シート!M575=\"\",\"\",入力シート!M575)","v":""},{"$f":"IF(入力シート!N575=\"\",\"\",入力シート!N575)","v":""},{"$f":"IF(入力シート!O575=\"\",\"\",入力シート!Q575)","v":""}]
[{"$f":"IF(入力シート!A576=\"\",\"\",入力シート!A576)","v":""},{"$f":"IF(入力シート!B576=\"\",\"\",入力シート!B576)","v":""},{"$f":"IF(入力シート!C576=\"\",\"\",入力シート!C576)","v":""},{"$f":"IF(入力シート!D576=\"\",\"\",TEXT(入力シート!D576,\"yyyy-mm-dd\"))","v":""},{"$f":"IF(入力シート!P576=\"\",\"\",TEXT(入力シート!P576,\"000-0000\"))","v":""},{"$f":"IF(入力シート!G576=\"\",\"\",入力シート!G576)","v":""},{"$f":"IF(入力シート!H576=\"\",\"\",入力シート!H576)","v":""},{"$f":"IF(入力シート!I576=\"\",\"\",入力シート!I576)","v":""},{"$f":"IF(入力シート!J576=\"\",\"\",入力シート!J576)","v":""},{"$f":"IF(入力シート!K576=\"\",\"\",入力シート!K576)","v":""},{"$f":"IF(入力シート!L576=\"\",\"\",入力シート!L576)","v":""},{"$f":"IF(入力シート!M576=\"\",\"\",入力シート!M576)","v":""},{"$f":"IF(入力シート!N576=\"\",\"\",入力シート!N576)","v":""},{"$f":"IF(入力シート!O576=\"\",\"\",入力シート!Q576)","v":""}]
[{"$f":"IF(入力シート!A577=\"\",\"\",入力シート!A577)","v":""},{"$f":"IF(入力シート!B577=\"\",\"\",入力シート!B577)","v":""},{"$f":"IF(入力シート!C577=\"\",\"\",入力シート!C577)","v":""},{"$f":"IF(入力シート!D577=\"\",\"\",TEXT(入力シート!D577,\"yyyy-mm-dd\"))","v":""},{"$f":"IF(入力シート!P577=\"\",\"\",TEXT(入力シート!P577,\"000-0000\"))","v":""},{"$f":"IF(入力シート!G577=\"\",\"\",入力シート!G577)","v":""},{"$f":"IF(入力シート!H577=\"\",\"\",入力シート!H577)","v":""},{"$f":"IF(入力シート!I577=\"\",\"\",入力シート!I577)","v":""},{"$f":"IF(入力シート!J577=\"\",\"\",入力シート!J577)","v":""},{"$f":"IF(入力シート!K577=\"\",\"\",入力シート!K577)","v":""},{"$f":"IF(入力シート!L577=\"\",\"\",入力シート!L577)","v":""},{"$f":"IF(入力シート!M577=\"\",\"\",入力シート!M577)","v":""},{"$f":"IF(入力シート!N577=\"\",\"\",入力シート!N577)","v":""},{"$f":"IF(入力シート!O577=\"\",\"\",入力シート!Q577)","v":""}]
[{"$f":"IF(入力シート!A578=\"\",\"\",入力シート!A578)","v":""},{"$f":"IF(入力シート!B578=\"\",\"\",入力シート!B578)","v":""},{"$f":"IF(入力シート!C578=\"\",\"\",入力シート!C578)","v":""},{"$f":"IF(入力シート!D578=\"\",\"\",TEXT(入力シート!D578,\"yyyy-mm-dd\"))","v":""},{"$f":"IF(入力シート!P578=\"\",\"\",TEXT(入力シート!P578,\"000-0000\"))","v":""},{"$f":"IF(入力シート!G578=\"\",\"\",入力シート!G578)","v":""},{"$f":"IF(入力シート!H578=\"\",\"\",入力シート!H578)","v":""},{"$f":"IF(入力シート!I578=\"\",\"\",入力シート!I578)","v":""},{"$f":"IF(入力シート!J578=\"\",\"\",入力シート!J578)","v":""},{"$f":"IF(入力シート!K578=\"\",\"\",入力シート!K578)","v":""},{"$f":"IF(入力シート!L578=\"\",\"\",入力シート!L578)","v":""},{"$f":"IF(入力シート!M578=\"\",\"\",入力シート!M578)","v":""},{"$f":"IF(入力シート!N578=\"\",\"\",入力シート!N578)","v":""},{"$f":"IF(入力シート!O578=\"\",\"\",入力シート!Q578)","v":""}]
[{"$f":"IF(入力シート!A579=\"\",\"\",入力シート!A579)","v":""},{"$f":"IF(入力シート!B579=\"\",\"\",入力シート!B579)","v":""},{"$f":"IF(入力シート!C579=\"\",\"\",入力シート!C579)","v":""},{"$f":"IF(入力シート!D579=\"\",\"\",TEXT(入力シート!D579,\"yyyy-mm-dd\"))","v":""},{"$f":"IF(入力シート!P579=\"\",\"\",TEXT(入力シート!P579,\"000-0000\"))","v":""},{"$f":"IF(入力シート!G579=\"\",\"\",入力シート!G579)","v":""},{"$f":"IF(入力シート!H579=\"\",\"\",入力シート!H579)","v":""},{"$f":"IF(入力シート!I579=\"\",\"\",入力シート!I579)","v":""},{"$f":"IF(入力シート!J579=\"\",\"\",入力シート!J579)","v":""},{"$f":"IF(入力シート!K579=\"\",\"\",入力シート!K579)","v":""},{"$f":"IF(入力シート!L579=\"\",\"\",入力シート!L579)","v":""},{"$f":"IF(入力シート!M579=\"\",\"\",入力シート!M579)","v":""},{"$f":"IF(入力シート!N579=\"\",\"\",入力シート!N579)","v":""},{"$f":"IF(入力シート!O579=\"\",\"\",入力シート!Q579)","v":""}]
[{"$f":"IF(入力シート!A580=\"\",\"\",入力シート!A580)","v":""},{"$f":"IF(入力シート!B580=\"\",\"\",入力シート!B580)","v":""},{"$f":"IF(入力シート!C580=\"\",\"\",入力シート!C580)","v":""},{"$f":"IF(入力シート!D580=\"\",\"\",TEXT(入力シート!D580,\"yyyy-mm-dd\"))","v":""},{"$f":"IF(入力シート!P580=\"\",\"\",TEXT(入力シート!P580,\"000-0000\"))","v":""},{"$f":"IF(入力シート!G580=\"\",\"\",入力シート!G580)","v":""},{"$f":"IF(入力シート!H580=\"\",\"\",入力シート!H580)","v":""},{"$f":"IF(入力シート!I580=\"\",\"\",入力シート!I580)","v":""},{"$f":"IF(入力シート!J580=\"\",\"\",入力シート!J580)","v":""},{"$f":"IF(入力シート!K580=\"\",\"\",入力シート!K580)","v":""},{"$f":"IF(入力シート!L580=\"\",\"\",入力シート!L580)","v":""},{"$f":"IF(入力シート!M580=\"\",\"\",入力シート!M580)","v":""},{"$f":"IF(入力シート!N580=\"\",\"\",入力シート!N580)","v":""},{"$f":"IF(入力シート!O580=\"\",\"\",入力シート!Q580)","v":""}]
[{"$f":"IF(入力シート!A581=\"\",\"\",入力シート!A581)","v":""},{"$f":"IF(入力シート!B581=\"\",\"\",入力シート!B581)","v":""},{"$f":"IF(入力シート!C581=\"\",\"\",入力シート!C581)","v":""},{"$f":"IF(入力シート!D581=\"\",\"\",TEXT(入力シート!D581,\"yyyy-mm-dd\"))","v":""},{"$f":"IF(入力シート!P581=\"\",\"\",TEXT(入力シート!P581,\"000-0000\"))","v":""},{"$f":"IF(入力シート!G581=\"\",\"\",入力シート!G581)","v":""},{"$f":"IF(入力シート!H581=\"\",\"\",入力シート!H581)","v":""},{"$f":"IF(入力シート!I581=\"\",\"\",入力シート!I581)","v":""},{"$f":"IF(入力シート!J581=\"\",\"\",入力シート!J581)","v":""},{"$f":"IF(入力シート!K581=\"\",\"\",入力シート!K581)","v":""},{"$f":"IF(入力シート!L581=\"\",\"\",入力シート!L581)","v":""},{"$f":"IF(入力シート!M581=\"\",\"\",入力シート!M581)","v":""},{"$f":"IF(入力シート!N581=\"\",\"\",入力シート!N581)","v":""},{"$f":"IF(入力シート!O581=\"\",\"\",入力シート!Q581)","v":""}]
[{"$f":"IF(入力シート!A582=\"\",\"\",入力シート!A582)","v":""},{"$f":"IF(入力シート!B582=\"\",\"\",入力シート!B582)","v":""},{"$f":"IF(入力シート!C582=\"\",\"\",入力シート!C582)","v":""},{"$f":"IF(入力シート!D582=\"\",\"\",TEXT(入力シート!D582,\"yyyy-mm-dd\"))","v":""},{"$f":"IF(入力シート!P582=\"\",\"\",TEXT(入力シート!P582,\"000-0000\"))","v":""},{"$f":"IF(入力シート!G582=\"\",\"\",入力シート!G582)","v":""},{"$f":"IF(入力シート!H582=\"\",\"\",入力シート!H582)","v":""},{"$f":"IF(入力シート!I582=\"\",\"\",入力シート!I582)","v":""},{"$f":"IF(入力シート!J582=\"\",\"\",入力シート!J582)","v":""},{"$f":"IF(入力シート!K582=\"\",\"\",入力シート!K582)","v":""},{"$f":"IF(入力シート!L582=\"\",\"\",入力シート!L582)","v":""},{"$f":"IF(入力シート!M582=\"\",\"\",入力シート!M582)","v":""},{"$f":"IF(入力シート!N582=\"\",\"\",入力シート!N582)","v":""},{"$f":"IF(入力シート!O582=\"\",\"\",入力シート!Q582)","v":""}]
[{"$f":"IF(入力シート!A583=\"\",\"\",入力シート!A583)","v":""},{"$f":"IF(入力シート!B583=\"\",\"\",入力シート!B583)","v":""},{"$f":"IF(入力シート!C583=\"\",\"\",入力シート!C583)","v":""},{"$f":"IF(入力シート!D583=\"\",\"\",TEXT(入力シート!D583,\"yyyy-mm-dd\"))","v":""},{"$f":"IF(入力シート!P583=\"\",\"\",TEXT(入力シート!P583,\"000-0000\"))","v":""},{"$f":"IF(入力シート!G583=\"\",\"\",入力シート!G583)","v":""},{"$f":"IF(入力シート!H583=\"\",\"\",入力シート!H583)","v":""},{"$f":"IF(入力シート!I583=\"\",\"\",入力シート!I583)","v":""},{"$f":"IF(入力シート!J583=\"\",\"\",入力シート!J583)","v":""},{"$f":"IF(入力シート!K583=\"\",\"\",入力シート!K583)","v":""},{"$f":"IF(入力シート!L583=\"\",\"\",入力シート!L583)","v":""},{"$f":"IF(入力シート!M583=\"\",\"\",入力シート!M583)","v":""},{"$f":"IF(入力シート!N583=\"\",\"\",入力シート!N583)","v":""},{"$f":"IF(入力シート!O583=\"\",\"\",入力シート!Q583)","v":""}]
[{"$f":"IF(入力シート!A584=\"\",\"\",入力シート!A584)","v":""},{"$f":"IF(入力シート!B584=\"\",\"\",入力シート!B584)","v":""},{"$f":"IF(入力シート!C584=\"\",\"\",入力シート!C584)","v":""},{"$f":"IF(入力シート!D584=\"\",\"\",TEXT(入力シート!D584,\"yyyy-mm-dd\"))","v":""},{"$f":"IF(入力シート!P584=\"\",\"\",TEXT(入力シート!P584,\"000-0000\"))","v":""},{"$f":"IF(入力シート!G584=\"\",\"\",入力シート!G584)","v":""},{"$f":"IF(入力シート!H584=\"\",\"\",入力シート!H584)","v":""},{"$f":"IF(入力シート!I584=\"\",\"\",入力シート!I584)","v":""},{"$f":"IF(入力シート!J584=\"\",\"\",入力シート!J584)","v":""},{"$f":"IF(入力シート!K584=\"\",\"\",入力シート!K584)","v":""},{"$f":"IF(入力シート!L584=\"\",\"\",入力シート!L584)","v":""},{"$f":"IF(入力シート!M584=\"\",\"\",入力シート!M584)","v":""},{"$f":"IF(入力シート!N584=\"\",\"\",入力シート!N584)","v":""},{"$f":"IF(入力シート!O584=\"\",\"\",入力シート!Q584)","v":""}]
[{"$f":"IF(入力シート!A585=\"\",\"\",入力シート!A585)","v":""},{"$f":"IF(入力シート!B585=\"\",\"\",入力シート!B585)","v":""},{"$f":"IF(入力シート!C585=\"\",\"\",入力シート!C585)","v":""},{"$f":"IF(入力シート!D585=\"\",\"\",TEXT(入力シート!D585,\"yyyy-mm-dd\"))","v":""},{"$f":"IF(入力シート!P585=\"\",\"\",TEXT(入力シート!P585,\"000-0000\"))","v":""},{"$f":"IF(入力シート!G585=\"\",\"\",入力シート!G585)","v":""},{"$f":"IF(入力シート!H585=\"\",\"\",入力シート!H585)","v":""},{"$f":"IF(入力シート!I585=\"\",\"\",入力シート!I585)","v":""},{"$f":"IF(入力シート!J585=\"\",\"\",入力シート!J585)","v":""},{"$f":"IF(入力シート!K585=\"\",\"\",入力シート!K585)","v":""},{"$f":"IF(入力シート!L585=\"\",\"\",入力シート!L585)","v":""},{"$f":"IF(入力シート!M585=\"\",\"\",入力シート!M585)","v":""},{"$f":"IF(入力シート!N585=\"\",\"\",入力シート!N585)","v":""},{"$f":"IF(入力シート!O585=\"\",\"\",入力シート!Q585)","v":""}]
[{"$f":"IF(入力シート!A586=\"\",\"\",入力シート!A586)","v":""},{"$f":"IF(入力シート!B586=\"\",\"\",入力シート!B586)","v":""},{"$f":"IF(入力シート!C586=\"\",\"\",入力シート!C586)","v":""},{"$f":"IF(入力シート!D586=\"\",\"\",TEXT(入力シート!D586,\"yyyy-mm-dd\"))","v":""},{"$f":"IF(入力シート!P586=\"\",\"\",TEXT(入力シート!P586,\"000-0000\"))","v":""},{"$f":"IF(入力シート!G586=\"\",\"\",入力シート!G586)","v":""},{"$f":"IF(入力シート!H586=\"\",\"\",入力シート!H586)","v":""},{"$f":"IF(入力シート!I586=\"\",\"\",入力シート!I586)","v":""},{"$f":"IF(入力シート!J586=\"\",\"\",入力シート!J586)","v":""},{"$f":"IF(入力シート!K586=\"\",\"\",入力シート!K586)","v":""},{"$f":"IF(入力シート!L586=\"\",\"\",入力シート!L586)","v":""},{"$f":"IF(入力シート!M586=\"\",\"\",入力シート!M586)","v":""},{"$f":"IF(入力シート!N586=\"\",\"\",入力シート!N586)","v":""},{"$f":"IF(入力シート!O586=\"\",\"\",入力シート!Q586)","v":""}]
[{"$f":"IF(入力シート!A587=\"\",\"\",入力シート!A587)","v":""},{"$f":"IF(入力シート!B587=\"\",\"\",入力シート!B587)","v":""},{"$f":"IF(入力シート!C587=\"\",\"\",入力シート!C587)","v":""},{"$f":"IF(入力シート!D587=\"\",\"\",TEXT(入力シート!D587,\"yyyy-mm-dd\"))","v":""},{"$f":"IF(入力シート!P587=\"\",\"\",TEXT(入力シート!P587,\"000-0000\"))","v":""},{"$f":"IF(入力シート!G587=\"\",\"\",入力シート!G587)","v":""},{"$f":"IF(入力シート!H587=\"\",\"\",入力シート!H587)","v":""},{"$f":"IF(入力シート!I587=\"\",\"\",入力シート!I587)","v":""},{"$f":"IF(入力シート!J587=\"\",\"\",入力シート!J587)","v":""},{"$f":"IF(入力シート!K587=\"\",\"\",入力シート!K587)","v":""},{"$f":"IF(入力シート!L587=\"\",\"\",入力シート!L587)","v":""},{"$f":"IF(入力シート!M587=\"\",\"\",入力シート!M587)","v":""},{"$f":"IF(入力シート!N587=\"\",\"\",入力シート!N587)","v":""},{"$f":"IF(入力シート!O587=\"\",\"\",入力シート!Q587)","v":""}]
[{"$f":"IF(入力シート!A588=\"\",\"\",入力シート!A588)","v":""},{"$f":"IF(入力シート!B588=\"\",\"\",入力シート!B588)","v":""},{"$f":"IF(入力シート!C588=\"\",\"\",入力シート!C588)","v":""},{"$f":"IF(入力シート!D588=\"\",\"\",TEXT(入力シート!D588,\"yyyy-mm-dd\"))","v":""},{"$f":"IF(入力シート!P588=\"\",\"\",TEXT(入力シート!P588,\"000-0000\"))","v":""},{"$f":"IF(入力シート!G588=\"\",\"\",入力シート!G588)","v":""},{"$f":"IF(入力シート!H588=\"\",\"\",入力シート!H588)","v":""},{"$f":"IF(入力シート!I588=\"\",\"\",入力シート!I588)","v":""},{"$f":"IF(入力シート!J588=\"\",\"\",入力シート!J588)","v":""},{"$f":"IF(入力シート!K588=\"\",\"\",入力シート!K588)","v":""},{"$f":"IF(入力シート!L588=\"\",\"\",入力シート!L588)","v":""},{"$f":"IF(入力シート!M588=\"\",\"\",入力シート!M588)","v":""},{"$f":"IF(入力シート!N588=\"\",\"\",入力シート!N588)","v":""},{"$f":"IF(入力シート!O588=\"\",\"\",入力シート!Q588)","v":""}]
[{"$f":"IF(入力シート!A589=\"\",\"\",入力シート!A589)","v":""},{"$f":"IF(入力シート!B589=\"\",\"\",入力シート!B589)","v":""},{"$f":"IF(入力シート!C589=\"\",\"\",入力シート!C589)","v":""},{"$f":"IF(入力シート!D589=\"\",\"\",TEXT(入力シート!D589,\"yyyy-mm-dd\"))","v":""},{"$f":"IF(入力シート!P589=\"\",\"\",TEXT(入力シート!P589,\"000-0000\"))","v":""},{"$f":"IF(入力シート!G589=\"\",\"\",入力シート!G589)","v":""},{"$f":"IF(入力シート!H589=\"\",\"\",入力シート!H589)","v":""},{"$f":"IF(入力シート!I589=\"\",\"\",入力シート!I589)","v":""},{"$f":"IF(入力シート!J589=\"\",\"\",入力シート!J589)","v":""},{"$f":"IF(入力シート!K589=\"\",\"\",入力シート!K589)","v":""},{"$f":"IF(入力シート!L589=\"\",\"\",入力シート!L589)","v":""},{"$f":"IF(入力シート!M589=\"\",\"\",入力シート!M589)","v":""},{"$f":"IF(入力シート!N589=\"\",\"\",入力シート!N589)","v":""},{"$f":"IF(入力シート!O589=\"\",\"\",入力シート!Q589)","v":""}]
[{"$f":"IF(入力シート!A590=\"\",\"\",入力シート!A590)","v":""},{"$f":"IF(入力シート!B590=\"\",\"\",入力シート!B590)","v":""},{"$f":"IF(入力シート!C590=\"\",\"\",入力シート!C590)","v":""},{"$f":"IF(入力シート!D590=\"\",\"\",TEXT(入力シート!D590,\"yyyy-mm-dd\"))","v":""},{"$f":"IF(入力シート!P590=\"\",\"\",TEXT(入力シート!P590,\"000-0000\"))","v":""},{"$f":"IF(入力シート!G590=\"\",\"\",入力シート!G590)","v":""},{"$f":"IF(入力シート!H590=\"\",\"\",入力シート!H590)","v":""},{"$f":"IF(入力シート!I590=\"\",\"\",入力シート!I590)","v":""},{"$f":"IF(入力シート!J590=\"\",\"\",入力シート!J590)","v":""},{"$f":"IF(入力シート!K590=\"\",\"\",入力シート!K590)","v":""},{"$f":"IF(入力シート!L590=\"\",\"\",入力シート!L590)","v":""},{"$f":"IF(入力シート!M590=\"\",\"\",入力シート!M590)","v":""},{"$f":"IF(入力シート!N590=\"\",\"\",入力シート!N590)","v":""},{"$f":"IF(入力シート!O590=\"\",\"\",入力シート!Q590)","v":""}]
[{"$f":"IF(入力シート!A591=\"\",\"\",入力シート!A591)","v":""},{"$f":"IF(入力シート!B591=\"\",\"\",入力シート!B591)","v":""},{"$f":"IF(入力シート!C591=\"\",\"\",入力シート!C591)","v":""},{"$f":"IF(入力シート!D591=\"\",\"\",TEXT(入力シート!D591,\"yyyy-mm-dd\"))","v":""},{"$f":"IF(入力シート!P591=\"\",\"\",TEXT(入力シート!P591,\"000-0000\"))","v":""},{"$f":"IF(入力シート!G591=\"\",\"\",入力シート!G591)","v":""},{"$f":"IF(入力シート!H591=\"\",\"\",入力シート!H591)","v":""},{"$f":"IF(入力シート!I591=\"\",\"\",入力シート!I591)","v":""},{"$f":"IF(入力シート!J591=\"\",\"\",入力シート!J591)","v":""},{"$f":"IF(入力シート!K591=\"\",\"\",入力シート!K591)","v":""},{"$f":"IF(入力シート!L591=\"\",\"\",入力シート!L591)","v":""},{"$f":"IF(入力シート!M591=\"\",\"\",入力シート!M591)","v":""},{"$f":"IF(入力シート!N591=\"\",\"\",入力シート!N591)","v":""},{"$f":"IF(入力シート!O591=\"\",\"\",入力シート!Q591)","v":""}]
[{"$f":"IF(入力シート!A592=\"\",\"\",入力シート!A592)","v":""},{"$f":"IF(入力シート!B592=\"\",\"\",入力シート!B592)","v":""},{"$f":"IF(入力シート!C592=\"\",\"\",入力シート!C592)","v":""},{"$f":"IF(入力シート!D592=\"\",\"\",TEXT(入力シート!D592,\"yyyy-mm-dd\"))","v":""},{"$f":"IF(入力シート!P592=\"\",\"\",TEXT(入力シート!P592,\"000-0000\"))","v":""},{"$f":"IF(入力シート!G592=\"\",\"\",入力シート!G592)","v":""},{"$f":"IF(入力シート!H592=\"\",\"\",入力シート!H592)","v":""},{"$f":"IF(入力シート!I592=\"\",\"\",入力シート!I592)","v":""},{"$f":"IF(入力シート!J592=\"\",\"\",入力シート!J592)","v":""},{"$f":"IF(入力シート!K592=\"\",\"\",入力シート!K592)","v":""},{"$f":"IF(入力シート!L592=\"\",\"\",入力シート!L592)","v":""},{"$f":"IF(入力シート!M592=\"\",\"\",入力シート!M592)","v":""},{"$f":"IF(入力シート!N592=\"\",\"\",入力シート!N592)","v":""},{"$f":"IF(入力シート!O592=\"\",\"\",入力シート!Q592)","v":""}]
[{"$f":"IF(入力シート!A593=\"\",\"\",入力シート!A593)","v":""},{"$f":"IF(入力シート!B593=\"\",\"\",入力シート!B593)","v":""},{"$f":"IF(入力シート!C593=\"\",\"\",入力シート!C593)","v":""},{"$f":"IF(入力シート!D593=\"\",\"\",TEXT(入力シート!D593,\"yyyy-mm-dd\"))","v":""},{"$f":"IF(入力シート!P593=\"\",\"\",TEXT(入力シート!P593,\"000-0000\"))","v":""},{"$f":"IF(入力シート!G593=\"\",\"\",入力シート!G593)","v":""},{"$f":"IF(入力シート!H593=\"\",\"\",入力シート!H593)","v":""},{"$f":"IF(入力シート!I593=\"\",\"\",入力シート!I593)","v":""},{"$f":"IF(入力シート!J593=\"\",\"\",入力シート!J593)","v":""},{"$f":"IF(入力シート!K593=\"\",\"\",入力シート!K593)","v":""},{"$f":"IF(入力シート!L593=\"\",\"\",入力シート!L593)","v":""},{"$f":"IF(入力シート!M593=\"\",\"\",入力シート!M593)","v":""},{"$f":"IF(入力シート!N593=\"\",\"\",入力シート!N593)","v":""},{"$f":"IF(入力シート!O593=\"\",\"\",入力シート!Q593)","v":""}]
[{"$f":"IF(入力シート!A594=\"\",\"\",入力シート!A594)","v":""},{"$f":"IF(入力シート!B594=\"\",\"\",入力シート!B594)","v":""},{"$f":"IF(入力シート!C594=\"\",\"\",入力シート!C594)","v":""},{"$f":"IF(入力シート!D594=\"\",\"\",TEXT(入力シート!D594,\"yyyy-mm-dd\"))","v":""},{"$f":"IF(入力シート!P594=\"\",\"\",TEXT(入力シート!P594,\"000-0000\"))","v":""},{"$f":"IF(入力シート!G594=\"\",\"\",入力シート!G594)","v":""},{"$f":"IF(入力シート!H594=\"\",\"\",入力シート!H594)","v":""},{"$f":"IF(入力シート!I594=\"\",\"\",入力シート!I594)","v":""},{"$f":"IF(入力シート!J594=\"\",\"\",入力シート!J594)","v":""},{"$f":"IF(入力シート!K594=\"\",\"\",入力シート!K594)","v":""},{"$f":"IF(入力シート!L594=\"\",\"\",入力シート!L594)","v":""},{"$f":"IF(入力シート!M594=\"\",\"\",入力シート!M594)","v":""},{"$f":"IF(入力シート!N594=\"\",\"\",入力シート!N594)","v":""},{"$f":"IF(入力シート!O594=\"\",\"\",入力シート!Q594)","v":""}]
[{"$f":"IF(入力シート!A595=\"\",\"\",入力シート!A595)","v":""},{"$f":"IF(入力シート!B595=\"\",\"\",入力シート!B595)","v":""},{"$f":"IF(入力シート!C595=\"\",\"\",入力シート!C595)","v":""},{"$f":"IF(入力シート!D595=\"\",\"\",TEXT(入力シート!D595,\"yyyy-mm-dd\"))","v":""},{"$f":"IF(入力シート!P595=\"\",\"\",TEXT(入力シート!P595,\"000-0000\"))","v":""},{"$f":"IF(入力シート!G595=\"\",\"\",入力シート!G595)","v":""},{"$f":"IF(入力シート!H595=\"\",\"\",入力シート!H595)","v":""},{"$f":"IF(入力シート!I595=\"\",\"\",入力シート!I595)","v":""},{"$f":"IF(入力シート!J595=\"\",\"\",入力シート!J595)","v":""},{"$f":"IF(入力シート!K595=\"\",\"\",入力シート!K595)","v":""},{"$f":"IF(入力シート!L595=\"\",\"\",入力シート!L595)","v":""},{"$f":"IF(入力シート!M595=\"\",\"\",入力シート!M595)","v":""},{"$f":"IF(入力シート!N595=\"\",\"\",入力シート!N595)","v":""},{"$f":"IF(入力シート!O595=\"\",\"\",入力シート!Q595)","v":""}]
[{"$f":"IF(入力シート!A596=\"\",\"\",入力シート!A596)","v":""},{"$f":"IF(入力シート!B596=\"\",\"\",入力シート!B596)","v":""},{"$f":"IF(入力シート!C596=\"\",\"\",入力シート!C596)","v":""},{"$f":"IF(入力シート!D596=\"\",\"\",TEXT(入力シート!D596,\"yyyy-mm-dd\"))","v":""},{"$f":"IF(入力シート!P596=\"\",\"\",TEXT(入力シート!P596,\"000-0000\"))","v":""},{"$f":"IF(入力シート!G596=\"\",\"\",入力シート!G596)","v":""},{"$f":"IF(入力シート!H596=\"\",\"\",入力シート!H596)","v":""},{"$f":"IF(入力シート!I596=\"\",\"\",入力シート!I596)","v":""},{"$f":"IF(入力シート!J596=\"\",\"\",入力シート!J596)","v":""},{"$f":"IF(入力シート!K596=\"\",\"\",入力シート!K596)","v":""},{"$f":"IF(入力シート!L596=\"\",\"\",入力シート!L596)","v":""},{"$f":"IF(入力シート!M596=\"\",\"\",入力シート!M596)","v":""},{"$f":"IF(入力シート!N596=\"\",\"\",入力シート!N596)","v":""},{"$f":"IF(入力シート!O596=\"\",\"\",入力シート!Q596)","v":""}]
[{"$f":"IF(入力シート!A597=\"\",\"\",入力シート!A597)","v":""},{"$f":"IF(入力シート!B597=\"\",\"\",入力シート!B597)","v":""},{"$f":"IF(入力シート!C597=\"\",\"\",入力シート!C597)","v":""},{"$f":"IF(入力シート!D597=\"\",\"\",TEXT(入力シート!D597,\"yyyy-mm-dd\"))","v":""},{"$f":"IF(入力シート!P597=\"\",\"\",TEXT(入力シート!P597,\"000-0000\"))","v":""},{"$f":"IF(入力シート!G597=\"\",\"\",入力シート!G597)","v":""},{"$f":"IF(入力シート!H597=\"\",\"\",入力シート!H597)","v":""},{"$f":"IF(入力シート!I597=\"\",\"\",入力シート!I597)","v":""},{"$f":"IF(入力シート!J597=\"\",\"\",入力シート!J597)","v":""},{"$f":"IF(入力シート!K597=\"\",\"\",入力シート!K597)","v":""},{"$f":"IF(入力シート!L597=\"\",\"\",入力シート!L597)","v":""},{"$f":"IF(入力シート!M597=\"\",\"\",入力シート!M597)","v":""},{"$f":"IF(入力シート!N597=\"\",\"\",入力シート!N597)","v":""},{"$f":"IF(入力シート!O597=\"\",\"\",入力シート!Q597)","v":""}]
[{"$f":"IF(入力シート!A598=\"\",\"\",入力シート!A598)","v":""},{"$f":"IF(入力シート!B598=\"\",\"\",入力シート!B598)","v":""},{"$f":"IF(入力シート!C598=\"\",\"\",入力シート!C598)","v":""},{"$f":"IF(入力シート!D598=\"\",\"\",TEXT(入力シート!D598,\"yyyy-mm-dd\"))","v":""},{"$f":"IF(入力シート!P598=\"\",\"\",TEXT(入力シート!P598,\"000-0000\"))","v":""},{"$f":"IF(入力シート!G598=\"\",\"\",入力シート!G598)","v":""},{"$f":"IF(入力シート!H598=\"\",\"\",入力シート!H598)","v":""},{"$f":"IF(入力シート!I598=\"\",\"\",入力シート!I598)","v":""},{"$f":"IF(入力シート!J598=\"\",\"\",入力シート!J598)","v":""},{"$f":"IF(入力シート!K598=\"\",\"\",入力シート!K598)","v":""},{"$f":"IF(入力シート!L598=\"\",\"\",入力シート!L598)","v":""},{"$f":"IF(入力シート!M598=\"\",\"\",入力シート!M598)","v":""},{"$f":"IF(入力シート!N598=\"\",\"\",入力シート!N598)","v":""},{"$f":"IF(入力シート!O598=\"\",\"\",入力シート!Q598)","v":""}]
[{"$f":"IF(入力シート!A599=\"\",\"\",入力シート!A599)","v":""},{"$f":"IF(入力シート!B599=\"\",\"\",入力シート!B599)","v":""},{"$f":"IF(入力シート!C599=\"\",\"\",入力シート!C599)","v":""},{"$f":"IF(入力シート!D599=\"\",\"\",TEXT(入力シート!D599,\"yyyy-mm-dd\"))","v":""},{"$f":"IF(入力シート!P599=\"\",\"\",TEXT(入力シート!P599,\"000-0000\"))","v":""},{"$f":"IF(入力シート!G599=\"\",\"\",入力シート!G599)","v":""},{"$f":"IF(入力シート!H599=\"\",\"\",入力シート!H599)","v":""},{"$f":"IF(入力シート!I599=\"\",\"\",入力シート!I599)","v":""},{"$f":"IF(入力シート!J599=\"\",\"\",入力シート!J599)","v":""},{"$f":"IF(入力シート!K599=\"\",\"\",入力シート!K599)","v":""},{"$f":"IF(入力シート!L599=\"\",\"\",入力シート!L599)","v":""},{"$f":"IF(入力シート!M599=\"\",\"\",入力シート!M599)","v":""},{"$f":"IF(入力シート!N599=\"\",\"\",入力シート!N599)","v":""},{"$f":"IF(入力シート!O599=\"\",\"\",入力シート!Q599)","v":""}]
[{"$f":"IF(入力シート!A600=\"\",\"\",入力シート!A600)","v":""},{"$f":"IF(入力シート!B600=\"\",\"\",入力シート!B600)","v":""},{"$f":"IF(入力シート!C600=\"\",\"\",入力シート!C600)","v":""},{"$f":"IF(入力シート!D600=\"\",\"\",TEXT(入力シート!D600,\"yyyy-mm-dd\"))","v":""},{"$f":"IF(入力シート!P600=\"\",\"\",TEXT(入力シート!P600,\"000-0000\"))","v":""},{"$f":"IF(入力シート!G600=\"\",\"\",入力シート!G600)","v":""},{"$f":"IF(入力シート!H600=\"\",\"\",入力シート!H600)","v":""},{"$f":"IF(入力シート!I600=\"\",\"\",入力シート!I600)","v":""},{"$f":"IF(入力シート!J600=\"\",\"\",入力シート!J600)","v":""},{"$f":"IF(入力シート!K600=\"\",\"\",入力シート!K600)","v":""},{"$f":"IF(入力シート!L600=\"\",\"\",入力シート!L600)","v":""},{"$f":"IF(入力シート!M600=\"\",\"\",入力シート!M600)","v":""},{"$f":"IF(入力シート!N600=\"\",\"\",入力シート!N600)","v":""},{"$f":"IF(入力シート!O600=\"\",\"\",入力シート!Q600)","v":""}]
[{"$f":"IF(入力シート!A601=\"\",\"\",入力シート!A601)","v":""},{"$f":"IF(入力シート!B601=\"\",\"\",入力シート!B601)","v":""},{"$f":"IF(入力シート!C601=\"\",\"\",入力シート!C601)","v":""},{"$f":"IF(入力シート!D601=\"\",\"\",TEXT(入力シート!D601,\"yyyy-mm-dd\"))","v":""},{"$f":"IF(入力シート!P601=\"\",\"\",TEXT(入力シート!P601,\"000-0000\"))","v":""},{"$f":"IF(入力シート!G601=\"\",\"\",入力シート!G601)","v":""},{"$f":"IF(入力シート!H601=\"\",\"\",入力シート!H601)","v":""},{"$f":"IF(入力シート!I601=\"\",\"\",入力シート!I601)","v":""},{"$f":"IF(入力シート!J601=\"\",\"\",入力シート!J601)","v":""},{"$f":"IF(入力シート!K601=\"\",\"\",入力シート!K601)","v":""},{"$f":"IF(入力シート!L601=\"\",\"\",入力シート!L601)","v":""},{"$f":"IF(入力シート!M601=\"\",\"\",入力シート!M601)","v":""},{"$f":"IF(入力シート!N601=\"\",\"\",入力シート!N601)","v":""},{"$f":"IF(入力シート!O601=\"\",\"\",入力シート!Q601)","v":""}]
[{"$f":"IF(入力シート!A602=\"\",\"\",入力シート!A602)","v":""},{"$f":"IF(入力シート!B602=\"\",\"\",入力シート!B602)","v":""},{"$f":"IF(入力シート!C602=\"\",\"\",入力シート!C602)","v":""},{"$f":"IF(入力シート!D602=\"\",\"\",TEXT(入力シート!D602,\"yyyy-mm-dd\"))","v":""},{"$f":"IF(入力シート!P602=\"\",\"\",TEXT(入力シート!P602,\"000-0000\"))","v":""},{"$f":"IF(入力シート!G602=\"\",\"\",入力シート!G602)","v":""},{"$f":"IF(入力シート!H602=\"\",\"\",入力シート!H602)","v":""},{"$f":"IF(入力シート!I602=\"\",\"\",入力シート!I602)","v":""},{"$f":"IF(入力シート!J602=\"\",\"\",入力シート!J602)","v":""},{"$f":"IF(入力シート!K602=\"\",\"\",入力シート!K602)","v":""},{"$f":"IF(入力シート!L602=\"\",\"\",入力シート!L602)","v":""},{"$f":"IF(入力シート!M602=\"\",\"\",入力シート!M602)","v":""},{"$f":"IF(入力シート!N602=\"\",\"\",入力シート!N602)","v":""},{"$f":"IF(入力シート!O602=\"\",\"\",入力シート!Q602)","v":""}]
[{"$f":"IF(入力シート!A603=\"\",\"\",入力シート!A603)","v":""},{"$f":"IF(入力シート!B603=\"\",\"\",入力シート!B603)","v":""},{"$f":"IF(入力シート!C603=\"\",\"\",入力シート!C603)","v":""},{"$f":"IF(入力シート!D603=\"\",\"\",TEXT(入力シート!D603,\"yyyy-mm-dd\"))","v":""},{"$f":"IF(入力シート!P603=\"\",\"\",TEXT(入力シート!P603,\"000-0000\"))","v":""},{"$f":"IF(入力シート!G603=\"\",\"\",入力シート!G603)","v":""},{"$f":"IF(入力シート!H603=\"\",\"\",入力シート!H603)","v":""},{"$f":"IF(入力シート!I603=\"\",\"\",入力シート!I603)","v":""},{"$f":"IF(入力シート!J603=\"\",\"\",入力シート!J603)","v":""},{"$f":"IF(入力シート!K603=\"\",\"\",入力シート!K603)","v":""},{"$f":"IF(入力シート!L603=\"\",\"\",入力シート!L603)","v":""},{"$f":"IF(入力シート!M603=\"\",\"\",入力シート!M603)","v":""},{"$f":"IF(入力シート!N603=\"\",\"\",入力シート!N603)","v":""},{"$f":"IF(入力シート!O603=\"\",\"\",入力シート!Q603)","v":""}]
[{"$f":"IF(入力シート!A604=\"\",\"\",入力シート!A604)","v":""},{"$f":"IF(入力シート!B604=\"\",\"\",入力シート!B604)","v":""},{"$f":"IF(入力シート!C604=\"\",\"\",入力シート!C604)","v":""},{"$f":"IF(入力シート!D604=\"\",\"\",TEXT(入力シート!D604,\"yyyy-mm-dd\"))","v":""},{"$f":"IF(入力シート!P604=\"\",\"\",TEXT(入力シート!P604,\"000-0000\"))","v":""},{"$f":"IF(入力シート!G604=\"\",\"\",入力シート!G604)","v":""},{"$f":"IF(入力シート!H604=\"\",\"\",入力シート!H604)","v":""},{"$f":"IF(入力シート!I604=\"\",\"\",入力シート!I604)","v":""},{"$f":"IF(入力シート!J604=\"\",\"\",入力シート!J604)","v":""},{"$f":"IF(入力シート!K604=\"\",\"\",入力シート!K604)","v":""},{"$f":"IF(入力シート!L604=\"\",\"\",入力シート!L604)","v":""},{"$f":"IF(入力シート!M604=\"\",\"\",入力シート!M604)","v":""},{"$f":"IF(入力シート!N604=\"\",\"\",入力シート!N604)","v":""},{"$f":"IF(入力シート!O604=\"\",\"\",入力シート!Q604)","v":""}]
[{"$f":"IF(入力シート!A605=\"\",\"\",入力シート!A605)","v":""},{"$f":"IF(入力シート!B605=\"\",\"\",入力シート!B605)","v":""},{"$f":"IF(入力シート!C605=\"\",\"\",入力シート!C605)","v":""},{"$f":"IF(入力シート!D605=\"\",\"\",TEXT(入力シート!D605,\"yyyy-mm-dd\"))","v":""},{"$f":"IF(入力シート!P605=\"\",\"\",TEXT(入力シート!P605,\"000-0000\"))","v":""},{"$f":"IF(入力シート!G605=\"\",\"\",入力シート!G605)","v":""},{"$f":"IF(入力シート!H605=\"\",\"\",入力シート!H605)","v":""},{"$f":"IF(入力シート!I605=\"\",\"\",入力シート!I605)","v":""},{"$f":"IF(入力シート!J605=\"\",\"\",入力シート!J605)","v":""},{"$f":"IF(入力シート!K605=\"\",\"\",入力シート!K605)","v":""},{"$f":"IF(入力シート!L605=\"\",\"\",入力シート!L605)","v":""},{"$f":"IF(入力シート!M605=\"\",\"\",入力シート!M605)","v":""},{"$f":"IF(入力シート!N605=\"\",\"\",入力シート!N605)","v":""},{"$f":"IF(入力シート!O605=\"\",\"\",入力シート!Q605)","v":""}]
[{"$f":"IF(入力シート!A606=\"\",\"\",入力シート!A606)","v":""},{"$f":"IF(入力シート!B606=\"\",\"\",入力シート!B606)","v":""},{"$f":"IF(入力シート!C606=\"\",\"\",入力シート!C606)","v":""},{"$f":"IF(入力シート!D606=\"\",\"\",TEXT(入力シート!D606,\"yyyy-mm-dd\"))","v":""},{"$f":"IF(入力シート!P606=\"\",\"\",TEXT(入力シート!P606,\"000-0000\"))","v":""},{"$f":"IF(入力シート!G606=\"\",\"\",入力シート!G606)","v":""},{"$f":"IF(入力シート!H606=\"\",\"\",入力シート!H606)","v":""},{"$f":"IF(入力シート!I606=\"\",\"\",入力シート!I606)","v":""},{"$f":"IF(入力シート!J606=\"\",\"\",入力シート!J606)","v":""},{"$f":"IF(入力シート!K606=\"\",\"\",入力シート!K606)","v":""},{"$f":"IF(入力シート!L606=\"\",\"\",入力シート!L606)","v":""},{"$f":"IF(入力シート!M606=\"\",\"\",入力シート!M606)","v":""},{"$f":"IF(入力シート!N606=\"\",\"\",入力シート!N606)","v":""},{"$f":"IF(入力シート!O606=\"\",\"\",入力シート!Q606)","v":""}]
[{"$f":"IF(入力シート!A607=\"\",\"\",入力シート!A607)","v":""},{"$f":"IF(入力シート!B607=\"\",\"\",入力シート!B607)","v":""},{"$f":"IF(入力シート!C607=\"\",\"\",入力シート!C607)","v":""},{"$f":"IF(入力シート!D607=\"\",\"\",TEXT(入力シート!D607,\"yyyy-mm-dd\"))","v":""},{"$f":"IF(入力シート!P607=\"\",\"\",TEXT(入力シート!P607,\"000-0000\"))","v":""},{"$f":"IF(入力シート!G607=\"\",\"\",入力シート!G607)","v":""},{"$f":"IF(入力シート!H607=\"\",\"\",入力シート!H607)","v":""},{"$f":"IF(入力シート!I607=\"\",\"\",入力シート!I607)","v":""},{"$f":"IF(入力シート!J607=\"\",\"\",入力シート!J607)","v":""},{"$f":"IF(入力シート!K607=\"\",\"\",入力シート!K607)","v":""},{"$f":"IF(入力シート!L607=\"\",\"\",入力シート!L607)","v":""},{"$f":"IF(入力シート!M607=\"\",\"\",入力シート!M607)","v":""},{"$f":"IF(入力シート!N607=\"\",\"\",入力シート!N607)","v":""},{"$f":"IF(入力シート!O607=\"\",\"\",入力シート!Q607)","v":""}]
[{"$f":"IF(入力シート!A608=\"\",\"\",入力シート!A608)","v":""},{"$f":"IF(入力シート!B608=\"\",\"\",入力シート!B608)","v":""},{"$f":"IF(入力シート!C608=\"\",\"\",入力シート!C608)","v":""},{"$f":"IF(入力シート!D608=\"\",\"\",TEXT(入力シート!D608,\"yyyy-mm-dd\"))","v":""},{"$f":"IF(入力シート!P608=\"\",\"\",TEXT(入力シート!P608,\"000-0000\"))","v":""},{"$f":"IF(入力シート!G608=\"\",\"\",入力シート!G608)","v":""},{"$f":"IF(入力シート!H608=\"\",\"\",入力シート!H608)","v":""},{"$f":"IF(入力シート!I608=\"\",\"\",入力シート!I608)","v":""},{"$f":"IF(入力シート!J608=\"\",\"\",入力シート!J608)","v":""},{"$f":"IF(入力シート!K608=\"\",\"\",入力シート!K608)","v":""},{"$f":"IF(入力シート!L608=\"\",\"\",入力シート!L608)","v":""},{"$f":"IF(入力シート!M608=\"\",\"\",入力シート!M608)","v":""},{"$f":"IF(入力シート!N608=\"\",\"\",入力シート!N608)","v":""},{"$f":"IF(入力シート!O608=\"\",\"\",入力シート!Q608)","v":""}]
[{"$f":"IF(入力シート!A609=\"\",\"\",入力シート!A609)","v":""},{"$f":"IF(入力シート!B609=\"\",\"\",入力シート!B609)","v":""},{"$f":"IF(入力シート!C609=\"\",\"\",入力シート!C609)","v":""},{"$f":"IF(入力シート!D609=\"\",\"\",TEXT(入力シート!D609,\"yyyy-mm-dd\"))","v":""},{"$f":"IF(入力シート!P609=\"\",\"\",TEXT(入力シート!P609,\"000-0000\"))","v":""},{"$f":"IF(入力シート!G609=\"\",\"\",入力シート!G609)","v":""},{"$f":"IF(入力シート!H609=\"\",\"\",入力シート!H609)","v":""},{"$f":"IF(入力シート!I609=\"\",\"\",入力シート!I609)","v":""},{"$f":"IF(入力シート!J609=\"\",\"\",入力シート!J609)","v":""},{"$f":"IF(入力シート!K609=\"\",\"\",入力シート!K609)","v":""},{"$f":"IF(入力シート!L609=\"\",\"\",入力シート!L609)","v":""},{"$f":"IF(入力シート!M609=\"\",\"\",入力シート!M609)","v":""},{"$f":"IF(入力シート!N609=\"\",\"\",入力シート!N609)","v":""},{"$f":"IF(入力シート!O609=\"\",\"\",入力シート!Q609)","v":""}]
[{"$f":"IF(入力シート!A610=\"\",\"\",入力シート!A610)","v":""},{"$f":"IF(入力シート!B610=\"\",\"\",入力シート!B610)","v":""},{"$f":"IF(入力シート!C610=\"\",\"\",入力シート!C610)","v":""},{"$f":"IF(入力シート!D610=\"\",\"\",TEXT(入力シート!D610,\"yyyy-mm-dd\"))","v":""},{"$f":"IF(入力シート!P610=\"\",\"\",TEXT(入力シート!P610,\"000-0000\"))","v":""},{"$f":"IF(入力シート!G610=\"\",\"\",入力シート!G610)","v":""},{"$f":"IF(入力シート!H610=\"\",\"\",入力シート!H610)","v":""},{"$f":"IF(入力シート!I610=\"\",\"\",入力シート!I610)","v":""},{"$f":"IF(入力シート!J610=\"\",\"\",入力シート!J610)","v":""},{"$f":"IF(入力シート!K610=\"\",\"\",入力シート!K610)","v":""},{"$f":"IF(入力シート!L610=\"\",\"\",入力シート!L610)","v":""},{"$f":"IF(入力シート!M610=\"\",\"\",入力シート!M610)","v":""},{"$f":"IF(入力シート!N610=\"\",\"\",入力シート!N610)","v":""},{"$f":"IF(入力シート!O610=\"\",\"\",入力シート!Q610)","v":""}]
[{"$f":"IF(入力シート!A611=\"\",\"\",入力シート!A611)","v":""},{"$f":"IF(入力シート!B611=\"\",\"\",入力シート!B611)","v":""},{"$f":"IF(入力シート!C611=\"\",\"\",入力シート!C611)","v":""},{"$f":"IF(入力シート!D611=\"\",\"\",TEXT(入力シート!D611,\"yyyy-mm-dd\"))","v":""},{"$f":"IF(入力シート!P611=\"\",\"\",TEXT(入力シート!P611,\"000-0000\"))","v":""},{"$f":"IF(入力シート!G611=\"\",\"\",入力シート!G611)","v":""},{"$f":"IF(入力シート!H611=\"\",\"\",入力シート!H611)","v":""},{"$f":"IF(入力シート!I611=\"\",\"\",入力シート!I611)","v":""},{"$f":"IF(入力シート!J611=\"\",\"\",入力シート!J611)","v":""},{"$f":"IF(入力シート!K611=\"\",\"\",入力シート!K611)","v":""},{"$f":"IF(入力シート!L611=\"\",\"\",入力シート!L611)","v":""},{"$f":"IF(入力シート!M611=\"\",\"\",入力シート!M611)","v":""},{"$f":"IF(入力シート!N611=\"\",\"\",入力シート!N611)","v":""},{"$f":"IF(入力シート!O611=\"\",\"\",入力シート!Q611)","v":""}]
[{"$f":"IF(入力シート!A612=\"\",\"\",入力シート!A612)","v":""},{"$f":"IF(入力シート!B612=\"\",\"\",入力シート!B612)","v":""},{"$f":"IF(入力シート!C612=\"\",\"\",入力シート!C612)","v":""},{"$f":"IF(入力シート!D612=\"\",\"\",TEXT(入力シート!D612,\"yyyy-mm-dd\"))","v":""},{"$f":"IF(入力シート!P612=\"\",\"\",TEXT(入力シート!P612,\"000-0000\"))","v":""},{"$f":"IF(入力シート!G612=\"\",\"\",入力シート!G612)","v":""},{"$f":"IF(入力シート!H612=\"\",\"\",入力シート!H612)","v":""},{"$f":"IF(入力シート!I612=\"\",\"\",入力シート!I612)","v":""},{"$f":"IF(入力シート!J612=\"\",\"\",入力シート!J612)","v":""},{"$f":"IF(入力シート!K612=\"\",\"\",入力シート!K612)","v":""},{"$f":"IF(入力シート!L612=\"\",\"\",入力シート!L612)","v":""},{"$f":"IF(入力シート!M612=\"\",\"\",入力シート!M612)","v":""},{"$f":"IF(入力シート!N612=\"\",\"\",入力シート!N612)","v":""},{"$f":"IF(入力シート!O612=\"\",\"\",入力シート!Q612)","v":""}]
[{"$f":"IF(入力シート!A613=\"\",\"\",入力シート!A613)","v":""},{"$f":"IF(入力シート!B613=\"\",\"\",入力シート!B613)","v":""},{"$f":"IF(入力シート!C613=\"\",\"\",入力シート!C613)","v":""},{"$f":"IF(入力シート!D613=\"\",\"\",TEXT(入力シート!D613,\"yyyy-mm-dd\"))","v":""},{"$f":"IF(入力シート!P613=\"\",\"\",TEXT(入力シート!P613,\"000-0000\"))","v":""},{"$f":"IF(入力シート!G613=\"\",\"\",入力シート!G613)","v":""},{"$f":"IF(入力シート!H613=\"\",\"\",入力シート!H613)","v":""},{"$f":"IF(入力シート!I613=\"\",\"\",入力シート!I613)","v":""},{"$f":"IF(入力シート!J613=\"\",\"\",入力シート!J613)","v":""},{"$f":"IF(入力シート!K613=\"\",\"\",入力シート!K613)","v":""},{"$f":"IF(入力シート!L613=\"\",\"\",入力シート!L613)","v":""},{"$f":"IF(入力シート!M613=\"\",\"\",入力シート!M613)","v":""},{"$f":"IF(入力シート!N613=\"\",\"\",入力シート!N613)","v":""},{"$f":"IF(入力シート!O613=\"\",\"\",入力シート!Q613)","v":""}]
[{"$f":"IF(入力シート!A614=\"\",\"\",入力シート!A614)","v":""},{"$f":"IF(入力シート!B614=\"\",\"\",入力シート!B614)","v":""},{"$f":"IF(入力シート!C614=\"\",\"\",入力シート!C614)","v":""},{"$f":"IF(入力シート!D614=\"\",\"\",TEXT(入力シート!D614,\"yyyy-mm-dd\"))","v":""},{"$f":"IF(入力シート!P614=\"\",\"\",TEXT(入力シート!P614,\"000-0000\"))","v":""},{"$f":"IF(入力シート!G614=\"\",\"\",入力シート!G614)","v":""},{"$f":"IF(入力シート!H614=\"\",\"\",入力シート!H614)","v":""},{"$f":"IF(入力シート!I614=\"\",\"\",入力シート!I614)","v":""},{"$f":"IF(入力シート!J614=\"\",\"\",入力シート!J614)","v":""},{"$f":"IF(入力シート!K614=\"\",\"\",入力シート!K614)","v":""},{"$f":"IF(入力シート!L614=\"\",\"\",入力シート!L614)","v":""},{"$f":"IF(入力シート!M614=\"\",\"\",入力シート!M614)","v":""},{"$f":"IF(入力シート!N614=\"\",\"\",入力シート!N614)","v":""},{"$f":"IF(入力シート!O614=\"\",\"\",入力シート!Q614)","v":""}]
[{"$f":"IF(入力シート!A615=\"\",\"\",入力シート!A615)","v":""},{"$f":"IF(入力シート!B615=\"\",\"\",入力シート!B615)","v":""},{"$f":"IF(入力シート!C615=\"\",\"\",入力シート!C615)","v":""},{"$f":"IF(入力シート!D615=\"\",\"\",TEXT(入力シート!D615,\"yyyy-mm-dd\"))","v":""},{"$f":"IF(入力シート!P615=\"\",\"\",TEXT(入力シート!P615,\"000-0000\"))","v":""},{"$f":"IF(入力シート!G615=\"\",\"\",入力シート!G615)","v":""},{"$f":"IF(入力シート!H615=\"\",\"\",入力シート!H615)","v":""},{"$f":"IF(入力シート!I615=\"\",\"\",入力シート!I615)","v":""},{"$f":"IF(入力シート!J615=\"\",\"\",入力シート!J615)","v":""},{"$f":"IF(入力シート!K615=\"\",\"\",入力シート!K615)","v":""},{"$f":"IF(入力シート!L615=\"\",\"\",入力シート!L615)","v":""},{"$f":"IF(入力シート!M615=\"\",\"\",入力シート!M615)","v":""},{"$f":"IF(入力シート!N615=\"\",\"\",入力シート!N615)","v":""},{"$f":"IF(入力シート!O615=\"\",\"\",入力シート!Q615)","v":""}]
[{"$f":"IF(入力シート!A616=\"\",\"\",入力シート!A616)","v":""},{"$f":"IF(入力シート!B616=\"\",\"\",入力シート!B616)","v":""},{"$f":"IF(入力シート!C616=\"\",\"\",入力シート!C616)","v":""},{"$f":"IF(入力シート!D616=\"\",\"\",TEXT(入力シート!D616,\"yyyy-mm-dd\"))","v":""},{"$f":"IF(入力シート!P616=\"\",\"\",TEXT(入力シート!P616,\"000-0000\"))","v":""},{"$f":"IF(入力シート!G616=\"\",\"\",入力シート!G616)","v":""},{"$f":"IF(入力シート!H616=\"\",\"\",入力シート!H616)","v":""},{"$f":"IF(入力シート!I616=\"\",\"\",入力シート!I616)","v":""},{"$f":"IF(入力シート!J616=\"\",\"\",入力シート!J616)","v":""},{"$f":"IF(入力シート!K616=\"\",\"\",入力シート!K616)","v":""},{"$f":"IF(入力シート!L616=\"\",\"\",入力シート!L616)","v":""},{"$f":"IF(入力シート!M616=\"\",\"\",入力シート!M616)","v":""},{"$f":"IF(入力シート!N616=\"\",\"\",入力シート!N616)","v":""},{"$f":"IF(入力シート!O616=\"\",\"\",入力シート!Q616)","v":""}]
[{"$f":"IF(入力シート!A617=\"\",\"\",入力シート!A617)","v":""},{"$f":"IF(入力シート!B617=\"\",\"\",入力シート!B617)","v":""},{"$f":"IF(入力シート!C617=\"\",\"\",入力シート!C617)","v":""},{"$f":"IF(入力シート!D617=\"\",\"\",TEXT(入力シート!D617,\"yyyy-mm-dd\"))","v":""},{"$f":"IF(入力シート!P617=\"\",\"\",TEXT(入力シート!P617,\"000-0000\"))","v":""},{"$f":"IF(入力シート!G617=\"\",\"\",入力シート!G617)","v":""},{"$f":"IF(入力シート!H617=\"\",\"\",入力シート!H617)","v":""},{"$f":"IF(入力シート!I617=\"\",\"\",入力シート!I617)","v":""},{"$f":"IF(入力シート!J617=\"\",\"\",入力シート!J617)","v":""},{"$f":"IF(入力シート!K617=\"\",\"\",入力シート!K617)","v":""},{"$f":"IF(入力シート!L617=\"\",\"\",入力シート!L617)","v":""},{"$f":"IF(入力シート!M617=\"\",\"\",入力シート!M617)","v":""},{"$f":"IF(入力シート!N617=\"\",\"\",入力シート!N617)","v":""},{"$f":"IF(入力シート!O617=\"\",\"\",入力シート!Q617)","v":""}]
[{"$f":"IF(入力シート!A618=\"\",\"\",入力シート!A618)","v":""},{"$f":"IF(入力シート!B618=\"\",\"\",入力シート!B618)","v":""},{"$f":"IF(入力シート!C618=\"\",\"\",入力シート!C618)","v":""},{"$f":"IF(入力シート!D618=\"\",\"\",TEXT(入力シート!D618,\"yyyy-mm-dd\"))","v":""},{"$f":"IF(入力シート!P618=\"\",\"\",TEXT(入力シート!P618,\"000-0000\"))","v":""},{"$f":"IF(入力シート!G618=\"\",\"\",入力シート!G618)","v":""},{"$f":"IF(入力シート!H618=\"\",\"\",入力シート!H618)","v":""},{"$f":"IF(入力シート!I618=\"\",\"\",入力シート!I618)","v":""},{"$f":"IF(入力シート!J618=\"\",\"\",入力シート!J618)","v":""},{"$f":"IF(入力シート!K618=\"\",\"\",入力シート!K618)","v":""},{"$f":"IF(入力シート!L618=\"\",\"\",入力シート!L618)","v":""},{"$f":"IF(入力シート!M618=\"\",\"\",入力シート!M618)","v":""},{"$f":"IF(入力シート!N618=\"\",\"\",入力シート!N618)","v":""},{"$f":"IF(入力シート!O618=\"\",\"\",入力シート!Q618)","v":""}]
[{"$f":"IF(入力シート!A619=\"\",\"\",入力シート!A619)","v":""},{"$f":"IF(入力シート!B619=\"\",\"\",入力シート!B619)","v":""},{"$f":"IF(入力シート!C619=\"\",\"\",入力シート!C619)","v":""},{"$f":"IF(入力シート!D619=\"\",\"\",TEXT(入力シート!D619,\"yyyy-mm-dd\"))","v":""},{"$f":"IF(入力シート!P619=\"\",\"\",TEXT(入力シート!P619,\"000-0000\"))","v":""},{"$f":"IF(入力シート!G619=\"\",\"\",入力シート!G619)","v":""},{"$f":"IF(入力シート!H619=\"\",\"\",入力シート!H619)","v":""},{"$f":"IF(入力シート!I619=\"\",\"\",入力シート!I619)","v":""},{"$f":"IF(入力シート!J619=\"\",\"\",入力シート!J619)","v":""},{"$f":"IF(入力シート!K619=\"\",\"\",入力シート!K619)","v":""},{"$f":"IF(入力シート!L619=\"\",\"\",入力シート!L619)","v":""},{"$f":"IF(入力シート!M619=\"\",\"\",入力シート!M619)","v":""},{"$f":"IF(入力シート!N619=\"\",\"\",入力シート!N619)","v":""},{"$f":"IF(入力シート!O619=\"\",\"\",入力シート!Q619)","v":""}]
[{"$f":"IF(入力シート!A620=\"\",\"\",入力シート!A620)","v":""},{"$f":"IF(入力シート!B620=\"\",\"\",入力シート!B620)","v":""},{"$f":"IF(入力シート!C620=\"\",\"\",入力シート!C620)","v":""},{"$f":"IF(入力シート!D620=\"\",\"\",TEXT(入力シート!D620,\"yyyy-mm-dd\"))","v":""},{"$f":"IF(入力シート!P620=\"\",\"\",TEXT(入力シート!P620,\"000-0000\"))","v":""},{"$f":"IF(入力シート!G620=\"\",\"\",入力シート!G620)","v":""},{"$f":"IF(入力シート!H620=\"\",\"\",入力シート!H620)","v":""},{"$f":"IF(入力シート!I620=\"\",\"\",入力シート!I620)","v":""},{"$f":"IF(入力シート!J620=\"\",\"\",入力シート!J620)","v":""},{"$f":"IF(入力シート!K620=\"\",\"\",入力シート!K620)","v":""},{"$f":"IF(入力シート!L620=\"\",\"\",入力シート!L620)","v":""},{"$f":"IF(入力シート!M620=\"\",\"\",入力シート!M620)","v":""},{"$f":"IF(入力シート!N620=\"\",\"\",入力シート!N620)","v":""},{"$f":"IF(入力シート!O620=\"\",\"\",入力シート!Q620)","v":""}]
[{"$f":"IF(入力シート!A621=\"\",\"\",入力シート!A621)","v":""},{"$f":"IF(入力シート!B621=\"\",\"\",入力シート!B621)","v":""},{"$f":"IF(入力シート!C621=\"\",\"\",入力シート!C621)","v":""},{"$f":"IF(入力シート!D621=\"\",\"\",TEXT(入力シート!D621,\"yyyy-mm-dd\"))","v":""},{"$f":"IF(入力シート!P621=\"\",\"\",TEXT(入力シート!P621,\"000-0000\"))","v":""},{"$f":"IF(入力シート!G621=\"\",\"\",入力シート!G621)","v":""},{"$f":"IF(入力シート!H621=\"\",\"\",入力シート!H621)","v":""},{"$f":"IF(入力シート!I621=\"\",\"\",入力シート!I621)","v":""},{"$f":"IF(入力シート!J621=\"\",\"\",入力シート!J621)","v":""},{"$f":"IF(入力シート!K621=\"\",\"\",入力シート!K621)","v":""},{"$f":"IF(入力シート!L621=\"\",\"\",入力シート!L621)","v":""},{"$f":"IF(入力シート!M621=\"\",\"\",入力シート!M621)","v":""},{"$f":"IF(入力シート!N621=\"\",\"\",入力シート!N621)","v":""},{"$f":"IF(入力シート!O621=\"\",\"\",入力シート!Q621)","v":""}]
[{"$f":"IF(入力シート!A622=\"\",\"\",入力シート!A622)","v":""},{"$f":"IF(入力シート!B622=\"\",\"\",入力シート!B622)","v":""},{"$f":"IF(入力シート!C622=\"\",\"\",入力シート!C622)","v":""},{"$f":"IF(入力シート!D622=\"\",\"\",TEXT(入力シート!D622,\"yyyy-mm-dd\"))","v":""},{"$f":"IF(入力シート!P622=\"\",\"\",TEXT(入力シート!P622,\"000-0000\"))","v":""},{"$f":"IF(入力シート!G622=\"\",\"\",入力シート!G622)","v":""},{"$f":"IF(入力シート!H622=\"\",\"\",入力シート!H622)","v":""},{"$f":"IF(入力シート!I622=\"\",\"\",入力シート!I622)","v":""},{"$f":"IF(入力シート!J622=\"\",\"\",入力シート!J622)","v":""},{"$f":"IF(入力シート!K622=\"\",\"\",入力シート!K622)","v":""},{"$f":"IF(入力シート!L622=\"\",\"\",入力シート!L622)","v":""},{"$f":"IF(入力シート!M622=\"\",\"\",入力シート!M622)","v":""},{"$f":"IF(入力シート!N622=\"\",\"\",入力シート!N622)","v":""},{"$f":"IF(入力シート!O622=\"\",\"\",入力シート!Q622)","v":""}]
[{"$f":"IF(入力シート!A623=\"\",\"\",入力シート!A623)","v":""},{"$f":"IF(入力シート!B623=\"\",\"\",入力シート!B623)","v":""},{"$f":"IF(入力シート!C623=\"\",\"\",入力シート!C623)","v":""},{"$f":"IF(入力シート!D623=\"\",\"\",TEXT(入力シート!D623,\"yyyy-mm-dd\"))","v":""},{"$f":"IF(入力シート!P623=\"\",\"\",TEXT(入力シート!P623,\"000-0000\"))","v":""},{"$f":"IF(入力シート!G623=\"\",\"\",入力シート!G623)","v":""},{"$f":"IF(入力シート!H623=\"\",\"\",入力シート!H623)","v":""},{"$f":"IF(入力シート!I623=\"\",\"\",入力シート!I623)","v":""},{"$f":"IF(入力シート!J623=\"\",\"\",入力シート!J623)","v":""},{"$f":"IF(入力シート!K623=\"\",\"\",入力シート!K623)","v":""},{"$f":"IF(入力シート!L623=\"\",\"\",入力シート!L623)","v":""},{"$f":"IF(入力シート!M623=\"\",\"\",入力シート!M623)","v":""},{"$f":"IF(入力シート!N623=\"\",\"\",入力シート!N623)","v":""},{"$f":"IF(入力シート!O623=\"\",\"\",入力シート!Q623)","v":""}]
[{"$f":"IF(入力シート!A624=\"\",\"\",入力シート!A624)","v":""},{"$f":"IF(入力シート!B624=\"\",\"\",入力シート!B624)","v":""},{"$f":"IF(入力シート!C624=\"\",\"\",入力シート!C624)","v":""},{"$f":"IF(入力シート!D624=\"\",\"\",TEXT(入力シート!D624,\"yyyy-mm-dd\"))","v":""},{"$f":"IF(入力シート!P624=\"\",\"\",TEXT(入力シート!P624,\"000-0000\"))","v":""},{"$f":"IF(入力シート!G624=\"\",\"\",入力シート!G624)","v":""},{"$f":"IF(入力シート!H624=\"\",\"\",入力シート!H624)","v":""},{"$f":"IF(入力シート!I624=\"\",\"\",入力シート!I624)","v":""},{"$f":"IF(入力シート!J624=\"\",\"\",入力シート!J624)","v":""},{"$f":"IF(入力シート!K624=\"\",\"\",入力シート!K624)","v":""},{"$f":"IF(入力シート!L624=\"\",\"\",入力シート!L624)","v":""},{"$f":"IF(入力シート!M624=\"\",\"\",入力シート!M624)","v":""},{"$f":"IF(入力シート!N624=\"\",\"\",入力シート!N624)","v":""},{"$f":"IF(入力シート!O624=\"\",\"\",入力シート!Q624)","v":""}]
[{"$f":"IF(入力シート!A625=\"\",\"\",入力シート!A625)","v":""},{"$f":"IF(入力シート!B625=\"\",\"\",入力シート!B625)","v":""},{"$f":"IF(入力シート!C625=\"\",\"\",入力シート!C625)","v":""},{"$f":"IF(入力シート!D625=\"\",\"\",TEXT(入力シート!D625,\"yyyy-mm-dd\"))","v":""},{"$f":"IF(入力シート!P625=\"\",\"\",TEXT(入力シート!P625,\"000-0000\"))","v":""},{"$f":"IF(入力シート!G625=\"\",\"\",入力シート!G625)","v":""},{"$f":"IF(入力シート!H625=\"\",\"\",入力シート!H625)","v":""},{"$f":"IF(入力シート!I625=\"\",\"\",入力シート!I625)","v":""},{"$f":"IF(入力シート!J625=\"\",\"\",入力シート!J625)","v":""},{"$f":"IF(入力シート!K625=\"\",\"\",入力シート!K625)","v":""},{"$f":"IF(入力シート!L625=\"\",\"\",入力シート!L625)","v":""},{"$f":"IF(入力シート!M625=\"\",\"\",入力シート!M625)","v":""},{"$f":"IF(入力シート!N625=\"\",\"\",入力シート!N625)","v":""},{"$f":"IF(入力シート!O625=\"\",\"\",入力シート!Q625)","v":""}]
[{"$f":"IF(入力シート!A626=\"\",\"\",入力シート!A626)","v":""},{"$f":"IF(入力シート!B626=\"\",\"\",入力シート!B626)","v":""},{"$f":"IF(入力シート!C626=\"\",\"\",入力シート!C626)","v":""},{"$f":"IF(入力シート!D626=\"\",\"\",TEXT(入力シート!D626,\"yyyy-mm-dd\"))","v":""},{"$f":"IF(入力シート!P626=\"\",\"\",TEXT(入力シート!P626,\"000-0000\"))","v":""},{"$f":"IF(入力シート!G626=\"\",\"\",入力シート!G626)","v":""},{"$f":"IF(入力シート!H626=\"\",\"\",入力シート!H626)","v":""},{"$f":"IF(入力シート!I626=\"\",\"\",入力シート!I626)","v":""},{"$f":"IF(入力シート!J626=\"\",\"\",入力シート!J626)","v":""},{"$f":"IF(入力シート!K626=\"\",\"\",入力シート!K626)","v":""},{"$f":"IF(入力シート!L626=\"\",\"\",入力シート!L626)","v":""},{"$f":"IF(入力シート!M626=\"\",\"\",入力シート!M626)","v":""},{"$f":"IF(入力シート!N626=\"\",\"\",入力シート!N626)","v":""},{"$f":"IF(入力シート!O626=\"\",\"\",入力シート!Q626)","v":""}]
[{"$f":"IF(入力シート!A627=\"\",\"\",入力シート!A627)","v":""},{"$f":"IF(入力シート!B627=\"\",\"\",入力シート!B627)","v":""},{"$f":"IF(入力シート!C627=\"\",\"\",入力シート!C627)","v":""},{"$f":"IF(入力シート!D627=\"\",\"\",TEXT(入力シート!D627,\"yyyy-mm-dd\"))","v":""},{"$f":"IF(入力シート!P627=\"\",\"\",TEXT(入力シート!P627,\"000-0000\"))","v":""},{"$f":"IF(入力シート!G627=\"\",\"\",入力シート!G627)","v":""},{"$f":"IF(入力シート!H627=\"\",\"\",入力シート!H627)","v":""},{"$f":"IF(入力シート!I627=\"\",\"\",入力シート!I627)","v":""},{"$f":"IF(入力シート!J627=\"\",\"\",入力シート!J627)","v":""},{"$f":"IF(入力シート!K627=\"\",\"\",入力シート!K627)","v":""},{"$f":"IF(入力シート!L627=\"\",\"\",入力シート!L627)","v":""},{"$f":"IF(入力シート!M627=\"\",\"\",入力シート!M627)","v":""},{"$f":"IF(入力シート!N627=\"\",\"\",入力シート!N627)","v":""},{"$f":"IF(入力シート!O627=\"\",\"\",入力シート!Q627)","v":""}]
[{"$f":"IF(入力シート!A628=\"\",\"\",入力シート!A628)","v":""},{"$f":"IF(入力シート!B628=\"\",\"\",入力シート!B628)","v":""},{"$f":"IF(入力シート!C628=\"\",\"\",入力シート!C628)","v":""},{"$f":"IF(入力シート!D628=\"\",\"\",TEXT(入力シート!D628,\"yyyy-mm-dd\"))","v":""},{"$f":"IF(入力シート!P628=\"\",\"\",TEXT(入力シート!P628,\"000-0000\"))","v":""},{"$f":"IF(入力シート!G628=\"\",\"\",入力シート!G628)","v":""},{"$f":"IF(入力シート!H628=\"\",\"\",入力シート!H628)","v":""},{"$f":"IF(入力シート!I628=\"\",\"\",入力シート!I628)","v":""},{"$f":"IF(入力シート!J628=\"\",\"\",入力シート!J628)","v":""},{"$f":"IF(入力シート!K628=\"\",\"\",入力シート!K628)","v":""},{"$f":"IF(入力シート!L628=\"\",\"\",入力シート!L628)","v":""},{"$f":"IF(入力シート!M628=\"\",\"\",入力シート!M628)","v":""},{"$f":"IF(入力シート!N628=\"\",\"\",入力シート!N628)","v":""},{"$f":"IF(入力シート!O628=\"\",\"\",入力シート!Q628)","v":""}]
[{"$f":"IF(入力シート!A629=\"\",\"\",入力シート!A629)","v":""},{"$f":"IF(入力シート!B629=\"\",\"\",入力シート!B629)","v":""},{"$f":"IF(入力シート!C629=\"\",\"\",入力シート!C629)","v":""},{"$f":"IF(入力シート!D629=\"\",\"\",TEXT(入力シート!D629,\"yyyy-mm-dd\"))","v":""},{"$f":"IF(入力シート!P629=\"\",\"\",TEXT(入力シート!P629,\"000-0000\"))","v":""},{"$f":"IF(入力シート!G629=\"\",\"\",入力シート!G629)","v":""},{"$f":"IF(入力シート!H629=\"\",\"\",入力シート!H629)","v":""},{"$f":"IF(入力シート!I629=\"\",\"\",入力シート!I629)","v":""},{"$f":"IF(入力シート!J629=\"\",\"\",入力シート!J629)","v":""},{"$f":"IF(入力シート!K629=\"\",\"\",入力シート!K629)","v":""},{"$f":"IF(入力シート!L629=\"\",\"\",入力シート!L629)","v":""},{"$f":"IF(入力シート!M629=\"\",\"\",入力シート!M629)","v":""},{"$f":"IF(入力シート!N629=\"\",\"\",入力シート!N629)","v":""},{"$f":"IF(入力シート!O629=\"\",\"\",入力シート!Q629)","v":""}]
[{"$f":"IF(入力シート!A630=\"\",\"\",入力シート!A630)","v":""},{"$f":"IF(入力シート!B630=\"\",\"\",入力シート!B630)","v":""},{"$f":"IF(入力シート!C630=\"\",\"\",入力シート!C630)","v":""},{"$f":"IF(入力シート!D630=\"\",\"\",TEXT(入力シート!D630,\"yyyy-mm-dd\"))","v":""},{"$f":"IF(入力シート!P630=\"\",\"\",TEXT(入力シート!P630,\"000-0000\"))","v":""},{"$f":"IF(入力シート!G630=\"\",\"\",入力シート!G630)","v":""},{"$f":"IF(入力シート!H630=\"\",\"\",入力シート!H630)","v":""},{"$f":"IF(入力シート!I630=\"\",\"\",入力シート!I630)","v":""},{"$f":"IF(入力シート!J630=\"\",\"\",入力シート!J630)","v":""},{"$f":"IF(入力シート!K630=\"\",\"\",入力シート!K630)","v":""},{"$f":"IF(入力シート!L630=\"\",\"\",入力シート!L630)","v":""},{"$f":"IF(入力シート!M630=\"\",\"\",入力シート!M630)","v":""},{"$f":"IF(入力シート!N630=\"\",\"\",入力シート!N630)","v":""},{"$f":"IF(入力シート!O630=\"\",\"\",入力シート!Q630)","v":""}]
[{"$f":"IF(入力シート!A631=\"\",\"\",入力シート!A631)","v":""},{"$f":"IF(入力シート!B631=\"\",\"\",入力シート!B631)","v":""},{"$f":"IF(入力シート!C631=\"\",\"\",入力シート!C631)","v":""},{"$f":"IF(入力シート!D631=\"\",\"\",TEXT(入力シート!D631,\"yyyy-mm-dd\"))","v":""},{"$f":"IF(入力シート!P631=\"\",\"\",TEXT(入力シート!P631,\"000-0000\"))","v":""},{"$f":"IF(入力シート!G631=\"\",\"\",入力シート!G631)","v":""},{"$f":"IF(入力シート!H631=\"\",\"\",入力シート!H631)","v":""},{"$f":"IF(入力シート!I631=\"\",\"\",入力シート!I631)","v":""},{"$f":"IF(入力シート!J631=\"\",\"\",入力シート!J631)","v":""},{"$f":"IF(入力シート!K631=\"\",\"\",入力シート!K631)","v":""},{"$f":"IF(入力シート!L631=\"\",\"\",入力シート!L631)","v":""},{"$f":"IF(入力シート!M631=\"\",\"\",入力シート!M631)","v":""},{"$f":"IF(入力シート!N631=\"\",\"\",入力シート!N631)","v":""},{"$f":"IF(入力シート!O631=\"\",\"\",入力シート!Q631)","v":""}]
[{"$f":"IF(入力シート!A632=\"\",\"\",入力シート!A632)","v":""},{"$f":"IF(入力シート!B632=\"\",\"\",入力シート!B632)","v":""},{"$f":"IF(入力シート!C632=\"\",\"\",入力シート!C632)","v":""},{"$f":"IF(入力シート!D632=\"\",\"\",TEXT(入力シート!D632,\"yyyy-mm-dd\"))","v":""},{"$f":"IF(入力シート!P632=\"\",\"\",TEXT(入力シート!P632,\"000-0000\"))","v":""},{"$f":"IF(入力シート!G632=\"\",\"\",入力シート!G632)","v":""},{"$f":"IF(入力シート!H632=\"\",\"\",入力シート!H632)","v":""},{"$f":"IF(入力シート!I632=\"\",\"\",入力シート!I632)","v":""},{"$f":"IF(入力シート!J632=\"\",\"\",入力シート!J632)","v":""},{"$f":"IF(入力シート!K632=\"\",\"\",入力シート!K632)","v":""},{"$f":"IF(入力シート!L632=\"\",\"\",入力シート!L632)","v":""},{"$f":"IF(入力シート!M632=\"\",\"\",入力シート!M632)","v":""},{"$f":"IF(入力シート!N632=\"\",\"\",入力シート!N632)","v":""},{"$f":"IF(入力シート!O632=\"\",\"\",入力シート!Q632)","v":""}]
[{"$f":"IF(入力シート!A633=\"\",\"\",入力シート!A633)","v":""},{"$f":"IF(入力シート!B633=\"\",\"\",入力シート!B633)","v":""},{"$f":"IF(入力シート!C633=\"\",\"\",入力シート!C633)","v":""},{"$f":"IF(入力シート!D633=\"\",\"\",TEXT(入力シート!D633,\"yyyy-mm-dd\"))","v":""},{"$f":"IF(入力シート!P633=\"\",\"\",TEXT(入力シート!P633,\"000-0000\"))","v":""},{"$f":"IF(入力シート!G633=\"\",\"\",入力シート!G633)","v":""},{"$f":"IF(入力シート!H633=\"\",\"\",入力シート!H633)","v":""},{"$f":"IF(入力シート!I633=\"\",\"\",入力シート!I633)","v":""},{"$f":"IF(入力シート!J633=\"\",\"\",入力シート!J633)","v":""},{"$f":"IF(入力シート!K633=\"\",\"\",入力シート!K633)","v":""},{"$f":"IF(入力シート!L633=\"\",\"\",入力シート!L633)","v":""},{"$f":"IF(入力シート!M633=\"\",\"\",入力シート!M633)","v":""},{"$f":"IF(入力シート!N633=\"\",\"\",入力シート!N633)","v":""},{"$f":"IF(入力シート!O633=\"\",\"\",入力シート!Q633)","v":""}]
[{"$f":"IF(入力シート!A634=\"\",\"\",入力シート!A634)","v":""},{"$f":"IF(入力シート!B634=\"\",\"\",入力シート!B634)","v":""},{"$f":"IF(入力シート!C634=\"\",\"\",入力シート!C634)","v":""},{"$f":"IF(入力シート!D634=\"\",\"\",TEXT(入力シート!D634,\"yyyy-mm-dd\"))","v":""},{"$f":"IF(入力シート!P634=\"\",\"\",TEXT(入力シート!P634,\"000-0000\"))","v":""},{"$f":"IF(入力シート!G634=\"\",\"\",入力シート!G634)","v":""},{"$f":"IF(入力シート!H634=\"\",\"\",入力シート!H634)","v":""},{"$f":"IF(入力シート!I634=\"\",\"\",入力シート!I634)","v":""},{"$f":"IF(入力シート!J634=\"\",\"\",入力シート!J634)","v":""},{"$f":"IF(入力シート!K634=\"\",\"\",入力シート!K634)","v":""},{"$f":"IF(入力シート!L634=\"\",\"\",入力シート!L634)","v":""},{"$f":"IF(入力シート!M634=\"\",\"\",入力シート!M634)","v":""},{"$f":"IF(入力シート!N634=\"\",\"\",入力シート!N634)","v":""},{"$f":"IF(入力シート!O634=\"\",\"\",入力シート!Q634)","v":""}]
[{"$f":"IF(入力シート!A635=\"\",\"\",入力シート!A635)","v":""},{"$f":"IF(入力シート!B635=\"\",\"\",入力シート!B635)","v":""},{"$f":"IF(入力シート!C635=\"\",\"\",入力シート!C635)","v":""},{"$f":"IF(入力シート!D635=\"\",\"\",TEXT(入力シート!D635,\"yyyy-mm-dd\"))","v":""},{"$f":"IF(入力シート!P635=\"\",\"\",TEXT(入力シート!P635,\"000-0000\"))","v":""},{"$f":"IF(入力シート!G635=\"\",\"\",入力シート!G635)","v":""},{"$f":"IF(入力シート!H635=\"\",\"\",入力シート!H635)","v":""},{"$f":"IF(入力シート!I635=\"\",\"\",入力シート!I635)","v":""},{"$f":"IF(入力シート!J635=\"\",\"\",入力シート!J635)","v":""},{"$f":"IF(入力シート!K635=\"\",\"\",入力シート!K635)","v":""},{"$f":"IF(入力シート!L635=\"\",\"\",入力シート!L635)","v":""},{"$f":"IF(入力シート!M635=\"\",\"\",入力シート!M635)","v":""},{"$f":"IF(入力シート!N635=\"\",\"\",入力シート!N635)","v":""},{"$f":"IF(入力シート!O635=\"\",\"\",入力シート!Q635)","v":""}]
[{"$f":"IF(入力シート!A636=\"\",\"\",入力シート!A636)","v":""},{"$f":"IF(入力シート!B636=\"\",\"\",入力シート!B636)","v":""},{"$f":"IF(入力シート!C636=\"\",\"\",入力シート!C636)","v":""},{"$f":"IF(入力シート!D636=\"\",\"\",TEXT(入力シート!D636,\"yyyy-mm-dd\"))","v":""},{"$f":"IF(入力シート!P636=\"\",\"\",TEXT(入力シート!P636,\"000-0000\"))","v":""},{"$f":"IF(入力シート!G636=\"\",\"\",入力シート!G636)","v":""},{"$f":"IF(入力シート!H636=\"\",\"\",入力シート!H636)","v":""},{"$f":"IF(入力シート!I636=\"\",\"\",入力シート!I636)","v":""},{"$f":"IF(入力シート!J636=\"\",\"\",入力シート!J636)","v":""},{"$f":"IF(入力シート!K636=\"\",\"\",入力シート!K636)","v":""},{"$f":"IF(入力シート!L636=\"\",\"\",入力シート!L636)","v":""},{"$f":"IF(入力シート!M636=\"\",\"\",入力シート!M636)","v":""},{"$f":"IF(入力シート!N636=\"\",\"\",入力シート!N636)","v":""},{"$f":"IF(入力シート!O636=\"\",\"\",入力シート!Q636)","v":""}]
[{"$f":"IF(入力シート!A637=\"\",\"\",入力シート!A637)","v":""},{"$f":"IF(入力シート!B637=\"\",\"\",入力シート!B637)","v":""},{"$f":"IF(入力シート!C637=\"\",\"\",入力シート!C637)","v":""},{"$f":"IF(入力シート!D637=\"\",\"\",TEXT(入力シート!D637,\"yyyy-mm-dd\"))","v":""},{"$f":"IF(入力シート!P637=\"\",\"\",TEXT(入力シート!P637,\"000-0000\"))","v":""},{"$f":"IF(入力シート!G637=\"\",\"\",入力シート!G637)","v":""},{"$f":"IF(入力シート!H637=\"\",\"\",入力シート!H637)","v":""},{"$f":"IF(入力シート!I637=\"\",\"\",入力シート!I637)","v":""},{"$f":"IF(入力シート!J637=\"\",\"\",入力シート!J637)","v":""},{"$f":"IF(入力シート!K637=\"\",\"\",入力シート!K637)","v":""},{"$f":"IF(入力シート!L637=\"\",\"\",入力シート!L637)","v":""},{"$f":"IF(入力シート!M637=\"\",\"\",入力シート!M637)","v":""},{"$f":"IF(入力シート!N637=\"\",\"\",入力シート!N637)","v":""},{"$f":"IF(入力シート!O637=\"\",\"\",入力シート!Q637)","v":""}]
[{"$f":"IF(入力シート!A638=\"\",\"\",入力シート!A638)","v":""},{"$f":"IF(入力シート!B638=\"\",\"\",入力シート!B638)","v":""},{"$f":"IF(入力シート!C638=\"\",\"\",入力シート!C638)","v":""},{"$f":"IF(入力シート!D638=\"\",\"\",TEXT(入力シート!D638,\"yyyy-mm-dd\"))","v":""},{"$f":"IF(入力シート!P638=\"\",\"\",TEXT(入力シート!P638,\"000-0000\"))","v":""},{"$f":"IF(入力シート!G638=\"\",\"\",入力シート!G638)","v":""},{"$f":"IF(入力シート!H638=\"\",\"\",入力シート!H638)","v":""},{"$f":"IF(入力シート!I638=\"\",\"\",入力シート!I638)","v":""},{"$f":"IF(入力シート!J638=\"\",\"\",入力シート!J638)","v":""},{"$f":"IF(入力シート!K638=\"\",\"\",入力シート!K638)","v":""},{"$f":"IF(入力シート!L638=\"\",\"\",入力シート!L638)","v":""},{"$f":"IF(入力シート!M638=\"\",\"\",入力シート!M638)","v":""},{"$f":"IF(入力シート!N638=\"\",\"\",入力シート!N638)","v":""},{"$f":"IF(入力シート!O638=\"\",\"\",入力シート!Q638)","v":""}]
[{"$f":"IF(入力シート!A639=\"\",\"\",入力シート!A639)","v":""},{"$f":"IF(入力シート!B639=\"\",\"\",入力シート!B639)","v":""},{"$f":"IF(入力シート!C639=\"\",\"\",入力シート!C639)","v":""},{"$f":"IF(入力シート!D639=\"\",\"\",TEXT(入力シート!D639,\"yyyy-mm-dd\"))","v":""},{"$f":"IF(入力シート!P639=\"\",\"\",TEXT(入力シート!P639,\"000-0000\"))","v":""},{"$f":"IF(入力シート!G639=\"\",\"\",入力シート!G639)","v":""},{"$f":"IF(入力シート!H639=\"\",\"\",入力シート!H639)","v":""},{"$f":"IF(入力シート!I639=\"\",\"\",入力シート!I639)","v":""},{"$f":"IF(入力シート!J639=\"\",\"\",入力シート!J639)","v":""},{"$f":"IF(入力シート!K639=\"\",\"\",入力シート!K639)","v":""},{"$f":"IF(入力シート!L639=\"\",\"\",入力シート!L639)","v":""},{"$f":"IF(入力シート!M639=\"\",\"\",入力シート!M639)","v":""},{"$f":"IF(入力シート!N639=\"\",\"\",入力シート!N639)","v":""},{"$f":"IF(入力シート!O639=\"\",\"\",入力シート!Q639)","v":""}]
[{"$f":"IF(入力シート!A640=\"\",\"\",入力シート!A640)","v":""},{"$f":"IF(入力シート!B640=\"\",\"\",入力シート!B640)","v":""},{"$f":"IF(入力シート!C640=\"\",\"\",入力シート!C640)","v":""},{"$f":"IF(入力シート!D640=\"\",\"\",TEXT(入力シート!D640,\"yyyy-mm-dd\"))","v":""},{"$f":"IF(入力シート!P640=\"\",\"\",TEXT(入力シート!P640,\"000-0000\"))","v":""},{"$f":"IF(入力シート!G640=\"\",\"\",入力シート!G640)","v":""},{"$f":"IF(入力シート!H640=\"\",\"\",入力シート!H640)","v":""},{"$f":"IF(入力シート!I640=\"\",\"\",入力シート!I640)","v":""},{"$f":"IF(入力シート!J640=\"\",\"\",入力シート!J640)","v":""},{"$f":"IF(入力シート!K640=\"\",\"\",入力シート!K640)","v":""},{"$f":"IF(入力シート!L640=\"\",\"\",入力シート!L640)","v":""},{"$f":"IF(入力シート!M640=\"\",\"\",入力シート!M640)","v":""},{"$f":"IF(入力シート!N640=\"\",\"\",入力シート!N640)","v":""},{"$f":"IF(入力シート!O640=\"\",\"\",入力シート!Q640)","v":""}]
[{"$f":"IF(入力シート!A641=\"\",\"\",入力シート!A641)","v":""},{"$f":"IF(入力シート!B641=\"\",\"\",入力シート!B641)","v":""},{"$f":"IF(入力シート!C641=\"\",\"\",入力シート!C641)","v":""},{"$f":"IF(入力シート!D641=\"\",\"\",TEXT(入力シート!D641,\"yyyy-mm-dd\"))","v":""},{"$f":"IF(入力シート!P641=\"\",\"\",TEXT(入力シート!P641,\"000-0000\"))","v":""},{"$f":"IF(入力シート!G641=\"\",\"\",入力シート!G641)","v":""},{"$f":"IF(入力シート!H641=\"\",\"\",入力シート!H641)","v":""},{"$f":"IF(入力シート!I641=\"\",\"\",入力シート!I641)","v":""},{"$f":"IF(入力シート!J641=\"\",\"\",入力シート!J641)","v":""},{"$f":"IF(入力シート!K641=\"\",\"\",入力シート!K641)","v":""},{"$f":"IF(入力シート!L641=\"\",\"\",入力シート!L641)","v":""},{"$f":"IF(入力シート!M641=\"\",\"\",入力シート!M641)","v":""},{"$f":"IF(入力シート!N641=\"\",\"\",入力シート!N641)","v":""},{"$f":"IF(入力シート!O641=\"\",\"\",入力シート!Q641)","v":""}]
[{"$f":"IF(入力シート!A642=\"\",\"\",入力シート!A642)","v":""},{"$f":"IF(入力シート!B642=\"\",\"\",入力シート!B642)","v":""},{"$f":"IF(入力シート!C642=\"\",\"\",入力シート!C642)","v":""},{"$f":"IF(入力シート!D642=\"\",\"\",TEXT(入力シート!D642,\"yyyy-mm-dd\"))","v":""},{"$f":"IF(入力シート!P642=\"\",\"\",TEXT(入力シート!P642,\"000-0000\"))","v":""},{"$f":"IF(入力シート!G642=\"\",\"\",入力シート!G642)","v":""},{"$f":"IF(入力シート!H642=\"\",\"\",入力シート!H642)","v":""},{"$f":"IF(入力シート!I642=\"\",\"\",入力シート!I642)","v":""},{"$f":"IF(入力シート!J642=\"\",\"\",入力シート!J642)","v":""},{"$f":"IF(入力シート!K642=\"\",\"\",入力シート!K642)","v":""},{"$f":"IF(入力シート!L642=\"\",\"\",入力シート!L642)","v":""},{"$f":"IF(入力シート!M642=\"\",\"\",入力シート!M642)","v":""},{"$f":"IF(入力シート!N642=\"\",\"\",入力シート!N642)","v":""},{"$f":"IF(入力シート!O642=\"\",\"\",入力シート!Q642)","v":""}]
[{"$f":"IF(入力シート!A643=\"\",\"\",入力シート!A643)","v":""},{"$f":"IF(入力シート!B643=\"\",\"\",入力シート!B643)","v":""},{"$f":"IF(入力シート!C643=\"\",\"\",入力シート!C643)","v":""},{"$f":"IF(入力シート!D643=\"\",\"\",TEXT(入力シート!D643,\"yyyy-mm-dd\"))","v":""},{"$f":"IF(入力シート!P643=\"\",\"\",TEXT(入力シート!P643,\"000-0000\"))","v":""},{"$f":"IF(入力シート!G643=\"\",\"\",入力シート!G643)","v":""},{"$f":"IF(入力シート!H643=\"\",\"\",入力シート!H643)","v":""},{"$f":"IF(入力シート!I643=\"\",\"\",入力シート!I643)","v":""},{"$f":"IF(入力シート!J643=\"\",\"\",入力シート!J643)","v":""},{"$f":"IF(入力シート!K643=\"\",\"\",入力シート!K643)","v":""},{"$f":"IF(入力シート!L643=\"\",\"\",入力シート!L643)","v":""},{"$f":"IF(入力シート!M643=\"\",\"\",入力シート!M643)","v":""},{"$f":"IF(入力シート!N643=\"\",\"\",入力シート!N643)","v":""},{"$f":"IF(入力シート!O643=\"\",\"\",入力シート!Q643)","v":""}]
[{"$f":"IF(入力シート!A644=\"\",\"\",入力シート!A644)","v":""},{"$f":"IF(入力シート!B644=\"\",\"\",入力シート!B644)","v":""},{"$f":"IF(入力シート!C644=\"\",\"\",入力シート!C644)","v":""},{"$f":"IF(入力シート!D644=\"\",\"\",TEXT(入力シート!D644,\"yyyy-mm-dd\"))","v":""},{"$f":"IF(入力シート!P644=\"\",\"\",TEXT(入力シート!P644,\"000-0000\"))","v":""},{"$f":"IF(入力シート!G644=\"\",\"\",入力シート!G644)","v":""},{"$f":"IF(入力シート!H644=\"\",\"\",入力シート!H644)","v":""},{"$f":"IF(入力シート!I644=\"\",\"\",入力シート!I644)","v":""},{"$f":"IF(入力シート!J644=\"\",\"\",入力シート!J644)","v":""},{"$f":"IF(入力シート!K644=\"\",\"\",入力シート!K644)","v":""},{"$f":"IF(入力シート!L644=\"\",\"\",入力シート!L644)","v":""},{"$f":"IF(入力シート!M644=\"\",\"\",入力シート!M644)","v":""},{"$f":"IF(入力シート!N644=\"\",\"\",入力シート!N644)","v":""},{"$f":"IF(入力シート!O644=\"\",\"\",入力シート!Q644)","v":""}]
[{"$f":"IF(入力シート!A645=\"\",\"\",入力シート!A645)","v":""},{"$f":"IF(入力シート!B645=\"\",\"\",入力シート!B645)","v":""},{"$f":"IF(入力シート!C645=\"\",\"\",入力シート!C645)","v":""},{"$f":"IF(入力シート!D645=\"\",\"\",TEXT(入力シート!D645,\"yyyy-mm-dd\"))","v":""},{"$f":"IF(入力シート!P645=\"\",\"\",TEXT(入力シート!P645,\"000-0000\"))","v":""},{"$f":"IF(入力シート!G645=\"\",\"\",入力シート!G645)","v":""},{"$f":"IF(入力シート!H645=\"\",\"\",入力シート!H645)","v":""},{"$f":"IF(入力シート!I645=\"\",\"\",入力シート!I645)","v":""},{"$f":"IF(入力シート!J645=\"\",\"\",入力シート!J645)","v":""},{"$f":"IF(入力シート!K645=\"\",\"\",入力シート!K645)","v":""},{"$f":"IF(入力シート!L645=\"\",\"\",入力シート!L645)","v":""},{"$f":"IF(入力シート!M645=\"\",\"\",入力シート!M645)","v":""},{"$f":"IF(入力シート!N645=\"\",\"\",入力シート!N645)","v":""},{"$f":"IF(入力シート!O645=\"\",\"\",入力シート!Q645)","v":""}]
[{"$f":"IF(入力シート!A646=\"\",\"\",入力シート!A646)","v":""},{"$f":"IF(入力シート!B646=\"\",\"\",入力シート!B646)","v":""},{"$f":"IF(入力シート!C646=\"\",\"\",入力シート!C646)","v":""},{"$f":"IF(入力シート!D646=\"\",\"\",TEXT(入力シート!D646,\"yyyy-mm-dd\"))","v":""},{"$f":"IF(入力シート!P646=\"\",\"\",TEXT(入力シート!P646,\"000-0000\"))","v":""},{"$f":"IF(入力シート!G646=\"\",\"\",入力シート!G646)","v":""},{"$f":"IF(入力シート!H646=\"\",\"\",入力シート!H646)","v":""},{"$f":"IF(入力シート!I646=\"\",\"\",入力シート!I646)","v":""},{"$f":"IF(入力シート!J646=\"\",\"\",入力シート!J646)","v":""},{"$f":"IF(入力シート!K646=\"\",\"\",入力シート!K646)","v":""},{"$f":"IF(入力シート!L646=\"\",\"\",入力シート!L646)","v":""},{"$f":"IF(入力シート!M646=\"\",\"\",入力シート!M646)","v":""},{"$f":"IF(入力シート!N646=\"\",\"\",入力シート!N646)","v":""},{"$f":"IF(入力シート!O646=\"\",\"\",入力シート!Q646)","v":""}]
[{"$f":"IF(入力シート!A647=\"\",\"\",入力シート!A647)","v":""},{"$f":"IF(入力シート!B647=\"\",\"\",入力シート!B647)","v":""},{"$f":"IF(入力シート!C647=\"\",\"\",入力シート!C647)","v":""},{"$f":"IF(入力シート!D647=\"\",\"\",TEXT(入力シート!D647,\"yyyy-mm-dd\"))","v":""},{"$f":"IF(入力シート!P647=\"\",\"\",TEXT(入力シート!P647,\"000-0000\"))","v":""},{"$f":"IF(入力シート!G647=\"\",\"\",入力シート!G647)","v":""},{"$f":"IF(入力シート!H647=\"\",\"\",入力シート!H647)","v":""},{"$f":"IF(入力シート!I647=\"\",\"\",入力シート!I647)","v":""},{"$f":"IF(入力シート!J647=\"\",\"\",入力シート!J647)","v":""},{"$f":"IF(入力シート!K647=\"\",\"\",入力シート!K647)","v":""},{"$f":"IF(入力シート!L647=\"\",\"\",入力シート!L647)","v":""},{"$f":"IF(入力シート!M647=\"\",\"\",入力シート!M647)","v":""},{"$f":"IF(入力シート!N647=\"\",\"\",入力シート!N647)","v":""},{"$f":"IF(入力シート!O647=\"\",\"\",入力シート!Q647)","v":""}]
[{"$f":"IF(入力シート!A648=\"\",\"\",入力シート!A648)","v":""},{"$f":"IF(入力シート!B648=\"\",\"\",入力シート!B648)","v":""},{"$f":"IF(入力シート!C648=\"\",\"\",入力シート!C648)","v":""},{"$f":"IF(入力シート!D648=\"\",\"\",TEXT(入力シート!D648,\"yyyy-mm-dd\"))","v":""},{"$f":"IF(入力シート!P648=\"\",\"\",TEXT(入力シート!P648,\"000-0000\"))","v":""},{"$f":"IF(入力シート!G648=\"\",\"\",入力シート!G648)","v":""},{"$f":"IF(入力シート!H648=\"\",\"\",入力シート!H648)","v":""},{"$f":"IF(入力シート!I648=\"\",\"\",入力シート!I648)","v":""},{"$f":"IF(入力シート!J648=\"\",\"\",入力シート!J648)","v":""},{"$f":"IF(入力シート!K648=\"\",\"\",入力シート!K648)","v":""},{"$f":"IF(入力シート!L648=\"\",\"\",入力シート!L648)","v":""},{"$f":"IF(入力シート!M648=\"\",\"\",入力シート!M648)","v":""},{"$f":"IF(入力シート!N648=\"\",\"\",入力シート!N648)","v":""},{"$f":"IF(入力シート!O648=\"\",\"\",入力シート!Q648)","v":""}]
[{"$f":"IF(入力シート!A649=\"\",\"\",入力シート!A649)","v":""},{"$f":"IF(入力シート!B649=\"\",\"\",入力シート!B649)","v":""},{"$f":"IF(入力シート!C649=\"\",\"\",入力シート!C649)","v":""},{"$f":"IF(入力シート!D649=\"\",\"\",TEXT(入力シート!D649,\"yyyy-mm-dd\"))","v":""},{"$f":"IF(入力シート!P649=\"\",\"\",TEXT(入力シート!P649,\"000-0000\"))","v":""},{"$f":"IF(入力シート!G649=\"\",\"\",入力シート!G649)","v":""},{"$f":"IF(入力シート!H649=\"\",\"\",入力シート!H649)","v":""},{"$f":"IF(入力シート!I649=\"\",\"\",入力シート!I649)","v":""},{"$f":"IF(入力シート!J649=\"\",\"\",入力シート!J649)","v":""},{"$f":"IF(入力シート!K649=\"\",\"\",入力シート!K649)","v":""},{"$f":"IF(入力シート!L649=\"\",\"\",入力シート!L649)","v":""},{"$f":"IF(入力シート!M649=\"\",\"\",入力シート!M649)","v":""},{"$f":"IF(入力シート!N649=\"\",\"\",入力シート!N649)","v":""},{"$f":"IF(入力シート!O649=\"\",\"\",入力シート!Q649)","v":""}]
[{"$f":"IF(入力シート!A650=\"\",\"\",入力シート!A650)","v":""},{"$f":"IF(入力シート!B650=\"\",\"\",入力シート!B650)","v":""},{"$f":"IF(入力シート!C650=\"\",\"\",入力シート!C650)","v":""},{"$f":"IF(入力シート!D650=\"\",\"\",TEXT(入力シート!D650,\"yyyy-mm-dd\"))","v":""},{"$f":"IF(入力シート!P650=\"\",\"\",TEXT(入力シート!P650,\"000-0000\"))","v":""},{"$f":"IF(入力シート!G650=\"\",\"\",入力シート!G650)","v":""},{"$f":"IF(入力シート!H650=\"\",\"\",入力シート!H650)","v":""},{"$f":"IF(入力シート!I650=\"\",\"\",入力シート!I650)","v":""},{"$f":"IF(入力シート!J650=\"\",\"\",入力シート!J650)","v":""},{"$f":"IF(入力シート!K650=\"\",\"\",入力シート!K650)","v":""},{"$f":"IF(入力シート!L650=\"\",\"\",入力シート!L650)","v":""},{"$f":"IF(入力シート!M650=\"\",\"\",入力シート!M650)","v":""},{"$f":"IF(入力シート!N650=\"\",\"\",入力シート!N650)","v":""},{"$f":"IF(入力シート!O650=\"\",\"\",入力シート!Q650)","v":""}]
[{"$f":"IF(入力シート!A651=\"\",\"\",入力シート!A651)","v":""},{"$f":"IF(入力シート!B651=\"\",\"\",入力シート!B651)","v":""},{"$f":"IF(入力シート!C651=\"\",\"\",入力シート!C651)","v":""},{"$f":"IF(入力シート!D651=\"\",\"\",TEXT(入力シート!D651,\"yyyy-mm-dd\"))","v":""},{"$f":"IF(入力シート!P651=\"\",\"\",TEXT(入力シート!P651,\"000-0000\"))","v":""},{"$f":"IF(入力シート!G651=\"\",\"\",入力シート!G651)","v":""},{"$f":"IF(入力シート!H651=\"\",\"\",入力シート!H651)","v":""},{"$f":"IF(入力シート!I651=\"\",\"\",入力シート!I651)","v":""},{"$f":"IF(入力シート!J651=\"\",\"\",入力シート!J651)","v":""},{"$f":"IF(入力シート!K651=\"\",\"\",入力シート!K651)","v":""},{"$f":"IF(入力シート!L651=\"\",\"\",入力シート!L651)","v":""},{"$f":"IF(入力シート!M651=\"\",\"\",入力シート!M651)","v":""},{"$f":"IF(入力シート!N651=\"\",\"\",入力シート!N651)","v":""},{"$f":"IF(入力シート!O651=\"\",\"\",入力シート!Q651)","v":""}]
[{"$f":"IF(入力シート!A652=\"\",\"\",入力シート!A652)","v":""},{"$f":"IF(入力シート!B652=\"\",\"\",入力シート!B652)","v":""},{"$f":"IF(入力シート!C652=\"\",\"\",入力シート!C652)","v":""},{"$f":"IF(入力シート!D652=\"\",\"\",TEXT(入力シート!D652,\"yyyy-mm-dd\"))","v":""},{"$f":"IF(入力シート!P652=\"\",\"\",TEXT(入力シート!P652,\"000-0000\"))","v":""},{"$f":"IF(入力シート!G652=\"\",\"\",入力シート!G652)","v":""},{"$f":"IF(入力シート!H652=\"\",\"\",入力シート!H652)","v":""},{"$f":"IF(入力シート!I652=\"\",\"\",入力シート!I652)","v":""},{"$f":"IF(入力シート!J652=\"\",\"\",入力シート!J652)","v":""},{"$f":"IF(入力シート!K652=\"\",\"\",入力シート!K652)","v":""},{"$f":"IF(入力シート!L652=\"\",\"\",入力シート!L652)","v":""},{"$f":"IF(入力シート!M652=\"\",\"\",入力シート!M652)","v":""},{"$f":"IF(入力シート!N652=\"\",\"\",入力シート!N652)","v":""},{"$f":"IF(入力シート!O652=\"\",\"\",入力シート!Q652)","v":""}]
[{"$f":"IF(入力シート!A653=\"\",\"\",入力シート!A653)","v":""},{"$f":"IF(入力シート!B653=\"\",\"\",入力シート!B653)","v":""},{"$f":"IF(入力シート!C653=\"\",\"\",入力シート!C653)","v":""},{"$f":"IF(入力シート!D653=\"\",\"\",TEXT(入力シート!D653,\"yyyy-mm-dd\"))","v":""},{"$f":"IF(入力シート!P653=\"\",\"\",TEXT(入力シート!P653,\"000-0000\"))","v":""},{"$f":"IF(入力シート!G653=\"\",\"\",入力シート!G653)","v":""},{"$f":"IF(入力シート!H653=\"\",\"\",入力シート!H653)","v":""},{"$f":"IF(入力シート!I653=\"\",\"\",入力シート!I653)","v":""},{"$f":"IF(入力シート!J653=\"\",\"\",入力シート!J653)","v":""},{"$f":"IF(入力シート!K653=\"\",\"\",入力シート!K653)","v":""},{"$f":"IF(入力シート!L653=\"\",\"\",入力シート!L653)","v":""},{"$f":"IF(入力シート!M653=\"\",\"\",入力シート!M653)","v":""},{"$f":"IF(入力シート!N653=\"\",\"\",入力シート!N653)","v":""},{"$f":"IF(入力シート!O653=\"\",\"\",入力シート!Q653)","v":""}]
[{"$f":"IF(入力シート!A654=\"\",\"\",入力シート!A654)","v":""},{"$f":"IF(入力シート!B654=\"\",\"\",入力シート!B654)","v":""},{"$f":"IF(入力シート!C654=\"\",\"\",入力シート!C654)","v":""},{"$f":"IF(入力シート!D654=\"\",\"\",TEXT(入力シート!D654,\"yyyy-mm-dd\"))","v":""},{"$f":"IF(入力シート!P654=\"\",\"\",TEXT(入力シート!P654,\"000-0000\"))","v":""},{"$f":"IF(入力シート!G654=\"\",\"\",入力シート!G654)","v":""},{"$f":"IF(入力シート!H654=\"\",\"\",入力シート!H654)","v":""},{"$f":"IF(入力シート!I654=\"\",\"\",入力シート!I654)","v":""},{"$f":"IF(入力シート!J654=\"\",\"\",入力シート!J654)","v":""},{"$f":"IF(入力シート!K654=\"\",\"\",入力シート!K654)","v":""},{"$f":"IF(入力シート!L654=\"\",\"\",入力シート!L654)","v":""},{"$f":"IF(入力シート!M654=\"\",\"\",入力シート!M654)","v":""},{"$f":"IF(入力シート!N654=\"\",\"\",入力シート!N654)","v":""},{"$f":"IF(入力シート!O654=\"\",\"\",入力シート!Q654)","v":""}]
[{"$f":"IF(入力シート!A655=\"\",\"\",入力シート!A655)","v":""},{"$f":"IF(入力シート!B655=\"\",\"\",入力シート!B655)","v":""},{"$f":"IF(入力シート!C655=\"\",\"\",入力シート!C655)","v":""},{"$f":"IF(入力シート!D655=\"\",\"\",TEXT(入力シート!D655,\"yyyy-mm-dd\"))","v":""},{"$f":"IF(入力シート!P655=\"\",\"\",TEXT(入力シート!P655,\"000-0000\"))","v":""},{"$f":"IF(入力シート!G655=\"\",\"\",入力シート!G655)","v":""},{"$f":"IF(入力シート!H655=\"\",\"\",入力シート!H655)","v":""},{"$f":"IF(入力シート!I655=\"\",\"\",入力シート!I655)","v":""},{"$f":"IF(入力シート!J655=\"\",\"\",入力シート!J655)","v":""},{"$f":"IF(入力シート!K655=\"\",\"\",入力シート!K655)","v":""},{"$f":"IF(入力シート!L655=\"\",\"\",入力シート!L655)","v":""},{"$f":"IF(入力シート!M655=\"\",\"\",入力シート!M655)","v":""},{"$f":"IF(入力シート!N655=\"\",\"\",入力シート!N655)","v":""},{"$f":"IF(入力シート!O655=\"\",\"\",入力シート!Q655)","v":""}]
[{"$f":"IF(入力シート!A656=\"\",\"\",入力シート!A656)","v":""},{"$f":"IF(入力シート!B656=\"\",\"\",入力シート!B656)","v":""},{"$f":"IF(入力シート!C656=\"\",\"\",入力シート!C656)","v":""},{"$f":"IF(入力シート!D656=\"\",\"\",TEXT(入力シート!D656,\"yyyy-mm-dd\"))","v":""},{"$f":"IF(入力シート!P656=\"\",\"\",TEXT(入力シート!P656,\"000-0000\"))","v":""},{"$f":"IF(入力シート!G656=\"\",\"\",入力シート!G656)","v":""},{"$f":"IF(入力シート!H656=\"\",\"\",入力シート!H656)","v":""},{"$f":"IF(入力シート!I656=\"\",\"\",入力シート!I656)","v":""},{"$f":"IF(入力シート!J656=\"\",\"\",入力シート!J656)","v":""},{"$f":"IF(入力シート!K656=\"\",\"\",入力シート!K656)","v":""},{"$f":"IF(入力シート!L656=\"\",\"\",入力シート!L656)","v":""},{"$f":"IF(入力シート!M656=\"\",\"\",入力シート!M656)","v":""},{"$f":"IF(入力シート!N656=\"\",\"\",入力シート!N656)","v":""},{"$f":"IF(入力シート!O656=\"\",\"\",入力シート!Q656)","v":""}]
[{"$f":"IF(入力シート!A657=\"\",\"\",入力シート!A657)","v":""},{"$f":"IF(入力シート!B657=\"\",\"\",入力シート!B657)","v":""},{"$f":"IF(入力シート!C657=\"\",\"\",入力シート!C657)","v":""},{"$f":"IF(入力シート!D657=\"\",\"\",TEXT(入力シート!D657,\"yyyy-mm-dd\"))","v":""},{"$f":"IF(入力シート!P657=\"\",\"\",TEXT(入力シート!P657,\"000-0000\"))","v":""},{"$f":"IF(入力シート!G657=\"\",\"\",入力シート!G657)","v":""},{"$f":"IF(入力シート!H657=\"\",\"\",入力シート!H657)","v":""},{"$f":"IF(入力シート!I657=\"\",\"\",入力シート!I657)","v":""},{"$f":"IF(入力シート!J657=\"\",\"\",入力シート!J657)","v":""},{"$f":"IF(入力シート!K657=\"\",\"\",入力シート!K657)","v":""},{"$f":"IF(入力シート!L657=\"\",\"\",入力シート!L657)","v":""},{"$f":"IF(入力シート!M657=\"\",\"\",入力シート!M657)","v":""},{"$f":"IF(入力シート!N657=\"\",\"\",入力シート!N657)","v":""},{"$f":"IF(入力シート!O657=\"\",\"\",入力シート!Q657)","v":""}]
[{"$f":"IF(入力シート!A658=\"\",\"\",入力シート!A658)","v":""},{"$f":"IF(入力シート!B658=\"\",\"\",入力シート!B658)","v":""},{"$f":"IF(入力シート!C658=\"\",\"\",入力シート!C658)","v":""},{"$f":"IF(入力シート!D658=\"\",\"\",TEXT(入力シート!D658,\"yyyy-mm-dd\"))","v":""},{"$f":"IF(入力シート!P658=\"\",\"\",TEXT(入力シート!P658,\"000-0000\"))","v":""},{"$f":"IF(入力シート!G658=\"\",\"\",入力シート!G658)","v":""},{"$f":"IF(入力シート!H658=\"\",\"\",入力シート!H658)","v":""},{"$f":"IF(入力シート!I658=\"\",\"\",入力シート!I658)","v":""},{"$f":"IF(入力シート!J658=\"\",\"\",入力シート!J658)","v":""},{"$f":"IF(入力シート!K658=\"\",\"\",入力シート!K658)","v":""},{"$f":"IF(入力シート!L658=\"\",\"\",入力シート!L658)","v":""},{"$f":"IF(入力シート!M658=\"\",\"\",入力シート!M658)","v":""},{"$f":"IF(入力シート!N658=\"\",\"\",入力シート!N658)","v":""},{"$f":"IF(入力シート!O658=\"\",\"\",入力シート!Q658)","v":""}]
[{"$f":"IF(入力シート!A659=\"\",\"\",入力シート!A659)","v":""},{"$f":"IF(入力シート!B659=\"\",\"\",入力シート!B659)","v":""},{"$f":"IF(入力シート!C659=\"\",\"\",入力シート!C659)","v":""},{"$f":"IF(入力シート!D659=\"\",\"\",TEXT(入力シート!D659,\"yyyy-mm-dd\"))","v":""},{"$f":"IF(入力シート!P659=\"\",\"\",TEXT(入力シート!P659,\"000-0000\"))","v":""},{"$f":"IF(入力シート!G659=\"\",\"\",入力シート!G659)","v":""},{"$f":"IF(入力シート!H659=\"\",\"\",入力シート!H659)","v":""},{"$f":"IF(入力シート!I659=\"\",\"\",入力シート!I659)","v":""},{"$f":"IF(入力シート!J659=\"\",\"\",入力シート!J659)","v":""},{"$f":"IF(入力シート!K659=\"\",\"\",入力シート!K659)","v":""},{"$f":"IF(入力シート!L659=\"\",\"\",入力シート!L659)","v":""},{"$f":"IF(入力シート!M659=\"\",\"\",入力シート!M659)","v":""},{"$f":"IF(入力シート!N659=\"\",\"\",入力シート!N659)","v":""},{"$f":"IF(入力シート!O659=\"\",\"\",入力シート!Q659)","v":""}]
[{"$f":"IF(入力シート!A660=\"\",\"\",入力シート!A660)","v":""},{"$f":"IF(入力シート!B660=\"\",\"\",入力シート!B660)","v":""},{"$f":"IF(入力シート!C660=\"\",\"\",入力シート!C660)","v":""},{"$f":"IF(入力シート!D660=\"\",\"\",TEXT(入力シート!D660,\"yyyy-mm-dd\"))","v":""},{"$f":"IF(入力シート!P660=\"\",\"\",TEXT(入力シート!P660,\"000-0000\"))","v":""},{"$f":"IF(入力シート!G660=\"\",\"\",入力シート!G660)","v":""},{"$f":"IF(入力シート!H660=\"\",\"\",入力シート!H660)","v":""},{"$f":"IF(入力シート!I660=\"\",\"\",入力シート!I660)","v":""},{"$f":"IF(入力シート!J660=\"\",\"\",入力シート!J660)","v":""},{"$f":"IF(入力シート!K660=\"\",\"\",入力シート!K660)","v":""},{"$f":"IF(入力シート!L660=\"\",\"\",入力シート!L660)","v":""},{"$f":"IF(入力シート!M660=\"\",\"\",入力シート!M660)","v":""},{"$f":"IF(入力シート!N660=\"\",\"\",入力シート!N660)","v":""},{"$f":"IF(入力シート!O660=\"\",\"\",入力シート!Q660)","v":""}]
[{"$f":"IF(入力シート!A661=\"\",\"\",入力シート!A661)","v":""},{"$f":"IF(入力シート!B661=\"\",\"\",入力シート!B661)","v":""},{"$f":"IF(入力シート!C661=\"\",\"\",入力シート!C661)","v":""},{"$f":"IF(入力シート!D661=\"\",\"\",TEXT(入力シート!D661,\"yyyy-mm-dd\"))","v":""},{"$f":"IF(入力シート!P661=\"\",\"\",TEXT(入力シート!P661,\"000-0000\"))","v":""},{"$f":"IF(入力シート!G661=\"\",\"\",入力シート!G661)","v":""},{"$f":"IF(入力シート!H661=\"\",\"\",入力シート!H661)","v":""},{"$f":"IF(入力シート!I661=\"\",\"\",入力シート!I661)","v":""},{"$f":"IF(入力シート!J661=\"\",\"\",入力シート!J661)","v":""},{"$f":"IF(入力シート!K661=\"\",\"\",入力シート!K661)","v":""},{"$f":"IF(入力シート!L661=\"\",\"\",入力シート!L661)","v":""},{"$f":"IF(入力シート!M661=\"\",\"\",入力シート!M661)","v":""},{"$f":"IF(入力シート!N661=\"\",\"\",入力シート!N661)","v":""},{"$f":"IF(入力シート!O661=\"\",\"\",入力シート!Q661)","v":""}]
[{"$f":"IF(入力シート!A662=\"\",\"\",入力シート!A662)","v":""},{"$f":"IF(入力シート!B662=\"\",\"\",入力シート!B662)","v":""},{"$f":"IF(入力シート!C662=\"\",\"\",入力シート!C662)","v":""},{"$f":"IF(入力シート!D662=\"\",\"\",TEXT(入力シート!D662,\"yyyy-mm-dd\"))","v":""},{"$f":"IF(入力シート!P662=\"\",\"\",TEXT(入力シート!P662,\"000-0000\"))","v":""},{"$f":"IF(入力シート!G662=\"\",\"\",入力シート!G662)","v":""},{"$f":"IF(入力シート!H662=\"\",\"\",入力シート!H662)","v":""},{"$f":"IF(入力シート!I662=\"\",\"\",入力シート!I662)","v":""},{"$f":"IF(入力シート!J662=\"\",\"\",入力シート!J662)","v":""},{"$f":"IF(入力シート!K662=\"\",\"\",入力シート!K662)","v":""},{"$f":"IF(入力シート!L662=\"\",\"\",入力シート!L662)","v":""},{"$f":"IF(入力シート!M662=\"\",\"\",入力シート!M662)","v":""},{"$f":"IF(入力シート!N662=\"\",\"\",入力シート!N662)","v":""},{"$f":"IF(入力シート!O662=\"\",\"\",入力シート!Q662)","v":""}]
[{"$f":"IF(入力シート!A663=\"\",\"\",入力シート!A663)","v":""},{"$f":"IF(入力シート!B663=\"\",\"\",入力シート!B663)","v":""},{"$f":"IF(入力シート!C663=\"\",\"\",入力シート!C663)","v":""},{"$f":"IF(入力シート!D663=\"\",\"\",TEXT(入力シート!D663,\"yyyy-mm-dd\"))","v":""},{"$f":"IF(入力シート!P663=\"\",\"\",TEXT(入力シート!P663,\"000-0000\"))","v":""},{"$f":"IF(入力シート!G663=\"\",\"\",入力シート!G663)","v":""},{"$f":"IF(入力シート!H663=\"\",\"\",入力シート!H663)","v":""},{"$f":"IF(入力シート!I663=\"\",\"\",入力シート!I663)","v":""},{"$f":"IF(入力シート!J663=\"\",\"\",入力シート!J663)","v":""},{"$f":"IF(入力シート!K663=\"\",\"\",入力シート!K663)","v":""},{"$f":"IF(入力シート!L663=\"\",\"\",入力シート!L663)","v":""},{"$f":"IF(入力シート!M663=\"\",\"\",入力シート!M663)","v":""},{"$f":"IF(入力シート!N663=\"\",\"\",入力シート!N663)","v":""},{"$f":"IF(入力シート!O663=\"\",\"\",入力シート!Q663)","v":""}]
[{"$f":"IF(入力シート!A664=\"\",\"\",入力シート!A664)","v":""},{"$f":"IF(入力シート!B664=\"\",\"\",入力シート!B664)","v":""},{"$f":"IF(入力シート!C664=\"\",\"\",入力シート!C664)","v":""},{"$f":"IF(入力シート!D664=\"\",\"\",TEXT(入力シート!D664,\"yyyy-mm-dd\"))","v":""},{"$f":"IF(入力シート!P664=\"\",\"\",TEXT(入力シート!P664,\"000-0000\"))","v":""},{"$f":"IF(入力シート!G664=\"\",\"\",入力シート!G664)","v":""},{"$f":"IF(入力シート!H664=\"\",\"\",入力シート!H664)","v":""},{"$f":"IF(入力シート!I664=\"\",\"\",入力シート!I664)","v":""},{"$f":"IF(入力シート!J664=\"\",\"\",入力シート!J664)","v":""},{"$f":"IF(入力シート!K664=\"\",\"\",入力シート!K664)","v":""},{"$f":"IF(入力シート!L664=\"\",\"\",入力シート!L664)","v":""},{"$f":"IF(入力シート!M664=\"\",\"\",入力シート!M664)","v":""},{"$f":"IF(入力シート!N664=\"\",\"\",入力シート!N664)","v":""},{"$f":"IF(入力シート!O664=\"\",\"\",入力シート!Q664)","v":""}]
[{"$f":"IF(入力シート!A665=\"\",\"\",入力シート!A665)","v":""},{"$f":"IF(入力シート!B665=\"\",\"\",入力シート!B665)","v":""},{"$f":"IF(入力シート!C665=\"\",\"\",入力シート!C665)","v":""},{"$f":"IF(入力シート!D665=\"\",\"\",TEXT(入力シート!D665,\"yyyy-mm-dd\"))","v":""},{"$f":"IF(入力シート!P665=\"\",\"\",TEXT(入力シート!P665,\"000-0000\"))","v":""},{"$f":"IF(入力シート!G665=\"\",\"\",入力シート!G665)","v":""},{"$f":"IF(入力シート!H665=\"\",\"\",入力シート!H665)","v":""},{"$f":"IF(入力シート!I665=\"\",\"\",入力シート!I665)","v":""},{"$f":"IF(入力シート!J665=\"\",\"\",入力シート!J665)","v":""},{"$f":"IF(入力シート!K665=\"\",\"\",入力シート!K665)","v":""},{"$f":"IF(入力シート!L665=\"\",\"\",入力シート!L665)","v":""},{"$f":"IF(入力シート!M665=\"\",\"\",入力シート!M665)","v":""},{"$f":"IF(入力シート!N665=\"\",\"\",入力シート!N665)","v":""},{"$f":"IF(入力シート!O665=\"\",\"\",入力シート!Q665)","v":""}]
[{"$f":"IF(入力シート!A666=\"\",\"\",入力シート!A666)","v":""},{"$f":"IF(入力シート!B666=\"\",\"\",入力シート!B666)","v":""},{"$f":"IF(入力シート!C666=\"\",\"\",入力シート!C666)","v":""},{"$f":"IF(入力シート!D666=\"\",\"\",TEXT(入力シート!D666,\"yyyy-mm-dd\"))","v":""},{"$f":"IF(入力シート!P666=\"\",\"\",TEXT(入力シート!P666,\"000-0000\"))","v":""},{"$f":"IF(入力シート!G666=\"\",\"\",入力シート!G666)","v":""},{"$f":"IF(入力シート!H666=\"\",\"\",入力シート!H666)","v":""},{"$f":"IF(入力シート!I666=\"\",\"\",入力シート!I666)","v":""},{"$f":"IF(入力シート!J666=\"\",\"\",入力シート!J666)","v":""},{"$f":"IF(入力シート!K666=\"\",\"\",入力シート!K666)","v":""},{"$f":"IF(入力シート!L666=\"\",\"\",入力シート!L666)","v":""},{"$f":"IF(入力シート!M666=\"\",\"\",入力シート!M666)","v":""},{"$f":"IF(入力シート!N666=\"\",\"\",入力シート!N666)","v":""},{"$f":"IF(入力シート!O666=\"\",\"\",入力シート!Q666)","v":""}]
[{"$f":"IF(入力シート!A667=\"\",\"\",入力シート!A667)","v":""},{"$f":"IF(入力シート!B667=\"\",\"\",入力シート!B667)","v":""},{"$f":"IF(入力シート!C667=\"\",\"\",入力シート!C667)","v":""},{"$f":"IF(入力シート!D667=\"\",\"\",TEXT(入力シート!D667,\"yyyy-mm-dd\"))","v":""},{"$f":"IF(入力シート!P667=\"\",\"\",TEXT(入力シート!P667,\"000-0000\"))","v":""},{"$f":"IF(入力シート!G667=\"\",\"\",入力シート!G667)","v":""},{"$f":"IF(入力シート!H667=\"\",\"\",入力シート!H667)","v":""},{"$f":"IF(入力シート!I667=\"\",\"\",入力シート!I667)","v":""},{"$f":"IF(入力シート!J667=\"\",\"\",入力シート!J667)","v":""},{"$f":"IF(入力シート!K667=\"\",\"\",入力シート!K667)","v":""},{"$f":"IF(入力シート!L667=\"\",\"\",入力シート!L667)","v":""},{"$f":"IF(入力シート!M667=\"\",\"\",入力シート!M667)","v":""},{"$f":"IF(入力シート!N667=\"\",\"\",入力シート!N667)","v":""},{"$f":"IF(入力シート!O667=\"\",\"\",入力シート!Q667)","v":""}]
[{"$f":"IF(入力シート!A668=\"\",\"\",入力シート!A668)","v":""},{"$f":"IF(入力シート!B668=\"\",\"\",入力シート!B668)","v":""},{"$f":"IF(入力シート!C668=\"\",\"\",入力シート!C668)","v":""},{"$f":"IF(入力シート!D668=\"\",\"\",TEXT(入力シート!D668,\"yyyy-mm-dd\"))","v":""},{"$f":"IF(入力シート!P668=\"\",\"\",TEXT(入力シート!P668,\"000-0000\"))","v":""},{"$f":"IF(入力シート!G668=\"\",\"\",入力シート!G668)","v":""},{"$f":"IF(入力シート!H668=\"\",\"\",入力シート!H668)","v":""},{"$f":"IF(入力シート!I668=\"\",\"\",入力シート!I668)","v":""},{"$f":"IF(入力シート!J668=\"\",\"\",入力シート!J668)","v":""},{"$f":"IF(入力シート!K668=\"\",\"\",入力シート!K668)","v":""},{"$f":"IF(入力シート!L668=\"\",\"\",入力シート!L668)","v":""},{"$f":"IF(入力シート!M668=\"\",\"\",入力シート!M668)","v":""},{"$f":"IF(入力シート!N668=\"\",\"\",入力シート!N668)","v":""},{"$f":"IF(入力シート!O668=\"\",\"\",入力シート!Q668)","v":""}]
[{"$f":"IF(入力シート!A669=\"\",\"\",入力シート!A669)","v":""},{"$f":"IF(入力シート!B669=\"\",\"\",入力シート!B669)","v":""},{"$f":"IF(入力シート!C669=\"\",\"\",入力シート!C669)","v":""},{"$f":"IF(入力シート!D669=\"\",\"\",TEXT(入力シート!D669,\"yyyy-mm-dd\"))","v":""},{"$f":"IF(入力シート!P669=\"\",\"\",TEXT(入力シート!P669,\"000-0000\"))","v":""},{"$f":"IF(入力シート!G669=\"\",\"\",入力シート!G669)","v":""},{"$f":"IF(入力シート!H669=\"\",\"\",入力シート!H669)","v":""},{"$f":"IF(入力シート!I669=\"\",\"\",入力シート!I669)","v":""},{"$f":"IF(入力シート!J669=\"\",\"\",入力シート!J669)","v":""},{"$f":"IF(入力シート!K669=\"\",\"\",入力シート!K669)","v":""},{"$f":"IF(入力シート!L669=\"\",\"\",入力シート!L669)","v":""},{"$f":"IF(入力シート!M669=\"\",\"\",入力シート!M669)","v":""},{"$f":"IF(入力シート!N669=\"\",\"\",入力シート!N669)","v":""},{"$f":"IF(入力シート!O669=\"\",\"\",入力シート!Q669)","v":""}]
[{"$f":"IF(入力シート!A670=\"\",\"\",入力シート!A670)","v":""},{"$f":"IF(入力シート!B670=\"\",\"\",入力シート!B670)","v":""},{"$f":"IF(入力シート!C670=\"\",\"\",入力シート!C670)","v":""},{"$f":"IF(入力シート!D670=\"\",\"\",TEXT(入力シート!D670,\"yyyy-mm-dd\"))","v":""},{"$f":"IF(入力シート!P670=\"\",\"\",TEXT(入力シート!P670,\"000-0000\"))","v":""},{"$f":"IF(入力シート!G670=\"\",\"\",入力シート!G670)","v":""},{"$f":"IF(入力シート!H670=\"\",\"\",入力シート!H670)","v":""},{"$f":"IF(入力シート!I670=\"\",\"\",入力シート!I670)","v":""},{"$f":"IF(入力シート!J670=\"\",\"\",入力シート!J670)","v":""},{"$f":"IF(入力シート!K670=\"\",\"\",入力シート!K670)","v":""},{"$f":"IF(入力シート!L670=\"\",\"\",入力シート!L670)","v":""},{"$f":"IF(入力シート!M670=\"\",\"\",入力シート!M670)","v":""},{"$f":"IF(入力シート!N670=\"\",\"\",入力シート!N670)","v":""},{"$f":"IF(入力シート!O670=\"\",\"\",入力シート!Q670)","v":""}]
[{"$f":"IF(入力シート!A671=\"\",\"\",入力シート!A671)","v":""},{"$f":"IF(入力シート!B671=\"\",\"\",入力シート!B671)","v":""},{"$f":"IF(入力シート!C671=\"\",\"\",入力シート!C671)","v":""},{"$f":"IF(入力シート!D671=\"\",\"\",TEXT(入力シート!D671,\"yyyy-mm-dd\"))","v":""},{"$f":"IF(入力シート!P671=\"\",\"\",TEXT(入力シート!P671,\"000-0000\"))","v":""},{"$f":"IF(入力シート!G671=\"\",\"\",入力シート!G671)","v":""},{"$f":"IF(入力シート!H671=\"\",\"\",入力シート!H671)","v":""},{"$f":"IF(入力シート!I671=\"\",\"\",入力シート!I671)","v":""},{"$f":"IF(入力シート!J671=\"\",\"\",入力シート!J671)","v":""},{"$f":"IF(入力シート!K671=\"\",\"\",入力シート!K671)","v":""},{"$f":"IF(入力シート!L671=\"\",\"\",入力シート!L671)","v":""},{"$f":"IF(入力シート!M671=\"\",\"\",入力シート!M671)","v":""},{"$f":"IF(入力シート!N671=\"\",\"\",入力シート!N671)","v":""},{"$f":"IF(入力シート!O671=\"\",\"\",入力シート!Q671)","v":""}]
[{"$f":"IF(入力シート!A672=\"\",\"\",入力シート!A672)","v":""},{"$f":"IF(入力シート!B672=\"\",\"\",入力シート!B672)","v":""},{"$f":"IF(入力シート!C672=\"\",\"\",入力シート!C672)","v":""},{"$f":"IF(入力シート!D672=\"\",\"\",TEXT(入力シート!D672,\"yyyy-mm-dd\"))","v":""},{"$f":"IF(入力シート!P672=\"\",\"\",TEXT(入力シート!P672,\"000-0000\"))","v":""},{"$f":"IF(入力シート!G672=\"\",\"\",入力シート!G672)","v":""},{"$f":"IF(入力シート!H672=\"\",\"\",入力シート!H672)","v":""},{"$f":"IF(入力シート!I672=\"\",\"\",入力シート!I672)","v":""},{"$f":"IF(入力シート!J672=\"\",\"\",入力シート!J672)","v":""},{"$f":"IF(入力シート!K672=\"\",\"\",入力シート!K672)","v":""},{"$f":"IF(入力シート!L672=\"\",\"\",入力シート!L672)","v":""},{"$f":"IF(入力シート!M672=\"\",\"\",入力シート!M672)","v":""},{"$f":"IF(入力シート!N672=\"\",\"\",入力シート!N672)","v":""},{"$f":"IF(入力シート!O672=\"\",\"\",入力シート!Q672)","v":""}]
[{"$f":"IF(入力シート!A673=\"\",\"\",入力シート!A673)","v":""},{"$f":"IF(入力シート!B673=\"\",\"\",入力シート!B673)","v":""},{"$f":"IF(入力シート!C673=\"\",\"\",入力シート!C673)","v":""},{"$f":"IF(入力シート!D673=\"\",\"\",TEXT(入力シート!D673,\"yyyy-mm-dd\"))","v":""},{"$f":"IF(入力シート!P673=\"\",\"\",TEXT(入力シート!P673,\"000-0000\"))","v":""},{"$f":"IF(入力シート!G673=\"\",\"\",入力シート!G673)","v":""},{"$f":"IF(入力シート!H673=\"\",\"\",入力シート!H673)","v":""},{"$f":"IF(入力シート!I673=\"\",\"\",入力シート!I673)","v":""},{"$f":"IF(入力シート!J673=\"\",\"\",入力シート!J673)","v":""},{"$f":"IF(入力シート!K673=\"\",\"\",入力シート!K673)","v":""},{"$f":"IF(入力シート!L673=\"\",\"\",入力シート!L673)","v":""},{"$f":"IF(入力シート!M673=\"\",\"\",入力シート!M673)","v":""},{"$f":"IF(入力シート!N673=\"\",\"\",入力シート!N673)","v":""},{"$f":"IF(入力シート!O673=\"\",\"\",入力シート!Q673)","v":""}]
[{"$f":"IF(入力シート!A674=\"\",\"\",入力シート!A674)","v":""},{"$f":"IF(入力シート!B674=\"\",\"\",入力シート!B674)","v":""},{"$f":"IF(入力シート!C674=\"\",\"\",入力シート!C674)","v":""},{"$f":"IF(入力シート!D674=\"\",\"\",TEXT(入力シート!D674,\"yyyy-mm-dd\"))","v":""},{"$f":"IF(入力シート!P674=\"\",\"\",TEXT(入力シート!P674,\"000-0000\"))","v":""},{"$f":"IF(入力シート!G674=\"\",\"\",入力シート!G674)","v":""},{"$f":"IF(入力シート!H674=\"\",\"\",入力シート!H674)","v":""},{"$f":"IF(入力シート!I674=\"\",\"\",入力シート!I674)","v":""},{"$f":"IF(入力シート!J674=\"\",\"\",入力シート!J674)","v":""},{"$f":"IF(入力シート!K674=\"\",\"\",入力シート!K674)","v":""},{"$f":"IF(入力シート!L674=\"\",\"\",入力シート!L674)","v":""},{"$f":"IF(入力シート!M674=\"\",\"\",入力シート!M674)","v":""},{"$f":"IF(入力シート!N674=\"\",\"\",入力シート!N674)","v":""},{"$f":"IF(入力シート!O674=\"\",\"\",入力シート!Q674)","v":""}]
[{"$f":"IF(入力シート!A675=\"\",\"\",入力シート!A675)","v":""},{"$f":"IF(入力シート!B675=\"\",\"\",入力シート!B675)","v":""},{"$f":"IF(入力シート!C675=\"\",\"\",入力シート!C675)","v":""},{"$f":"IF(入力シート!D675=\"\",\"\",TEXT(入力シート!D675,\"yyyy-mm-dd\"))","v":""},{"$f":"IF(入力シート!P675=\"\",\"\",TEXT(入力シート!P675,\"000-0000\"))","v":""},{"$f":"IF(入力シート!G675=\"\",\"\",入力シート!G675)","v":""},{"$f":"IF(入力シート!H675=\"\",\"\",入力シート!H675)","v":""},{"$f":"IF(入力シート!I675=\"\",\"\",入力シート!I675)","v":""},{"$f":"IF(入力シート!J675=\"\",\"\",入力シート!J675)","v":""},{"$f":"IF(入力シート!K675=\"\",\"\",入力シート!K675)","v":""},{"$f":"IF(入力シート!L675=\"\",\"\",入力シート!L675)","v":""},{"$f":"IF(入力シート!M675=\"\",\"\",入力シート!M675)","v":""},{"$f":"IF(入力シート!N675=\"\",\"\",入力シート!N675)","v":""},{"$f":"IF(入力シート!O675=\"\",\"\",入力シート!Q675)","v":""}]
[{"$f":"IF(入力シート!A676=\"\",\"\",入力シート!A676)","v":""},{"$f":"IF(入力シート!B676=\"\",\"\",入力シート!B676)","v":""},{"$f":"IF(入力シート!C676=\"\",\"\",入力シート!C676)","v":""},{"$f":"IF(入力シート!D676=\"\",\"\",TEXT(入力シート!D676,\"yyyy-mm-dd\"))","v":""},{"$f":"IF(入力シート!P676=\"\",\"\",TEXT(入力シート!P676,\"000-0000\"))","v":""},{"$f":"IF(入力シート!G676=\"\",\"\",入力シート!G676)","v":""},{"$f":"IF(入力シート!H676=\"\",\"\",入力シート!H676)","v":""},{"$f":"IF(入力シート!I676=\"\",\"\",入力シート!I676)","v":""},{"$f":"IF(入力シート!J676=\"\",\"\",入力シート!J676)","v":""},{"$f":"IF(入力シート!K676=\"\",\"\",入力シート!K676)","v":""},{"$f":"IF(入力シート!L676=\"\",\"\",入力シート!L676)","v":""},{"$f":"IF(入力シート!M676=\"\",\"\",入力シート!M676)","v":""},{"$f":"IF(入力シート!N676=\"\",\"\",入力シート!N676)","v":""},{"$f":"IF(入力シート!O676=\"\",\"\",入力シート!Q676)","v":""}]
[{"$f":"IF(入力シート!A677=\"\",\"\",入力シート!A677)","v":""},{"$f":"IF(入力シート!B677=\"\",\"\",入力シート!B677)","v":""},{"$f":"IF(入力シート!C677=\"\",\"\",入力シート!C677)","v":""},{"$f":"IF(入力シート!D677=\"\",\"\",TEXT(入力シート!D677,\"yyyy-mm-dd\"))","v":""},{"$f":"IF(入力シート!P677=\"\",\"\",TEXT(入力シート!P677,\"000-0000\"))","v":""},{"$f":"IF(入力シート!G677=\"\",\"\",入力シート!G677)","v":""},{"$f":"IF(入力シート!H677=\"\",\"\",入力シート!H677)","v":""},{"$f":"IF(入力シート!I677=\"\",\"\",入力シート!I677)","v":""},{"$f":"IF(入力シート!J677=\"\",\"\",入力シート!J677)","v":""},{"$f":"IF(入力シート!K677=\"\",\"\",入力シート!K677)","v":""},{"$f":"IF(入力シート!L677=\"\",\"\",入力シート!L677)","v":""},{"$f":"IF(入力シート!M677=\"\",\"\",入力シート!M677)","v":""},{"$f":"IF(入力シート!N677=\"\",\"\",入力シート!N677)","v":""},{"$f":"IF(入力シート!O677=\"\",\"\",入力シート!Q677)","v":""}]
[{"$f":"IF(入力シート!A678=\"\",\"\",入力シート!A678)","v":""},{"$f":"IF(入力シート!B678=\"\",\"\",入力シート!B678)","v":""},{"$f":"IF(入力シート!C678=\"\",\"\",入力シート!C678)","v":""},{"$f":"IF(入力シート!D678=\"\",\"\",TEXT(入力シート!D678,\"yyyy-mm-dd\"))","v":""},{"$f":"IF(入力シート!P678=\"\",\"\",TEXT(入力シート!P678,\"000-0000\"))","v":""},{"$f":"IF(入力シート!G678=\"\",\"\",入力シート!G678)","v":""},{"$f":"IF(入力シート!H678=\"\",\"\",入力シート!H678)","v":""},{"$f":"IF(入力シート!I678=\"\",\"\",入力シート!I678)","v":""},{"$f":"IF(入力シート!J678=\"\",\"\",入力シート!J678)","v":""},{"$f":"IF(入力シート!K678=\"\",\"\",入力シート!K678)","v":""},{"$f":"IF(入力シート!L678=\"\",\"\",入力シート!L678)","v":""},{"$f":"IF(入力シート!M678=\"\",\"\",入力シート!M678)","v":""},{"$f":"IF(入力シート!N678=\"\",\"\",入力シート!N678)","v":""},{"$f":"IF(入力シート!O678=\"\",\"\",入力シート!Q678)","v":""}]
[{"$f":"IF(入力シート!A679=\"\",\"\",入力シート!A679)","v":""},{"$f":"IF(入力シート!B679=\"\",\"\",入力シート!B679)","v":""},{"$f":"IF(入力シート!C679=\"\",\"\",入力シート!C679)","v":""},{"$f":"IF(入力シート!D679=\"\",\"\",TEXT(入力シート!D679,\"yyyy-mm-dd\"))","v":""},{"$f":"IF(入力シート!P679=\"\",\"\",TEXT(入力シート!P679,\"000-0000\"))","v":""},{"$f":"IF(入力シート!G679=\"\",\"\",入力シート!G679)","v":""},{"$f":"IF(入力シート!H679=\"\",\"\",入力シート!H679)","v":""},{"$f":"IF(入力シート!I679=\"\",\"\",入力シート!I679)","v":""},{"$f":"IF(入力シート!J679=\"\",\"\",入力シート!J679)","v":""},{"$f":"IF(入力シート!K679=\"\",\"\",入力シート!K679)","v":""},{"$f":"IF(入力シート!L679=\"\",\"\",入力シート!L679)","v":""},{"$f":"IF(入力シート!M679=\"\",\"\",入力シート!M679)","v":""},{"$f":"IF(入力シート!N679=\"\",\"\",入力シート!N679)","v":""},{"$f":"IF(入力シート!O679=\"\",\"\",入力シート!Q679)","v":""}]
[{"$f":"IF(入力シート!A680=\"\",\"\",入力シート!A680)","v":""},{"$f":"IF(入力シート!B680=\"\",\"\",入力シート!B680)","v":""},{"$f":"IF(入力シート!C680=\"\",\"\",入力シート!C680)","v":""},{"$f":"IF(入力シート!D680=\"\",\"\",TEXT(入力シート!D680,\"yyyy-mm-dd\"))","v":""},{"$f":"IF(入力シート!P680=\"\",\"\",TEXT(入力シート!P680,\"000-0000\"))","v":""},{"$f":"IF(入力シート!G680=\"\",\"\",入力シート!G680)","v":""},{"$f":"IF(入力シート!H680=\"\",\"\",入力シート!H680)","v":""},{"$f":"IF(入力シート!I680=\"\",\"\",入力シート!I680)","v":""},{"$f":"IF(入力シート!J680=\"\",\"\",入力シート!J680)","v":""},{"$f":"IF(入力シート!K680=\"\",\"\",入力シート!K680)","v":""},{"$f":"IF(入力シート!L680=\"\",\"\",入力シート!L680)","v":""},{"$f":"IF(入力シート!M680=\"\",\"\",入力シート!M680)","v":""},{"$f":"IF(入力シート!N680=\"\",\"\",入力シート!N680)","v":""},{"$f":"IF(入力シート!O680=\"\",\"\",入力シート!Q680)","v":""}]
[{"$f":"IF(入力シート!A681=\"\",\"\",入力シート!A681)","v":""},{"$f":"IF(入力シート!B681=\"\",\"\",入力シート!B681)","v":""},{"$f":"IF(入力シート!C681=\"\",\"\",入力シート!C681)","v":""},{"$f":"IF(入力シート!D681=\"\",\"\",TEXT(入力シート!D681,\"yyyy-mm-dd\"))","v":""},{"$f":"IF(入力シート!P681=\"\",\"\",TEXT(入力シート!P681,\"000-0000\"))","v":""},{"$f":"IF(入力シート!G681=\"\",\"\",入力シート!G681)","v":""},{"$f":"IF(入力シート!H681=\"\",\"\",入力シート!H681)","v":""},{"$f":"IF(入力シート!I681=\"\",\"\",入力シート!I681)","v":""},{"$f":"IF(入力シート!J681=\"\",\"\",入力シート!J681)","v":""},{"$f":"IF(入力シート!K681=\"\",\"\",入力シート!K681)","v":""},{"$f":"IF(入力シート!L681=\"\",\"\",入力シート!L681)","v":""},{"$f":"IF(入力シート!M681=\"\",\"\",入力シート!M681)","v":""},{"$f":"IF(入力シート!N681=\"\",\"\",入力シート!N681)","v":""},{"$f":"IF(入力シート!O681=\"\",\"\",入力シート!Q681)","v":""}]
[{"$f":"IF(入力シート!A682=\"\",\"\",入力シート!A682)","v":""},{"$f":"IF(入力シート!B682=\"\",\"\",入力シート!B682)","v":""},{"$f":"IF(入力シート!C682=\"\",\"\",入力シート!C682)","v":""},{"$f":"IF(入力シート!D682=\"\",\"\",TEXT(入力シート!D682,\"yyyy-mm-dd\"))","v":""},{"$f":"IF(入力シート!P682=\"\",\"\",TEXT(入力シート!P682,\"000-0000\"))","v":""},{"$f":"IF(入力シート!G682=\"\",\"\",入力シート!G682)","v":""},{"$f":"IF(入力シート!H682=\"\",\"\",入力シート!H682)","v":""},{"$f":"IF(入力シート!I682=\"\",\"\",入力シート!I682)","v":""},{"$f":"IF(入力シート!J682=\"\",\"\",入力シート!J682)","v":""},{"$f":"IF(入力シート!K682=\"\",\"\",入力シート!K682)","v":""},{"$f":"IF(入力シート!L682=\"\",\"\",入力シート!L682)","v":""},{"$f":"IF(入力シート!M682=\"\",\"\",入力シート!M682)","v":""},{"$f":"IF(入力シート!N682=\"\",\"\",入力シート!N682)","v":""},{"$f":"IF(入力シート!O682=\"\",\"\",入力シート!Q682)","v":""}]
[{"$f":"IF(入力シート!A683=\"\",\"\",入力シート!A683)","v":""},{"$f":"IF(入力シート!B683=\"\",\"\",入力シート!B683)","v":""},{"$f":"IF(入力シート!C683=\"\",\"\",入力シート!C683)","v":""},{"$f":"IF(入力シート!D683=\"\",\"\",TEXT(入力シート!D683,\"yyyy-mm-dd\"))","v":""},{"$f":"IF(入力シート!P683=\"\",\"\",TEXT(入力シート!P683,\"000-0000\"))","v":""},{"$f":"IF(入力シート!G683=\"\",\"\",入力シート!G683)","v":""},{"$f":"IF(入力シート!H683=\"\",\"\",入力シート!H683)","v":""},{"$f":"IF(入力シート!I683=\"\",\"\",入力シート!I683)","v":""},{"$f":"IF(入力シート!J683=\"\",\"\",入力シート!J683)","v":""},{"$f":"IF(入力シート!K683=\"\",\"\",入力シート!K683)","v":""},{"$f":"IF(入力シート!L683=\"\",\"\",入力シート!L683)","v":""},{"$f":"IF(入力シート!M683=\"\",\"\",入力シート!M683)","v":""},{"$f":"IF(入力シート!N683=\"\",\"\",入力シート!N683)","v":""},{"$f":"IF(入力シート!O683=\"\",\"\",入力シート!Q683)","v":""}]
[{"$f":"IF(入力シート!A684=\"\",\"\",入力シート!A684)","v":""},{"$f":"IF(入力シート!B684=\"\",\"\",入力シート!B684)","v":""},{"$f":"IF(入力シート!C684=\"\",\"\",入力シート!C684)","v":""},{"$f":"IF(入力シート!D684=\"\",\"\",TEXT(入力シート!D684,\"yyyy-mm-dd\"))","v":""},{"$f":"IF(入力シート!P684=\"\",\"\",TEXT(入力シート!P684,\"000-0000\"))","v":""},{"$f":"IF(入力シート!G684=\"\",\"\",入力シート!G684)","v":""},{"$f":"IF(入力シート!H684=\"\",\"\",入力シート!H684)","v":""},{"$f":"IF(入力シート!I684=\"\",\"\",入力シート!I684)","v":""},{"$f":"IF(入力シート!J684=\"\",\"\",入力シート!J684)","v":""},{"$f":"IF(入力シート!K684=\"\",\"\",入力シート!K684)","v":""},{"$f":"IF(入力シート!L684=\"\",\"\",入力シート!L684)","v":""},{"$f":"IF(入力シート!M684=\"\",\"\",入力シート!M684)","v":""},{"$f":"IF(入力シート!N684=\"\",\"\",入力シート!N684)","v":""},{"$f":"IF(入力シート!O684=\"\",\"\",入力シート!Q684)","v":""}]
[{"$f":"IF(入力シート!A685=\"\",\"\",入力シート!A685)","v":""},{"$f":"IF(入力シート!B685=\"\",\"\",入力シート!B685)","v":""},{"$f":"IF(入力シート!C685=\"\",\"\",入力シート!C685)","v":""},{"$f":"IF(入力シート!D685=\"\",\"\",TEXT(入力シート!D685,\"yyyy-mm-dd\"))","v":""},{"$f":"IF(入力シート!P685=\"\",\"\",TEXT(入力シート!P685,\"000-0000\"))","v":""},{"$f":"IF(入力シート!G685=\"\",\"\",入力シート!G685)","v":""},{"$f":"IF(入力シート!H685=\"\",\"\",入力シート!H685)","v":""},{"$f":"IF(入力シート!I685=\"\",\"\",入力シート!I685)","v":""},{"$f":"IF(入力シート!J685=\"\",\"\",入力シート!J685)","v":""},{"$f":"IF(入力シート!K685=\"\",\"\",入力シート!K685)","v":""},{"$f":"IF(入力シート!L685=\"\",\"\",入力シート!L685)","v":""},{"$f":"IF(入力シート!M685=\"\",\"\",入力シート!M685)","v":""},{"$f":"IF(入力シート!N685=\"\",\"\",入力シート!N685)","v":""},{"$f":"IF(入力シート!O685=\"\",\"\",入力シート!Q685)","v":""}]
[{"$f":"IF(入力シート!A686=\"\",\"\",入力シート!A686)","v":""},{"$f":"IF(入力シート!B686=\"\",\"\",入力シート!B686)","v":""},{"$f":"IF(入力シート!C686=\"\",\"\",入力シート!C686)","v":""},{"$f":"IF(入力シート!D686=\"\",\"\",TEXT(入力シート!D686,\"yyyy-mm-dd\"))","v":""},{"$f":"IF(入力シート!P686=\"\",\"\",TEXT(入力シート!P686,\"000-0000\"))","v":""},{"$f":"IF(入力シート!G686=\"\",\"\",入力シート!G686)","v":""},{"$f":"IF(入力シート!H686=\"\",\"\",入力シート!H686)","v":""},{"$f":"IF(入力シート!I686=\"\",\"\",入力シート!I686)","v":""},{"$f":"IF(入力シート!J686=\"\",\"\",入力シート!J686)","v":""},{"$f":"IF(入力シート!K686=\"\",\"\",入力シート!K686)","v":""},{"$f":"IF(入力シート!L686=\"\",\"\",入力シート!L686)","v":""},{"$f":"IF(入力シート!M686=\"\",\"\",入力シート!M686)","v":""},{"$f":"IF(入力シート!N686=\"\",\"\",入力シート!N686)","v":""},{"$f":"IF(入力シート!O686=\"\",\"\",入力シート!Q686)","v":""}]
[{"$f":"IF(入力シート!A687=\"\",\"\",入力シート!A687)","v":""},{"$f":"IF(入力シート!B687=\"\",\"\",入力シート!B687)","v":""},{"$f":"IF(入力シート!C687=\"\",\"\",入力シート!C687)","v":""},{"$f":"IF(入力シート!D687=\"\",\"\",TEXT(入力シート!D687,\"yyyy-mm-dd\"))","v":""},{"$f":"IF(入力シート!P687=\"\",\"\",TEXT(入力シート!P687,\"000-0000\"))","v":""},{"$f":"IF(入力シート!G687=\"\",\"\",入力シート!G687)","v":""},{"$f":"IF(入力シート!H687=\"\",\"\",入力シート!H687)","v":""},{"$f":"IF(入力シート!I687=\"\",\"\",入力シート!I687)","v":""},{"$f":"IF(入力シート!J687=\"\",\"\",入力シート!J687)","v":""},{"$f":"IF(入力シート!K687=\"\",\"\",入力シート!K687)","v":""},{"$f":"IF(入力シート!L687=\"\",\"\",入力シート!L687)","v":""},{"$f":"IF(入力シート!M687=\"\",\"\",入力シート!M687)","v":""},{"$f":"IF(入力シート!N687=\"\",\"\",入力シート!N687)","v":""},{"$f":"IF(入力シート!O687=\"\",\"\",入力シート!Q687)","v":""}]
[{"$f":"IF(入力シート!A688=\"\",\"\",入力シート!A688)","v":""},{"$f":"IF(入力シート!B688=\"\",\"\",入力シート!B688)","v":""},{"$f":"IF(入力シート!C688=\"\",\"\",入力シート!C688)","v":""},{"$f":"IF(入力シート!D688=\"\",\"\",TEXT(入力シート!D688,\"yyyy-mm-dd\"))","v":""},{"$f":"IF(入力シート!P688=\"\",\"\",TEXT(入力シート!P688,\"000-0000\"))","v":""},{"$f":"IF(入力シート!G688=\"\",\"\",入力シート!G688)","v":""},{"$f":"IF(入力シート!H688=\"\",\"\",入力シート!H688)","v":""},{"$f":"IF(入力シート!I688=\"\",\"\",入力シート!I688)","v":""},{"$f":"IF(入力シート!J688=\"\",\"\",入力シート!J688)","v":""},{"$f":"IF(入力シート!K688=\"\",\"\",入力シート!K688)","v":""},{"$f":"IF(入力シート!L688=\"\",\"\",入力シート!L688)","v":""},{"$f":"IF(入力シート!M688=\"\",\"\",入力シート!M688)","v":""},{"$f":"IF(入力シート!N688=\"\",\"\",入力シート!N688)","v":""},{"$f":"IF(入力シート!O688=\"\",\"\",入力シート!Q688)","v":""}]
[{"$f":"IF(入力シート!A689=\"\",\"\",入力シート!A689)","v":""},{"$f":"IF(入力シート!B689=\"\",\"\",入力シート!B689)","v":""},{"$f":"IF(入力シート!C689=\"\",\"\",入力シート!C689)","v":""},{"$f":"IF(入力シート!D689=\"\",\"\",TEXT(入力シート!D689,\"yyyy-mm-dd\"))","v":""},{"$f":"IF(入力シート!P689=\"\",\"\",TEXT(入力シート!P689,\"000-0000\"))","v":""},{"$f":"IF(入力シート!G689=\"\",\"\",入力シート!G689)","v":""},{"$f":"IF(入力シート!H689=\"\",\"\",入力シート!H689)","v":""},{"$f":"IF(入力シート!I689=\"\",\"\",入力シート!I689)","v":""},{"$f":"IF(入力シート!J689=\"\",\"\",入力シート!J689)","v":""},{"$f":"IF(入力シート!K689=\"\",\"\",入力シート!K689)","v":""},{"$f":"IF(入力シート!L689=\"\",\"\",入力シート!L689)","v":""},{"$f":"IF(入力シート!M689=\"\",\"\",入力シート!M689)","v":""},{"$f":"IF(入力シート!N689=\"\",\"\",入力シート!N689)","v":""},{"$f":"IF(入力シート!O689=\"\",\"\",入力シート!Q689)","v":""}]
[{"$f":"IF(入力シート!A690=\"\",\"\",入力シート!A690)","v":""},{"$f":"IF(入力シート!B690=\"\",\"\",入力シート!B690)","v":""},{"$f":"IF(入力シート!C690=\"\",\"\",入力シート!C690)","v":""},{"$f":"IF(入力シート!D690=\"\",\"\",TEXT(入力シート!D690,\"yyyy-mm-dd\"))","v":""},{"$f":"IF(入力シート!P690=\"\",\"\",TEXT(入力シート!P690,\"000-0000\"))","v":""},{"$f":"IF(入力シート!G690=\"\",\"\",入力シート!G690)","v":""},{"$f":"IF(入力シート!H690=\"\",\"\",入力シート!H690)","v":""},{"$f":"IF(入力シート!I690=\"\",\"\",入力シート!I690)","v":""},{"$f":"IF(入力シート!J690=\"\",\"\",入力シート!J690)","v":""},{"$f":"IF(入力シート!K690=\"\",\"\",入力シート!K690)","v":""},{"$f":"IF(入力シート!L690=\"\",\"\",入力シート!L690)","v":""},{"$f":"IF(入力シート!M690=\"\",\"\",入力シート!M690)","v":""},{"$f":"IF(入力シート!N690=\"\",\"\",入力シート!N690)","v":""},{"$f":"IF(入力シート!O690=\"\",\"\",入力シート!Q690)","v":""}]
[{"$f":"IF(入力シート!A691=\"\",\"\",入力シート!A691)","v":""},{"$f":"IF(入力シート!B691=\"\",\"\",入力シート!B691)","v":""},{"$f":"IF(入力シート!C691=\"\",\"\",入力シート!C691)","v":""},{"$f":"IF(入力シート!D691=\"\",\"\",TEXT(入力シート!D691,\"yyyy-mm-dd\"))","v":""},{"$f":"IF(入力シート!P691=\"\",\"\",TEXT(入力シート!P691,\"000-0000\"))","v":""},{"$f":"IF(入力シート!G691=\"\",\"\",入力シート!G691)","v":""},{"$f":"IF(入力シート!H691=\"\",\"\",入力シート!H691)","v":""},{"$f":"IF(入力シート!I691=\"\",\"\",入力シート!I691)","v":""},{"$f":"IF(入力シート!J691=\"\",\"\",入力シート!J691)","v":""},{"$f":"IF(入力シート!K691=\"\",\"\",入力シート!K691)","v":""},{"$f":"IF(入力シート!L691=\"\",\"\",入力シート!L691)","v":""},{"$f":"IF(入力シート!M691=\"\",\"\",入力シート!M691)","v":""},{"$f":"IF(入力シート!N691=\"\",\"\",入力シート!N691)","v":""},{"$f":"IF(入力シート!O691=\"\",\"\",入力シート!Q691)","v":""}]
[{"$f":"IF(入力シート!A692=\"\",\"\",入力シート!A692)","v":""},{"$f":"IF(入力シート!B692=\"\",\"\",入力シート!B692)","v":""},{"$f":"IF(入力シート!C692=\"\",\"\",入力シート!C692)","v":""},{"$f":"IF(入力シート!D692=\"\",\"\",TEXT(入力シート!D692,\"yyyy-mm-dd\"))","v":""},{"$f":"IF(入力シート!P692=\"\",\"\",TEXT(入力シート!P692,\"000-0000\"))","v":""},{"$f":"IF(入力シート!G692=\"\",\"\",入力シート!G692)","v":""},{"$f":"IF(入力シート!H692=\"\",\"\",入力シート!H692)","v":""},{"$f":"IF(入力シート!I692=\"\",\"\",入力シート!I692)","v":""},{"$f":"IF(入力シート!J692=\"\",\"\",入力シート!J692)","v":""},{"$f":"IF(入力シート!K692=\"\",\"\",入力シート!K692)","v":""},{"$f":"IF(入力シート!L692=\"\",\"\",入力シート!L692)","v":""},{"$f":"IF(入力シート!M692=\"\",\"\",入力シート!M692)","v":""},{"$f":"IF(入力シート!N692=\"\",\"\",入力シート!N692)","v":""},{"$f":"IF(入力シート!O692=\"\",\"\",入力シート!Q692)","v":""}]
[{"$f":"IF(入力シート!A693=\"\",\"\",入力シート!A693)","v":""},{"$f":"IF(入力シート!B693=\"\",\"\",入力シート!B693)","v":""},{"$f":"IF(入力シート!C693=\"\",\"\",入力シート!C693)","v":""},{"$f":"IF(入力シート!D693=\"\",\"\",TEXT(入力シート!D693,\"yyyy-mm-dd\"))","v":""},{"$f":"IF(入力シート!P693=\"\",\"\",TEXT(入力シート!P693,\"000-0000\"))","v":""},{"$f":"IF(入力シート!G693=\"\",\"\",入力シート!G693)","v":""},{"$f":"IF(入力シート!H693=\"\",\"\",入力シート!H693)","v":""},{"$f":"IF(入力シート!I693=\"\",\"\",入力シート!I693)","v":""},{"$f":"IF(入力シート!J693=\"\",\"\",入力シート!J693)","v":""},{"$f":"IF(入力シート!K693=\"\",\"\",入力シート!K693)","v":""},{"$f":"IF(入力シート!L693=\"\",\"\",入力シート!L693)","v":""},{"$f":"IF(入力シート!M693=\"\",\"\",入力シート!M693)","v":""},{"$f":"IF(入力シート!N693=\"\",\"\",入力シート!N693)","v":""},{"$f":"IF(入力シート!O693=\"\",\"\",入力シート!Q693)","v":""}]
[{"$f":"IF(入力シート!A694=\"\",\"\",入力シート!A694)","v":""},{"$f":"IF(入力シート!B694=\"\",\"\",入力シート!B694)","v":""},{"$f":"IF(入力シート!C694=\"\",\"\",入力シート!C694)","v":""},{"$f":"IF(入力シート!D694=\"\",\"\",TEXT(入力シート!D694,\"yyyy-mm-dd\"))","v":""},{"$f":"IF(入力シート!P694=\"\",\"\",TEXT(入力シート!P694,\"000-0000\"))","v":""},{"$f":"IF(入力シート!G694=\"\",\"\",入力シート!G694)","v":""},{"$f":"IF(入力シート!H694=\"\",\"\",入力シート!H694)","v":""},{"$f":"IF(入力シート!I694=\"\",\"\",入力シート!I694)","v":""},{"$f":"IF(入力シート!J694=\"\",\"\",入力シート!J694)","v":""},{"$f":"IF(入力シート!K694=\"\",\"\",入力シート!K694)","v":""},{"$f":"IF(入力シート!L694=\"\",\"\",入力シート!L694)","v":""},{"$f":"IF(入力シート!M694=\"\",\"\",入力シート!M694)","v":""},{"$f":"IF(入力シート!N694=\"\",\"\",入力シート!N694)","v":""},{"$f":"IF(入力シート!O694=\"\",\"\",入力シート!Q694)","v":""}]
[{"$f":"IF(入力シート!A695=\"\",\"\",入力シート!A695)","v":""},{"$f":"IF(入力シート!B695=\"\",\"\",入力シート!B695)","v":""},{"$f":"IF(入力シート!C695=\"\",\"\",入力シート!C695)","v":""},{"$f":"IF(入力シート!D695=\"\",\"\",TEXT(入力シート!D695,\"yyyy-mm-dd\"))","v":""},{"$f":"IF(入力シート!P695=\"\",\"\",TEXT(入力シート!P695,\"000-0000\"))","v":""},{"$f":"IF(入力シート!G695=\"\",\"\",入力シート!G695)","v":""},{"$f":"IF(入力シート!H695=\"\",\"\",入力シート!H695)","v":""},{"$f":"IF(入力シート!I695=\"\",\"\",入力シート!I695)","v":""},{"$f":"IF(入力シート!J695=\"\",\"\",入力シート!J695)","v":""},{"$f":"IF(入力シート!K695=\"\",\"\",入力シート!K695)","v":""},{"$f":"IF(入力シート!L695=\"\",\"\",入力シート!L695)","v":""},{"$f":"IF(入力シート!M695=\"\",\"\",入力シート!M695)","v":""},{"$f":"IF(入力シート!N695=\"\",\"\",入力シート!N695)","v":""},{"$f":"IF(入力シート!O695=\"\",\"\",入力シート!Q695)","v":""}]
[{"$f":"IF(入力シート!A696=\"\",\"\",入力シート!A696)","v":""},{"$f":"IF(入力シート!B696=\"\",\"\",入力シート!B696)","v":""},{"$f":"IF(入力シート!C696=\"\",\"\",入力シート!C696)","v":""},{"$f":"IF(入力シート!D696=\"\",\"\",TEXT(入力シート!D696,\"yyyy-mm-dd\"))","v":""},{"$f":"IF(入力シート!P696=\"\",\"\",TEXT(入力シート!P696,\"000-0000\"))","v":""},{"$f":"IF(入力シート!G696=\"\",\"\",入力シート!G696)","v":""},{"$f":"IF(入力シート!H696=\"\",\"\",入力シート!H696)","v":""},{"$f":"IF(入力シート!I696=\"\",\"\",入力シート!I696)","v":""},{"$f":"IF(入力シート!J696=\"\",\"\",入力シート!J696)","v":""},{"$f":"IF(入力シート!K696=\"\",\"\",入力シート!K696)","v":""},{"$f":"IF(入力シート!L696=\"\",\"\",入力シート!L696)","v":""},{"$f":"IF(入力シート!M696=\"\",\"\",入力シート!M696)","v":""},{"$f":"IF(入力シート!N696=\"\",\"\",入力シート!N696)","v":""},{"$f":"IF(入力シート!O696=\"\",\"\",入力シート!Q696)","v":""}]
[{"$f":"IF(入力シート!A697=\"\",\"\",入力シート!A697)","v":""},{"$f":"IF(入力シート!B697=\"\",\"\",入力シート!B697)","v":""},{"$f":"IF(入力シート!C697=\"\",\"\",入力シート!C697)","v":""},{"$f":"IF(入力シート!D697=\"\",\"\",TEXT(入力シート!D697,\"yyyy-mm-dd\"))","v":""},{"$f":"IF(入力シート!P697=\"\",\"\",TEXT(入力シート!P697,\"000-0000\"))","v":""},{"$f":"IF(入力シート!G697=\"\",\"\",入力シート!G697)","v":""},{"$f":"IF(入力シート!H697=\"\",\"\",入力シート!H697)","v":""},{"$f":"IF(入力シート!I697=\"\",\"\",入力シート!I697)","v":""},{"$f":"IF(入力シート!J697=\"\",\"\",入力シート!J697)","v":""},{"$f":"IF(入力シート!K697=\"\",\"\",入力シート!K697)","v":""},{"$f":"IF(入力シート!L697=\"\",\"\",入力シート!L697)","v":""},{"$f":"IF(入力シート!M697=\"\",\"\",入力シート!M697)","v":""},{"$f":"IF(入力シート!N697=\"\",\"\",入力シート!N697)","v":""},{"$f":"IF(入力シート!O697=\"\",\"\",入力シート!Q697)","v":""}]
[{"$f":"IF(入力シート!A698=\"\",\"\",入力シート!A698)","v":""},{"$f":"IF(入力シート!B698=\"\",\"\",入力シート!B698)","v":""},{"$f":"IF(入力シート!C698=\"\",\"\",入力シート!C698)","v":""},{"$f":"IF(入力シート!D698=\"\",\"\",TEXT(入力シート!D698,\"yyyy-mm-dd\"))","v":""},{"$f":"IF(入力シート!P698=\"\",\"\",TEXT(入力シート!P698,\"000-0000\"))","v":""},{"$f":"IF(入力シート!G698=\"\",\"\",入力シート!G698)","v":""},{"$f":"IF(入力シート!H698=\"\",\"\",入力シート!H698)","v":""},{"$f":"IF(入力シート!I698=\"\",\"\",入力シート!I698)","v":""},{"$f":"IF(入力シート!J698=\"\",\"\",入力シート!J698)","v":""},{"$f":"IF(入力シート!K698=\"\",\"\",入力シート!K698)","v":""},{"$f":"IF(入力シート!L698=\"\",\"\",入力シート!L698)","v":""},{"$f":"IF(入力シート!M698=\"\",\"\",入力シート!M698)","v":""},{"$f":"IF(入力シート!N698=\"\",\"\",入力シート!N698)","v":""},{"$f":"IF(入力シート!O698=\"\",\"\",入力シート!Q698)","v":""}]
[{"$f":"IF(入力シート!A699=\"\",\"\",入力シート!A699)","v":""},{"$f":"IF(入力シート!B699=\"\",\"\",入力シート!B699)","v":""},{"$f":"IF(入力シート!C699=\"\",\"\",入力シート!C699)","v":""},{"$f":"IF(入力シート!D699=\"\",\"\",TEXT(入力シート!D699,\"yyyy-mm-dd\"))","v":""},{"$f":"IF(入力シート!P699=\"\",\"\",TEXT(入力シート!P699,\"000-0000\"))","v":""},{"$f":"IF(入力シート!G699=\"\",\"\",入力シート!G699)","v":""},{"$f":"IF(入力シート!H699=\"\",\"\",入力シート!H699)","v":""},{"$f":"IF(入力シート!I699=\"\",\"\",入力シート!I699)","v":""},{"$f":"IF(入力シート!J699=\"\",\"\",入力シート!J699)","v":""},{"$f":"IF(入力シート!K699=\"\",\"\",入力シート!K699)","v":""},{"$f":"IF(入力シート!L699=\"\",\"\",入力シート!L699)","v":""},{"$f":"IF(入力シート!M699=\"\",\"\",入力シート!M699)","v":""},{"$f":"IF(入力シート!N699=\"\",\"\",入力シート!N699)","v":""},{"$f":"IF(入力シート!O699=\"\",\"\",入力シート!Q699)","v":""}]
[{"$f":"IF(入力シート!A700=\"\",\"\",入力シート!A700)","v":""},{"$f":"IF(入力シート!B700=\"\",\"\",入力シート!B700)","v":""},{"$f":"IF(入力シート!C700=\"\",\"\",入力シート!C700)","v":""},{"$f":"IF(入力シート!D700=\"\",\"\",TEXT(入力シート!D700,\"yyyy-mm-dd\"))","v":""},{"$f":"IF(入力シート!P700=\"\",\"\",TEXT(入力シート!P700,\"000-0000\"))","v":""},{"$f":"IF(入力シート!G700=\"\",\"\",入力シート!G700)","v":""},{"$f":"IF(入力シート!H700=\"\",\"\",入力シート!H700)","v":""},{"$f":"IF(入力シート!I700=\"\",\"\",入力シート!I700)","v":""},{"$f":"IF(入力シート!J700=\"\",\"\",入力シート!J700)","v":""},{"$f":"IF(入力シート!K700=\"\",\"\",入力シート!K700)","v":""},{"$f":"IF(入力シート!L700=\"\",\"\",入力シート!L700)","v":""},{"$f":"IF(入力シート!M700=\"\",\"\",入力シート!M700)","v":""},{"$f":"IF(入力シート!N700=\"\",\"\",入力シート!N700)","v":""},{"$f":"IF(入力シート!O700=\"\",\"\",入力シート!Q700)","v":""}]
[{"$f":"IF(入力シート!A701=\"\",\"\",入力シート!A701)","v":""},{"$f":"IF(入力シート!B701=\"\",\"\",入力シート!B701)","v":""},{"$f":"IF(入力シート!C701=\"\",\"\",入力シート!C701)","v":""},{"$f":"IF(入力シート!D701=\"\",\"\",TEXT(入力シート!D701,\"yyyy-mm-dd\"))","v":""},{"$f":"IF(入力シート!P701=\"\",\"\",TEXT(入力シート!P701,\"000-0000\"))","v":""},{"$f":"IF(入力シート!G701=\"\",\"\",入力シート!G701)","v":""},{"$f":"IF(入力シート!H701=\"\",\"\",入力シート!H701)","v":""},{"$f":"IF(入力シート!I701=\"\",\"\",入力シート!I701)","v":""},{"$f":"IF(入力シート!J701=\"\",\"\",入力シート!J701)","v":""},{"$f":"IF(入力シート!K701=\"\",\"\",入力シート!K701)","v":""},{"$f":"IF(入力シート!L701=\"\",\"\",入力シート!L701)","v":""},{"$f":"IF(入力シート!M701=\"\",\"\",入力シート!M701)","v":""},{"$f":"IF(入力シート!N701=\"\",\"\",入力シート!N701)","v":""},{"$f":"IF(入力シート!O701=\"\",\"\",入力シート!Q701)","v":""}]
[{"$f":"IF(入力シート!A702=\"\",\"\",入力シート!A702)","v":""},{"$f":"IF(入力シート!B702=\"\",\"\",入力シート!B702)","v":""},{"$f":"IF(入力シート!C702=\"\",\"\",入力シート!C702)","v":""},{"$f":"IF(入力シート!D702=\"\",\"\",TEXT(入力シート!D702,\"yyyy-mm-dd\"))","v":""},{"$f":"IF(入力シート!P702=\"\",\"\",TEXT(入力シート!P702,\"000-0000\"))","v":""},{"$f":"IF(入力シート!G702=\"\",\"\",入力シート!G702)","v":""},{"$f":"IF(入力シート!H702=\"\",\"\",入力シート!H702)","v":""},{"$f":"IF(入力シート!I702=\"\",\"\",入力シート!I702)","v":""},{"$f":"IF(入力シート!J702=\"\",\"\",入力シート!J702)","v":""},{"$f":"IF(入力シート!K702=\"\",\"\",入力シート!K702)","v":""},{"$f":"IF(入力シート!L702=\"\",\"\",入力シート!L702)","v":""},{"$f":"IF(入力シート!M702=\"\",\"\",入力シート!M702)","v":""},{"$f":"IF(入力シート!N702=\"\",\"\",入力シート!N702)","v":""},{"$f":"IF(入力シート!O702=\"\",\"\",入力シート!Q702)","v":""}]
[{"$f":"IF(入力シート!A703=\"\",\"\",入力シート!A703)","v":""},{"$f":"IF(入力シート!B703=\"\",\"\",入力シート!B703)","v":""},{"$f":"IF(入力シート!C703=\"\",\"\",入力シート!C703)","v":""},{"$f":"IF(入力シート!D703=\"\",\"\",TEXT(入力シート!D703,\"yyyy-mm-dd\"))","v":""},{"$f":"IF(入力シート!P703=\"\",\"\",TEXT(入力シート!P703,\"000-0000\"))","v":""},{"$f":"IF(入力シート!G703=\"\",\"\",入力シート!G703)","v":""},{"$f":"IF(入力シート!H703=\"\",\"\",入力シート!H703)","v":""},{"$f":"IF(入力シート!I703=\"\",\"\",入力シート!I703)","v":""},{"$f":"IF(入力シート!J703=\"\",\"\",入力シート!J703)","v":""},{"$f":"IF(入力シート!K703=\"\",\"\",入力シート!K703)","v":""},{"$f":"IF(入力シート!L703=\"\",\"\",入力シート!L703)","v":""},{"$f":"IF(入力シート!M703=\"\",\"\",入力シート!M703)","v":""},{"$f":"IF(入力シート!N703=\"\",\"\",入力シート!N703)","v":""},{"$f":"IF(入力シート!O703=\"\",\"\",入力シート!Q703)","v":""}]
[{"$f":"IF(入力シート!A704=\"\",\"\",入力シート!A704)","v":""},{"$f":"IF(入力シート!B704=\"\",\"\",入力シート!B704)","v":""},{"$f":"IF(入力シート!C704=\"\",\"\",入力シート!C704)","v":""},{"$f":"IF(入力シート!D704=\"\",\"\",TEXT(入力シート!D704,\"yyyy-mm-dd\"))","v":""},{"$f":"IF(入力シート!P704=\"\",\"\",TEXT(入力シート!P704,\"000-0000\"))","v":""},{"$f":"IF(入力シート!G704=\"\",\"\",入力シート!G704)","v":""},{"$f":"IF(入力シート!H704=\"\",\"\",入力シート!H704)","v":""},{"$f":"IF(入力シート!I704=\"\",\"\",入力シート!I704)","v":""},{"$f":"IF(入力シート!J704=\"\",\"\",入力シート!J704)","v":""},{"$f":"IF(入力シート!K704=\"\",\"\",入力シート!K704)","v":""},{"$f":"IF(入力シート!L704=\"\",\"\",入力シート!L704)","v":""},{"$f":"IF(入力シート!M704=\"\",\"\",入力シート!M704)","v":""},{"$f":"IF(入力シート!N704=\"\",\"\",入力シート!N704)","v":""},{"$f":"IF(入力シート!O704=\"\",\"\",入力シート!Q704)","v":""}]
[{"$f":"IF(入力シート!A705=\"\",\"\",入力シート!A705)","v":""},{"$f":"IF(入力シート!B705=\"\",\"\",入力シート!B705)","v":""},{"$f":"IF(入力シート!C705=\"\",\"\",入力シート!C705)","v":""},{"$f":"IF(入力シート!D705=\"\",\"\",TEXT(入力シート!D705,\"yyyy-mm-dd\"))","v":""},{"$f":"IF(入力シート!P705=\"\",\"\",TEXT(入力シート!P705,\"000-0000\"))","v":""},{"$f":"IF(入力シート!G705=\"\",\"\",入力シート!G705)","v":""},{"$f":"IF(入力シート!H705=\"\",\"\",入力シート!H705)","v":""},{"$f":"IF(入力シート!I705=\"\",\"\",入力シート!I705)","v":""},{"$f":"IF(入力シート!J705=\"\",\"\",入力シート!J705)","v":""},{"$f":"IF(入力シート!K705=\"\",\"\",入力シート!K705)","v":""},{"$f":"IF(入力シート!L705=\"\",\"\",入力シート!L705)","v":""},{"$f":"IF(入力シート!M705=\"\",\"\",入力シート!M705)","v":""},{"$f":"IF(入力シート!N705=\"\",\"\",入力シート!N705)","v":""},{"$f":"IF(入力シート!O705=\"\",\"\",入力シート!Q705)","v":""}]
[{"$f":"IF(入力シート!A706=\"\",\"\",入力シート!A706)","v":""},{"$f":"IF(入力シート!B706=\"\",\"\",入力シート!B706)","v":""},{"$f":"IF(入力シート!C706=\"\",\"\",入力シート!C706)","v":""},{"$f":"IF(入力シート!D706=\"\",\"\",TEXT(入力シート!D706,\"yyyy-mm-dd\"))","v":""},{"$f":"IF(入力シート!P706=\"\",\"\",TEXT(入力シート!P706,\"000-0000\"))","v":""},{"$f":"IF(入力シート!G706=\"\",\"\",入力シート!G706)","v":""},{"$f":"IF(入力シート!H706=\"\",\"\",入力シート!H706)","v":""},{"$f":"IF(入力シート!I706=\"\",\"\",入力シート!I706)","v":""},{"$f":"IF(入力シート!J706=\"\",\"\",入力シート!J706)","v":""},{"$f":"IF(入力シート!K706=\"\",\"\",入力シート!K706)","v":""},{"$f":"IF(入力シート!L706=\"\",\"\",入力シート!L706)","v":""},{"$f":"IF(入力シート!M706=\"\",\"\",入力シート!M706)","v":""},{"$f":"IF(入力シート!N706=\"\",\"\",入力シート!N706)","v":""},{"$f":"IF(入力シート!O706=\"\",\"\",入力シート!Q706)","v":""}]
[{"$f":"IF(入力シート!A707=\"\",\"\",入力シート!A707)","v":""},{"$f":"IF(入力シート!B707=\"\",\"\",入力シート!B707)","v":""},{"$f":"IF(入力シート!C707=\"\",\"\",入力シート!C707)","v":""},{"$f":"IF(入力シート!D707=\"\",\"\",TEXT(入力シート!D707,\"yyyy-mm-dd\"))","v":""},{"$f":"IF(入力シート!P707=\"\",\"\",TEXT(入力シート!P707,\"000-0000\"))","v":""},{"$f":"IF(入力シート!G707=\"\",\"\",入力シート!G707)","v":""},{"$f":"IF(入力シート!H707=\"\",\"\",入力シート!H707)","v":""},{"$f":"IF(入力シート!I707=\"\",\"\",入力シート!I707)","v":""},{"$f":"IF(入力シート!J707=\"\",\"\",入力シート!J707)","v":""},{"$f":"IF(入力シート!K707=\"\",\"\",入力シート!K707)","v":""},{"$f":"IF(入力シート!L707=\"\",\"\",入力シート!L707)","v":""},{"$f":"IF(入力シート!M707=\"\",\"\",入力シート!M707)","v":""},{"$f":"IF(入力シート!N707=\"\",\"\",入力シート!N707)","v":""},{"$f":"IF(入力シート!O707=\"\",\"\",入力シート!Q707)","v":""}]
[{"$f":"IF(入力シート!A708=\"\",\"\",入力シート!A708)","v":""},{"$f":"IF(入力シート!B708=\"\",\"\",入力シート!B708)","v":""},{"$f":"IF(入力シート!C708=\"\",\"\",入力シート!C708)","v":""},{"$f":"IF(入力シート!D708=\"\",\"\",TEXT(入力シート!D708,\"yyyy-mm-dd\"))","v":""},{"$f":"IF(入力シート!P708=\"\",\"\",TEXT(入力シート!P708,\"000-0000\"))","v":""},{"$f":"IF(入力シート!G708=\"\",\"\",入力シート!G708)","v":""},{"$f":"IF(入力シート!H708=\"\",\"\",入力シート!H708)","v":""},{"$f":"IF(入力シート!I708=\"\",\"\",入力シート!I708)","v":""},{"$f":"IF(入力シート!J708=\"\",\"\",入力シート!J708)","v":""},{"$f":"IF(入力シート!K708=\"\",\"\",入力シート!K708)","v":""},{"$f":"IF(入力シート!L708=\"\",\"\",入力シート!L708)","v":""},{"$f":"IF(入力シート!M708=\"\",\"\",入力シート!M708)","v":""},{"$f":"IF(入力シート!N708=\"\",\"\",入力シート!N708)","v":""},{"$f":"IF(入力シート!O708=\"\",\"\",入力シート!Q708)","v":""}]
[{"$f":"IF(入力シート!A709=\"\",\"\",入力シート!A709)","v":""},{"$f":"IF(入力シート!B709=\"\",\"\",入力シート!B709)","v":""},{"$f":"IF(入力シート!C709=\"\",\"\",入力シート!C709)","v":""},{"$f":"IF(入力シート!D709=\"\",\"\",TEXT(入力シート!D709,\"yyyy-mm-dd\"))","v":""},{"$f":"IF(入力シート!P709=\"\",\"\",TEXT(入力シート!P709,\"000-0000\"))","v":""},{"$f":"IF(入力シート!G709=\"\",\"\",入力シート!G709)","v":""},{"$f":"IF(入力シート!H709=\"\",\"\",入力シート!H709)","v":""},{"$f":"IF(入力シート!I709=\"\",\"\",入力シート!I709)","v":""},{"$f":"IF(入力シート!J709=\"\",\"\",入力シート!J709)","v":""},{"$f":"IF(入力シート!K709=\"\",\"\",入力シート!K709)","v":""},{"$f":"IF(入力シート!L709=\"\",\"\",入力シート!L709)","v":""},{"$f":"IF(入力シート!M709=\"\",\"\",入力シート!M709)","v":""},{"$f":"IF(入力シート!N709=\"\",\"\",入力シート!N709)","v":""},{"$f":"IF(入力シート!O709=\"\",\"\",入力シート!Q709)","v":""}]
[{"$f":"IF(入力シート!A710=\"\",\"\",入力シート!A710)","v":""},{"$f":"IF(入力シート!B710=\"\",\"\",入力シート!B710)","v":""},{"$f":"IF(入力シート!C710=\"\",\"\",入力シート!C710)","v":""},{"$f":"IF(入力シート!D710=\"\",\"\",TEXT(入力シート!D710,\"yyyy-mm-dd\"))","v":""},{"$f":"IF(入力シート!P710=\"\",\"\",TEXT(入力シート!P710,\"000-0000\"))","v":""},{"$f":"IF(入力シート!G710=\"\",\"\",入力シート!G710)","v":""},{"$f":"IF(入力シート!H710=\"\",\"\",入力シート!H710)","v":""},{"$f":"IF(入力シート!I710=\"\",\"\",入力シート!I710)","v":""},{"$f":"IF(入力シート!J710=\"\",\"\",入力シート!J710)","v":""},{"$f":"IF(入力シート!K710=\"\",\"\",入力シート!K710)","v":""},{"$f":"IF(入力シート!L710=\"\",\"\",入力シート!L710)","v":""},{"$f":"IF(入力シート!M710=\"\",\"\",入力シート!M710)","v":""},{"$f":"IF(入力シート!N710=\"\",\"\",入力シート!N710)","v":""},{"$f":"IF(入力シート!O710=\"\",\"\",入力シート!Q710)","v":""}]
[{"$f":"IF(入力シート!A711=\"\",\"\",入力シート!A711)","v":""},{"$f":"IF(入力シート!B711=\"\",\"\",入力シート!B711)","v":""},{"$f":"IF(入力シート!C711=\"\",\"\",入力シート!C711)","v":""},{"$f":"IF(入力シート!D711=\"\",\"\",TEXT(入力シート!D711,\"yyyy-mm-dd\"))","v":""},{"$f":"IF(入力シート!P711=\"\",\"\",TEXT(入力シート!P711,\"000-0000\"))","v":""},{"$f":"IF(入力シート!G711=\"\",\"\",入力シート!G711)","v":""},{"$f":"IF(入力シート!H711=\"\",\"\",入力シート!H711)","v":""},{"$f":"IF(入力シート!I711=\"\",\"\",入力シート!I711)","v":""},{"$f":"IF(入力シート!J711=\"\",\"\",入力シート!J711)","v":""},{"$f":"IF(入力シート!K711=\"\",\"\",入力シート!K711)","v":""},{"$f":"IF(入力シート!L711=\"\",\"\",入力シート!L711)","v":""},{"$f":"IF(入力シート!M711=\"\",\"\",入力シート!M711)","v":""},{"$f":"IF(入力シート!N711=\"\",\"\",入力シート!N711)","v":""},{"$f":"IF(入力シート!O711=\"\",\"\",入力シート!Q711)","v":""}]
[{"$f":"IF(入力シート!A712=\"\",\"\",入力シート!A712)","v":""},{"$f":"IF(入力シート!B712=\"\",\"\",入力シート!B712)","v":""},{"$f":"IF(入力シート!C712=\"\",\"\",入力シート!C712)","v":""},{"$f":"IF(入力シート!D712=\"\",\"\",TEXT(入力シート!D712,\"yyyy-mm-dd\"))","v":""},{"$f":"IF(入力シート!P712=\"\",\"\",TEXT(入力シート!P712,\"000-0000\"))","v":""},{"$f":"IF(入力シート!G712=\"\",\"\",入力シート!G712)","v":""},{"$f":"IF(入力シート!H712=\"\",\"\",入力シート!H712)","v":""},{"$f":"IF(入力シート!I712=\"\",\"\",入力シート!I712)","v":""},{"$f":"IF(入力シート!J712=\"\",\"\",入力シート!J712)","v":""},{"$f":"IF(入力シート!K712=\"\",\"\",入力シート!K712)","v":""},{"$f":"IF(入力シート!L712=\"\",\"\",入力シート!L712)","v":""},{"$f":"IF(入力シート!M712=\"\",\"\",入力シート!M712)","v":""},{"$f":"IF(入力シート!N712=\"\",\"\",入力シート!N712)","v":""},{"$f":"IF(入力シート!O712=\"\",\"\",入力シート!Q712)","v":""}]
[{"$f":"IF(入力シート!A713=\"\",\"\",入力シート!A713)","v":""},{"$f":"IF(入力シート!B713=\"\",\"\",入力シート!B713)","v":""},{"$f":"IF(入力シート!C713=\"\",\"\",入力シート!C713)","v":""},{"$f":"IF(入力シート!D713=\"\",\"\",TEXT(入力シート!D713,\"yyyy-mm-dd\"))","v":""},{"$f":"IF(入力シート!P713=\"\",\"\",TEXT(入力シート!P713,\"000-0000\"))","v":""},{"$f":"IF(入力シート!G713=\"\",\"\",入力シート!G713)","v":""},{"$f":"IF(入力シート!H713=\"\",\"\",入力シート!H713)","v":""},{"$f":"IF(入力シート!I713=\"\",\"\",入力シート!I713)","v":""},{"$f":"IF(入力シート!J713=\"\",\"\",入力シート!J713)","v":""},{"$f":"IF(入力シート!K713=\"\",\"\",入力シート!K713)","v":""},{"$f":"IF(入力シート!L713=\"\",\"\",入力シート!L713)","v":""},{"$f":"IF(入力シート!M713=\"\",\"\",入力シート!M713)","v":""},{"$f":"IF(入力シート!N713=\"\",\"\",入力シート!N713)","v":""},{"$f":"IF(入力シート!O713=\"\",\"\",入力シート!Q713)","v":""}]
[{"$f":"IF(入力シート!A714=\"\",\"\",入力シート!A714)","v":""},{"$f":"IF(入力シート!B714=\"\",\"\",入力シート!B714)","v":""},{"$f":"IF(入力シート!C714=\"\",\"\",入力シート!C714)","v":""},{"$f":"IF(入力シート!D714=\"\",\"\",TEXT(入力シート!D714,\"yyyy-mm-dd\"))","v":""},{"$f":"IF(入力シート!P714=\"\",\"\",TEXT(入力シート!P714,\"000-0000\"))","v":""},{"$f":"IF(入力シート!G714=\"\",\"\",入力シート!G714)","v":""},{"$f":"IF(入力シート!H714=\"\",\"\",入力シート!H714)","v":""},{"$f":"IF(入力シート!I714=\"\",\"\",入力シート!I714)","v":""},{"$f":"IF(入力シート!J714=\"\",\"\",入力シート!J714)","v":""},{"$f":"IF(入力シート!K714=\"\",\"\",入力シート!K714)","v":""},{"$f":"IF(入力シート!L714=\"\",\"\",入力シート!L714)","v":""},{"$f":"IF(入力シート!M714=\"\",\"\",入力シート!M714)","v":""},{"$f":"IF(入力シート!N714=\"\",\"\",入力シート!N714)","v":""},{"$f":"IF(入力シート!O714=\"\",\"\",入力シート!Q714)","v":""}]
[{"$f":"IF(入力シート!A715=\"\",\"\",入力シート!A715)","v":""},{"$f":"IF(入力シート!B715=\"\",\"\",入力シート!B715)","v":""},{"$f":"IF(入力シート!C715=\"\",\"\",入力シート!C715)","v":""},{"$f":"IF(入力シート!D715=\"\",\"\",TEXT(入力シート!D715,\"yyyy-mm-dd\"))","v":""},{"$f":"IF(入力シート!P715=\"\",\"\",TEXT(入力シート!P715,\"000-0000\"))","v":""},{"$f":"IF(入力シート!G715=\"\",\"\",入力シート!G715)","v":""},{"$f":"IF(入力シート!H715=\"\",\"\",入力シート!H715)","v":""},{"$f":"IF(入力シート!I715=\"\",\"\",入力シート!I715)","v":""},{"$f":"IF(入力シート!J715=\"\",\"\",入力シート!J715)","v":""},{"$f":"IF(入力シート!K715=\"\",\"\",入力シート!K715)","v":""},{"$f":"IF(入力シート!L715=\"\",\"\",入力シート!L715)","v":""},{"$f":"IF(入力シート!M715=\"\",\"\",入力シート!M715)","v":""},{"$f":"IF(入力シート!N715=\"\",\"\",入力シート!N715)","v":""},{"$f":"IF(入力シート!O715=\"\",\"\",入力シート!Q715)","v":""}]
[{"$f":"IF(入力シート!A716=\"\",\"\",入力シート!A716)","v":""},{"$f":"IF(入力シート!B716=\"\",\"\",入力シート!B716)","v":""},{"$f":"IF(入力シート!C716=\"\",\"\",入力シート!C716)","v":""},{"$f":"IF(入力シート!D716=\"\",\"\",TEXT(入力シート!D716,\"yyyy-mm-dd\"))","v":""},{"$f":"IF(入力シート!P716=\"\",\"\",TEXT(入力シート!P716,\"000-0000\"))","v":""},{"$f":"IF(入力シート!G716=\"\",\"\",入力シート!G716)","v":""},{"$f":"IF(入力シート!H716=\"\",\"\",入力シート!H716)","v":""},{"$f":"IF(入力シート!I716=\"\",\"\",入力シート!I716)","v":""},{"$f":"IF(入力シート!J716=\"\",\"\",入力シート!J716)","v":""},{"$f":"IF(入力シート!K716=\"\",\"\",入力シート!K716)","v":""},{"$f":"IF(入力シート!L716=\"\",\"\",入力シート!L716)","v":""},{"$f":"IF(入力シート!M716=\"\",\"\",入力シート!M716)","v":""},{"$f":"IF(入力シート!N716=\"\",\"\",入力シート!N716)","v":""},{"$f":"IF(入力シート!O716=\"\",\"\",入力シート!Q716)","v":""}]
[{"$f":"IF(入力シート!A717=\"\",\"\",入力シート!A717)","v":""},{"$f":"IF(入力シート!B717=\"\",\"\",入力シート!B717)","v":""},{"$f":"IF(入力シート!C717=\"\",\"\",入力シート!C717)","v":""},{"$f":"IF(入力シート!D717=\"\",\"\",TEXT(入力シート!D717,\"yyyy-mm-dd\"))","v":""},{"$f":"IF(入力シート!P717=\"\",\"\",TEXT(入力シート!P717,\"000-0000\"))","v":""},{"$f":"IF(入力シート!G717=\"\",\"\",入力シート!G717)","v":""},{"$f":"IF(入力シート!H717=\"\",\"\",入力シート!H717)","v":""},{"$f":"IF(入力シート!I717=\"\",\"\",入力シート!I717)","v":""},{"$f":"IF(入力シート!J717=\"\",\"\",入力シート!J717)","v":""},{"$f":"IF(入力シート!K717=\"\",\"\",入力シート!K717)","v":""},{"$f":"IF(入力シート!L717=\"\",\"\",入力シート!L717)","v":""},{"$f":"IF(入力シート!M717=\"\",\"\",入力シート!M717)","v":""},{"$f":"IF(入力シート!N717=\"\",\"\",入力シート!N717)","v":""},{"$f":"IF(入力シート!O717=\"\",\"\",入力シート!Q717)","v":""}]
[{"$f":"IF(入力シート!A718=\"\",\"\",入力シート!A718)","v":""},{"$f":"IF(入力シート!B718=\"\",\"\",入力シート!B718)","v":""},{"$f":"IF(入力シート!C718=\"\",\"\",入力シート!C718)","v":""},{"$f":"IF(入力シート!D718=\"\",\"\",TEXT(入力シート!D718,\"yyyy-mm-dd\"))","v":""},{"$f":"IF(入力シート!P718=\"\",\"\",TEXT(入力シート!P718,\"000-0000\"))","v":""},{"$f":"IF(入力シート!G718=\"\",\"\",入力シート!G718)","v":""},{"$f":"IF(入力シート!H718=\"\",\"\",入力シート!H718)","v":""},{"$f":"IF(入力シート!I718=\"\",\"\",入力シート!I718)","v":""},{"$f":"IF(入力シート!J718=\"\",\"\",入力シート!J718)","v":""},{"$f":"IF(入力シート!K718=\"\",\"\",入力シート!K718)","v":""},{"$f":"IF(入力シート!L718=\"\",\"\",入力シート!L718)","v":""},{"$f":"IF(入力シート!M718=\"\",\"\",入力シート!M718)","v":""},{"$f":"IF(入力シート!N718=\"\",\"\",入力シート!N718)","v":""},{"$f":"IF(入力シート!O718=\"\",\"\",入力シート!Q718)","v":""}]
[{"$f":"IF(入力シート!A719=\"\",\"\",入力シート!A719)","v":""},{"$f":"IF(入力シート!B719=\"\",\"\",入力シート!B719)","v":""},{"$f":"IF(入力シート!C719=\"\",\"\",入力シート!C719)","v":""},{"$f":"IF(入力シート!D719=\"\",\"\",TEXT(入力シート!D719,\"yyyy-mm-dd\"))","v":""},{"$f":"IF(入力シート!P719=\"\",\"\",TEXT(入力シート!P719,\"000-0000\"))","v":""},{"$f":"IF(入力シート!G719=\"\",\"\",入力シート!G719)","v":""},{"$f":"IF(入力シート!H719=\"\",\"\",入力シート!H719)","v":""},{"$f":"IF(入力シート!I719=\"\",\"\",入力シート!I719)","v":""},{"$f":"IF(入力シート!J719=\"\",\"\",入力シート!J719)","v":""},{"$f":"IF(入力シート!K719=\"\",\"\",入力シート!K719)","v":""},{"$f":"IF(入力シート!L719=\"\",\"\",入力シート!L719)","v":""},{"$f":"IF(入力シート!M719=\"\",\"\",入力シート!M719)","v":""},{"$f":"IF(入力シート!N719=\"\",\"\",入力シート!N719)","v":""},{"$f":"IF(入力シート!O719=\"\",\"\",入力シート!Q719)","v":""}]
[{"$f":"IF(入力シート!A720=\"\",\"\",入力シート!A720)","v":""},{"$f":"IF(入力シート!B720=\"\",\"\",入力シート!B720)","v":""},{"$f":"IF(入力シート!C720=\"\",\"\",入力シート!C720)","v":""},{"$f":"IF(入力シート!D720=\"\",\"\",TEXT(入力シート!D720,\"yyyy-mm-dd\"))","v":""},{"$f":"IF(入力シート!P720=\"\",\"\",TEXT(入力シート!P720,\"000-0000\"))","v":""},{"$f":"IF(入力シート!G720=\"\",\"\",入力シート!G720)","v":""},{"$f":"IF(入力シート!H720=\"\",\"\",入力シート!H720)","v":""},{"$f":"IF(入力シート!I720=\"\",\"\",入力シート!I720)","v":""},{"$f":"IF(入力シート!J720=\"\",\"\",入力シート!J720)","v":""},{"$f":"IF(入力シート!K720=\"\",\"\",入力シート!K720)","v":""},{"$f":"IF(入力シート!L720=\"\",\"\",入力シート!L720)","v":""},{"$f":"IF(入力シート!M720=\"\",\"\",入力シート!M720)","v":""},{"$f":"IF(入力シート!N720=\"\",\"\",入力シート!N720)","v":""},{"$f":"IF(入力シート!O720=\"\",\"\",入力シート!Q720)","v":""}]
[{"$f":"IF(入力シート!A721=\"\",\"\",入力シート!A721)","v":""},{"$f":"IF(入力シート!B721=\"\",\"\",入力シート!B721)","v":""},{"$f":"IF(入力シート!C721=\"\",\"\",入力シート!C721)","v":""},{"$f":"IF(入力シート!D721=\"\",\"\",TEXT(入力シート!D721,\"yyyy-mm-dd\"))","v":""},{"$f":"IF(入力シート!P721=\"\",\"\",TEXT(入力シート!P721,\"000-0000\"))","v":""},{"$f":"IF(入力シート!G721=\"\",\"\",入力シート!G721)","v":""},{"$f":"IF(入力シート!H721=\"\",\"\",入力シート!H721)","v":""},{"$f":"IF(入力シート!I721=\"\",\"\",入力シート!I721)","v":""},{"$f":"IF(入力シート!J721=\"\",\"\",入力シート!J721)","v":""},{"$f":"IF(入力シート!K721=\"\",\"\",入力シート!K721)","v":""},{"$f":"IF(入力シート!L721=\"\",\"\",入力シート!L721)","v":""},{"$f":"IF(入力シート!M721=\"\",\"\",入力シート!M721)","v":""},{"$f":"IF(入力シート!N721=\"\",\"\",入力シート!N721)","v":""},{"$f":"IF(入力シート!O721=\"\",\"\",入力シート!Q721)","v":""}]
[{"$f":"IF(入力シート!A722=\"\",\"\",入力シート!A722)","v":""},{"$f":"IF(入力シート!B722=\"\",\"\",入力シート!B722)","v":""},{"$f":"IF(入力シート!C722=\"\",\"\",入力シート!C722)","v":""},{"$f":"IF(入力シート!D722=\"\",\"\",TEXT(入力シート!D722,\"yyyy-mm-dd\"))","v":""},{"$f":"IF(入力シート!P722=\"\",\"\",TEXT(入力シート!P722,\"000-0000\"))","v":""},{"$f":"IF(入力シート!G722=\"\",\"\",入力シート!G722)","v":""},{"$f":"IF(入力シート!H722=\"\",\"\",入力シート!H722)","v":""},{"$f":"IF(入力シート!I722=\"\",\"\",入力シート!I722)","v":""},{"$f":"IF(入力シート!J722=\"\",\"\",入力シート!J722)","v":""},{"$f":"IF(入力シート!K722=\"\",\"\",入力シート!K722)","v":""},{"$f":"IF(入力シート!L722=\"\",\"\",入力シート!L722)","v":""},{"$f":"IF(入力シート!M722=\"\",\"\",入力シート!M722)","v":""},{"$f":"IF(入力シート!N722=\"\",\"\",入力シート!N722)","v":""},{"$f":"IF(入力シート!O722=\"\",\"\",入力シート!Q722)","v":""}]
[{"$f":"IF(入力シート!A723=\"\",\"\",入力シート!A723)","v":""},{"$f":"IF(入力シート!B723=\"\",\"\",入力シート!B723)","v":""},{"$f":"IF(入力シート!C723=\"\",\"\",入力シート!C723)","v":""},{"$f":"IF(入力シート!D723=\"\",\"\",TEXT(入力シート!D723,\"yyyy-mm-dd\"))","v":""},{"$f":"IF(入力シート!P723=\"\",\"\",TEXT(入力シート!P723,\"000-0000\"))","v":""},{"$f":"IF(入力シート!G723=\"\",\"\",入力シート!G723)","v":""},{"$f":"IF(入力シート!H723=\"\",\"\",入力シート!H723)","v":""},{"$f":"IF(入力シート!I723=\"\",\"\",入力シート!I723)","v":""},{"$f":"IF(入力シート!J723=\"\",\"\",入力シート!J723)","v":""},{"$f":"IF(入力シート!K723=\"\",\"\",入力シート!K723)","v":""},{"$f":"IF(入力シート!L723=\"\",\"\",入力シート!L723)","v":""},{"$f":"IF(入力シート!M723=\"\",\"\",入力シート!M723)","v":""},{"$f":"IF(入力シート!N723=\"\",\"\",入力シート!N723)","v":""},{"$f":"IF(入力シート!O723=\"\",\"\",入力シート!Q723)","v":""}]
[{"$f":"IF(入力シート!A724=\"\",\"\",入力シート!A724)","v":""},{"$f":"IF(入力シート!B724=\"\",\"\",入力シート!B724)","v":""},{"$f":"IF(入力シート!C724=\"\",\"\",入力シート!C724)","v":""},{"$f":"IF(入力シート!D724=\"\",\"\",TEXT(入力シート!D724,\"yyyy-mm-dd\"))","v":""},{"$f":"IF(入力シート!P724=\"\",\"\",TEXT(入力シート!P724,\"000-0000\"))","v":""},{"$f":"IF(入力シート!G724=\"\",\"\",入力シート!G724)","v":""},{"$f":"IF(入力シート!H724=\"\",\"\",入力シート!H724)","v":""},{"$f":"IF(入力シート!I724=\"\",\"\",入力シート!I724)","v":""},{"$f":"IF(入力シート!J724=\"\",\"\",入力シート!J724)","v":""},{"$f":"IF(入力シート!K724=\"\",\"\",入力シート!K724)","v":""},{"$f":"IF(入力シート!L724=\"\",\"\",入力シート!L724)","v":""},{"$f":"IF(入力シート!M724=\"\",\"\",入力シート!M724)","v":""},{"$f":"IF(入力シート!N724=\"\",\"\",入力シート!N724)","v":""},{"$f":"IF(入力シート!O724=\"\",\"\",入力シート!Q724)","v":""}]
[{"$f":"IF(入力シート!A725=\"\",\"\",入力シート!A725)","v":""},{"$f":"IF(入力シート!B725=\"\",\"\",入力シート!B725)","v":""},{"$f":"IF(入力シート!C725=\"\",\"\",入力シート!C725)","v":""},{"$f":"IF(入力シート!D725=\"\",\"\",TEXT(入力シート!D725,\"yyyy-mm-dd\"))","v":""},{"$f":"IF(入力シート!P725=\"\",\"\",TEXT(入力シート!P725,\"000-0000\"))","v":""},{"$f":"IF(入力シート!G725=\"\",\"\",入力シート!G725)","v":""},{"$f":"IF(入力シート!H725=\"\",\"\",入力シート!H725)","v":""},{"$f":"IF(入力シート!I725=\"\",\"\",入力シート!I725)","v":""},{"$f":"IF(入力シート!J725=\"\",\"\",入力シート!J725)","v":""},{"$f":"IF(入力シート!K725=\"\",\"\",入力シート!K725)","v":""},{"$f":"IF(入力シート!L725=\"\",\"\",入力シート!L725)","v":""},{"$f":"IF(入力シート!M725=\"\",\"\",入力シート!M725)","v":""},{"$f":"IF(入力シート!N725=\"\",\"\",入力シート!N725)","v":""},{"$f":"IF(入力シート!O725=\"\",\"\",入力シート!Q725)","v":""}]
[{"$f":"IF(入力シート!A726=\"\",\"\",入力シート!A726)","v":""},{"$f":"IF(入力シート!B726=\"\",\"\",入力シート!B726)","v":""},{"$f":"IF(入力シート!C726=\"\",\"\",入力シート!C726)","v":""},{"$f":"IF(入力シート!D726=\"\",\"\",TEXT(入力シート!D726,\"yyyy-mm-dd\"))","v":""},{"$f":"IF(入力シート!P726=\"\",\"\",TEXT(入力シート!P726,\"000-0000\"))","v":""},{"$f":"IF(入力シート!G726=\"\",\"\",入力シート!G726)","v":""},{"$f":"IF(入力シート!H726=\"\",\"\",入力シート!H726)","v":""},{"$f":"IF(入力シート!I726=\"\",\"\",入力シート!I726)","v":""},{"$f":"IF(入力シート!J726=\"\",\"\",入力シート!J726)","v":""},{"$f":"IF(入力シート!K726=\"\",\"\",入力シート!K726)","v":""},{"$f":"IF(入力シート!L726=\"\",\"\",入力シート!L726)","v":""},{"$f":"IF(入力シート!M726=\"\",\"\",入力シート!M726)","v":""},{"$f":"IF(入力シート!N726=\"\",\"\",入力シート!N726)","v":""},{"$f":"IF(入力シート!O726=\"\",\"\",入力シート!Q726)","v":""}]
[{"$f":"IF(入力シート!A727=\"\",\"\",入力シート!A727)","v":""},{"$f":"IF(入力シート!B727=\"\",\"\",入力シート!B727)","v":""},{"$f":"IF(入力シート!C727=\"\",\"\",入力シート!C727)","v":""},{"$f":"IF(入力シート!D727=\"\",\"\",TEXT(入力シート!D727,\"yyyy-mm-dd\"))","v":""},{"$f":"IF(入力シート!P727=\"\",\"\",TEXT(入力シート!P727,\"000-0000\"))","v":""},{"$f":"IF(入力シート!G727=\"\",\"\",入力シート!G727)","v":""},{"$f":"IF(入力シート!H727=\"\",\"\",入力シート!H727)","v":""},{"$f":"IF(入力シート!I727=\"\",\"\",入力シート!I727)","v":""},{"$f":"IF(入力シート!J727=\"\",\"\",入力シート!J727)","v":""},{"$f":"IF(入力シート!K727=\"\",\"\",入力シート!K727)","v":""},{"$f":"IF(入力シート!L727=\"\",\"\",入力シート!L727)","v":""},{"$f":"IF(入力シート!M727=\"\",\"\",入力シート!M727)","v":""},{"$f":"IF(入力シート!N727=\"\",\"\",入力シート!N727)","v":""},{"$f":"IF(入力シート!O727=\"\",\"\",入力シート!Q727)","v":""}]
[{"$f":"IF(入力シート!A728=\"\",\"\",入力シート!A728)","v":""},{"$f":"IF(入力シート!B728=\"\",\"\",入力シート!B728)","v":""},{"$f":"IF(入力シート!C728=\"\",\"\",入力シート!C728)","v":""},{"$f":"IF(入力シート!D728=\"\",\"\",TEXT(入力シート!D728,\"yyyy-mm-dd\"))","v":""},{"$f":"IF(入力シート!P728=\"\",\"\",TEXT(入力シート!P728,\"000-0000\"))","v":""},{"$f":"IF(入力シート!G728=\"\",\"\",入力シート!G728)","v":""},{"$f":"IF(入力シート!H728=\"\",\"\",入力シート!H728)","v":""},{"$f":"IF(入力シート!I728=\"\",\"\",入力シート!I728)","v":""},{"$f":"IF(入力シート!J728=\"\",\"\",入力シート!J728)","v":""},{"$f":"IF(入力シート!K728=\"\",\"\",入力シート!K728)","v":""},{"$f":"IF(入力シート!L728=\"\",\"\",入力シート!L728)","v":""},{"$f":"IF(入力シート!M728=\"\",\"\",入力シート!M728)","v":""},{"$f":"IF(入力シート!N728=\"\",\"\",入力シート!N728)","v":""},{"$f":"IF(入力シート!O728=\"\",\"\",入力シート!Q728)","v":""}]
[{"$f":"IF(入力シート!A729=\"\",\"\",入力シート!A729)","v":""},{"$f":"IF(入力シート!B729=\"\",\"\",入力シート!B729)","v":""},{"$f":"IF(入力シート!C729=\"\",\"\",入力シート!C729)","v":""},{"$f":"IF(入力シート!D729=\"\",\"\",TEXT(入力シート!D729,\"yyyy-mm-dd\"))","v":""},{"$f":"IF(入力シート!P729=\"\",\"\",TEXT(入力シート!P729,\"000-0000\"))","v":""},{"$f":"IF(入力シート!G729=\"\",\"\",入力シート!G729)","v":""},{"$f":"IF(入力シート!H729=\"\",\"\",入力シート!H729)","v":""},{"$f":"IF(入力シート!I729=\"\",\"\",入力シート!I729)","v":""},{"$f":"IF(入力シート!J729=\"\",\"\",入力シート!J729)","v":""},{"$f":"IF(入力シート!K729=\"\",\"\",入力シート!K729)","v":""},{"$f":"IF(入力シート!L729=\"\",\"\",入力シート!L729)","v":""},{"$f":"IF(入力シート!M729=\"\",\"\",入力シート!M729)","v":""},{"$f":"IF(入力シート!N729=\"\",\"\",入力シート!N729)","v":""},{"$f":"IF(入力シート!O729=\"\",\"\",入力シート!Q729)","v":""}]
[{"$f":"IF(入力シート!A730=\"\",\"\",入力シート!A730)","v":""},{"$f":"IF(入力シート!B730=\"\",\"\",入力シート!B730)","v":""},{"$f":"IF(入力シート!C730=\"\",\"\",入力シート!C730)","v":""},{"$f":"IF(入力シート!D730=\"\",\"\",TEXT(入力シート!D730,\"yyyy-mm-dd\"))","v":""},{"$f":"IF(入力シート!P730=\"\",\"\",TEXT(入力シート!P730,\"000-0000\"))","v":""},{"$f":"IF(入力シート!G730=\"\",\"\",入力シート!G730)","v":""},{"$f":"IF(入力シート!H730=\"\",\"\",入力シート!H730)","v":""},{"$f":"IF(入力シート!I730=\"\",\"\",入力シート!I730)","v":""},{"$f":"IF(入力シート!J730=\"\",\"\",入力シート!J730)","v":""},{"$f":"IF(入力シート!K730=\"\",\"\",入力シート!K730)","v":""},{"$f":"IF(入力シート!L730=\"\",\"\",入力シート!L730)","v":""},{"$f":"IF(入力シート!M730=\"\",\"\",入力シート!M730)","v":""},{"$f":"IF(入力シート!N730=\"\",\"\",入力シート!N730)","v":""},{"$f":"IF(入力シート!O730=\"\",\"\",入力シート!Q730)","v":""}]
[{"$f":"IF(入力シート!A731=\"\",\"\",入力シート!A731)","v":""},{"$f":"IF(入力シート!B731=\"\",\"\",入力シート!B731)","v":""},{"$f":"IF(入力シート!C731=\"\",\"\",入力シート!C731)","v":""},{"$f":"IF(入力シート!D731=\"\",\"\",TEXT(入力シート!D731,\"yyyy-mm-dd\"))","v":""},{"$f":"IF(入力シート!P731=\"\",\"\",TEXT(入力シート!P731,\"000-0000\"))","v":""},{"$f":"IF(入力シート!G731=\"\",\"\",入力シート!G731)","v":""},{"$f":"IF(入力シート!H731=\"\",\"\",入力シート!H731)","v":""},{"$f":"IF(入力シート!I731=\"\",\"\",入力シート!I731)","v":""},{"$f":"IF(入力シート!J731=\"\",\"\",入力シート!J731)","v":""},{"$f":"IF(入力シート!K731=\"\",\"\",入力シート!K731)","v":""},{"$f":"IF(入力シート!L731=\"\",\"\",入力シート!L731)","v":""},{"$f":"IF(入力シート!M731=\"\",\"\",入力シート!M731)","v":""},{"$f":"IF(入力シート!N731=\"\",\"\",入力シート!N731)","v":""},{"$f":"IF(入力シート!O731=\"\",\"\",入力シート!Q731)","v":""}]
[{"$f":"IF(入力シート!A732=\"\",\"\",入力シート!A732)","v":""},{"$f":"IF(入力シート!B732=\"\",\"\",入力シート!B732)","v":""},{"$f":"IF(入力シート!C732=\"\",\"\",入力シート!C732)","v":""},{"$f":"IF(入力シート!D732=\"\",\"\",TEXT(入力シート!D732,\"yyyy-mm-dd\"))","v":""},{"$f":"IF(入力シート!P732=\"\",\"\",TEXT(入力シート!P732,\"000-0000\"))","v":""},{"$f":"IF(入力シート!G732=\"\",\"\",入力シート!G732)","v":""},{"$f":"IF(入力シート!H732=\"\",\"\",入力シート!H732)","v":""},{"$f":"IF(入力シート!I732=\"\",\"\",入力シート!I732)","v":""},{"$f":"IF(入力シート!J732=\"\",\"\",入力シート!J732)","v":""},{"$f":"IF(入力シート!K732=\"\",\"\",入力シート!K732)","v":""},{"$f":"IF(入力シート!L732=\"\",\"\",入力シート!L732)","v":""},{"$f":"IF(入力シート!M732=\"\",\"\",入力シート!M732)","v":""},{"$f":"IF(入力シート!N732=\"\",\"\",入力シート!N732)","v":""},{"$f":"IF(入力シート!O732=\"\",\"\",入力シート!Q732)","v":""}]
[{"$f":"IF(入力シート!A733=\"\",\"\",入力シート!A733)","v":""},{"$f":"IF(入力シート!B733=\"\",\"\",入力シート!B733)","v":""},{"$f":"IF(入力シート!C733=\"\",\"\",入力シート!C733)","v":""},{"$f":"IF(入力シート!D733=\"\",\"\",TEXT(入力シート!D733,\"yyyy-mm-dd\"))","v":""},{"$f":"IF(入力シート!P733=\"\",\"\",TEXT(入力シート!P733,\"000-0000\"))","v":""},{"$f":"IF(入力シート!G733=\"\",\"\",入力シート!G733)","v":""},{"$f":"IF(入力シート!H733=\"\",\"\",入力シート!H733)","v":""},{"$f":"IF(入力シート!I733=\"\",\"\",入力シート!I733)","v":""},{"$f":"IF(入力シート!J733=\"\",\"\",入力シート!J733)","v":""},{"$f":"IF(入力シート!K733=\"\",\"\",入力シート!K733)","v":""},{"$f":"IF(入力シート!L733=\"\",\"\",入力シート!L733)","v":""},{"$f":"IF(入力シート!M733=\"\",\"\",入力シート!M733)","v":""},{"$f":"IF(入力シート!N733=\"\",\"\",入力シート!N733)","v":""},{"$f":"IF(入力シート!O733=\"\",\"\",入力シート!Q733)","v":""}]
[{"$f":"IF(入力シート!A734=\"\",\"\",入力シート!A734)","v":""},{"$f":"IF(入力シート!B734=\"\",\"\",入力シート!B734)","v":""},{"$f":"IF(入力シート!C734=\"\",\"\",入力シート!C734)","v":""},{"$f":"IF(入力シート!D734=\"\",\"\",TEXT(入力シート!D734,\"yyyy-mm-dd\"))","v":""},{"$f":"IF(入力シート!P734=\"\",\"\",TEXT(入力シート!P734,\"000-0000\"))","v":""},{"$f":"IF(入力シート!G734=\"\",\"\",入力シート!G734)","v":""},{"$f":"IF(入力シート!H734=\"\",\"\",入力シート!H734)","v":""},{"$f":"IF(入力シート!I734=\"\",\"\",入力シート!I734)","v":""},{"$f":"IF(入力シート!J734=\"\",\"\",入力シート!J734)","v":""},{"$f":"IF(入力シート!K734=\"\",\"\",入力シート!K734)","v":""},{"$f":"IF(入力シート!L734=\"\",\"\",入力シート!L734)","v":""},{"$f":"IF(入力シート!M734=\"\",\"\",入力シート!M734)","v":""},{"$f":"IF(入力シート!N734=\"\",\"\",入力シート!N734)","v":""},{"$f":"IF(入力シート!O734=\"\",\"\",入力シート!Q734)","v":""}]
[{"$f":"IF(入力シート!A735=\"\",\"\",入力シート!A735)","v":""},{"$f":"IF(入力シート!B735=\"\",\"\",入力シート!B735)","v":""},{"$f":"IF(入力シート!C735=\"\",\"\",入力シート!C735)","v":""},{"$f":"IF(入力シート!D735=\"\",\"\",TEXT(入力シート!D735,\"yyyy-mm-dd\"))","v":""},{"$f":"IF(入力シート!P735=\"\",\"\",TEXT(入力シート!P735,\"000-0000\"))","v":""},{"$f":"IF(入力シート!G735=\"\",\"\",入力シート!G735)","v":""},{"$f":"IF(入力シート!H735=\"\",\"\",入力シート!H735)","v":""},{"$f":"IF(入力シート!I735=\"\",\"\",入力シート!I735)","v":""},{"$f":"IF(入力シート!J735=\"\",\"\",入力シート!J735)","v":""},{"$f":"IF(入力シート!K735=\"\",\"\",入力シート!K735)","v":""},{"$f":"IF(入力シート!L735=\"\",\"\",入力シート!L735)","v":""},{"$f":"IF(入力シート!M735=\"\",\"\",入力シート!M735)","v":""},{"$f":"IF(入力シート!N735=\"\",\"\",入力シート!N735)","v":""},{"$f":"IF(入力シート!O735=\"\",\"\",入力シート!Q735)","v":""}]
[{"$f":"IF(入力シート!A736=\"\",\"\",入力シート!A736)","v":""},{"$f":"IF(入力シート!B736=\"\",\"\",入力シート!B736)","v":""},{"$f":"IF(入力シート!C736=\"\",\"\",入力シート!C736)","v":""},{"$f":"IF(入力シート!D736=\"\",\"\",TEXT(入力シート!D736,\"yyyy-mm-dd\"))","v":""},{"$f":"IF(入力シート!P736=\"\",\"\",TEXT(入力シート!P736,\"000-0000\"))","v":""},{"$f":"IF(入力シート!G736=\"\",\"\",入力シート!G736)","v":""},{"$f":"IF(入力シート!H736=\"\",\"\",入力シート!H736)","v":""},{"$f":"IF(入力シート!I736=\"\",\"\",入力シート!I736)","v":""},{"$f":"IF(入力シート!J736=\"\",\"\",入力シート!J736)","v":""},{"$f":"IF(入力シート!K736=\"\",\"\",入力シート!K736)","v":""},{"$f":"IF(入力シート!L736=\"\",\"\",入力シート!L736)","v":""},{"$f":"IF(入力シート!M736=\"\",\"\",入力シート!M736)","v":""},{"$f":"IF(入力シート!N736=\"\",\"\",入力シート!N736)","v":""},{"$f":"IF(入力シート!O736=\"\",\"\",入力シート!Q736)","v":""}]
[{"$f":"IF(入力シート!A737=\"\",\"\",入力シート!A737)","v":""},{"$f":"IF(入力シート!B737=\"\",\"\",入力シート!B737)","v":""},{"$f":"IF(入力シート!C737=\"\",\"\",入力シート!C737)","v":""},{"$f":"IF(入力シート!D737=\"\",\"\",TEXT(入力シート!D737,\"yyyy-mm-dd\"))","v":""},{"$f":"IF(入力シート!P737=\"\",\"\",TEXT(入力シート!P737,\"000-0000\"))","v":""},{"$f":"IF(入力シート!G737=\"\",\"\",入力シート!G737)","v":""},{"$f":"IF(入力シート!H737=\"\",\"\",入力シート!H737)","v":""},{"$f":"IF(入力シート!I737=\"\",\"\",入力シート!I737)","v":""},{"$f":"IF(入力シート!J737=\"\",\"\",入力シート!J737)","v":""},{"$f":"IF(入力シート!K737=\"\",\"\",入力シート!K737)","v":""},{"$f":"IF(入力シート!L737=\"\",\"\",入力シート!L737)","v":""},{"$f":"IF(入力シート!M737=\"\",\"\",入力シート!M737)","v":""},{"$f":"IF(入力シート!N737=\"\",\"\",入力シート!N737)","v":""},{"$f":"IF(入力シート!O737=\"\",\"\",入力シート!Q737)","v":""}]
[{"$f":"IF(入力シート!A738=\"\",\"\",入力シート!A738)","v":""},{"$f":"IF(入力シート!B738=\"\",\"\",入力シート!B738)","v":""},{"$f":"IF(入力シート!C738=\"\",\"\",入力シート!C738)","v":""},{"$f":"IF(入力シート!D738=\"\",\"\",TEXT(入力シート!D738,\"yyyy-mm-dd\"))","v":""},{"$f":"IF(入力シート!P738=\"\",\"\",TEXT(入力シート!P738,\"000-0000\"))","v":""},{"$f":"IF(入力シート!G738=\"\",\"\",入力シート!G738)","v":""},{"$f":"IF(入力シート!H738=\"\",\"\",入力シート!H738)","v":""},{"$f":"IF(入力シート!I738=\"\",\"\",入力シート!I738)","v":""},{"$f":"IF(入力シート!J738=\"\",\"\",入力シート!J738)","v":""},{"$f":"IF(入力シート!K738=\"\",\"\",入力シート!K738)","v":""},{"$f":"IF(入力シート!L738=\"\",\"\",入力シート!L738)","v":""},{"$f":"IF(入力シート!M738=\"\",\"\",入力シート!M738)","v":""},{"$f":"IF(入力シート!N738=\"\",\"\",入力シート!N738)","v":""},{"$f":"IF(入力シート!O738=\"\",\"\",入力シート!Q738)","v":""}]
[{"$f":"IF(入力シート!A739=\"\",\"\",入力シート!A739)","v":""},{"$f":"IF(入力シート!B739=\"\",\"\",入力シート!B739)","v":""},{"$f":"IF(入力シート!C739=\"\",\"\",入力シート!C739)","v":""},{"$f":"IF(入力シート!D739=\"\",\"\",TEXT(入力シート!D739,\"yyyy-mm-dd\"))","v":""},{"$f":"IF(入力シート!P739=\"\",\"\",TEXT(入力シート!P739,\"000-0000\"))","v":""},{"$f":"IF(入力シート!G739=\"\",\"\",入力シート!G739)","v":""},{"$f":"IF(入力シート!H739=\"\",\"\",入力シート!H739)","v":""},{"$f":"IF(入力シート!I739=\"\",\"\",入力シート!I739)","v":""},{"$f":"IF(入力シート!J739=\"\",\"\",入力シート!J739)","v":""},{"$f":"IF(入力シート!K739=\"\",\"\",入力シート!K739)","v":""},{"$f":"IF(入力シート!L739=\"\",\"\",入力シート!L739)","v":""},{"$f":"IF(入力シート!M739=\"\",\"\",入力シート!M739)","v":""},{"$f":"IF(入力シート!N739=\"\",\"\",入力シート!N739)","v":""},{"$f":"IF(入力シート!O739=\"\",\"\",入力シート!Q739)","v":""}]
[{"$f":"IF(入力シート!A740=\"\",\"\",入力シート!A740)","v":""},{"$f":"IF(入力シート!B740=\"\",\"\",入力シート!B740)","v":""},{"$f":"IF(入力シート!C740=\"\",\"\",入力シート!C740)","v":""},{"$f":"IF(入力シート!D740=\"\",\"\",TEXT(入力シート!D740,\"yyyy-mm-dd\"))","v":""},{"$f":"IF(入力シート!P740=\"\",\"\",TEXT(入力シート!P740,\"000-0000\"))","v":""},{"$f":"IF(入力シート!G740=\"\",\"\",入力シート!G740)","v":""},{"$f":"IF(入力シート!H740=\"\",\"\",入力シート!H740)","v":""},{"$f":"IF(入力シート!I740=\"\",\"\",入力シート!I740)","v":""},{"$f":"IF(入力シート!J740=\"\",\"\",入力シート!J740)","v":""},{"$f":"IF(入力シート!K740=\"\",\"\",入力シート!K740)","v":""},{"$f":"IF(入力シート!L740=\"\",\"\",入力シート!L740)","v":""},{"$f":"IF(入力シート!M740=\"\",\"\",入力シート!M740)","v":""},{"$f":"IF(入力シート!N740=\"\",\"\",入力シート!N740)","v":""},{"$f":"IF(入力シート!O740=\"\",\"\",入力シート!Q740)","v":""}]
[{"$f":"IF(入力シート!A741=\"\",\"\",入力シート!A741)","v":""},{"$f":"IF(入力シート!B741=\"\",\"\",入力シート!B741)","v":""},{"$f":"IF(入力シート!C741=\"\",\"\",入力シート!C741)","v":""},{"$f":"IF(入力シート!D741=\"\",\"\",TEXT(入力シート!D741,\"yyyy-mm-dd\"))","v":""},{"$f":"IF(入力シート!P741=\"\",\"\",TEXT(入力シート!P741,\"000-0000\"))","v":""},{"$f":"IF(入力シート!G741=\"\",\"\",入力シート!G741)","v":""},{"$f":"IF(入力シート!H741=\"\",\"\",入力シート!H741)","v":""},{"$f":"IF(入力シート!I741=\"\",\"\",入力シート!I741)","v":""},{"$f":"IF(入力シート!J741=\"\",\"\",入力シート!J741)","v":""},{"$f":"IF(入力シート!K741=\"\",\"\",入力シート!K741)","v":""},{"$f":"IF(入力シート!L741=\"\",\"\",入力シート!L741)","v":""},{"$f":"IF(入力シート!M741=\"\",\"\",入力シート!M741)","v":""},{"$f":"IF(入力シート!N741=\"\",\"\",入力シート!N741)","v":""},{"$f":"IF(入力シート!O741=\"\",\"\",入力シート!Q741)","v":""}]
[{"$f":"IF(入力シート!A742=\"\",\"\",入力シート!A742)","v":""},{"$f":"IF(入力シート!B742=\"\",\"\",入力シート!B742)","v":""},{"$f":"IF(入力シート!C742=\"\",\"\",入力シート!C742)","v":""},{"$f":"IF(入力シート!D742=\"\",\"\",TEXT(入力シート!D742,\"yyyy-mm-dd\"))","v":""},{"$f":"IF(入力シート!P742=\"\",\"\",TEXT(入力シート!P742,\"000-0000\"))","v":""},{"$f":"IF(入力シート!G742=\"\",\"\",入力シート!G742)","v":""},{"$f":"IF(入力シート!H742=\"\",\"\",入力シート!H742)","v":""},{"$f":"IF(入力シート!I742=\"\",\"\",入力シート!I742)","v":""},{"$f":"IF(入力シート!J742=\"\",\"\",入力シート!J742)","v":""},{"$f":"IF(入力シート!K742=\"\",\"\",入力シート!K742)","v":""},{"$f":"IF(入力シート!L742=\"\",\"\",入力シート!L742)","v":""},{"$f":"IF(入力シート!M742=\"\",\"\",入力シート!M742)","v":""},{"$f":"IF(入力シート!N742=\"\",\"\",入力シート!N742)","v":""},{"$f":"IF(入力シート!O742=\"\",\"\",入力シート!Q742)","v":""}]
[{"$f":"IF(入力シート!A743=\"\",\"\",入力シート!A743)","v":""},{"$f":"IF(入力シート!B743=\"\",\"\",入力シート!B743)","v":""},{"$f":"IF(入力シート!C743=\"\",\"\",入力シート!C743)","v":""},{"$f":"IF(入力シート!D743=\"\",\"\",TEXT(入力シート!D743,\"yyyy-mm-dd\"))","v":""},{"$f":"IF(入力シート!P743=\"\",\"\",TEXT(入力シート!P743,\"000-0000\"))","v":""},{"$f":"IF(入力シート!G743=\"\",\"\",入力シート!G743)","v":""},{"$f":"IF(入力シート!H743=\"\",\"\",入力シート!H743)","v":""},{"$f":"IF(入力シート!I743=\"\",\"\",入力シート!I743)","v":""},{"$f":"IF(入力シート!J743=\"\",\"\",入力シート!J743)","v":""},{"$f":"IF(入力シート!K743=\"\",\"\",入力シート!K743)","v":""},{"$f":"IF(入力シート!L743=\"\",\"\",入力シート!L743)","v":""},{"$f":"IF(入力シート!M743=\"\",\"\",入力シート!M743)","v":""},{"$f":"IF(入力シート!N743=\"\",\"\",入力シート!N743)","v":""},{"$f":"IF(入力シート!O743=\"\",\"\",入力シート!Q743)","v":""}]
[{"$f":"IF(入力シート!A744=\"\",\"\",入力シート!A744)","v":""},{"$f":"IF(入力シート!B744=\"\",\"\",入力シート!B744)","v":""},{"$f":"IF(入力シート!C744=\"\",\"\",入力シート!C744)","v":""},{"$f":"IF(入力シート!D744=\"\",\"\",TEXT(入力シート!D744,\"yyyy-mm-dd\"))","v":""},{"$f":"IF(入力シート!P744=\"\",\"\",TEXT(入力シート!P744,\"000-0000\"))","v":""},{"$f":"IF(入力シート!G744=\"\",\"\",入力シート!G744)","v":""},{"$f":"IF(入力シート!H744=\"\",\"\",入力シート!H744)","v":""},{"$f":"IF(入力シート!I744=\"\",\"\",入力シート!I744)","v":""},{"$f":"IF(入力シート!J744=\"\",\"\",入力シート!J744)","v":""},{"$f":"IF(入力シート!K744=\"\",\"\",入力シート!K744)","v":""},{"$f":"IF(入力シート!L744=\"\",\"\",入力シート!L744)","v":""},{"$f":"IF(入力シート!M744=\"\",\"\",入力シート!M744)","v":""},{"$f":"IF(入力シート!N744=\"\",\"\",入力シート!N744)","v":""},{"$f":"IF(入力シート!O744=\"\",\"\",入力シート!Q744)","v":""}]
[{"$f":"IF(入力シート!A745=\"\",\"\",入力シート!A745)","v":""},{"$f":"IF(入力シート!B745=\"\",\"\",入力シート!B745)","v":""},{"$f":"IF(入力シート!C745=\"\",\"\",入力シート!C745)","v":""},{"$f":"IF(入力シート!D745=\"\",\"\",TEXT(入力シート!D745,\"yyyy-mm-dd\"))","v":""},{"$f":"IF(入力シート!P745=\"\",\"\",TEXT(入力シート!P745,\"000-0000\"))","v":""},{"$f":"IF(入力シート!G745=\"\",\"\",入力シート!G745)","v":""},{"$f":"IF(入力シート!H745=\"\",\"\",入力シート!H745)","v":""},{"$f":"IF(入力シート!I745=\"\",\"\",入力シート!I745)","v":""},{"$f":"IF(入力シート!J745=\"\",\"\",入力シート!J745)","v":""},{"$f":"IF(入力シート!K745=\"\",\"\",入力シート!K745)","v":""},{"$f":"IF(入力シート!L745=\"\",\"\",入力シート!L745)","v":""},{"$f":"IF(入力シート!M745=\"\",\"\",入力シート!M745)","v":""},{"$f":"IF(入力シート!N745=\"\",\"\",入力シート!N745)","v":""},{"$f":"IF(入力シート!O745=\"\",\"\",入力シート!Q745)","v":""}]
[{"$f":"IF(入力シート!A746=\"\",\"\",入力シート!A746)","v":""},{"$f":"IF(入力シート!B746=\"\",\"\",入力シート!B746)","v":""},{"$f":"IF(入力シート!C746=\"\",\"\",入力シート!C746)","v":""},{"$f":"IF(入力シート!D746=\"\",\"\",TEXT(入力シート!D746,\"yyyy-mm-dd\"))","v":""},{"$f":"IF(入力シート!P746=\"\",\"\",TEXT(入力シート!P746,\"000-0000\"))","v":""},{"$f":"IF(入力シート!G746=\"\",\"\",入力シート!G746)","v":""},{"$f":"IF(入力シート!H746=\"\",\"\",入力シート!H746)","v":""},{"$f":"IF(入力シート!I746=\"\",\"\",入力シート!I746)","v":""},{"$f":"IF(入力シート!J746=\"\",\"\",入力シート!J746)","v":""},{"$f":"IF(入力シート!K746=\"\",\"\",入力シート!K746)","v":""},{"$f":"IF(入力シート!L746=\"\",\"\",入力シート!L746)","v":""},{"$f":"IF(入力シート!M746=\"\",\"\",入力シート!M746)","v":""},{"$f":"IF(入力シート!N746=\"\",\"\",入力シート!N746)","v":""},{"$f":"IF(入力シート!O746=\"\",\"\",入力シート!Q746)","v":""}]
[{"$f":"IF(入力シート!A747=\"\",\"\",入力シート!A747)","v":""},{"$f":"IF(入力シート!B747=\"\",\"\",入力シート!B747)","v":""},{"$f":"IF(入力シート!C747=\"\",\"\",入力シート!C747)","v":""},{"$f":"IF(入力シート!D747=\"\",\"\",TEXT(入力シート!D747,\"yyyy-mm-dd\"))","v":""},{"$f":"IF(入力シート!P747=\"\",\"\",TEXT(入力シート!P747,\"000-0000\"))","v":""},{"$f":"IF(入力シート!G747=\"\",\"\",入力シート!G747)","v":""},{"$f":"IF(入力シート!H747=\"\",\"\",入力シート!H747)","v":""},{"$f":"IF(入力シート!I747=\"\",\"\",入力シート!I747)","v":""},{"$f":"IF(入力シート!J747=\"\",\"\",入力シート!J747)","v":""},{"$f":"IF(入力シート!K747=\"\",\"\",入力シート!K747)","v":""},{"$f":"IF(入力シート!L747=\"\",\"\",入力シート!L747)","v":""},{"$f":"IF(入力シート!M747=\"\",\"\",入力シート!M747)","v":""},{"$f":"IF(入力シート!N747=\"\",\"\",入力シート!N747)","v":""},{"$f":"IF(入力シート!O747=\"\",\"\",入力シート!Q747)","v":""}]
[{"$f":"IF(入力シート!A748=\"\",\"\",入力シート!A748)","v":""},{"$f":"IF(入力シート!B748=\"\",\"\",入力シート!B748)","v":""},{"$f":"IF(入力シート!C748=\"\",\"\",入力シート!C748)","v":""},{"$f":"IF(入力シート!D748=\"\",\"\",TEXT(入力シート!D748,\"yyyy-mm-dd\"))","v":""},{"$f":"IF(入力シート!P748=\"\",\"\",TEXT(入力シート!P748,\"000-0000\"))","v":""},{"$f":"IF(入力シート!G748=\"\",\"\",入力シート!G748)","v":""},{"$f":"IF(入力シート!H748=\"\",\"\",入力シート!H748)","v":""},{"$f":"IF(入力シート!I748=\"\",\"\",入力シート!I748)","v":""},{"$f":"IF(入力シート!J748=\"\",\"\",入力シート!J748)","v":""},{"$f":"IF(入力シート!K748=\"\",\"\",入力シート!K748)","v":""},{"$f":"IF(入力シート!L748=\"\",\"\",入力シート!L748)","v":""},{"$f":"IF(入力シート!M748=\"\",\"\",入力シート!M748)","v":""},{"$f":"IF(入力シート!N748=\"\",\"\",入力シート!N748)","v":""},{"$f":"IF(入力シート!O748=\"\",\"\",入力シート!Q748)","v":""}]
[{"$f":"IF(入力シート!A749=\"\",\"\",入力シート!A749)","v":""},{"$f":"IF(入力シート!B749=\"\",\"\",入力シート!B749)","v":""},{"$f":"IF(入力シート!C749=\"\",\"\",入力シート!C749)","v":""},{"$f":"IF(入力シート!D749=\"\",\"\",TEXT(入力シート!D749,\"yyyy-mm-dd\"))","v":""},{"$f":"IF(入力シート!P749=\"\",\"\",TEXT(入力シート!P749,\"000-0000\"))","v":""},{"$f":"IF(入力シート!G749=\"\",\"\",入力シート!G749)","v":""},{"$f":"IF(入力シート!H749=\"\",\"\",入力シート!H749)","v":""},{"$f":"IF(入力シート!I749=\"\",\"\",入力シート!I749)","v":""},{"$f":"IF(入力シート!J749=\"\",\"\",入力シート!J749)","v":""},{"$f":"IF(入力シート!K749=\"\",\"\",入力シート!K749)","v":""},{"$f":"IF(入力シート!L749=\"\",\"\",入力シート!L749)","v":""},{"$f":"IF(入力シート!M749=\"\",\"\",入力シート!M749)","v":""},{"$f":"IF(入力シート!N749=\"\",\"\",入力シート!N749)","v":""},{"$f":"IF(入力シート!O749=\"\",\"\",入力シート!Q749)","v":""}]
[{"$f":"IF(入力シート!A750=\"\",\"\",入力シート!A750)","v":""},{"$f":"IF(入力シート!B750=\"\",\"\",入力シート!B750)","v":""},{"$f":"IF(入力シート!C750=\"\",\"\",入力シート!C750)","v":""},{"$f":"IF(入力シート!D750=\"\",\"\",TEXT(入力シート!D750,\"yyyy-mm-dd\"))","v":""},{"$f":"IF(入力シート!P750=\"\",\"\",TEXT(入力シート!P750,\"000-0000\"))","v":""},{"$f":"IF(入力シート!G750=\"\",\"\",入力シート!G750)","v":""},{"$f":"IF(入力シート!H750=\"\",\"\",入力シート!H750)","v":""},{"$f":"IF(入力シート!I750=\"\",\"\",入力シート!I750)","v":""},{"$f":"IF(入力シート!J750=\"\",\"\",入力シート!J750)","v":""},{"$f":"IF(入力シート!K750=\"\",\"\",入力シート!K750)","v":""},{"$f":"IF(入力シート!L750=\"\",\"\",入力シート!L750)","v":""},{"$f":"IF(入力シート!M750=\"\",\"\",入力シート!M750)","v":""},{"$f":"IF(入力シート!N750=\"\",\"\",入力シート!N750)","v":""},{"$f":"IF(入力シート!O750=\"\",\"\",入力シート!Q750)","v":""}]
[{"$f":"IF(入力シート!A751=\"\",\"\",入力シート!A751)","v":""},{"$f":"IF(入力シート!B751=\"\",\"\",入力シート!B751)","v":""},{"$f":"IF(入力シート!C751=\"\",\"\",入力シート!C751)","v":""},{"$f":"IF(入力シート!D751=\"\",\"\",TEXT(入力シート!D751,\"yyyy-mm-dd\"))","v":""},{"$f":"IF(入力シート!P751=\"\",\"\",TEXT(入力シート!P751,\"000-0000\"))","v":""},{"$f":"IF(入力シート!G751=\"\",\"\",入力シート!G751)","v":""},{"$f":"IF(入力シート!H751=\"\",\"\",入力シート!H751)","v":""},{"$f":"IF(入力シート!I751=\"\",\"\",入力シート!I751)","v":""},{"$f":"IF(入力シート!J751=\"\",\"\",入力シート!J751)","v":""},{"$f":"IF(入力シート!K751=\"\",\"\",入力シート!K751)","v":""},{"$f":"IF(入力シート!L751=\"\",\"\",入力シート!L751)","v":""},{"$f":"IF(入力シート!M751=\"\",\"\",入力シート!M751)","v":""},{"$f":"IF(入力シート!N751=\"\",\"\",入力シート!N751)","v":""},{"$f":"IF(入力シート!O751=\"\",\"\",入力シート!Q751)","v":""}]
[{"$f":"IF(入力シート!A752=\"\",\"\",入力シート!A752)","v":""},{"$f":"IF(入力シート!B752=\"\",\"\",入力シート!B752)","v":""},{"$f":"IF(入力シート!C752=\"\",\"\",入力シート!C752)","v":""},{"$f":"IF(入力シート!D752=\"\",\"\",TEXT(入力シート!D752,\"yyyy-mm-dd\"))","v":""},{"$f":"IF(入力シート!P752=\"\",\"\",TEXT(入力シート!P752,\"000-0000\"))","v":""},{"$f":"IF(入力シート!G752=\"\",\"\",入力シート!G752)","v":""},{"$f":"IF(入力シート!H752=\"\",\"\",入力シート!H752)","v":""},{"$f":"IF(入力シート!I752=\"\",\"\",入力シート!I752)","v":""},{"$f":"IF(入力シート!J752=\"\",\"\",入力シート!J752)","v":""},{"$f":"IF(入力シート!K752=\"\",\"\",入力シート!K752)","v":""},{"$f":"IF(入力シート!L752=\"\",\"\",入力シート!L752)","v":""},{"$f":"IF(入力シート!M752=\"\",\"\",入力シート!M752)","v":""},{"$f":"IF(入力シート!N752=\"\",\"\",入力シート!N752)","v":""},{"$f":"IF(入力シート!O752=\"\",\"\",入力シート!Q752)","v":""}]
[{"$f":"IF(入力シート!A753=\"\",\"\",入力シート!A753)","v":""},{"$f":"IF(入力シート!B753=\"\",\"\",入力シート!B753)","v":""},{"$f":"IF(入力シート!C753=\"\",\"\",入力シート!C753)","v":""},{"$f":"IF(入力シート!D753=\"\",\"\",TEXT(入力シート!D753,\"yyyy-mm-dd\"))","v":""},{"$f":"IF(入力シート!P753=\"\",\"\",TEXT(入力シート!P753,\"000-0000\"))","v":""},{"$f":"IF(入力シート!G753=\"\",\"\",入力シート!G753)","v":""},{"$f":"IF(入力シート!H753=\"\",\"\",入力シート!H753)","v":""},{"$f":"IF(入力シート!I753=\"\",\"\",入力シート!I753)","v":""},{"$f":"IF(入力シート!J753=\"\",\"\",入力シート!J753)","v":""},{"$f":"IF(入力シート!K753=\"\",\"\",入力シート!K753)","v":""},{"$f":"IF(入力シート!L753=\"\",\"\",入力シート!L753)","v":""},{"$f":"IF(入力シート!M753=\"\",\"\",入力シート!M753)","v":""},{"$f":"IF(入力シート!N753=\"\",\"\",入力シート!N753)","v":""},{"$f":"IF(入力シート!O753=\"\",\"\",入力シート!Q753)","v":""}]
[{"$f":"IF(入力シート!A754=\"\",\"\",入力シート!A754)","v":""},{"$f":"IF(入力シート!B754=\"\",\"\",入力シート!B754)","v":""},{"$f":"IF(入力シート!C754=\"\",\"\",入力シート!C754)","v":""},{"$f":"IF(入力シート!D754=\"\",\"\",TEXT(入力シート!D754,\"yyyy-mm-dd\"))","v":""},{"$f":"IF(入力シート!P754=\"\",\"\",TEXT(入力シート!P754,\"000-0000\"))","v":""},{"$f":"IF(入力シート!G754=\"\",\"\",入力シート!G754)","v":""},{"$f":"IF(入力シート!H754=\"\",\"\",入力シート!H754)","v":""},{"$f":"IF(入力シート!I754=\"\",\"\",入力シート!I754)","v":""},{"$f":"IF(入力シート!J754=\"\",\"\",入力シート!J754)","v":""},{"$f":"IF(入力シート!K754=\"\",\"\",入力シート!K754)","v":""},{"$f":"IF(入力シート!L754=\"\",\"\",入力シート!L754)","v":""},{"$f":"IF(入力シート!M754=\"\",\"\",入力シート!M754)","v":""},{"$f":"IF(入力シート!N754=\"\",\"\",入力シート!N754)","v":""},{"$f":"IF(入力シート!O754=\"\",\"\",入力シート!Q754)","v":""}]
[{"$f":"IF(入力シート!A755=\"\",\"\",入力シート!A755)","v":""},{"$f":"IF(入力シート!B755=\"\",\"\",入力シート!B755)","v":""},{"$f":"IF(入力シート!C755=\"\",\"\",入力シート!C755)","v":""},{"$f":"IF(入力シート!D755=\"\",\"\",TEXT(入力シート!D755,\"yyyy-mm-dd\"))","v":""},{"$f":"IF(入力シート!P755=\"\",\"\",TEXT(入力シート!P755,\"000-0000\"))","v":""},{"$f":"IF(入力シート!G755=\"\",\"\",入力シート!G755)","v":""},{"$f":"IF(入力シート!H755=\"\",\"\",入力シート!H755)","v":""},{"$f":"IF(入力シート!I755=\"\",\"\",入力シート!I755)","v":""},{"$f":"IF(入力シート!J755=\"\",\"\",入力シート!J755)","v":""},{"$f":"IF(入力シート!K755=\"\",\"\",入力シート!K755)","v":""},{"$f":"IF(入力シート!L755=\"\",\"\",入力シート!L755)","v":""},{"$f":"IF(入力シート!M755=\"\",\"\",入力シート!M755)","v":""},{"$f":"IF(入力シート!N755=\"\",\"\",入力シート!N755)","v":""},{"$f":"IF(入力シート!O755=\"\",\"\",入力シート!Q755)","v":""}]
[{"$f":"IF(入力シート!A756=\"\",\"\",入力シート!A756)","v":""},{"$f":"IF(入力シート!B756=\"\",\"\",入力シート!B756)","v":""},{"$f":"IF(入力シート!C756=\"\",\"\",入力シート!C756)","v":""},{"$f":"IF(入力シート!D756=\"\",\"\",TEXT(入力シート!D756,\"yyyy-mm-dd\"))","v":""},{"$f":"IF(入力シート!P756=\"\",\"\",TEXT(入力シート!P756,\"000-0000\"))","v":""},{"$f":"IF(入力シート!G756=\"\",\"\",入力シート!G756)","v":""},{"$f":"IF(入力シート!H756=\"\",\"\",入力シート!H756)","v":""},{"$f":"IF(入力シート!I756=\"\",\"\",入力シート!I756)","v":""},{"$f":"IF(入力シート!J756=\"\",\"\",入力シート!J756)","v":""},{"$f":"IF(入力シート!K756=\"\",\"\",入力シート!K756)","v":""},{"$f":"IF(入力シート!L756=\"\",\"\",入力シート!L756)","v":""},{"$f":"IF(入力シート!M756=\"\",\"\",入力シート!M756)","v":""},{"$f":"IF(入力シート!N756=\"\",\"\",入力シート!N756)","v":""},{"$f":"IF(入力シート!O756=\"\",\"\",入力シート!Q756)","v":""}]
[{"$f":"IF(入力シート!A757=\"\",\"\",入力シート!A757)","v":""},{"$f":"IF(入力シート!B757=\"\",\"\",入力シート!B757)","v":""},{"$f":"IF(入力シート!C757=\"\",\"\",入力シート!C757)","v":""},{"$f":"IF(入力シート!D757=\"\",\"\",TEXT(入力シート!D757,\"yyyy-mm-dd\"))","v":""},{"$f":"IF(入力シート!P757=\"\",\"\",TEXT(入力シート!P757,\"000-0000\"))","v":""},{"$f":"IF(入力シート!G757=\"\",\"\",入力シート!G757)","v":""},{"$f":"IF(入力シート!H757=\"\",\"\",入力シート!H757)","v":""},{"$f":"IF(入力シート!I757=\"\",\"\",入力シート!I757)","v":""},{"$f":"IF(入力シート!J757=\"\",\"\",入力シート!J757)","v":""},{"$f":"IF(入力シート!K757=\"\",\"\",入力シート!K757)","v":""},{"$f":"IF(入力シート!L757=\"\",\"\",入力シート!L757)","v":""},{"$f":"IF(入力シート!M757=\"\",\"\",入力シート!M757)","v":""},{"$f":"IF(入力シート!N757=\"\",\"\",入力シート!N757)","v":""},{"$f":"IF(入力シート!O757=\"\",\"\",入力シート!Q757)","v":""}]
[{"$f":"IF(入力シート!A758=\"\",\"\",入力シート!A758)","v":""},{"$f":"IF(入力シート!B758=\"\",\"\",入力シート!B758)","v":""},{"$f":"IF(入力シート!C758=\"\",\"\",入力シート!C758)","v":""},{"$f":"IF(入力シート!D758=\"\",\"\",TEXT(入力シート!D758,\"yyyy-mm-dd\"))","v":""},{"$f":"IF(入力シート!P758=\"\",\"\",TEXT(入力シート!P758,\"000-0000\"))","v":""},{"$f":"IF(入力シート!G758=\"\",\"\",入力シート!G758)","v":""},{"$f":"IF(入力シート!H758=\"\",\"\",入力シート!H758)","v":""},{"$f":"IF(入力シート!I758=\"\",\"\",入力シート!I758)","v":""},{"$f":"IF(入力シート!J758=\"\",\"\",入力シート!J758)","v":""},{"$f":"IF(入力シート!K758=\"\",\"\",入力シート!K758)","v":""},{"$f":"IF(入力シート!L758=\"\",\"\",入力シート!L758)","v":""},{"$f":"IF(入力シート!M758=\"\",\"\",入力シート!M758)","v":""},{"$f":"IF(入力シート!N758=\"\",\"\",入力シート!N758)","v":""},{"$f":"IF(入力シート!O758=\"\",\"\",入力シート!Q758)","v":""}]
[{"$f":"IF(入力シート!A759=\"\",\"\",入力シート!A759)","v":""},{"$f":"IF(入力シート!B759=\"\",\"\",入力シート!B759)","v":""},{"$f":"IF(入力シート!C759=\"\",\"\",入力シート!C759)","v":""},{"$f":"IF(入力シート!D759=\"\",\"\",TEXT(入力シート!D759,\"yyyy-mm-dd\"))","v":""},{"$f":"IF(入力シート!P759=\"\",\"\",TEXT(入力シート!P759,\"000-0000\"))","v":""},{"$f":"IF(入力シート!G759=\"\",\"\",入力シート!G759)","v":""},{"$f":"IF(入力シート!H759=\"\",\"\",入力シート!H759)","v":""},{"$f":"IF(入力シート!I759=\"\",\"\",入力シート!I759)","v":""},{"$f":"IF(入力シート!J759=\"\",\"\",入力シート!J759)","v":""},{"$f":"IF(入力シート!K759=\"\",\"\",入力シート!K759)","v":""},{"$f":"IF(入力シート!L759=\"\",\"\",入力シート!L759)","v":""},{"$f":"IF(入力シート!M759=\"\",\"\",入力シート!M759)","v":""},{"$f":"IF(入力シート!N759=\"\",\"\",入力シート!N759)","v":""},{"$f":"IF(入力シート!O759=\"\",\"\",入力シート!Q759)","v":""}]
[{"$f":"IF(入力シート!A760=\"\",\"\",入力シート!A760)","v":""},{"$f":"IF(入力シート!B760=\"\",\"\",入力シート!B760)","v":""},{"$f":"IF(入力シート!C760=\"\",\"\",入力シート!C760)","v":""},{"$f":"IF(入力シート!D760=\"\",\"\",TEXT(入力シート!D760,\"yyyy-mm-dd\"))","v":""},{"$f":"IF(入力シート!P760=\"\",\"\",TEXT(入力シート!P760,\"000-0000\"))","v":""},{"$f":"IF(入力シート!G760=\"\",\"\",入力シート!G760)","v":""},{"$f":"IF(入力シート!H760=\"\",\"\",入力シート!H760)","v":""},{"$f":"IF(入力シート!I760=\"\",\"\",入力シート!I760)","v":""},{"$f":"IF(入力シート!J760=\"\",\"\",入力シート!J760)","v":""},{"$f":"IF(入力シート!K760=\"\",\"\",入力シート!K760)","v":""},{"$f":"IF(入力シート!L760=\"\",\"\",入力シート!L760)","v":""},{"$f":"IF(入力シート!M760=\"\",\"\",入力シート!M760)","v":""},{"$f":"IF(入力シート!N760=\"\",\"\",入力シート!N760)","v":""},{"$f":"IF(入力シート!O760=\"\",\"\",入力シート!Q760)","v":""}]
[{"$f":"IF(入力シート!A761=\"\",\"\",入力シート!A761)","v":""},{"$f":"IF(入力シート!B761=\"\",\"\",入力シート!B761)","v":""},{"$f":"IF(入力シート!C761=\"\",\"\",入力シート!C761)","v":""},{"$f":"IF(入力シート!D761=\"\",\"\",TEXT(入力シート!D761,\"yyyy-mm-dd\"))","v":""},{"$f":"IF(入力シート!P761=\"\",\"\",TEXT(入力シート!P761,\"000-0000\"))","v":""},{"$f":"IF(入力シート!G761=\"\",\"\",入力シート!G761)","v":""},{"$f":"IF(入力シート!H761=\"\",\"\",入力シート!H761)","v":""},{"$f":"IF(入力シート!I761=\"\",\"\",入力シート!I761)","v":""},{"$f":"IF(入力シート!J761=\"\",\"\",入力シート!J761)","v":""},{"$f":"IF(入力シート!K761=\"\",\"\",入力シート!K761)","v":""},{"$f":"IF(入力シート!L761=\"\",\"\",入力シート!L761)","v":""},{"$f":"IF(入力シート!M761=\"\",\"\",入力シート!M761)","v":""},{"$f":"IF(入力シート!N761=\"\",\"\",入力シート!N761)","v":""},{"$f":"IF(入力シート!O761=\"\",\"\",入力シート!Q761)","v":""}]
[{"$f":"IF(入力シート!A762=\"\",\"\",入力シート!A762)","v":""},{"$f":"IF(入力シート!B762=\"\",\"\",入力シート!B762)","v":""},{"$f":"IF(入力シート!C762=\"\",\"\",入力シート!C762)","v":""},{"$f":"IF(入力シート!D762=\"\",\"\",TEXT(入力シート!D762,\"yyyy-mm-dd\"))","v":""},{"$f":"IF(入力シート!P762=\"\",\"\",TEXT(入力シート!P762,\"000-0000\"))","v":""},{"$f":"IF(入力シート!G762=\"\",\"\",入力シート!G762)","v":""},{"$f":"IF(入力シート!H762=\"\",\"\",入力シート!H762)","v":""},{"$f":"IF(入力シート!I762=\"\",\"\",入力シート!I762)","v":""},{"$f":"IF(入力シート!J762=\"\",\"\",入力シート!J762)","v":""},{"$f":"IF(入力シート!K762=\"\",\"\",入力シート!K762)","v":""},{"$f":"IF(入力シート!L762=\"\",\"\",入力シート!L762)","v":""},{"$f":"IF(入力シート!M762=\"\",\"\",入力シート!M762)","v":""},{"$f":"IF(入力シート!N762=\"\",\"\",入力シート!N762)","v":""},{"$f":"IF(入力シート!O762=\"\",\"\",入力シート!Q762)","v":""}]
[{"$f":"IF(入力シート!A763=\"\",\"\",入力シート!A763)","v":""},{"$f":"IF(入力シート!B763=\"\",\"\",入力シート!B763)","v":""},{"$f":"IF(入力シート!C763=\"\",\"\",入力シート!C763)","v":""},{"$f":"IF(入力シート!D763=\"\",\"\",TEXT(入力シート!D763,\"yyyy-mm-dd\"))","v":""},{"$f":"IF(入力シート!P763=\"\",\"\",TEXT(入力シート!P763,\"000-0000\"))","v":""},{"$f":"IF(入力シート!G763=\"\",\"\",入力シート!G763)","v":""},{"$f":"IF(入力シート!H763=\"\",\"\",入力シート!H763)","v":""},{"$f":"IF(入力シート!I763=\"\",\"\",入力シート!I763)","v":""},{"$f":"IF(入力シート!J763=\"\",\"\",入力シート!J763)","v":""},{"$f":"IF(入力シート!K763=\"\",\"\",入力シート!K763)","v":""},{"$f":"IF(入力シート!L763=\"\",\"\",入力シート!L763)","v":""},{"$f":"IF(入力シート!M763=\"\",\"\",入力シート!M763)","v":""},{"$f":"IF(入力シート!N763=\"\",\"\",入力シート!N763)","v":""},{"$f":"IF(入力シート!O763=\"\",\"\",入力シート!Q763)","v":""}]
[{"$f":"IF(入力シート!A764=\"\",\"\",入力シート!A764)","v":""},{"$f":"IF(入力シート!B764=\"\",\"\",入力シート!B764)","v":""},{"$f":"IF(入力シート!C764=\"\",\"\",入力シート!C764)","v":""},{"$f":"IF(入力シート!D764=\"\",\"\",TEXT(入力シート!D764,\"yyyy-mm-dd\"))","v":""},{"$f":"IF(入力シート!P764=\"\",\"\",TEXT(入力シート!P764,\"000-0000\"))","v":""},{"$f":"IF(入力シート!G764=\"\",\"\",入力シート!G764)","v":""},{"$f":"IF(入力シート!H764=\"\",\"\",入力シート!H764)","v":""},{"$f":"IF(入力シート!I764=\"\",\"\",入力シート!I764)","v":""},{"$f":"IF(入力シート!J764=\"\",\"\",入力シート!J764)","v":""},{"$f":"IF(入力シート!K764=\"\",\"\",入力シート!K764)","v":""},{"$f":"IF(入力シート!L764=\"\",\"\",入力シート!L764)","v":""},{"$f":"IF(入力シート!M764=\"\",\"\",入力シート!M764)","v":""},{"$f":"IF(入力シート!N764=\"\",\"\",入力シート!N764)","v":""},{"$f":"IF(入力シート!O764=\"\",\"\",入力シート!Q764)","v":""}]
[{"$f":"IF(入力シート!A765=\"\",\"\",入力シート!A765)","v":""},{"$f":"IF(入力シート!B765=\"\",\"\",入力シート!B765)","v":""},{"$f":"IF(入力シート!C765=\"\",\"\",入力シート!C765)","v":""},{"$f":"IF(入力シート!D765=\"\",\"\",TEXT(入力シート!D765,\"yyyy-mm-dd\"))","v":""},{"$f":"IF(入力シート!P765=\"\",\"\",TEXT(入力シート!P765,\"000-0000\"))","v":""},{"$f":"IF(入力シート!G765=\"\",\"\",入力シート!G765)","v":""},{"$f":"IF(入力シート!H765=\"\",\"\",入力シート!H765)","v":""},{"$f":"IF(入力シート!I765=\"\",\"\",入力シート!I765)","v":""},{"$f":"IF(入力シート!J765=\"\",\"\",入力シート!J765)","v":""},{"$f":"IF(入力シート!K765=\"\",\"\",入力シート!K765)","v":""},{"$f":"IF(入力シート!L765=\"\",\"\",入力シート!L765)","v":""},{"$f":"IF(入力シート!M765=\"\",\"\",入力シート!M765)","v":""},{"$f":"IF(入力シート!N765=\"\",\"\",入力シート!N765)","v":""},{"$f":"IF(入力シート!O765=\"\",\"\",入力シート!Q765)","v":""}]
[{"$f":"IF(入力シート!A766=\"\",\"\",入力シート!A766)","v":""},{"$f":"IF(入力シート!B766=\"\",\"\",入力シート!B766)","v":""},{"$f":"IF(入力シート!C766=\"\",\"\",入力シート!C766)","v":""},{"$f":"IF(入力シート!D766=\"\",\"\",TEXT(入力シート!D766,\"yyyy-mm-dd\"))","v":""},{"$f":"IF(入力シート!P766=\"\",\"\",TEXT(入力シート!P766,\"000-0000\"))","v":""},{"$f":"IF(入力シート!G766=\"\",\"\",入力シート!G766)","v":""},{"$f":"IF(入力シート!H766=\"\",\"\",入力シート!H766)","v":""},{"$f":"IF(入力シート!I766=\"\",\"\",入力シート!I766)","v":""},{"$f":"IF(入力シート!J766=\"\",\"\",入力シート!J766)","v":""},{"$f":"IF(入力シート!K766=\"\",\"\",入力シート!K766)","v":""},{"$f":"IF(入力シート!L766=\"\",\"\",入力シート!L766)","v":""},{"$f":"IF(入力シート!M766=\"\",\"\",入力シート!M766)","v":""},{"$f":"IF(入力シート!N766=\"\",\"\",入力シート!N766)","v":""},{"$f":"IF(入力シート!O766=\"\",\"\",入力シート!Q766)","v":""}]
[{"$f":"IF(入力シート!A767=\"\",\"\",入力シート!A767)","v":""},{"$f":"IF(入力シート!B767=\"\",\"\",入力シート!B767)","v":""},{"$f":"IF(入力シート!C767=\"\",\"\",入力シート!C767)","v":""},{"$f":"IF(入力シート!D767=\"\",\"\",TEXT(入力シート!D767,\"yyyy-mm-dd\"))","v":""},{"$f":"IF(入力シート!P767=\"\",\"\",TEXT(入力シート!P767,\"000-0000\"))","v":""},{"$f":"IF(入力シート!G767=\"\",\"\",入力シート!G767)","v":""},{"$f":"IF(入力シート!H767=\"\",\"\",入力シート!H767)","v":""},{"$f":"IF(入力シート!I767=\"\",\"\",入力シート!I767)","v":""},{"$f":"IF(入力シート!J767=\"\",\"\",入力シート!J767)","v":""},{"$f":"IF(入力シート!K767=\"\",\"\",入力シート!K767)","v":""},{"$f":"IF(入力シート!L767=\"\",\"\",入力シート!L767)","v":""},{"$f":"IF(入力シート!M767=\"\",\"\",入力シート!M767)","v":""},{"$f":"IF(入力シート!N767=\"\",\"\",入力シート!N767)","v":""},{"$f":"IF(入力シート!O767=\"\",\"\",入力シート!Q767)","v":""}]
[{"$f":"IF(入力シート!A768=\"\",\"\",入力シート!A768)","v":""},{"$f":"IF(入力シート!B768=\"\",\"\",入力シート!B768)","v":""},{"$f":"IF(入力シート!C768=\"\",\"\",入力シート!C768)","v":""},{"$f":"IF(入力シート!D768=\"\",\"\",TEXT(入力シート!D768,\"yyyy-mm-dd\"))","v":""},{"$f":"IF(入力シート!P768=\"\",\"\",TEXT(入力シート!P768,\"000-0000\"))","v":""},{"$f":"IF(入力シート!G768=\"\",\"\",入力シート!G768)","v":""},{"$f":"IF(入力シート!H768=\"\",\"\",入力シート!H768)","v":""},{"$f":"IF(入力シート!I768=\"\",\"\",入力シート!I768)","v":""},{"$f":"IF(入力シート!J768=\"\",\"\",入力シート!J768)","v":""},{"$f":"IF(入力シート!K768=\"\",\"\",入力シート!K768)","v":""},{"$f":"IF(入力シート!L768=\"\",\"\",入力シート!L768)","v":""},{"$f":"IF(入力シート!M768=\"\",\"\",入力シート!M768)","v":""},{"$f":"IF(入力シート!N768=\"\",\"\",入力シート!N768)","v":""},{"$f":"IF(入力シート!O768=\"\",\"\",入力シート!Q768)","v":""}]
[{"$f":"IF(入力シート!A769=\"\",\"\",入力シート!A769)","v":""},{"$f":"IF(入力シート!B769=\"\",\"\",入力シート!B769)","v":""},{"$f":"IF(入力シート!C769=\"\",\"\",入力シート!C769)","v":""},{"$f":"IF(入力シート!D769=\"\",\"\",TEXT(入力シート!D769,\"yyyy-mm-dd\"))","v":""},{"$f":"IF(入力シート!P769=\"\",\"\",TEXT(入力シート!P769,\"000-0000\"))","v":""},{"$f":"IF(入力シート!G769=\"\",\"\",入力シート!G769)","v":""},{"$f":"IF(入力シート!H769=\"\",\"\",入力シート!H769)","v":""},{"$f":"IF(入力シート!I769=\"\",\"\",入力シート!I769)","v":""},{"$f":"IF(入力シート!J769=\"\",\"\",入力シート!J769)","v":""},{"$f":"IF(入力シート!K769=\"\",\"\",入力シート!K769)","v":""},{"$f":"IF(入力シート!L769=\"\",\"\",入力シート!L769)","v":""},{"$f":"IF(入力シート!M769=\"\",\"\",入力シート!M769)","v":""},{"$f":"IF(入力シート!N769=\"\",\"\",入力シート!N769)","v":""},{"$f":"IF(入力シート!O769=\"\",\"\",入力シート!Q769)","v":""}]
[{"$f":"IF(入力シート!A770=\"\",\"\",入力シート!A770)","v":""},{"$f":"IF(入力シート!B770=\"\",\"\",入力シート!B770)","v":""},{"$f":"IF(入力シート!C770=\"\",\"\",入力シート!C770)","v":""},{"$f":"IF(入力シート!D770=\"\",\"\",TEXT(入力シート!D770,\"yyyy-mm-dd\"))","v":""},{"$f":"IF(入力シート!P770=\"\",\"\",TEXT(入力シート!P770,\"000-0000\"))","v":""},{"$f":"IF(入力シート!G770=\"\",\"\",入力シート!G770)","v":""},{"$f":"IF(入力シート!H770=\"\",\"\",入力シート!H770)","v":""},{"$f":"IF(入力シート!I770=\"\",\"\",入力シート!I770)","v":""},{"$f":"IF(入力シート!J770=\"\",\"\",入力シート!J770)","v":""},{"$f":"IF(入力シート!K770=\"\",\"\",入力シート!K770)","v":""},{"$f":"IF(入力シート!L770=\"\",\"\",入力シート!L770)","v":""},{"$f":"IF(入力シート!M770=\"\",\"\",入力シート!M770)","v":""},{"$f":"IF(入力シート!N770=\"\",\"\",入力シート!N770)","v":""},{"$f":"IF(入力シート!O770=\"\",\"\",入力シート!Q770)","v":""}]
[{"$f":"IF(入力シート!A771=\"\",\"\",入力シート!A771)","v":""},{"$f":"IF(入力シート!B771=\"\",\"\",入力シート!B771)","v":""},{"$f":"IF(入力シート!C771=\"\",\"\",入力シート!C771)","v":""},{"$f":"IF(入力シート!D771=\"\",\"\",TEXT(入力シート!D771,\"yyyy-mm-dd\"))","v":""},{"$f":"IF(入力シート!P771=\"\",\"\",TEXT(入力シート!P771,\"000-0000\"))","v":""},{"$f":"IF(入力シート!G771=\"\",\"\",入力シート!G771)","v":""},{"$f":"IF(入力シート!H771=\"\",\"\",入力シート!H771)","v":""},{"$f":"IF(入力シート!I771=\"\",\"\",入力シート!I771)","v":""},{"$f":"IF(入力シート!J771=\"\",\"\",入力シート!J771)","v":""},{"$f":"IF(入力シート!K771=\"\",\"\",入力シート!K771)","v":""},{"$f":"IF(入力シート!L771=\"\",\"\",入力シート!L771)","v":""},{"$f":"IF(入力シート!M771=\"\",\"\",入力シート!M771)","v":""},{"$f":"IF(入力シート!N771=\"\",\"\",入力シート!N771)","v":""},{"$f":"IF(入力シート!O771=\"\",\"\",入力シート!Q771)","v":""}]
[{"$f":"IF(入力シート!A772=\"\",\"\",入力シート!A772)","v":""},{"$f":"IF(入力シート!B772=\"\",\"\",入力シート!B772)","v":""},{"$f":"IF(入力シート!C772=\"\",\"\",入力シート!C772)","v":""},{"$f":"IF(入力シート!D772=\"\",\"\",TEXT(入力シート!D772,\"yyyy-mm-dd\"))","v":""},{"$f":"IF(入力シート!P772=\"\",\"\",TEXT(入力シート!P772,\"000-0000\"))","v":""},{"$f":"IF(入力シート!G772=\"\",\"\",入力シート!G772)","v":""},{"$f":"IF(入力シート!H772=\"\",\"\",入力シート!H772)","v":""},{"$f":"IF(入力シート!I772=\"\",\"\",入力シート!I772)","v":""},{"$f":"IF(入力シート!J772=\"\",\"\",入力シート!J772)","v":""},{"$f":"IF(入力シート!K772=\"\",\"\",入力シート!K772)","v":""},{"$f":"IF(入力シート!L772=\"\",\"\",入力シート!L772)","v":""},{"$f":"IF(入力シート!M772=\"\",\"\",入力シート!M772)","v":""},{"$f":"IF(入力シート!N772=\"\",\"\",入力シート!N772)","v":""},{"$f":"IF(入力シート!O772=\"\",\"\",入力シート!Q772)","v":""}]
[{"$f":"IF(入力シート!A773=\"\",\"\",入力シート!A773)","v":""},{"$f":"IF(入力シート!B773=\"\",\"\",入力シート!B773)","v":""},{"$f":"IF(入力シート!C773=\"\",\"\",入力シート!C773)","v":""},{"$f":"IF(入力シート!D773=\"\",\"\",TEXT(入力シート!D773,\"yyyy-mm-dd\"))","v":""},{"$f":"IF(入力シート!P773=\"\",\"\",TEXT(入力シート!P773,\"000-0000\"))","v":""},{"$f":"IF(入力シート!G773=\"\",\"\",入力シート!G773)","v":""},{"$f":"IF(入力シート!H773=\"\",\"\",入力シート!H773)","v":""},{"$f":"IF(入力シート!I773=\"\",\"\",入力シート!I773)","v":""},{"$f":"IF(入力シート!J773=\"\",\"\",入力シート!J773)","v":""},{"$f":"IF(入力シート!K773=\"\",\"\",入力シート!K773)","v":""},{"$f":"IF(入力シート!L773=\"\",\"\",入力シート!L773)","v":""},{"$f":"IF(入力シート!M773=\"\",\"\",入力シート!M773)","v":""},{"$f":"IF(入力シート!N773=\"\",\"\",入力シート!N773)","v":""},{"$f":"IF(入力シート!O773=\"\",\"\",入力シート!Q773)","v":""}]
[{"$f":"IF(入力シート!A774=\"\",\"\",入力シート!A774)","v":""},{"$f":"IF(入力シート!B774=\"\",\"\",入力シート!B774)","v":""},{"$f":"IF(入力シート!C774=\"\",\"\",入力シート!C774)","v":""},{"$f":"IF(入力シート!D774=\"\",\"\",TEXT(入力シート!D774,\"yyyy-mm-dd\"))","v":""},{"$f":"IF(入力シート!P774=\"\",\"\",TEXT(入力シート!P774,\"000-0000\"))","v":""},{"$f":"IF(入力シート!G774=\"\",\"\",入力シート!G774)","v":""},{"$f":"IF(入力シート!H774=\"\",\"\",入力シート!H774)","v":""},{"$f":"IF(入力シート!I774=\"\",\"\",入力シート!I774)","v":""},{"$f":"IF(入力シート!J774=\"\",\"\",入力シート!J774)","v":""},{"$f":"IF(入力シート!K774=\"\",\"\",入力シート!K774)","v":""},{"$f":"IF(入力シート!L774=\"\",\"\",入力シート!L774)","v":""},{"$f":"IF(入力シート!M774=\"\",\"\",入力シート!M774)","v":""},{"$f":"IF(入力シート!N774=\"\",\"\",入力シート!N774)","v":""},{"$f":"IF(入力シート!O774=\"\",\"\",入力シート!Q774)","v":""}]
[{"$f":"IF(入力シート!A775=\"\",\"\",入力シート!A775)","v":""},{"$f":"IF(入力シート!B775=\"\",\"\",入力シート!B775)","v":""},{"$f":"IF(入力シート!C775=\"\",\"\",入力シート!C775)","v":""},{"$f":"IF(入力シート!D775=\"\",\"\",TEXT(入力シート!D775,\"yyyy-mm-dd\"))","v":""},{"$f":"IF(入力シート!P775=\"\",\"\",TEXT(入力シート!P775,\"000-0000\"))","v":""},{"$f":"IF(入力シート!G775=\"\",\"\",入力シート!G775)","v":""},{"$f":"IF(入力シート!H775=\"\",\"\",入力シート!H775)","v":""},{"$f":"IF(入力シート!I775=\"\",\"\",入力シート!I775)","v":""},{"$f":"IF(入力シート!J775=\"\",\"\",入力シート!J775)","v":""},{"$f":"IF(入力シート!K775=\"\",\"\",入力シート!K775)","v":""},{"$f":"IF(入力シート!L775=\"\",\"\",入力シート!L775)","v":""},{"$f":"IF(入力シート!M775=\"\",\"\",入力シート!M775)","v":""},{"$f":"IF(入力シート!N775=\"\",\"\",入力シート!N775)","v":""},{"$f":"IF(入力シート!O775=\"\",\"\",入力シート!Q775)","v":""}]
[{"$f":"IF(入力シート!A776=\"\",\"\",入力シート!A776)","v":""},{"$f":"IF(入力シート!B776=\"\",\"\",入力シート!B776)","v":""},{"$f":"IF(入力シート!C776=\"\",\"\",入力シート!C776)","v":""},{"$f":"IF(入力シート!D776=\"\",\"\",TEXT(入力シート!D776,\"yyyy-mm-dd\"))","v":""},{"$f":"IF(入力シート!P776=\"\",\"\",TEXT(入力シート!P776,\"000-0000\"))","v":""},{"$f":"IF(入力シート!G776=\"\",\"\",入力シート!G776)","v":""},{"$f":"IF(入力シート!H776=\"\",\"\",入力シート!H776)","v":""},{"$f":"IF(入力シート!I776=\"\",\"\",入力シート!I776)","v":""},{"$f":"IF(入力シート!J776=\"\",\"\",入力シート!J776)","v":""},{"$f":"IF(入力シート!K776=\"\",\"\",入力シート!K776)","v":""},{"$f":"IF(入力シート!L776=\"\",\"\",入力シート!L776)","v":""},{"$f":"IF(入力シート!M776=\"\",\"\",入力シート!M776)","v":""},{"$f":"IF(入力シート!N776=\"\",\"\",入力シート!N776)","v":""},{"$f":"IF(入力シート!O776=\"\",\"\",入力シート!Q776)","v":""}]
[{"$f":"IF(入力シート!A777=\"\",\"\",入力シート!A777)","v":""},{"$f":"IF(入力シート!B777=\"\",\"\",入力シート!B777)","v":""},{"$f":"IF(入力シート!C777=\"\",\"\",入力シート!C777)","v":""},{"$f":"IF(入力シート!D777=\"\",\"\",TEXT(入力シート!D777,\"yyyy-mm-dd\"))","v":""},{"$f":"IF(入力シート!P777=\"\",\"\",TEXT(入力シート!P777,\"000-0000\"))","v":""},{"$f":"IF(入力シート!G777=\"\",\"\",入力シート!G777)","v":""},{"$f":"IF(入力シート!H777=\"\",\"\",入力シート!H777)","v":""},{"$f":"IF(入力シート!I777=\"\",\"\",入力シート!I777)","v":""},{"$f":"IF(入力シート!J777=\"\",\"\",入力シート!J777)","v":""},{"$f":"IF(入力シート!K777=\"\",\"\",入力シート!K777)","v":""},{"$f":"IF(入力シート!L777=\"\",\"\",入力シート!L777)","v":""},{"$f":"IF(入力シート!M777=\"\",\"\",入力シート!M777)","v":""},{"$f":"IF(入力シート!N777=\"\",\"\",入力シート!N777)","v":""},{"$f":"IF(入力シート!O777=\"\",\"\",入力シート!Q777)","v":""}]
[{"$f":"IF(入力シート!A778=\"\",\"\",入力シート!A778)","v":""},{"$f":"IF(入力シート!B778=\"\",\"\",入力シート!B778)","v":""},{"$f":"IF(入力シート!C778=\"\",\"\",入力シート!C778)","v":""},{"$f":"IF(入力シート!D778=\"\",\"\",TEXT(入力シート!D778,\"yyyy-mm-dd\"))","v":""},{"$f":"IF(入力シート!P778=\"\",\"\",TEXT(入力シート!P778,\"000-0000\"))","v":""},{"$f":"IF(入力シート!G778=\"\",\"\",入力シート!G778)","v":""},{"$f":"IF(入力シート!H778=\"\",\"\",入力シート!H778)","v":""},{"$f":"IF(入力シート!I778=\"\",\"\",入力シート!I778)","v":""},{"$f":"IF(入力シート!J778=\"\",\"\",入力シート!J778)","v":""},{"$f":"IF(入力シート!K778=\"\",\"\",入力シート!K778)","v":""},{"$f":"IF(入力シート!L778=\"\",\"\",入力シート!L778)","v":""},{"$f":"IF(入力シート!M778=\"\",\"\",入力シート!M778)","v":""},{"$f":"IF(入力シート!N778=\"\",\"\",入力シート!N778)","v":""},{"$f":"IF(入力シート!O778=\"\",\"\",入力シート!Q778)","v":""}]
[{"$f":"IF(入力シート!A779=\"\",\"\",入力シート!A779)","v":""},{"$f":"IF(入力シート!B779=\"\",\"\",入力シート!B779)","v":""},{"$f":"IF(入力シート!C779=\"\",\"\",入力シート!C779)","v":""},{"$f":"IF(入力シート!D779=\"\",\"\",TEXT(入力シート!D779,\"yyyy-mm-dd\"))","v":""},{"$f":"IF(入力シート!P779=\"\",\"\",TEXT(入力シート!P779,\"000-0000\"))","v":""},{"$f":"IF(入力シート!G779=\"\",\"\",入力シート!G779)","v":""},{"$f":"IF(入力シート!H779=\"\",\"\",入力シート!H779)","v":""},{"$f":"IF(入力シート!I779=\"\",\"\",入力シート!I779)","v":""},{"$f":"IF(入力シート!J779=\"\",\"\",入力シート!J779)","v":""},{"$f":"IF(入力シート!K779=\"\",\"\",入力シート!K779)","v":""},{"$f":"IF(入力シート!L779=\"\",\"\",入力シート!L779)","v":""},{"$f":"IF(入力シート!M779=\"\",\"\",入力シート!M779)","v":""},{"$f":"IF(入力シート!N779=\"\",\"\",入力シート!N779)","v":""},{"$f":"IF(入力シート!O779=\"\",\"\",入力シート!Q779)","v":""}]
[{"$f":"IF(入力シート!A780=\"\",\"\",入力シート!A780)","v":""},{"$f":"IF(入力シート!B780=\"\",\"\",入力シート!B780)","v":""},{"$f":"IF(入力シート!C780=\"\",\"\",入力シート!C780)","v":""},{"$f":"IF(入力シート!D780=\"\",\"\",TEXT(入力シート!D780,\"yyyy-mm-dd\"))","v":""},{"$f":"IF(入力シート!P780=\"\",\"\",TEXT(入力シート!P780,\"000-0000\"))","v":""},{"$f":"IF(入力シート!G780=\"\",\"\",入力シート!G780)","v":""},{"$f":"IF(入力シート!H780=\"\",\"\",入力シート!H780)","v":""},{"$f":"IF(入力シート!I780=\"\",\"\",入力シート!I780)","v":""},{"$f":"IF(入力シート!J780=\"\",\"\",入力シート!J780)","v":""},{"$f":"IF(入力シート!K780=\"\",\"\",入力シート!K780)","v":""},{"$f":"IF(入力シート!L780=\"\",\"\",入力シート!L780)","v":""},{"$f":"IF(入力シート!M780=\"\",\"\",入力シート!M780)","v":""},{"$f":"IF(入力シート!N780=\"\",\"\",入力シート!N780)","v":""},{"$f":"IF(入力シート!O780=\"\",\"\",入力シート!Q780)","v":""}]
[{"$f":"IF(入力シート!A781=\"\",\"\",入力シート!A781)","v":""},{"$f":"IF(入力シート!B781=\"\",\"\",入力シート!B781)","v":""},{"$f":"IF(入力シート!C781=\"\",\"\",入力シート!C781)","v":""},{"$f":"IF(入力シート!D781=\"\",\"\",TEXT(入力シート!D781,\"yyyy-mm-dd\"))","v":""},{"$f":"IF(入力シート!P781=\"\",\"\",TEXT(入力シート!P781,\"000-0000\"))","v":""},{"$f":"IF(入力シート!G781=\"\",\"\",入力シート!G781)","v":""},{"$f":"IF(入力シート!H781=\"\",\"\",入力シート!H781)","v":""},{"$f":"IF(入力シート!I781=\"\",\"\",入力シート!I781)","v":""},{"$f":"IF(入力シート!J781=\"\",\"\",入力シート!J781)","v":""},{"$f":"IF(入力シート!K781=\"\",\"\",入力シート!K781)","v":""},{"$f":"IF(入力シート!L781=\"\",\"\",入力シート!L781)","v":""},{"$f":"IF(入力シート!M781=\"\",\"\",入力シート!M781)","v":""},{"$f":"IF(入力シート!N781=\"\",\"\",入力シート!N781)","v":""},{"$f":"IF(入力シート!O781=\"\",\"\",入力シート!Q781)","v":""}]
[{"$f":"IF(入力シート!A782=\"\",\"\",入力シート!A782)","v":""},{"$f":"IF(入力シート!B782=\"\",\"\",入力シート!B782)","v":""},{"$f":"IF(入力シート!C782=\"\",\"\",入力シート!C782)","v":""},{"$f":"IF(入力シート!D782=\"\",\"\",TEXT(入力シート!D782,\"yyyy-mm-dd\"))","v":""},{"$f":"IF(入力シート!P782=\"\",\"\",TEXT(入力シート!P782,\"000-0000\"))","v":""},{"$f":"IF(入力シート!G782=\"\",\"\",入力シート!G782)","v":""},{"$f":"IF(入力シート!H782=\"\",\"\",入力シート!H782)","v":""},{"$f":"IF(入力シート!I782=\"\",\"\",入力シート!I782)","v":""},{"$f":"IF(入力シート!J782=\"\",\"\",入力シート!J782)","v":""},{"$f":"IF(入力シート!K782=\"\",\"\",入力シート!K782)","v":""},{"$f":"IF(入力シート!L782=\"\",\"\",入力シート!L782)","v":""},{"$f":"IF(入力シート!M782=\"\",\"\",入力シート!M782)","v":""},{"$f":"IF(入力シート!N782=\"\",\"\",入力シート!N782)","v":""},{"$f":"IF(入力シート!O782=\"\",\"\",入力シート!Q782)","v":""}]
[{"$f":"IF(入力シート!A783=\"\",\"\",入力シート!A783)","v":""},{"$f":"IF(入力シート!B783=\"\",\"\",入力シート!B783)","v":""},{"$f":"IF(入力シート!C783=\"\",\"\",入力シート!C783)","v":""},{"$f":"IF(入力シート!D783=\"\",\"\",TEXT(入力シート!D783,\"yyyy-mm-dd\"))","v":""},{"$f":"IF(入力シート!P783=\"\",\"\",TEXT(入力シート!P783,\"000-0000\"))","v":""},{"$f":"IF(入力シート!G783=\"\",\"\",入力シート!G783)","v":""},{"$f":"IF(入力シート!H783=\"\",\"\",入力シート!H783)","v":""},{"$f":"IF(入力シート!I783=\"\",\"\",入力シート!I783)","v":""},{"$f":"IF(入力シート!J783=\"\",\"\",入力シート!J783)","v":""},{"$f":"IF(入力シート!K783=\"\",\"\",入力シート!K783)","v":""},{"$f":"IF(入力シート!L783=\"\",\"\",入力シート!L783)","v":""},{"$f":"IF(入力シート!M783=\"\",\"\",入力シート!M783)","v":""},{"$f":"IF(入力シート!N783=\"\",\"\",入力シート!N783)","v":""},{"$f":"IF(入力シート!O783=\"\",\"\",入力シート!Q783)","v":""}]
[{"$f":"IF(入力シート!A784=\"\",\"\",入力シート!A784)","v":""},{"$f":"IF(入力シート!B784=\"\",\"\",入力シート!B784)","v":""},{"$f":"IF(入力シート!C784=\"\",\"\",入力シート!C784)","v":""},{"$f":"IF(入力シート!D784=\"\",\"\",TEXT(入力シート!D784,\"yyyy-mm-dd\"))","v":""},{"$f":"IF(入力シート!P784=\"\",\"\",TEXT(入力シート!P784,\"000-0000\"))","v":""},{"$f":"IF(入力シート!G784=\"\",\"\",入力シート!G784)","v":""},{"$f":"IF(入力シート!H784=\"\",\"\",入力シート!H784)","v":""},{"$f":"IF(入力シート!I784=\"\",\"\",入力シート!I784)","v":""},{"$f":"IF(入力シート!J784=\"\",\"\",入力シート!J784)","v":""},{"$f":"IF(入力シート!K784=\"\",\"\",入力シート!K784)","v":""},{"$f":"IF(入力シート!L784=\"\",\"\",入力シート!L784)","v":""},{"$f":"IF(入力シート!M784=\"\",\"\",入力シート!M784)","v":""},{"$f":"IF(入力シート!N784=\"\",\"\",入力シート!N784)","v":""},{"$f":"IF(入力シート!O784=\"\",\"\",入力シート!Q784)","v":""}]
[{"$f":"IF(入力シート!A785=\"\",\"\",入力シート!A785)","v":""},{"$f":"IF(入力シート!B785=\"\",\"\",入力シート!B785)","v":""},{"$f":"IF(入力シート!C785=\"\",\"\",入力シート!C785)","v":""},{"$f":"IF(入力シート!D785=\"\",\"\",TEXT(入力シート!D785,\"yyyy-mm-dd\"))","v":""},{"$f":"IF(入力シート!P785=\"\",\"\",TEXT(入力シート!P785,\"000-0000\"))","v":""},{"$f":"IF(入力シート!G785=\"\",\"\",入力シート!G785)","v":""},{"$f":"IF(入力シート!H785=\"\",\"\",入力シート!H785)","v":""},{"$f":"IF(入力シート!I785=\"\",\"\",入力シート!I785)","v":""},{"$f":"IF(入力シート!J785=\"\",\"\",入力シート!J785)","v":""},{"$f":"IF(入力シート!K785=\"\",\"\",入力シート!K785)","v":""},{"$f":"IF(入力シート!L785=\"\",\"\",入力シート!L785)","v":""},{"$f":"IF(入力シート!M785=\"\",\"\",入力シート!M785)","v":""},{"$f":"IF(入力シート!N785=\"\",\"\",入力シート!N785)","v":""},{"$f":"IF(入力シート!O785=\"\",\"\",入力シート!Q785)","v":""}]
[{"$f":"IF(入力シート!A786=\"\",\"\",入力シート!A786)","v":""},{"$f":"IF(入力シート!B786=\"\",\"\",入力シート!B786)","v":""},{"$f":"IF(入力シート!C786=\"\",\"\",入力シート!C786)","v":""},{"$f":"IF(入力シート!D786=\"\",\"\",TEXT(入力シート!D786,\"yyyy-mm-dd\"))","v":""},{"$f":"IF(入力シート!P786=\"\",\"\",TEXT(入力シート!P786,\"000-0000\"))","v":""},{"$f":"IF(入力シート!G786=\"\",\"\",入力シート!G786)","v":""},{"$f":"IF(入力シート!H786=\"\",\"\",入力シート!H786)","v":""},{"$f":"IF(入力シート!I786=\"\",\"\",入力シート!I786)","v":""},{"$f":"IF(入力シート!J786=\"\",\"\",入力シート!J786)","v":""},{"$f":"IF(入力シート!K786=\"\",\"\",入力シート!K786)","v":""},{"$f":"IF(入力シート!L786=\"\",\"\",入力シート!L786)","v":""},{"$f":"IF(入力シート!M786=\"\",\"\",入力シート!M786)","v":""},{"$f":"IF(入力シート!N786=\"\",\"\",入力シート!N786)","v":""},{"$f":"IF(入力シート!O786=\"\",\"\",入力シート!Q786)","v":""}]
[{"$f":"IF(入力シート!A787=\"\",\"\",入力シート!A787)","v":""},{"$f":"IF(入力シート!B787=\"\",\"\",入力シート!B787)","v":""},{"$f":"IF(入力シート!C787=\"\",\"\",入力シート!C787)","v":""},{"$f":"IF(入力シート!D787=\"\",\"\",TEXT(入力シート!D787,\"yyyy-mm-dd\"))","v":""},{"$f":"IF(入力シート!P787=\"\",\"\",TEXT(入力シート!P787,\"000-0000\"))","v":""},{"$f":"IF(入力シート!G787=\"\",\"\",入力シート!G787)","v":""},{"$f":"IF(入力シート!H787=\"\",\"\",入力シート!H787)","v":""},{"$f":"IF(入力シート!I787=\"\",\"\",入力シート!I787)","v":""},{"$f":"IF(入力シート!J787=\"\",\"\",入力シート!J787)","v":""},{"$f":"IF(入力シート!K787=\"\",\"\",入力シート!K787)","v":""},{"$f":"IF(入力シート!L787=\"\",\"\",入力シート!L787)","v":""},{"$f":"IF(入力シート!M787=\"\",\"\",入力シート!M787)","v":""},{"$f":"IF(入力シート!N787=\"\",\"\",入力シート!N787)","v":""},{"$f":"IF(入力シート!O787=\"\",\"\",入力シート!Q787)","v":""}]
[{"$f":"IF(入力シート!A788=\"\",\"\",入力シート!A788)","v":""},{"$f":"IF(入力シート!B788=\"\",\"\",入力シート!B788)","v":""},{"$f":"IF(入力シート!C788=\"\",\"\",入力シート!C788)","v":""},{"$f":"IF(入力シート!D788=\"\",\"\",TEXT(入力シート!D788,\"yyyy-mm-dd\"))","v":""},{"$f":"IF(入力シート!P788=\"\",\"\",TEXT(入力シート!P788,\"000-0000\"))","v":""},{"$f":"IF(入力シート!G788=\"\",\"\",入力シート!G788)","v":""},{"$f":"IF(入力シート!H788=\"\",\"\",入力シート!H788)","v":""},{"$f":"IF(入力シート!I788=\"\",\"\",入力シート!I788)","v":""},{"$f":"IF(入力シート!J788=\"\",\"\",入力シート!J788)","v":""},{"$f":"IF(入力シート!K788=\"\",\"\",入力シート!K788)","v":""},{"$f":"IF(入力シート!L788=\"\",\"\",入力シート!L788)","v":""},{"$f":"IF(入力シート!M788=\"\",\"\",入力シート!M788)","v":""},{"$f":"IF(入力シート!N788=\"\",\"\",入力シート!N788)","v":""},{"$f":"IF(入力シート!O788=\"\",\"\",入力シート!Q788)","v":""}]
[{"$f":"IF(入力シート!A789=\"\",\"\",入力シート!A789)","v":""},{"$f":"IF(入力シート!B789=\"\",\"\",入力シート!B789)","v":""},{"$f":"IF(入力シート!C789=\"\",\"\",入力シート!C789)","v":""},{"$f":"IF(入力シート!D789=\"\",\"\",TEXT(入力シート!D789,\"yyyy-mm-dd\"))","v":""},{"$f":"IF(入力シート!P789=\"\",\"\",TEXT(入力シート!P789,\"000-0000\"))","v":""},{"$f":"IF(入力シート!G789=\"\",\"\",入力シート!G789)","v":""},{"$f":"IF(入力シート!H789=\"\",\"\",入力シート!H789)","v":""},{"$f":"IF(入力シート!I789=\"\",\"\",入力シート!I789)","v":""},{"$f":"IF(入力シート!J789=\"\",\"\",入力シート!J789)","v":""},{"$f":"IF(入力シート!K789=\"\",\"\",入力シート!K789)","v":""},{"$f":"IF(入力シート!L789=\"\",\"\",入力シート!L789)","v":""},{"$f":"IF(入力シート!M789=\"\",\"\",入力シート!M789)","v":""},{"$f":"IF(入力シート!N789=\"\",\"\",入力シート!N789)","v":""},{"$f":"IF(入力シート!O789=\"\",\"\",入力シート!Q789)","v":""}]
[{"$f":"IF(入力シート!A790=\"\",\"\",入力シート!A790)","v":""},{"$f":"IF(入力シート!B790=\"\",\"\",入力シート!B790)","v":""},{"$f":"IF(入力シート!C790=\"\",\"\",入力シート!C790)","v":""},{"$f":"IF(入力シート!D790=\"\",\"\",TEXT(入力シート!D790,\"yyyy-mm-dd\"))","v":""},{"$f":"IF(入力シート!P790=\"\",\"\",TEXT(入力シート!P790,\"000-0000\"))","v":""},{"$f":"IF(入力シート!G790=\"\",\"\",入力シート!G790)","v":""},{"$f":"IF(入力シート!H790=\"\",\"\",入力シート!H790)","v":""},{"$f":"IF(入力シート!I790=\"\",\"\",入力シート!I790)","v":""},{"$f":"IF(入力シート!J790=\"\",\"\",入力シート!J790)","v":""},{"$f":"IF(入力シート!K790=\"\",\"\",入力シート!K790)","v":""},{"$f":"IF(入力シート!L790=\"\",\"\",入力シート!L790)","v":""},{"$f":"IF(入力シート!M790=\"\",\"\",入力シート!M790)","v":""},{"$f":"IF(入力シート!N790=\"\",\"\",入力シート!N790)","v":""},{"$f":"IF(入力シート!O790=\"\",\"\",入力シート!Q790)","v":""}]
[{"$f":"IF(入力シート!A791=\"\",\"\",入力シート!A791)","v":""},{"$f":"IF(入力シート!B791=\"\",\"\",入力シート!B791)","v":""},{"$f":"IF(入力シート!C791=\"\",\"\",入力シート!C791)","v":""},{"$f":"IF(入力シート!D791=\"\",\"\",TEXT(入力シート!D791,\"yyyy-mm-dd\"))","v":""},{"$f":"IF(入力シート!P791=\"\",\"\",TEXT(入力シート!P791,\"000-0000\"))","v":""},{"$f":"IF(入力シート!G791=\"\",\"\",入力シート!G791)","v":""},{"$f":"IF(入力シート!H791=\"\",\"\",入力シート!H791)","v":""},{"$f":"IF(入力シート!I791=\"\",\"\",入力シート!I791)","v":""},{"$f":"IF(入力シート!J791=\"\",\"\",入力シート!J791)","v":""},{"$f":"IF(入力シート!K791=\"\",\"\",入力シート!K791)","v":""},{"$f":"IF(入力シート!L791=\"\",\"\",入力シート!L791)","v":""},{"$f":"IF(入力シート!M791=\"\",\"\",入力シート!M791)","v":""},{"$f":"IF(入力シート!N791=\"\",\"\",入力シート!N791)","v":""},{"$f":"IF(入力シート!O791=\"\",\"\",入力シート!Q791)","v":""}]
[{"$f":"IF(入力シート!A792=\"\",\"\",入力シート!A792)","v":""},{"$f":"IF(入力シート!B792=\"\",\"\",入力シート!B792)","v":""},{"$f":"IF(入力シート!C792=\"\",\"\",入力シート!C792)","v":""},{"$f":"IF(入力シート!D792=\"\",\"\",TEXT(入力シート!D792,\"yyyy-mm-dd\"))","v":""},{"$f":"IF(入力シート!P792=\"\",\"\",TEXT(入力シート!P792,\"000-0000\"))","v":""},{"$f":"IF(入力シート!G792=\"\",\"\",入力シート!G792)","v":""},{"$f":"IF(入力シート!H792=\"\",\"\",入力シート!H792)","v":""},{"$f":"IF(入力シート!I792=\"\",\"\",入力シート!I792)","v":""},{"$f":"IF(入力シート!J792=\"\",\"\",入力シート!J792)","v":""},{"$f":"IF(入力シート!K792=\"\",\"\",入力シート!K792)","v":""},{"$f":"IF(入力シート!L792=\"\",\"\",入力シート!L792)","v":""},{"$f":"IF(入力シート!M792=\"\",\"\",入力シート!M792)","v":""},{"$f":"IF(入力シート!N792=\"\",\"\",入力シート!N792)","v":""},{"$f":"IF(入力シート!O792=\"\",\"\",入力シート!Q792)","v":""}]
[{"$f":"IF(入力シート!A793=\"\",\"\",入力シート!A793)","v":""},{"$f":"IF(入力シート!B793=\"\",\"\",入力シート!B793)","v":""},{"$f":"IF(入力シート!C793=\"\",\"\",入力シート!C793)","v":""},{"$f":"IF(入力シート!D793=\"\",\"\",TEXT(入力シート!D793,\"yyyy-mm-dd\"))","v":""},{"$f":"IF(入力シート!P793=\"\",\"\",TEXT(入力シート!P793,\"000-0000\"))","v":""},{"$f":"IF(入力シート!G793=\"\",\"\",入力シート!G793)","v":""},{"$f":"IF(入力シート!H793=\"\",\"\",入力シート!H793)","v":""},{"$f":"IF(入力シート!I793=\"\",\"\",入力シート!I793)","v":""},{"$f":"IF(入力シート!J793=\"\",\"\",入力シート!J793)","v":""},{"$f":"IF(入力シート!K793=\"\",\"\",入力シート!K793)","v":""},{"$f":"IF(入力シート!L793=\"\",\"\",入力シート!L793)","v":""},{"$f":"IF(入力シート!M793=\"\",\"\",入力シート!M793)","v":""},{"$f":"IF(入力シート!N793=\"\",\"\",入力シート!N793)","v":""},{"$f":"IF(入力シート!O793=\"\",\"\",入力シート!Q793)","v":""}]
[{"$f":"IF(入力シート!A794=\"\",\"\",入力シート!A794)","v":""},{"$f":"IF(入力シート!B794=\"\",\"\",入力シート!B794)","v":""},{"$f":"IF(入力シート!C794=\"\",\"\",入力シート!C794)","v":""},{"$f":"IF(入力シート!D794=\"\",\"\",TEXT(入力シート!D794,\"yyyy-mm-dd\"))","v":""},{"$f":"IF(入力シート!P794=\"\",\"\",TEXT(入力シート!P794,\"000-0000\"))","v":""},{"$f":"IF(入力シート!G794=\"\",\"\",入力シート!G794)","v":""},{"$f":"IF(入力シート!H794=\"\",\"\",入力シート!H794)","v":""},{"$f":"IF(入力シート!I794=\"\",\"\",入力シート!I794)","v":""},{"$f":"IF(入力シート!J794=\"\",\"\",入力シート!J794)","v":""},{"$f":"IF(入力シート!K794=\"\",\"\",入力シート!K794)","v":""},{"$f":"IF(入力シート!L794=\"\",\"\",入力シート!L794)","v":""},{"$f":"IF(入力シート!M794=\"\",\"\",入力シート!M794)","v":""},{"$f":"IF(入力シート!N794=\"\",\"\",入力シート!N794)","v":""},{"$f":"IF(入力シート!O794=\"\",\"\",入力シート!Q794)","v":""}]
[{"$f":"IF(入力シート!A795=\"\",\"\",入力シート!A795)","v":""},{"$f":"IF(入力シート!B795=\"\",\"\",入力シート!B795)","v":""},{"$f":"IF(入力シート!C795=\"\",\"\",入力シート!C795)","v":""},{"$f":"IF(入力シート!D795=\"\",\"\",TEXT(入力シート!D795,\"yyyy-mm-dd\"))","v":""},{"$f":"IF(入力シート!P795=\"\",\"\",TEXT(入力シート!P795,\"000-0000\"))","v":""},{"$f":"IF(入力シート!G795=\"\",\"\",入力シート!G795)","v":""},{"$f":"IF(入力シート!H795=\"\",\"\",入力シート!H795)","v":""},{"$f":"IF(入力シート!I795=\"\",\"\",入力シート!I795)","v":""},{"$f":"IF(入力シート!J795=\"\",\"\",入力シート!J795)","v":""},{"$f":"IF(入力シート!K795=\"\",\"\",入力シート!K795)","v":""},{"$f":"IF(入力シート!L795=\"\",\"\",入力シート!L795)","v":""},{"$f":"IF(入力シート!M795=\"\",\"\",入力シート!M795)","v":""},{"$f":"IF(入力シート!N795=\"\",\"\",入力シート!N795)","v":""},{"$f":"IF(入力シート!O795=\"\",\"\",入力シート!Q795)","v":""}]
[{"$f":"IF(入力シート!A796=\"\",\"\",入力シート!A796)","v":""},{"$f":"IF(入力シート!B796=\"\",\"\",入力シート!B796)","v":""},{"$f":"IF(入力シート!C796=\"\",\"\",入力シート!C796)","v":""},{"$f":"IF(入力シート!D796=\"\",\"\",TEXT(入力シート!D796,\"yyyy-mm-dd\"))","v":""},{"$f":"IF(入力シート!P796=\"\",\"\",TEXT(入力シート!P796,\"000-0000\"))","v":""},{"$f":"IF(入力シート!G796=\"\",\"\",入力シート!G796)","v":""},{"$f":"IF(入力シート!H796=\"\",\"\",入力シート!H796)","v":""},{"$f":"IF(入力シート!I796=\"\",\"\",入力シート!I796)","v":""},{"$f":"IF(入力シート!J796=\"\",\"\",入力シート!J796)","v":""},{"$f":"IF(入力シート!K796=\"\",\"\",入力シート!K796)","v":""},{"$f":"IF(入力シート!L796=\"\",\"\",入力シート!L796)","v":""},{"$f":"IF(入力シート!M796=\"\",\"\",入力シート!M796)","v":""},{"$f":"IF(入力シート!N796=\"\",\"\",入力シート!N796)","v":""},{"$f":"IF(入力シート!O796=\"\",\"\",入力シート!Q796)","v":""}]
[{"$f":"IF(入力シート!A797=\"\",\"\",入力シート!A797)","v":""},{"$f":"IF(入力シート!B797=\"\",\"\",入力シート!B797)","v":""},{"$f":"IF(入力シート!C797=\"\",\"\",入力シート!C797)","v":""},{"$f":"IF(入力シート!D797=\"\",\"\",TEXT(入力シート!D797,\"yyyy-mm-dd\"))","v":""},{"$f":"IF(入力シート!P797=\"\",\"\",TEXT(入力シート!P797,\"000-0000\"))","v":""},{"$f":"IF(入力シート!G797=\"\",\"\",入力シート!G797)","v":""},{"$f":"IF(入力シート!H797=\"\",\"\",入力シート!H797)","v":""},{"$f":"IF(入力シート!I797=\"\",\"\",入力シート!I797)","v":""},{"$f":"IF(入力シート!J797=\"\",\"\",入力シート!J797)","v":""},{"$f":"IF(入力シート!K797=\"\",\"\",入力シート!K797)","v":""},{"$f":"IF(入力シート!L797=\"\",\"\",入力シート!L797)","v":""},{"$f":"IF(入力シート!M797=\"\",\"\",入力シート!M797)","v":""},{"$f":"IF(入力シート!N797=\"\",\"\",入力シート!N797)","v":""},{"$f":"IF(入力シート!O797=\"\",\"\",入力シート!Q797)","v":""}]
[{"$f":"IF(入力シート!A798=\"\",\"\",入力シート!A798)","v":""},{"$f":"IF(入力シート!B798=\"\",\"\",入力シート!B798)","v":""},{"$f":"IF(入力シート!C798=\"\",\"\",入力シート!C798)","v":""},{"$f":"IF(入力シート!D798=\"\",\"\",TEXT(入力シート!D798,\"yyyy-mm-dd\"))","v":""},{"$f":"IF(入力シート!P798=\"\",\"\",TEXT(入力シート!P798,\"000-0000\"))","v":""},{"$f":"IF(入力シート!G798=\"\",\"\",入力シート!G798)","v":""},{"$f":"IF(入力シート!H798=\"\",\"\",入力シート!H798)","v":""},{"$f":"IF(入力シート!I798=\"\",\"\",入力シート!I798)","v":""},{"$f":"IF(入力シート!J798=\"\",\"\",入力シート!J798)","v":""},{"$f":"IF(入力シート!K798=\"\",\"\",入力シート!K798)","v":""},{"$f":"IF(入力シート!L798=\"\",\"\",入力シート!L798)","v":""},{"$f":"IF(入力シート!M798=\"\",\"\",入力シート!M798)","v":""},{"$f":"IF(入力シート!N798=\"\",\"\",入力シート!N798)","v":""},{"$f":"IF(入力シート!O798=\"\",\"\",入力シート!Q798)","v":""}]
[{"$f":"IF(入力シート!A799=\"\",\"\",入力シート!A799)","v":""},{"$f":"IF(入力シート!B799=\"\",\"\",入力シート!B799)","v":""},{"$f":"IF(入力シート!C799=\"\",\"\",入力シート!C799)","v":""},{"$f":"IF(入力シート!D799=\"\",\"\",TEXT(入力シート!D799,\"yyyy-mm-dd\"))","v":""},{"$f":"IF(入力シート!P799=\"\",\"\",TEXT(入力シート!P799,\"000-0000\"))","v":""},{"$f":"IF(入力シート!G799=\"\",\"\",入力シート!G799)","v":""},{"$f":"IF(入力シート!H799=\"\",\"\",入力シート!H799)","v":""},{"$f":"IF(入力シート!I799=\"\",\"\",入力シート!I799)","v":""},{"$f":"IF(入力シート!J799=\"\",\"\",入力シート!J799)","v":""},{"$f":"IF(入力シート!K799=\"\",\"\",入力シート!K799)","v":""},{"$f":"IF(入力シート!L799=\"\",\"\",入力シート!L799)","v":""},{"$f":"IF(入力シート!M799=\"\",\"\",入力シート!M799)","v":""},{"$f":"IF(入力シート!N799=\"\",\"\",入力シート!N799)","v":""},{"$f":"IF(入力シート!O799=\"\",\"\",入力シート!Q799)","v":""}]
[{"$f":"IF(入力シート!A800=\"\",\"\",入力シート!A800)","v":""},{"$f":"IF(入力シート!B800=\"\",\"\",入力シート!B800)","v":""},{"$f":"IF(入力シート!C800=\"\",\"\",入力シート!C800)","v":""},{"$f":"IF(入力シート!D800=\"\",\"\",TEXT(入力シート!D800,\"yyyy-mm-dd\"))","v":""},{"$f":"IF(入力シート!P800=\"\",\"\",TEXT(入力シート!P800,\"000-0000\"))","v":""},{"$f":"IF(入力シート!G800=\"\",\"\",入力シート!G800)","v":""},{"$f":"IF(入力シート!H800=\"\",\"\",入力シート!H800)","v":""},{"$f":"IF(入力シート!I800=\"\",\"\",入力シート!I800)","v":""},{"$f":"IF(入力シート!J800=\"\",\"\",入力シート!J800)","v":""},{"$f":"IF(入力シート!K800=\"\",\"\",入力シート!K800)","v":""},{"$f":"IF(入力シート!L800=\"\",\"\",入力シート!L800)","v":""},{"$f":"IF(入力シート!M800=\"\",\"\",入力シート!M800)","v":""},{"$f":"IF(入力シート!N800=\"\",\"\",入力シート!N800)","v":""},{"$f":"IF(入力シート!O800=\"\",\"\",入力シート!Q800)","v":""}]
[{"$f":"IF(入力シート!A801=\"\",\"\",入力シート!A801)","v":""},{"$f":"IF(入力シート!B801=\"\",\"\",入力シート!B801)","v":""},{"$f":"IF(入力シート!C801=\"\",\"\",入力シート!C801)","v":""},{"$f":"IF(入力シート!D801=\"\",\"\",TEXT(入力シート!D801,\"yyyy-mm-dd\"))","v":""},{"$f":"IF(入力シート!P801=\"\",\"\",TEXT(入力シート!P801,\"000-0000\"))","v":""},{"$f":"IF(入力シート!G801=\"\",\"\",入力シート!G801)","v":""},{"$f":"IF(入力シート!H801=\"\",\"\",入力シート!H801)","v":""},{"$f":"IF(入力シート!I801=\"\",\"\",入力シート!I801)","v":""},{"$f":"IF(入力シート!J801=\"\",\"\",入力シート!J801)","v":""},{"$f":"IF(入力シート!K801=\"\",\"\",入力シート!K801)","v":""},{"$f":"IF(入力シート!L801=\"\",\"\",入力シート!L801)","v":""},{"$f":"IF(入力シート!M801=\"\",\"\",入力シート!M801)","v":""},{"$f":"IF(入力シート!N801=\"\",\"\",入力シート!N801)","v":""},{"$f":"IF(入力シート!O801=\"\",\"\",入力シート!Q801)","v":""}]
[{"$f":"IF(入力シート!A802=\"\",\"\",入力シート!A802)","v":""},{"$f":"IF(入力シート!B802=\"\",\"\",入力シート!B802)","v":""},{"$f":"IF(入力シート!C802=\"\",\"\",入力シート!C802)","v":""},{"$f":"IF(入力シート!D802=\"\",\"\",TEXT(入力シート!D802,\"yyyy-mm-dd\"))","v":""},{"$f":"IF(入力シート!P802=\"\",\"\",TEXT(入力シート!P802,\"000-0000\"))","v":""},{"$f":"IF(入力シート!G802=\"\",\"\",入力シート!G802)","v":""},{"$f":"IF(入力シート!H802=\"\",\"\",入力シート!H802)","v":""},{"$f":"IF(入力シート!I802=\"\",\"\",入力シート!I802)","v":""},{"$f":"IF(入力シート!J802=\"\",\"\",入力シート!J802)","v":""},{"$f":"IF(入力シート!K802=\"\",\"\",入力シート!K802)","v":""},{"$f":"IF(入力シート!L802=\"\",\"\",入力シート!L802)","v":""},{"$f":"IF(入力シート!M802=\"\",\"\",入力シート!M802)","v":""},{"$f":"IF(入力シート!N802=\"\",\"\",入力シート!N802)","v":""},{"$f":"IF(入力シート!O802=\"\",\"\",入力シート!Q802)","v":""}]
[{"$f":"IF(入力シート!A803=\"\",\"\",入力シート!A803)","v":""},{"$f":"IF(入力シート!B803=\"\",\"\",入力シート!B803)","v":""},{"$f":"IF(入力シート!C803=\"\",\"\",入力シート!C803)","v":""},{"$f":"IF(入力シート!D803=\"\",\"\",TEXT(入力シート!D803,\"yyyy-mm-dd\"))","v":""},{"$f":"IF(入力シート!P803=\"\",\"\",TEXT(入力シート!P803,\"000-0000\"))","v":""},{"$f":"IF(入力シート!G803=\"\",\"\",入力シート!G803)","v":""},{"$f":"IF(入力シート!H803=\"\",\"\",入力シート!H803)","v":""},{"$f":"IF(入力シート!I803=\"\",\"\",入力シート!I803)","v":""},{"$f":"IF(入力シート!J803=\"\",\"\",入力シート!J803)","v":""},{"$f":"IF(入力シート!K803=\"\",\"\",入力シート!K803)","v":""},{"$f":"IF(入力シート!L803=\"\",\"\",入力シート!L803)","v":""},{"$f":"IF(入力シート!M803=\"\",\"\",入力シート!M803)","v":""},{"$f":"IF(入力シート!N803=\"\",\"\",入力シート!N803)","v":""},{"$f":"IF(入力シート!O803=\"\",\"\",入力シート!Q803)","v":""}]
[{"$f":"IF(入力シート!A804=\"\",\"\",入力シート!A804)","v":""},{"$f":"IF(入力シート!B804=\"\",\"\",入力シート!B804)","v":""},{"$f":"IF(入力シート!C804=\"\",\"\",入力シート!C804)","v":""},{"$f":"IF(入力シート!D804=\"\",\"\",TEXT(入力シート!D804,\"yyyy-mm-dd\"))","v":""},{"$f":"IF(入力シート!P804=\"\",\"\",TEXT(入力シート!P804,\"000-0000\"))","v":""},{"$f":"IF(入力シート!G804=\"\",\"\",入力シート!G804)","v":""},{"$f":"IF(入力シート!H804=\"\",\"\",入力シート!H804)","v":""},{"$f":"IF(入力シート!I804=\"\",\"\",入力シート!I804)","v":""},{"$f":"IF(入力シート!J804=\"\",\"\",入力シート!J804)","v":""},{"$f":"IF(入力シート!K804=\"\",\"\",入力シート!K804)","v":""},{"$f":"IF(入力シート!L804=\"\",\"\",入力シート!L804)","v":""},{"$f":"IF(入力シート!M804=\"\",\"\",入力シート!M804)","v":""},{"$f":"IF(入力シート!N804=\"\",\"\",入力シート!N804)","v":""},{"$f":"IF(入力シート!O804=\"\",\"\",入力シート!Q804)","v":""}]
[{"$f":"IF(入力シート!A805=\"\",\"\",入力シート!A805)","v":""},{"$f":"IF(入力シート!B805=\"\",\"\",入力シート!B805)","v":""},{"$f":"IF(入力シート!C805=\"\",\"\",入力シート!C805)","v":""},{"$f":"IF(入力シート!D805=\"\",\"\",TEXT(入力シート!D805,\"yyyy-mm-dd\"))","v":""},{"$f":"IF(入力シート!P805=\"\",\"\",TEXT(入力シート!P805,\"000-0000\"))","v":""},{"$f":"IF(入力シート!G805=\"\",\"\",入力シート!G805)","v":""},{"$f":"IF(入力シート!H805=\"\",\"\",入力シート!H805)","v":""},{"$f":"IF(入力シート!I805=\"\",\"\",入力シート!I805)","v":""},{"$f":"IF(入力シート!J805=\"\",\"\",入力シート!J805)","v":""},{"$f":"IF(入力シート!K805=\"\",\"\",入力シート!K805)","v":""},{"$f":"IF(入力シート!L805=\"\",\"\",入力シート!L805)","v":""},{"$f":"IF(入力シート!M805=\"\",\"\",入力シート!M805)","v":""},{"$f":"IF(入力シート!N805=\"\",\"\",入力シート!N805)","v":""},{"$f":"IF(入力シート!O805=\"\",\"\",入力シート!Q805)","v":""}]
[{"$f":"IF(入力シート!A806=\"\",\"\",入力シート!A806)","v":""},{"$f":"IF(入力シート!B806=\"\",\"\",入力シート!B806)","v":""},{"$f":"IF(入力シート!C806=\"\",\"\",入力シート!C806)","v":""},{"$f":"IF(入力シート!D806=\"\",\"\",TEXT(入力シート!D806,\"yyyy-mm-dd\"))","v":""},{"$f":"IF(入力シート!P806=\"\",\"\",TEXT(入力シート!P806,\"000-0000\"))","v":""},{"$f":"IF(入力シート!G806=\"\",\"\",入力シート!G806)","v":""},{"$f":"IF(入力シート!H806=\"\",\"\",入力シート!H806)","v":""},{"$f":"IF(入力シート!I806=\"\",\"\",入力シート!I806)","v":""},{"$f":"IF(入力シート!J806=\"\",\"\",入力シート!J806)","v":""},{"$f":"IF(入力シート!K806=\"\",\"\",入力シート!K806)","v":""},{"$f":"IF(入力シート!L806=\"\",\"\",入力シート!L806)","v":""},{"$f":"IF(入力シート!M806=\"\",\"\",入力シート!M806)","v":""},{"$f":"IF(入力シート!N806=\"\",\"\",入力シート!N806)","v":""},{"$f":"IF(入力シート!O806=\"\",\"\",入力シート!Q806)","v":""}]
[{"$f":"IF(入力シート!A807=\"\",\"\",入力シート!A807)","v":""},{"$f":"IF(入力シート!B807=\"\",\"\",入力シート!B807)","v":""},{"$f":"IF(入力シート!C807=\"\",\"\",入力シート!C807)","v":""},{"$f":"IF(入力シート!D807=\"\",\"\",TEXT(入力シート!D807,\"yyyy-mm-dd\"))","v":""},{"$f":"IF(入力シート!P807=\"\",\"\",TEXT(入力シート!P807,\"000-0000\"))","v":""},{"$f":"IF(入力シート!G807=\"\",\"\",入力シート!G807)","v":""},{"$f":"IF(入力シート!H807=\"\",\"\",入力シート!H807)","v":""},{"$f":"IF(入力シート!I807=\"\",\"\",入力シート!I807)","v":""},{"$f":"IF(入力シート!J807=\"\",\"\",入力シート!J807)","v":""},{"$f":"IF(入力シート!K807=\"\",\"\",入力シート!K807)","v":""},{"$f":"IF(入力シート!L807=\"\",\"\",入力シート!L807)","v":""},{"$f":"IF(入力シート!M807=\"\",\"\",入力シート!M807)","v":""},{"$f":"IF(入力シート!N807=\"\",\"\",入力シート!N807)","v":""},{"$f":"IF(入力シート!O807=\"\",\"\",入力シート!Q807)","v":""}]
[{"$f":"IF(入力シート!A808=\"\",\"\",入力シート!A808)","v":""},{"$f":"IF(入力シート!B808=\"\",\"\",入力シート!B808)","v":""},{"$f":"IF(入力シート!C808=\"\",\"\",入力シート!C808)","v":""},{"$f":"IF(入力シート!D808=\"\",\"\",TEXT(入力シート!D808,\"yyyy-mm-dd\"))","v":""},{"$f":"IF(入力シート!P808=\"\",\"\",TEXT(入力シート!P808,\"000-0000\"))","v":""},{"$f":"IF(入力シート!G808=\"\",\"\",入力シート!G808)","v":""},{"$f":"IF(入力シート!H808=\"\",\"\",入力シート!H808)","v":""},{"$f":"IF(入力シート!I808=\"\",\"\",入力シート!I808)","v":""},{"$f":"IF(入力シート!J808=\"\",\"\",入力シート!J808)","v":""},{"$f":"IF(入力シート!K808=\"\",\"\",入力シート!K808)","v":""},{"$f":"IF(入力シート!L808=\"\",\"\",入力シート!L808)","v":""},{"$f":"IF(入力シート!M808=\"\",\"\",入力シート!M808)","v":""},{"$f":"IF(入力シート!N808=\"\",\"\",入力シート!N808)","v":""},{"$f":"IF(入力シート!O808=\"\",\"\",入力シート!Q808)","v":""}]
[{"$f":"IF(入力シート!A809=\"\",\"\",入力シート!A809)","v":""},{"$f":"IF(入力シート!B809=\"\",\"\",入力シート!B809)","v":""},{"$f":"IF(入力シート!C809=\"\",\"\",入力シート!C809)","v":""},{"$f":"IF(入力シート!D809=\"\",\"\",TEXT(入力シート!D809,\"yyyy-mm-dd\"))","v":""},{"$f":"IF(入力シート!P809=\"\",\"\",TEXT(入力シート!P809,\"000-0000\"))","v":""},{"$f":"IF(入力シート!G809=\"\",\"\",入力シート!G809)","v":""},{"$f":"IF(入力シート!H809=\"\",\"\",入力シート!H809)","v":""},{"$f":"IF(入力シート!I809=\"\",\"\",入力シート!I809)","v":""},{"$f":"IF(入力シート!J809=\"\",\"\",入力シート!J809)","v":""},{"$f":"IF(入力シート!K809=\"\",\"\",入力シート!K809)","v":""},{"$f":"IF(入力シート!L809=\"\",\"\",入力シート!L809)","v":""},{"$f":"IF(入力シート!M809=\"\",\"\",入力シート!M809)","v":""},{"$f":"IF(入力シート!N809=\"\",\"\",入力シート!N809)","v":""},{"$f":"IF(入力シート!O809=\"\",\"\",入力シート!Q809)","v":""}]
[{"$f":"IF(入力シート!A810=\"\",\"\",入力シート!A810)","v":""},{"$f":"IF(入力シート!B810=\"\",\"\",入力シート!B810)","v":""},{"$f":"IF(入力シート!C810=\"\",\"\",入力シート!C810)","v":""},{"$f":"IF(入力シート!D810=\"\",\"\",TEXT(入力シート!D810,\"yyyy-mm-dd\"))","v":""},{"$f":"IF(入力シート!P810=\"\",\"\",TEXT(入力シート!P810,\"000-0000\"))","v":""},{"$f":"IF(入力シート!G810=\"\",\"\",入力シート!G810)","v":""},{"$f":"IF(入力シート!H810=\"\",\"\",入力シート!H810)","v":""},{"$f":"IF(入力シート!I810=\"\",\"\",入力シート!I810)","v":""},{"$f":"IF(入力シート!J810=\"\",\"\",入力シート!J810)","v":""},{"$f":"IF(入力シート!K810=\"\",\"\",入力シート!K810)","v":""},{"$f":"IF(入力シート!L810=\"\",\"\",入力シート!L810)","v":""},{"$f":"IF(入力シート!M810=\"\",\"\",入力シート!M810)","v":""},{"$f":"IF(入力シート!N810=\"\",\"\",入力シート!N810)","v":""},{"$f":"IF(入力シート!O810=\"\",\"\",入力シート!Q810)","v":""}]
[{"$f":"IF(入力シート!A811=\"\",\"\",入力シート!A811)","v":""},{"$f":"IF(入力シート!B811=\"\",\"\",入力シート!B811)","v":""},{"$f":"IF(入力シート!C811=\"\",\"\",入力シート!C811)","v":""},{"$f":"IF(入力シート!D811=\"\",\"\",TEXT(入力シート!D811,\"yyyy-mm-dd\"))","v":""},{"$f":"IF(入力シート!P811=\"\",\"\",TEXT(入力シート!P811,\"000-0000\"))","v":""},{"$f":"IF(入力シート!G811=\"\",\"\",入力シート!G811)","v":""},{"$f":"IF(入力シート!H811=\"\",\"\",入力シート!H811)","v":""},{"$f":"IF(入力シート!I811=\"\",\"\",入力シート!I811)","v":""},{"$f":"IF(入力シート!J811=\"\",\"\",入力シート!J811)","v":""},{"$f":"IF(入力シート!K811=\"\",\"\",入力シート!K811)","v":""},{"$f":"IF(入力シート!L811=\"\",\"\",入力シート!L811)","v":""},{"$f":"IF(入力シート!M811=\"\",\"\",入力シート!M811)","v":""},{"$f":"IF(入力シート!N811=\"\",\"\",入力シート!N811)","v":""},{"$f":"IF(入力シート!O811=\"\",\"\",入力シート!Q811)","v":""}]
[{"$f":"IF(入力シート!A812=\"\",\"\",入力シート!A812)","v":""},{"$f":"IF(入力シート!B812=\"\",\"\",入力シート!B812)","v":""},{"$f":"IF(入力シート!C812=\"\",\"\",入力シート!C812)","v":""},{"$f":"IF(入力シート!D812=\"\",\"\",TEXT(入力シート!D812,\"yyyy-mm-dd\"))","v":""},{"$f":"IF(入力シート!P812=\"\",\"\",TEXT(入力シート!P812,\"000-0000\"))","v":""},{"$f":"IF(入力シート!G812=\"\",\"\",入力シート!G812)","v":""},{"$f":"IF(入力シート!H812=\"\",\"\",入力シート!H812)","v":""},{"$f":"IF(入力シート!I812=\"\",\"\",入力シート!I812)","v":""},{"$f":"IF(入力シート!J812=\"\",\"\",入力シート!J812)","v":""},{"$f":"IF(入力シート!K812=\"\",\"\",入力シート!K812)","v":""},{"$f":"IF(入力シート!L812=\"\",\"\",入力シート!L812)","v":""},{"$f":"IF(入力シート!M812=\"\",\"\",入力シート!M812)","v":""},{"$f":"IF(入力シート!N812=\"\",\"\",入力シート!N812)","v":""},{"$f":"IF(入力シート!O812=\"\",\"\",入力シート!Q812)","v":""}]
[{"$f":"IF(入力シート!A813=\"\",\"\",入力シート!A813)","v":""},{"$f":"IF(入力シート!B813=\"\",\"\",入力シート!B813)","v":""},{"$f":"IF(入力シート!C813=\"\",\"\",入力シート!C813)","v":""},{"$f":"IF(入力シート!D813=\"\",\"\",TEXT(入力シート!D813,\"yyyy-mm-dd\"))","v":""},{"$f":"IF(入力シート!P813=\"\",\"\",TEXT(入力シート!P813,\"000-0000\"))","v":""},{"$f":"IF(入力シート!G813=\"\",\"\",入力シート!G813)","v":""},{"$f":"IF(入力シート!H813=\"\",\"\",入力シート!H813)","v":""},{"$f":"IF(入力シート!I813=\"\",\"\",入力シート!I813)","v":""},{"$f":"IF(入力シート!J813=\"\",\"\",入力シート!J813)","v":""},{"$f":"IF(入力シート!K813=\"\",\"\",入力シート!K813)","v":""},{"$f":"IF(入力シート!L813=\"\",\"\",入力シート!L813)","v":""},{"$f":"IF(入力シート!M813=\"\",\"\",入力シート!M813)","v":""},{"$f":"IF(入力シート!N813=\"\",\"\",入力シート!N813)","v":""},{"$f":"IF(入力シート!O813=\"\",\"\",入力シート!Q813)","v":""}]
[{"$f":"IF(入力シート!A814=\"\",\"\",入力シート!A814)","v":""},{"$f":"IF(入力シート!B814=\"\",\"\",入力シート!B814)","v":""},{"$f":"IF(入力シート!C814=\"\",\"\",入力シート!C814)","v":""},{"$f":"IF(入力シート!D814=\"\",\"\",TEXT(入力シート!D814,\"yyyy-mm-dd\"))","v":""},{"$f":"IF(入力シート!P814=\"\",\"\",TEXT(入力シート!P814,\"000-0000\"))","v":""},{"$f":"IF(入力シート!G814=\"\",\"\",入力シート!G814)","v":""},{"$f":"IF(入力シート!H814=\"\",\"\",入力シート!H814)","v":""},{"$f":"IF(入力シート!I814=\"\",\"\",入力シート!I814)","v":""},{"$f":"IF(入力シート!J814=\"\",\"\",入力シート!J814)","v":""},{"$f":"IF(入力シート!K814=\"\",\"\",入力シート!K814)","v":""},{"$f":"IF(入力シート!L814=\"\",\"\",入力シート!L814)","v":""},{"$f":"IF(入力シート!M814=\"\",\"\",入力シート!M814)","v":""},{"$f":"IF(入力シート!N814=\"\",\"\",入力シート!N814)","v":""},{"$f":"IF(入力シート!O814=\"\",\"\",入力シート!Q814)","v":""}]
[{"$f":"IF(入力シート!A815=\"\",\"\",入力シート!A815)","v":""},{"$f":"IF(入力シート!B815=\"\",\"\",入力シート!B815)","v":""},{"$f":"IF(入力シート!C815=\"\",\"\",入力シート!C815)","v":""},{"$f":"IF(入力シート!D815=\"\",\"\",TEXT(入力シート!D815,\"yyyy-mm-dd\"))","v":""},{"$f":"IF(入力シート!P815=\"\",\"\",TEXT(入力シート!P815,\"000-0000\"))","v":""},{"$f":"IF(入力シート!G815=\"\",\"\",入力シート!G815)","v":""},{"$f":"IF(入力シート!H815=\"\",\"\",入力シート!H815)","v":""},{"$f":"IF(入力シート!I815=\"\",\"\",入力シート!I815)","v":""},{"$f":"IF(入力シート!J815=\"\",\"\",入力シート!J815)","v":""},{"$f":"IF(入力シート!K815=\"\",\"\",入力シート!K815)","v":""},{"$f":"IF(入力シート!L815=\"\",\"\",入力シート!L815)","v":""},{"$f":"IF(入力シート!M815=\"\",\"\",入力シート!M815)","v":""},{"$f":"IF(入力シート!N815=\"\",\"\",入力シート!N815)","v":""},{"$f":"IF(入力シート!O815=\"\",\"\",入力シート!Q815)","v":""}]
[{"$f":"IF(入力シート!A816=\"\",\"\",入力シート!A816)","v":""},{"$f":"IF(入力シート!B816=\"\",\"\",入力シート!B816)","v":""},{"$f":"IF(入力シート!C816=\"\",\"\",入力シート!C816)","v":""},{"$f":"IF(入力シート!D816=\"\",\"\",TEXT(入力シート!D816,\"yyyy-mm-dd\"))","v":""},{"$f":"IF(入力シート!P816=\"\",\"\",TEXT(入力シート!P816,\"000-0000\"))","v":""},{"$f":"IF(入力シート!G816=\"\",\"\",入力シート!G816)","v":""},{"$f":"IF(入力シート!H816=\"\",\"\",入力シート!H816)","v":""},{"$f":"IF(入力シート!I816=\"\",\"\",入力シート!I816)","v":""},{"$f":"IF(入力シート!J816=\"\",\"\",入力シート!J816)","v":""},{"$f":"IF(入力シート!K816=\"\",\"\",入力シート!K816)","v":""},{"$f":"IF(入力シート!L816=\"\",\"\",入力シート!L816)","v":""},{"$f":"IF(入力シート!M816=\"\",\"\",入力シート!M816)","v":""},{"$f":"IF(入力シート!N816=\"\",\"\",入力シート!N816)","v":""},{"$f":"IF(入力シート!O816=\"\",\"\",入力シート!Q816)","v":""}]
[{"$f":"IF(入力シート!A817=\"\",\"\",入力シート!A817)","v":""},{"$f":"IF(入力シート!B817=\"\",\"\",入力シート!B817)","v":""},{"$f":"IF(入力シート!C817=\"\",\"\",入力シート!C817)","v":""},{"$f":"IF(入力シート!D817=\"\",\"\",TEXT(入力シート!D817,\"yyyy-mm-dd\"))","v":""},{"$f":"IF(入力シート!P817=\"\",\"\",TEXT(入力シート!P817,\"000-0000\"))","v":""},{"$f":"IF(入力シート!G817=\"\",\"\",入力シート!G817)","v":""},{"$f":"IF(入力シート!H817=\"\",\"\",入力シート!H817)","v":""},{"$f":"IF(入力シート!I817=\"\",\"\",入力シート!I817)","v":""},{"$f":"IF(入力シート!J817=\"\",\"\",入力シート!J817)","v":""},{"$f":"IF(入力シート!K817=\"\",\"\",入力シート!K817)","v":""},{"$f":"IF(入力シート!L817=\"\",\"\",入力シート!L817)","v":""},{"$f":"IF(入力シート!M817=\"\",\"\",入力シート!M817)","v":""},{"$f":"IF(入力シート!N817=\"\",\"\",入力シート!N817)","v":""},{"$f":"IF(入力シート!O817=\"\",\"\",入力シート!Q817)","v":""}]
[{"$f":"IF(入力シート!A818=\"\",\"\",入力シート!A818)","v":""},{"$f":"IF(入力シート!B818=\"\",\"\",入力シート!B818)","v":""},{"$f":"IF(入力シート!C818=\"\",\"\",入力シート!C818)","v":""},{"$f":"IF(入力シート!D818=\"\",\"\",TEXT(入力シート!D818,\"yyyy-mm-dd\"))","v":""},{"$f":"IF(入力シート!P818=\"\",\"\",TEXT(入力シート!P818,\"000-0000\"))","v":""},{"$f":"IF(入力シート!G818=\"\",\"\",入力シート!G818)","v":""},{"$f":"IF(入力シート!H818=\"\",\"\",入力シート!H818)","v":""},{"$f":"IF(入力シート!I818=\"\",\"\",入力シート!I818)","v":""},{"$f":"IF(入力シート!J818=\"\",\"\",入力シート!J818)","v":""},{"$f":"IF(入力シート!K818=\"\",\"\",入力シート!K818)","v":""},{"$f":"IF(入力シート!L818=\"\",\"\",入力シート!L818)","v":""},{"$f":"IF(入力シート!M818=\"\",\"\",入力シート!M818)","v":""},{"$f":"IF(入力シート!N818=\"\",\"\",入力シート!N818)","v":""},{"$f":"IF(入力シート!O818=\"\",\"\",入力シート!Q818)","v":""}]
[{"$f":"IF(入力シート!A819=\"\",\"\",入力シート!A819)","v":""},{"$f":"IF(入力シート!B819=\"\",\"\",入力シート!B819)","v":""},{"$f":"IF(入力シート!C819=\"\",\"\",入力シート!C819)","v":""},{"$f":"IF(入力シート!D819=\"\",\"\",TEXT(入力シート!D819,\"yyyy-mm-dd\"))","v":""},{"$f":"IF(入力シート!P819=\"\",\"\",TEXT(入力シート!P819,\"000-0000\"))","v":""},{"$f":"IF(入力シート!G819=\"\",\"\",入力シート!G819)","v":""},{"$f":"IF(入力シート!H819=\"\",\"\",入力シート!H819)","v":""},{"$f":"IF(入力シート!I819=\"\",\"\",入力シート!I819)","v":""},{"$f":"IF(入力シート!J819=\"\",\"\",入力シート!J819)","v":""},{"$f":"IF(入力シート!K819=\"\",\"\",入力シート!K819)","v":""},{"$f":"IF(入力シート!L819=\"\",\"\",入力シート!L819)","v":""},{"$f":"IF(入力シート!M819=\"\",\"\",入力シート!M819)","v":""},{"$f":"IF(入力シート!N819=\"\",\"\",入力シート!N819)","v":""},{"$f":"IF(入力シート!O819=\"\",\"\",入力シート!Q819)","v":""}]
[{"$f":"IF(入力シート!A820=\"\",\"\",入力シート!A820)","v":""},{"$f":"IF(入力シート!B820=\"\",\"\",入力シート!B820)","v":""},{"$f":"IF(入力シート!C820=\"\",\"\",入力シート!C820)","v":""},{"$f":"IF(入力シート!D820=\"\",\"\",TEXT(入力シート!D820,\"yyyy-mm-dd\"))","v":""},{"$f":"IF(入力シート!P820=\"\",\"\",TEXT(入力シート!P820,\"000-0000\"))","v":""},{"$f":"IF(入力シート!G820=\"\",\"\",入力シート!G820)","v":""},{"$f":"IF(入力シート!H820=\"\",\"\",入力シート!H820)","v":""},{"$f":"IF(入力シート!I820=\"\",\"\",入力シート!I820)","v":""},{"$f":"IF(入力シート!J820=\"\",\"\",入力シート!J820)","v":""},{"$f":"IF(入力シート!K820=\"\",\"\",入力シート!K820)","v":""},{"$f":"IF(入力シート!L820=\"\",\"\",入力シート!L820)","v":""},{"$f":"IF(入力シート!M820=\"\",\"\",入力シート!M820)","v":""},{"$f":"IF(入力シート!N820=\"\",\"\",入力シート!N820)","v":""},{"$f":"IF(入力シート!O820=\"\",\"\",入力シート!Q820)","v":""}]
[{"$f":"IF(入力シート!A821=\"\",\"\",入力シート!A821)","v":""},{"$f":"IF(入力シート!B821=\"\",\"\",入力シート!B821)","v":""},{"$f":"IF(入力シート!C821=\"\",\"\",入力シート!C821)","v":""},{"$f":"IF(入力シート!D821=\"\",\"\",TEXT(入力シート!D821,\"yyyy-mm-dd\"))","v":""},{"$f":"IF(入力シート!P821=\"\",\"\",TEXT(入力シート!P821,\"000-0000\"))","v":""},{"$f":"IF(入力シート!G821=\"\",\"\",入力シート!G821)","v":""},{"$f":"IF(入力シート!H821=\"\",\"\",入力シート!H821)","v":""},{"$f":"IF(入力シート!I821=\"\",\"\",入力シート!I821)","v":""},{"$f":"IF(入力シート!J821=\"\",\"\",入力シート!J821)","v":""},{"$f":"IF(入力シート!K821=\"\",\"\",入力シート!K821)","v":""},{"$f":"IF(入力シート!L821=\"\",\"\",入力シート!L821)","v":""},{"$f":"IF(入力シート!M821=\"\",\"\",入力シート!M821)","v":""},{"$f":"IF(入力シート!N821=\"\",\"\",入力シート!N821)","v":""},{"$f":"IF(入力シート!O821=\"\",\"\",入力シート!Q821)","v":""}]
[{"$f":"IF(入力シート!A822=\"\",\"\",入力シート!A822)","v":""},{"$f":"IF(入力シート!B822=\"\",\"\",入力シート!B822)","v":""},{"$f":"IF(入力シート!C822=\"\",\"\",入力シート!C822)","v":""},{"$f":"IF(入力シート!D822=\"\",\"\",TEXT(入力シート!D822,\"yyyy-mm-dd\"))","v":""},{"$f":"IF(入力シート!P822=\"\",\"\",TEXT(入力シート!P822,\"000-0000\"))","v":""},{"$f":"IF(入力シート!G822=\"\",\"\",入力シート!G822)","v":""},{"$f":"IF(入力シート!H822=\"\",\"\",入力シート!H822)","v":""},{"$f":"IF(入力シート!I822=\"\",\"\",入力シート!I822)","v":""},{"$f":"IF(入力シート!J822=\"\",\"\",入力シート!J822)","v":""},{"$f":"IF(入力シート!K822=\"\",\"\",入力シート!K822)","v":""},{"$f":"IF(入力シート!L822=\"\",\"\",入力シート!L822)","v":""},{"$f":"IF(入力シート!M822=\"\",\"\",入力シート!M822)","v":""},{"$f":"IF(入力シート!N822=\"\",\"\",入力シート!N822)","v":""},{"$f":"IF(入力シート!O822=\"\",\"\",入力シート!Q822)","v":""}]
[{"$f":"IF(入力シート!A823=\"\",\"\",入力シート!A823)","v":""},{"$f":"IF(入力シート!B823=\"\",\"\",入力シート!B823)","v":""},{"$f":"IF(入力シート!C823=\"\",\"\",入力シート!C823)","v":""},{"$f":"IF(入力シート!D823=\"\",\"\",TEXT(入力シート!D823,\"yyyy-mm-dd\"))","v":""},{"$f":"IF(入力シート!P823=\"\",\"\",TEXT(入力シート!P823,\"000-0000\"))","v":""},{"$f":"IF(入力シート!G823=\"\",\"\",入力シート!G823)","v":""},{"$f":"IF(入力シート!H823=\"\",\"\",入力シート!H823)","v":""},{"$f":"IF(入力シート!I823=\"\",\"\",入力シート!I823)","v":""},{"$f":"IF(入力シート!J823=\"\",\"\",入力シート!J823)","v":""},{"$f":"IF(入力シート!K823=\"\",\"\",入力シート!K823)","v":""},{"$f":"IF(入力シート!L823=\"\",\"\",入力シート!L823)","v":""},{"$f":"IF(入力シート!M823=\"\",\"\",入力シート!M823)","v":""},{"$f":"IF(入力シート!N823=\"\",\"\",入力シート!N823)","v":""},{"$f":"IF(入力シート!O823=\"\",\"\",入力シート!Q823)","v":""}]
[{"$f":"IF(入力シート!A824=\"\",\"\",入力シート!A824)","v":""},{"$f":"IF(入力シート!B824=\"\",\"\",入力シート!B824)","v":""},{"$f":"IF(入力シート!C824=\"\",\"\",入力シート!C824)","v":""},{"$f":"IF(入力シート!D824=\"\",\"\",TEXT(入力シート!D824,\"yyyy-mm-dd\"))","v":""},{"$f":"IF(入力シート!P824=\"\",\"\",TEXT(入力シート!P824,\"000-0000\"))","v":""},{"$f":"IF(入力シート!G824=\"\",\"\",入力シート!G824)","v":""},{"$f":"IF(入力シート!H824=\"\",\"\",入力シート!H824)","v":""},{"$f":"IF(入力シート!I824=\"\",\"\",入力シート!I824)","v":""},{"$f":"IF(入力シート!J824=\"\",\"\",入力シート!J824)","v":""},{"$f":"IF(入力シート!K824=\"\",\"\",入力シート!K824)","v":""},{"$f":"IF(入力シート!L824=\"\",\"\",入力シート!L824)","v":""},{"$f":"IF(入力シート!M824=\"\",\"\",入力シート!M824)","v":""},{"$f":"IF(入力シート!N824=\"\",\"\",入力シート!N824)","v":""},{"$f":"IF(入力シート!O824=\"\",\"\",入力シート!Q824)","v":""}]
[{"$f":"IF(入力シート!A825=\"\",\"\",入力シート!A825)","v":""},{"$f":"IF(入力シート!B825=\"\",\"\",入力シート!B825)","v":""},{"$f":"IF(入力シート!C825=\"\",\"\",入力シート!C825)","v":""},{"$f":"IF(入力シート!D825=\"\",\"\",TEXT(入力シート!D825,\"yyyy-mm-dd\"))","v":""},{"$f":"IF(入力シート!P825=\"\",\"\",TEXT(入力シート!P825,\"000-0000\"))","v":""},{"$f":"IF(入力シート!G825=\"\",\"\",入力シート!G825)","v":""},{"$f":"IF(入力シート!H825=\"\",\"\",入力シート!H825)","v":""},{"$f":"IF(入力シート!I825=\"\",\"\",入力シート!I825)","v":""},{"$f":"IF(入力シート!J825=\"\",\"\",入力シート!J825)","v":""},{"$f":"IF(入力シート!K825=\"\",\"\",入力シート!K825)","v":""},{"$f":"IF(入力シート!L825=\"\",\"\",入力シート!L825)","v":""},{"$f":"IF(入力シート!M825=\"\",\"\",入力シート!M825)","v":""},{"$f":"IF(入力シート!N825=\"\",\"\",入力シート!N825)","v":""},{"$f":"IF(入力シート!O825=\"\",\"\",入力シート!Q825)","v":""}]
[{"$f":"IF(入力シート!A826=\"\",\"\",入力シート!A826)","v":""},{"$f":"IF(入力シート!B826=\"\",\"\",入力シート!B826)","v":""},{"$f":"IF(入力シート!C826=\"\",\"\",入力シート!C826)","v":""},{"$f":"IF(入力シート!D826=\"\",\"\",TEXT(入力シート!D826,\"yyyy-mm-dd\"))","v":""},{"$f":"IF(入力シート!P826=\"\",\"\",TEXT(入力シート!P826,\"000-0000\"))","v":""},{"$f":"IF(入力シート!G826=\"\",\"\",入力シート!G826)","v":""},{"$f":"IF(入力シート!H826=\"\",\"\",入力シート!H826)","v":""},{"$f":"IF(入力シート!I826=\"\",\"\",入力シート!I826)","v":""},{"$f":"IF(入力シート!J826=\"\",\"\",入力シート!J826)","v":""},{"$f":"IF(入力シート!K826=\"\",\"\",入力シート!K826)","v":""},{"$f":"IF(入力シート!L826=\"\",\"\",入力シート!L826)","v":""},{"$f":"IF(入力シート!M826=\"\",\"\",入力シート!M826)","v":""},{"$f":"IF(入力シート!N826=\"\",\"\",入力シート!N826)","v":""},{"$f":"IF(入力シート!O826=\"\",\"\",入力シート!Q826)","v":""}]
[{"$f":"IF(入力シート!A827=\"\",\"\",入力シート!A827)","v":""},{"$f":"IF(入力シート!B827=\"\",\"\",入力シート!B827)","v":""},{"$f":"IF(入力シート!C827=\"\",\"\",入力シート!C827)","v":""},{"$f":"IF(入力シート!D827=\"\",\"\",TEXT(入力シート!D827,\"yyyy-mm-dd\"))","v":""},{"$f":"IF(入力シート!P827=\"\",\"\",TEXT(入力シート!P827,\"000-0000\"))","v":""},{"$f":"IF(入力シート!G827=\"\",\"\",入力シート!G827)","v":""},{"$f":"IF(入力シート!H827=\"\",\"\",入力シート!H827)","v":""},{"$f":"IF(入力シート!I827=\"\",\"\",入力シート!I827)","v":""},{"$f":"IF(入力シート!J827=\"\",\"\",入力シート!J827)","v":""},{"$f":"IF(入力シート!K827=\"\",\"\",入力シート!K827)","v":""},{"$f":"IF(入力シート!L827=\"\",\"\",入力シート!L827)","v":""},{"$f":"IF(入力シート!M827=\"\",\"\",入力シート!M827)","v":""},{"$f":"IF(入力シート!N827=\"\",\"\",入力シート!N827)","v":""},{"$f":"IF(入力シート!O827=\"\",\"\",入力シート!Q827)","v":""}]
[{"$f":"IF(入力シート!A828=\"\",\"\",入力シート!A828)","v":""},{"$f":"IF(入力シート!B828=\"\",\"\",入力シート!B828)","v":""},{"$f":"IF(入力シート!C828=\"\",\"\",入力シート!C828)","v":""},{"$f":"IF(入力シート!D828=\"\",\"\",TEXT(入力シート!D828,\"yyyy-mm-dd\"))","v":""},{"$f":"IF(入力シート!P828=\"\",\"\",TEXT(入力シート!P828,\"000-0000\"))","v":""},{"$f":"IF(入力シート!G828=\"\",\"\",入力シート!G828)","v":""},{"$f":"IF(入力シート!H828=\"\",\"\",入力シート!H828)","v":""},{"$f":"IF(入力シート!I828=\"\",\"\",入力シート!I828)","v":""},{"$f":"IF(入力シート!J828=\"\",\"\",入力シート!J828)","v":""},{"$f":"IF(入力シート!K828=\"\",\"\",入力シート!K828)","v":""},{"$f":"IF(入力シート!L828=\"\",\"\",入力シート!L828)","v":""},{"$f":"IF(入力シート!M828=\"\",\"\",入力シート!M828)","v":""},{"$f":"IF(入力シート!N828=\"\",\"\",入力シート!N828)","v":""},{"$f":"IF(入力シート!O828=\"\",\"\",入力シート!Q828)","v":""}]
[{"$f":"IF(入力シート!A829=\"\",\"\",入力シート!A829)","v":""},{"$f":"IF(入力シート!B829=\"\",\"\",入力シート!B829)","v":""},{"$f":"IF(入力シート!C829=\"\",\"\",入力シート!C829)","v":""},{"$f":"IF(入力シート!D829=\"\",\"\",TEXT(入力シート!D829,\"yyyy-mm-dd\"))","v":""},{"$f":"IF(入力シート!P829=\"\",\"\",TEXT(入力シート!P829,\"000-0000\"))","v":""},{"$f":"IF(入力シート!G829=\"\",\"\",入力シート!G829)","v":""},{"$f":"IF(入力シート!H829=\"\",\"\",入力シート!H829)","v":""},{"$f":"IF(入力シート!I829=\"\",\"\",入力シート!I829)","v":""},{"$f":"IF(入力シート!J829=\"\",\"\",入力シート!J829)","v":""},{"$f":"IF(入力シート!K829=\"\",\"\",入力シート!K829)","v":""},{"$f":"IF(入力シート!L829=\"\",\"\",入力シート!L829)","v":""},{"$f":"IF(入力シート!M829=\"\",\"\",入力シート!M829)","v":""},{"$f":"IF(入力シート!N829=\"\",\"\",入力シート!N829)","v":""},{"$f":"IF(入力シート!O829=\"\",\"\",入力シート!Q829)","v":""}]
[{"$f":"IF(入力シート!A830=\"\",\"\",入力シート!A830)","v":""},{"$f":"IF(入力シート!B830=\"\",\"\",入力シート!B830)","v":""},{"$f":"IF(入力シート!C830=\"\",\"\",入力シート!C830)","v":""},{"$f":"IF(入力シート!D830=\"\",\"\",TEXT(入力シート!D830,\"yyyy-mm-dd\"))","v":""},{"$f":"IF(入力シート!P830=\"\",\"\",TEXT(入力シート!P830,\"000-0000\"))","v":""},{"$f":"IF(入力シート!G830=\"\",\"\",入力シート!G830)","v":""},{"$f":"IF(入力シート!H830=\"\",\"\",入力シート!H830)","v":""},{"$f":"IF(入力シート!I830=\"\",\"\",入力シート!I830)","v":""},{"$f":"IF(入力シート!J830=\"\",\"\",入力シート!J830)","v":""},{"$f":"IF(入力シート!K830=\"\",\"\",入力シート!K830)","v":""},{"$f":"IF(入力シート!L830=\"\",\"\",入力シート!L830)","v":""},{"$f":"IF(入力シート!M830=\"\",\"\",入力シート!M830)","v":""},{"$f":"IF(入力シート!N830=\"\",\"\",入力シート!N830)","v":""},{"$f":"IF(入力シート!O830=\"\",\"\",入力シート!Q830)","v":""}]
[{"$f":"IF(入力シート!A831=\"\",\"\",入力シート!A831)","v":""},{"$f":"IF(入力シート!B831=\"\",\"\",入力シート!B831)","v":""},{"$f":"IF(入力シート!C831=\"\",\"\",入力シート!C831)","v":""},{"$f":"IF(入力シート!D831=\"\",\"\",TEXT(入力シート!D831,\"yyyy-mm-dd\"))","v":""},{"$f":"IF(入力シート!P831=\"\",\"\",TEXT(入力シート!P831,\"000-0000\"))","v":""},{"$f":"IF(入力シート!G831=\"\",\"\",入力シート!G831)","v":""},{"$f":"IF(入力シート!H831=\"\",\"\",入力シート!H831)","v":""},{"$f":"IF(入力シート!I831=\"\",\"\",入力シート!I831)","v":""},{"$f":"IF(入力シート!J831=\"\",\"\",入力シート!J831)","v":""},{"$f":"IF(入力シート!K831=\"\",\"\",入力シート!K831)","v":""},{"$f":"IF(入力シート!L831=\"\",\"\",入力シート!L831)","v":""},{"$f":"IF(入力シート!M831=\"\",\"\",入力シート!M831)","v":""},{"$f":"IF(入力シート!N831=\"\",\"\",入力シート!N831)","v":""},{"$f":"IF(入力シート!O831=\"\",\"\",入力シート!Q831)","v":""}]
[{"$f":"IF(入力シート!A832=\"\",\"\",入力シート!A832)","v":""},{"$f":"IF(入力シート!B832=\"\",\"\",入力シート!B832)","v":""},{"$f":"IF(入力シート!C832=\"\",\"\",入力シート!C832)","v":""},{"$f":"IF(入力シート!D832=\"\",\"\",TEXT(入力シート!D832,\"yyyy-mm-dd\"))","v":""},{"$f":"IF(入力シート!P832=\"\",\"\",TEXT(入力シート!P832,\"000-0000\"))","v":""},{"$f":"IF(入力シート!G832=\"\",\"\",入力シート!G832)","v":""},{"$f":"IF(入力シート!H832=\"\",\"\",入力シート!H832)","v":""},{"$f":"IF(入力シート!I832=\"\",\"\",入力シート!I832)","v":""},{"$f":"IF(入力シート!J832=\"\",\"\",入力シート!J832)","v":""},{"$f":"IF(入力シート!K832=\"\",\"\",入力シート!K832)","v":""},{"$f":"IF(入力シート!L832=\"\",\"\",入力シート!L832)","v":""},{"$f":"IF(入力シート!M832=\"\",\"\",入力シート!M832)","v":""},{"$f":"IF(入力シート!N832=\"\",\"\",入力シート!N832)","v":""},{"$f":"IF(入力シート!O832=\"\",\"\",入力シート!Q832)","v":""}]
[{"$f":"IF(入力シート!A833=\"\",\"\",入力シート!A833)","v":""},{"$f":"IF(入力シート!B833=\"\",\"\",入力シート!B833)","v":""},{"$f":"IF(入力シート!C833=\"\",\"\",入力シート!C833)","v":""},{"$f":"IF(入力シート!D833=\"\",\"\",TEXT(入力シート!D833,\"yyyy-mm-dd\"))","v":""},{"$f":"IF(入力シート!P833=\"\",\"\",TEXT(入力シート!P833,\"000-0000\"))","v":""},{"$f":"IF(入力シート!G833=\"\",\"\",入力シート!G833)","v":""},{"$f":"IF(入力シート!H833=\"\",\"\",入力シート!H833)","v":""},{"$f":"IF(入力シート!I833=\"\",\"\",入力シート!I833)","v":""},{"$f":"IF(入力シート!J833=\"\",\"\",入力シート!J833)","v":""},{"$f":"IF(入力シート!K833=\"\",\"\",入力シート!K833)","v":""},{"$f":"IF(入力シート!L833=\"\",\"\",入力シート!L833)","v":""},{"$f":"IF(入力シート!M833=\"\",\"\",入力シート!M833)","v":""},{"$f":"IF(入力シート!N833=\"\",\"\",入力シート!N833)","v":""},{"$f":"IF(入力シート!O833=\"\",\"\",入力シート!Q833)","v":""}]
[{"$f":"IF(入力シート!A834=\"\",\"\",入力シート!A834)","v":""},{"$f":"IF(入力シート!B834=\"\",\"\",入力シート!B834)","v":""},{"$f":"IF(入力シート!C834=\"\",\"\",入力シート!C834)","v":""},{"$f":"IF(入力シート!D834=\"\",\"\",TEXT(入力シート!D834,\"yyyy-mm-dd\"))","v":""},{"$f":"IF(入力シート!P834=\"\",\"\",TEXT(入力シート!P834,\"000-0000\"))","v":""},{"$f":"IF(入力シート!G834=\"\",\"\",入力シート!G834)","v":""},{"$f":"IF(入力シート!H834=\"\",\"\",入力シート!H834)","v":""},{"$f":"IF(入力シート!I834=\"\",\"\",入力シート!I834)","v":""},{"$f":"IF(入力シート!J834=\"\",\"\",入力シート!J834)","v":""},{"$f":"IF(入力シート!K834=\"\",\"\",入力シート!K834)","v":""},{"$f":"IF(入力シート!L834=\"\",\"\",入力シート!L834)","v":""},{"$f":"IF(入力シート!M834=\"\",\"\",入力シート!M834)","v":""},{"$f":"IF(入力シート!N834=\"\",\"\",入力シート!N834)","v":""},{"$f":"IF(入力シート!O834=\"\",\"\",入力シート!Q834)","v":""}]
[{"$f":"IF(入力シート!A835=\"\",\"\",入力シート!A835)","v":""},{"$f":"IF(入力シート!B835=\"\",\"\",入力シート!B835)","v":""},{"$f":"IF(入力シート!C835=\"\",\"\",入力シート!C835)","v":""},{"$f":"IF(入力シート!D835=\"\",\"\",TEXT(入力シート!D835,\"yyyy-mm-dd\"))","v":""},{"$f":"IF(入力シート!P835=\"\",\"\",TEXT(入力シート!P835,\"000-0000\"))","v":""},{"$f":"IF(入力シート!G835=\"\",\"\",入力シート!G835)","v":""},{"$f":"IF(入力シート!H835=\"\",\"\",入力シート!H835)","v":""},{"$f":"IF(入力シート!I835=\"\",\"\",入力シート!I835)","v":""},{"$f":"IF(入力シート!J835=\"\",\"\",入力シート!J835)","v":""},{"$f":"IF(入力シート!K835=\"\",\"\",入力シート!K835)","v":""},{"$f":"IF(入力シート!L835=\"\",\"\",入力シート!L835)","v":""},{"$f":"IF(入力シート!M835=\"\",\"\",入力シート!M835)","v":""},{"$f":"IF(入力シート!N835=\"\",\"\",入力シート!N835)","v":""},{"$f":"IF(入力シート!O835=\"\",\"\",入力シート!Q835)","v":""}]
[{"$f":"IF(入力シート!A836=\"\",\"\",入力シート!A836)","v":""},{"$f":"IF(入力シート!B836=\"\",\"\",入力シート!B836)","v":""},{"$f":"IF(入力シート!C836=\"\",\"\",入力シート!C836)","v":""},{"$f":"IF(入力シート!D836=\"\",\"\",TEXT(入力シート!D836,\"yyyy-mm-dd\"))","v":""},{"$f":"IF(入力シート!P836=\"\",\"\",TEXT(入力シート!P836,\"000-0000\"))","v":""},{"$f":"IF(入力シート!G836=\"\",\"\",入力シート!G836)","v":""},{"$f":"IF(入力シート!H836=\"\",\"\",入力シート!H836)","v":""},{"$f":"IF(入力シート!I836=\"\",\"\",入力シート!I836)","v":""},{"$f":"IF(入力シート!J836=\"\",\"\",入力シート!J836)","v":""},{"$f":"IF(入力シート!K836=\"\",\"\",入力シート!K836)","v":""},{"$f":"IF(入力シート!L836=\"\",\"\",入力シート!L836)","v":""},{"$f":"IF(入力シート!M836=\"\",\"\",入力シート!M836)","v":""},{"$f":"IF(入力シート!N836=\"\",\"\",入力シート!N836)","v":""},{"$f":"IF(入力シート!O836=\"\",\"\",入力シート!Q836)","v":""}]
[{"$f":"IF(入力シート!A837=\"\",\"\",入力シート!A837)","v":""},{"$f":"IF(入力シート!B837=\"\",\"\",入力シート!B837)","v":""},{"$f":"IF(入力シート!C837=\"\",\"\",入力シート!C837)","v":""},{"$f":"IF(入力シート!D837=\"\",\"\",TEXT(入力シート!D837,\"yyyy-mm-dd\"))","v":""},{"$f":"IF(入力シート!P837=\"\",\"\",TEXT(入力シート!P837,\"000-0000\"))","v":""},{"$f":"IF(入力シート!G837=\"\",\"\",入力シート!G837)","v":""},{"$f":"IF(入力シート!H837=\"\",\"\",入力シート!H837)","v":""},{"$f":"IF(入力シート!I837=\"\",\"\",入力シート!I837)","v":""},{"$f":"IF(入力シート!J837=\"\",\"\",入力シート!J837)","v":""},{"$f":"IF(入力シート!K837=\"\",\"\",入力シート!K837)","v":""},{"$f":"IF(入力シート!L837=\"\",\"\",入力シート!L837)","v":""},{"$f":"IF(入力シート!M837=\"\",\"\",入力シート!M837)","v":""},{"$f":"IF(入力シート!N837=\"\",\"\",入力シート!N837)","v":""},{"$f":"IF(入力シート!O837=\"\",\"\",入力シート!Q837)","v":""}]
[{"$f":"IF(入力シート!A838=\"\",\"\",入力シート!A838)","v":""},{"$f":"IF(入力シート!B838=\"\",\"\",入力シート!B838)","v":""},{"$f":"IF(入力シート!C838=\"\",\"\",入力シート!C838)","v":""},{"$f":"IF(入力シート!D838=\"\",\"\",TEXT(入力シート!D838,\"yyyy-mm-dd\"))","v":""},{"$f":"IF(入力シート!P838=\"\",\"\",TEXT(入力シート!P838,\"000-0000\"))","v":""},{"$f":"IF(入力シート!G838=\"\",\"\",入力シート!G838)","v":""},{"$f":"IF(入力シート!H838=\"\",\"\",入力シート!H838)","v":""},{"$f":"IF(入力シート!I838=\"\",\"\",入力シート!I838)","v":""},{"$f":"IF(入力シート!J838=\"\",\"\",入力シート!J838)","v":""},{"$f":"IF(入力シート!K838=\"\",\"\",入力シート!K838)","v":""},{"$f":"IF(入力シート!L838=\"\",\"\",入力シート!L838)","v":""},{"$f":"IF(入力シート!M838=\"\",\"\",入力シート!M838)","v":""},{"$f":"IF(入力シート!N838=\"\",\"\",入力シート!N838)","v":""},{"$f":"IF(入力シート!O838=\"\",\"\",入力シート!Q838)","v":""}]
[{"$f":"IF(入力シート!A839=\"\",\"\",入力シート!A839)","v":""},{"$f":"IF(入力シート!B839=\"\",\"\",入力シート!B839)","v":""},{"$f":"IF(入力シート!C839=\"\",\"\",入力シート!C839)","v":""},{"$f":"IF(入力シート!D839=\"\",\"\",TEXT(入力シート!D839,\"yyyy-mm-dd\"))","v":""},{"$f":"IF(入力シート!P839=\"\",\"\",TEXT(入力シート!P839,\"000-0000\"))","v":""},{"$f":"IF(入力シート!G839=\"\",\"\",入力シート!G839)","v":""},{"$f":"IF(入力シート!H839=\"\",\"\",入力シート!H839)","v":""},{"$f":"IF(入力シート!I839=\"\",\"\",入力シート!I839)","v":""},{"$f":"IF(入力シート!J839=\"\",\"\",入力シート!J839)","v":""},{"$f":"IF(入力シート!K839=\"\",\"\",入力シート!K839)","v":""},{"$f":"IF(入力シート!L839=\"\",\"\",入力シート!L839)","v":""},{"$f":"IF(入力シート!M839=\"\",\"\",入力シート!M839)","v":""},{"$f":"IF(入力シート!N839=\"\",\"\",入力シート!N839)","v":""},{"$f":"IF(入力シート!O839=\"\",\"\",入力シート!Q839)","v":""}]
[{"$f":"IF(入力シート!A840=\"\",\"\",入力シート!A840)","v":""},{"$f":"IF(入力シート!B840=\"\",\"\",入力シート!B840)","v":""},{"$f":"IF(入力シート!C840=\"\",\"\",入力シート!C840)","v":""},{"$f":"IF(入力シート!D840=\"\",\"\",TEXT(入力シート!D840,\"yyyy-mm-dd\"))","v":""},{"$f":"IF(入力シート!P840=\"\",\"\",TEXT(入力シート!P840,\"000-0000\"))","v":""},{"$f":"IF(入力シート!G840=\"\",\"\",入力シート!G840)","v":""},{"$f":"IF(入力シート!H840=\"\",\"\",入力シート!H840)","v":""},{"$f":"IF(入力シート!I840=\"\",\"\",入力シート!I840)","v":""},{"$f":"IF(入力シート!J840=\"\",\"\",入力シート!J840)","v":""},{"$f":"IF(入力シート!K840=\"\",\"\",入力シート!K840)","v":""},{"$f":"IF(入力シート!L840=\"\",\"\",入力シート!L840)","v":""},{"$f":"IF(入力シート!M840=\"\",\"\",入力シート!M840)","v":""},{"$f":"IF(入力シート!N840=\"\",\"\",入力シート!N840)","v":""},{"$f":"IF(入力シート!O840=\"\",\"\",入力シート!Q840)","v":""}]
[{"$f":"IF(入力シート!A841=\"\",\"\",入力シート!A841)","v":""},{"$f":"IF(入力シート!B841=\"\",\"\",入力シート!B841)","v":""},{"$f":"IF(入力シート!C841=\"\",\"\",入力シート!C841)","v":""},{"$f":"IF(入力シート!D841=\"\",\"\",TEXT(入力シート!D841,\"yyyy-mm-dd\"))","v":""},{"$f":"IF(入力シート!P841=\"\",\"\",TEXT(入力シート!P841,\"000-0000\"))","v":""},{"$f":"IF(入力シート!G841=\"\",\"\",入力シート!G841)","v":""},{"$f":"IF(入力シート!H841=\"\",\"\",入力シート!H841)","v":""},{"$f":"IF(入力シート!I841=\"\",\"\",入力シート!I841)","v":""},{"$f":"IF(入力シート!J841=\"\",\"\",入力シート!J841)","v":""},{"$f":"IF(入力シート!K841=\"\",\"\",入力シート!K841)","v":""},{"$f":"IF(入力シート!L841=\"\",\"\",入力シート!L841)","v":""},{"$f":"IF(入力シート!M841=\"\",\"\",入力シート!M841)","v":""},{"$f":"IF(入力シート!N841=\"\",\"\",入力シート!N841)","v":""},{"$f":"IF(入力シート!O841=\"\",\"\",入力シート!Q841)","v":""}]
[{"$f":"IF(入力シート!A842=\"\",\"\",入力シート!A842)","v":""},{"$f":"IF(入力シート!B842=\"\",\"\",入力シート!B842)","v":""},{"$f":"IF(入力シート!C842=\"\",\"\",入力シート!C842)","v":""},{"$f":"IF(入力シート!D842=\"\",\"\",TEXT(入力シート!D842,\"yyyy-mm-dd\"))","v":""},{"$f":"IF(入力シート!P842=\"\",\"\",TEXT(入力シート!P842,\"000-0000\"))","v":""},{"$f":"IF(入力シート!G842=\"\",\"\",入力シート!G842)","v":""},{"$f":"IF(入力シート!H842=\"\",\"\",入力シート!H842)","v":""},{"$f":"IF(入力シート!I842=\"\",\"\",入力シート!I842)","v":""},{"$f":"IF(入力シート!J842=\"\",\"\",入力シート!J842)","v":""},{"$f":"IF(入力シート!K842=\"\",\"\",入力シート!K842)","v":""},{"$f":"IF(入力シート!L842=\"\",\"\",入力シート!L842)","v":""},{"$f":"IF(入力シート!M842=\"\",\"\",入力シート!M842)","v":""},{"$f":"IF(入力シート!N842=\"\",\"\",入力シート!N842)","v":""},{"$f":"IF(入力シート!O842=\"\",\"\",入力シート!Q842)","v":""}]
[{"$f":"IF(入力シート!A843=\"\",\"\",入力シート!A843)","v":""},{"$f":"IF(入力シート!B843=\"\",\"\",入力シート!B843)","v":""},{"$f":"IF(入力シート!C843=\"\",\"\",入力シート!C843)","v":""},{"$f":"IF(入力シート!D843=\"\",\"\",TEXT(入力シート!D843,\"yyyy-mm-dd\"))","v":""},{"$f":"IF(入力シート!P843=\"\",\"\",TEXT(入力シート!P843,\"000-0000\"))","v":""},{"$f":"IF(入力シート!G843=\"\",\"\",入力シート!G843)","v":""},{"$f":"IF(入力シート!H843=\"\",\"\",入力シート!H843)","v":""},{"$f":"IF(入力シート!I843=\"\",\"\",入力シート!I843)","v":""},{"$f":"IF(入力シート!J843=\"\",\"\",入力シート!J843)","v":""},{"$f":"IF(入力シート!K843=\"\",\"\",入力シート!K843)","v":""},{"$f":"IF(入力シート!L843=\"\",\"\",入力シート!L843)","v":""},{"$f":"IF(入力シート!M843=\"\",\"\",入力シート!M843)","v":""},{"$f":"IF(入力シート!N843=\"\",\"\",入力シート!N843)","v":""},{"$f":"IF(入力シート!O843=\"\",\"\",入力シート!Q843)","v":""}]
[{"$f":"IF(入力シート!A844=\"\",\"\",入力シート!A844)","v":""},{"$f":"IF(入力シート!B844=\"\",\"\",入力シート!B844)","v":""},{"$f":"IF(入力シート!C844=\"\",\"\",入力シート!C844)","v":""},{"$f":"IF(入力シート!D844=\"\",\"\",TEXT(入力シート!D844,\"yyyy-mm-dd\"))","v":""},{"$f":"IF(入力シート!P844=\"\",\"\",TEXT(入力シート!P844,\"000-0000\"))","v":""},{"$f":"IF(入力シート!G844=\"\",\"\",入力シート!G844)","v":""},{"$f":"IF(入力シート!H844=\"\",\"\",入力シート!H844)","v":""},{"$f":"IF(入力シート!I844=\"\",\"\",入力シート!I844)","v":""},{"$f":"IF(入力シート!J844=\"\",\"\",入力シート!J844)","v":""},{"$f":"IF(入力シート!K844=\"\",\"\",入力シート!K844)","v":""},{"$f":"IF(入力シート!L844=\"\",\"\",入力シート!L844)","v":""},{"$f":"IF(入力シート!M844=\"\",\"\",入力シート!M844)","v":""},{"$f":"IF(入力シート!N844=\"\",\"\",入力シート!N844)","v":""},{"$f":"IF(入力シート!O844=\"\",\"\",入力シート!Q844)","v":""}]
[{"$f":"IF(入力シート!A845=\"\",\"\",入力シート!A845)","v":""},{"$f":"IF(入力シート!B845=\"\",\"\",入力シート!B845)","v":""},{"$f":"IF(入力シート!C845=\"\",\"\",入力シート!C845)","v":""},{"$f":"IF(入力シート!D845=\"\",\"\",TEXT(入力シート!D845,\"yyyy-mm-dd\"))","v":""},{"$f":"IF(入力シート!P845=\"\",\"\",TEXT(入力シート!P845,\"000-0000\"))","v":""},{"$f":"IF(入力シート!G845=\"\",\"\",入力シート!G845)","v":""},{"$f":"IF(入力シート!H845=\"\",\"\",入力シート!H845)","v":""},{"$f":"IF(入力シート!I845=\"\",\"\",入力シート!I845)","v":""},{"$f":"IF(入力シート!J845=\"\",\"\",入力シート!J845)","v":""},{"$f":"IF(入力シート!K845=\"\",\"\",入力シート!K845)","v":""},{"$f":"IF(入力シート!L845=\"\",\"\",入力シート!L845)","v":""},{"$f":"IF(入力シート!M845=\"\",\"\",入力シート!M845)","v":""},{"$f":"IF(入力シート!N845=\"\",\"\",入力シート!N845)","v":""},{"$f":"IF(入力シート!O845=\"\",\"\",入力シート!Q845)","v":""}]
[{"$f":"IF(入力シート!A846=\"\",\"\",入力シート!A846)","v":""},{"$f":"IF(入力シート!B846=\"\",\"\",入力シート!B846)","v":""},{"$f":"IF(入力シート!C846=\"\",\"\",入力シート!C846)","v":""},{"$f":"IF(入力シート!D846=\"\",\"\",TEXT(入力シート!D846,\"yyyy-mm-dd\"))","v":""},{"$f":"IF(入力シート!P846=\"\",\"\",TEXT(入力シート!P846,\"000-0000\"))","v":""},{"$f":"IF(入力シート!G846=\"\",\"\",入力シート!G846)","v":""},{"$f":"IF(入力シート!H846=\"\",\"\",入力シート!H846)","v":""},{"$f":"IF(入力シート!I846=\"\",\"\",入力シート!I846)","v":""},{"$f":"IF(入力シート!J846=\"\",\"\",入力シート!J846)","v":""},{"$f":"IF(入力シート!K846=\"\",\"\",入力シート!K846)","v":""},{"$f":"IF(入力シート!L846=\"\",\"\",入力シート!L846)","v":""},{"$f":"IF(入力シート!M846=\"\",\"\",入力シート!M846)","v":""},{"$f":"IF(入力シート!N846=\"\",\"\",入力シート!N846)","v":""},{"$f":"IF(入力シート!O846=\"\",\"\",入力シート!Q846)","v":""}]
[{"$f":"IF(入力シート!A847=\"\",\"\",入力シート!A847)","v":""},{"$f":"IF(入力シート!B847=\"\",\"\",入力シート!B847)","v":""},{"$f":"IF(入力シート!C847=\"\",\"\",入力シート!C847)","v":""},{"$f":"IF(入力シート!D847=\"\",\"\",TEXT(入力シート!D847,\"yyyy-mm-dd\"))","v":""},{"$f":"IF(入力シート!P847=\"\",\"\",TEXT(入力シート!P847,\"000-0000\"))","v":""},{"$f":"IF(入力シート!G847=\"\",\"\",入力シート!G847)","v":""},{"$f":"IF(入力シート!H847=\"\",\"\",入力シート!H847)","v":""},{"$f":"IF(入力シート!I847=\"\",\"\",入力シート!I847)","v":""},{"$f":"IF(入力シート!J847=\"\",\"\",入力シート!J847)","v":""},{"$f":"IF(入力シート!K847=\"\",\"\",入力シート!K847)","v":""},{"$f":"IF(入力シート!L847=\"\",\"\",入力シート!L847)","v":""},{"$f":"IF(入力シート!M847=\"\",\"\",入力シート!M847)","v":""},{"$f":"IF(入力シート!N847=\"\",\"\",入力シート!N847)","v":""},{"$f":"IF(入力シート!O847=\"\",\"\",入力シート!Q847)","v":""}]
[{"$f":"IF(入力シート!A848=\"\",\"\",入力シート!A848)","v":""},{"$f":"IF(入力シート!B848=\"\",\"\",入力シート!B848)","v":""},{"$f":"IF(入力シート!C848=\"\",\"\",入力シート!C848)","v":""},{"$f":"IF(入力シート!D848=\"\",\"\",TEXT(入力シート!D848,\"yyyy-mm-dd\"))","v":""},{"$f":"IF(入力シート!P848=\"\",\"\",TEXT(入力シート!P848,\"000-0000\"))","v":""},{"$f":"IF(入力シート!G848=\"\",\"\",入力シート!G848)","v":""},{"$f":"IF(入力シート!H848=\"\",\"\",入力シート!H848)","v":""},{"$f":"IF(入力シート!I848=\"\",\"\",入力シート!I848)","v":""},{"$f":"IF(入力シート!J848=\"\",\"\",入力シート!J848)","v":""},{"$f":"IF(入力シート!K848=\"\",\"\",入力シート!K848)","v":""},{"$f":"IF(入力シート!L848=\"\",\"\",入力シート!L848)","v":""},{"$f":"IF(入力シート!M848=\"\",\"\",入力シート!M848)","v":""},{"$f":"IF(入力シート!N848=\"\",\"\",入力シート!N848)","v":""},{"$f":"IF(入力シート!O848=\"\",\"\",入力シート!Q848)","v":""}]
[{"$f":"IF(入力シート!A849=\"\",\"\",入力シート!A849)","v":""},{"$f":"IF(入力シート!B849=\"\",\"\",入力シート!B849)","v":""},{"$f":"IF(入力シート!C849=\"\",\"\",入力シート!C849)","v":""},{"$f":"IF(入力シート!D849=\"\",\"\",TEXT(入力シート!D849,\"yyyy-mm-dd\"))","v":""},{"$f":"IF(入力シート!P849=\"\",\"\",TEXT(入力シート!P849,\"000-0000\"))","v":""},{"$f":"IF(入力シート!G849=\"\",\"\",入力シート!G849)","v":""},{"$f":"IF(入力シート!H849=\"\",\"\",入力シート!H849)","v":""},{"$f":"IF(入力シート!I849=\"\",\"\",入力シート!I849)","v":""},{"$f":"IF(入力シート!J849=\"\",\"\",入力シート!J849)","v":""},{"$f":"IF(入力シート!K849=\"\",\"\",入力シート!K849)","v":""},{"$f":"IF(入力シート!L849=\"\",\"\",入力シート!L849)","v":""},{"$f":"IF(入力シート!M849=\"\",\"\",入力シート!M849)","v":""},{"$f":"IF(入力シート!N849=\"\",\"\",入力シート!N849)","v":""},{"$f":"IF(入力シート!O849=\"\",\"\",入力シート!Q849)","v":""}]
[{"$f":"IF(入力シート!A850=\"\",\"\",入力シート!A850)","v":""},{"$f":"IF(入力シート!B850=\"\",\"\",入力シート!B850)","v":""},{"$f":"IF(入力シート!C850=\"\",\"\",入力シート!C850)","v":""},{"$f":"IF(入力シート!D850=\"\",\"\",TEXT(入力シート!D850,\"yyyy-mm-dd\"))","v":""},{"$f":"IF(入力シート!P850=\"\",\"\",TEXT(入力シート!P850,\"000-0000\"))","v":""},{"$f":"IF(入力シート!G850=\"\",\"\",入力シート!G850)","v":""},{"$f":"IF(入力シート!H850=\"\",\"\",入力シート!H850)","v":""},{"$f":"IF(入力シート!I850=\"\",\"\",入力シート!I850)","v":""},{"$f":"IF(入力シート!J850=\"\",\"\",入力シート!J850)","v":""},{"$f":"IF(入力シート!K850=\"\",\"\",入力シート!K850)","v":""},{"$f":"IF(入力シート!L850=\"\",\"\",入力シート!L850)","v":""},{"$f":"IF(入力シート!M850=\"\",\"\",入力シート!M850)","v":""},{"$f":"IF(入力シート!N850=\"\",\"\",入力シート!N850)","v":""},{"$f":"IF(入力シート!O850=\"\",\"\",入力シート!Q850)","v":""}]
[{"$f":"IF(入力シート!A851=\"\",\"\",入力シート!A851)","v":""},{"$f":"IF(入力シート!B851=\"\",\"\",入力シート!B851)","v":""},{"$f":"IF(入力シート!C851=\"\",\"\",入力シート!C851)","v":""},{"$f":"IF(入力シート!D851=\"\",\"\",TEXT(入力シート!D851,\"yyyy-mm-dd\"))","v":""},{"$f":"IF(入力シート!P851=\"\",\"\",TEXT(入力シート!P851,\"000-0000\"))","v":""},{"$f":"IF(入力シート!G851=\"\",\"\",入力シート!G851)","v":""},{"$f":"IF(入力シート!H851=\"\",\"\",入力シート!H851)","v":""},{"$f":"IF(入力シート!I851=\"\",\"\",入力シート!I851)","v":""},{"$f":"IF(入力シート!J851=\"\",\"\",入力シート!J851)","v":""},{"$f":"IF(入力シート!K851=\"\",\"\",入力シート!K851)","v":""},{"$f":"IF(入力シート!L851=\"\",\"\",入力シート!L851)","v":""},{"$f":"IF(入力シート!M851=\"\",\"\",入力シート!M851)","v":""},{"$f":"IF(入力シート!N851=\"\",\"\",入力シート!N851)","v":""},{"$f":"IF(入力シート!O851=\"\",\"\",入力シート!Q851)","v":""}]
[{"$f":"IF(入力シート!A852=\"\",\"\",入力シート!A852)","v":""},{"$f":"IF(入力シート!B852=\"\",\"\",入力シート!B852)","v":""},{"$f":"IF(入力シート!C852=\"\",\"\",入力シート!C852)","v":""},{"$f":"IF(入力シート!D852=\"\",\"\",TEXT(入力シート!D852,\"yyyy-mm-dd\"))","v":""},{"$f":"IF(入力シート!P852=\"\",\"\",TEXT(入力シート!P852,\"000-0000\"))","v":""},{"$f":"IF(入力シート!G852=\"\",\"\",入力シート!G852)","v":""},{"$f":"IF(入力シート!H852=\"\",\"\",入力シート!H852)","v":""},{"$f":"IF(入力シート!I852=\"\",\"\",入力シート!I852)","v":""},{"$f":"IF(入力シート!J852=\"\",\"\",入力シート!J852)","v":""},{"$f":"IF(入力シート!K852=\"\",\"\",入力シート!K852)","v":""},{"$f":"IF(入力シート!L852=\"\",\"\",入力シート!L852)","v":""},{"$f":"IF(入力シート!M852=\"\",\"\",入力シート!M852)","v":""},{"$f":"IF(入力シート!N852=\"\",\"\",入力シート!N852)","v":""},{"$f":"IF(入力シート!O852=\"\",\"\",入力シート!Q852)","v":""}]
[{"$f":"IF(入力シート!A853=\"\",\"\",入力シート!A853)","v":""},{"$f":"IF(入力シート!B853=\"\",\"\",入力シート!B853)","v":""},{"$f":"IF(入力シート!C853=\"\",\"\",入力シート!C853)","v":""},{"$f":"IF(入力シート!D853=\"\",\"\",TEXT(入力シート!D853,\"yyyy-mm-dd\"))","v":""},{"$f":"IF(入力シート!P853=\"\",\"\",TEXT(入力シート!P853,\"000-0000\"))","v":""},{"$f":"IF(入力シート!G853=\"\",\"\",入力シート!G853)","v":""},{"$f":"IF(入力シート!H853=\"\",\"\",入力シート!H853)","v":""},{"$f":"IF(入力シート!I853=\"\",\"\",入力シート!I853)","v":""},{"$f":"IF(入力シート!J853=\"\",\"\",入力シート!J853)","v":""},{"$f":"IF(入力シート!K853=\"\",\"\",入力シート!K853)","v":""},{"$f":"IF(入力シート!L853=\"\",\"\",入力シート!L853)","v":""},{"$f":"IF(入力シート!M853=\"\",\"\",入力シート!M853)","v":""},{"$f":"IF(入力シート!N853=\"\",\"\",入力シート!N853)","v":""},{"$f":"IF(入力シート!O853=\"\",\"\",入力シート!Q853)","v":""}]
[{"$f":"IF(入力シート!A854=\"\",\"\",入力シート!A854)","v":""},{"$f":"IF(入力シート!B854=\"\",\"\",入力シート!B854)","v":""},{"$f":"IF(入力シート!C854=\"\",\"\",入力シート!C854)","v":""},{"$f":"IF(入力シート!D854=\"\",\"\",TEXT(入力シート!D854,\"yyyy-mm-dd\"))","v":""},{"$f":"IF(入力シート!P854=\"\",\"\",TEXT(入力シート!P854,\"000-0000\"))","v":""},{"$f":"IF(入力シート!G854=\"\",\"\",入力シート!G854)","v":""},{"$f":"IF(入力シート!H854=\"\",\"\",入力シート!H854)","v":""},{"$f":"IF(入力シート!I854=\"\",\"\",入力シート!I854)","v":""},{"$f":"IF(入力シート!J854=\"\",\"\",入力シート!J854)","v":""},{"$f":"IF(入力シート!K854=\"\",\"\",入力シート!K854)","v":""},{"$f":"IF(入力シート!L854=\"\",\"\",入力シート!L854)","v":""},{"$f":"IF(入力シート!M854=\"\",\"\",入力シート!M854)","v":""},{"$f":"IF(入力シート!N854=\"\",\"\",入力シート!N854)","v":""},{"$f":"IF(入力シート!O854=\"\",\"\",入力シート!Q854)","v":""}]
[{"$f":"IF(入力シート!A855=\"\",\"\",入力シート!A855)","v":""},{"$f":"IF(入力シート!B855=\"\",\"\",入力シート!B855)","v":""},{"$f":"IF(入力シート!C855=\"\",\"\",入力シート!C855)","v":""},{"$f":"IF(入力シート!D855=\"\",\"\",TEXT(入力シート!D855,\"yyyy-mm-dd\"))","v":""},{"$f":"IF(入力シート!P855=\"\",\"\",TEXT(入力シート!P855,\"000-0000\"))","v":""},{"$f":"IF(入力シート!G855=\"\",\"\",入力シート!G855)","v":""},{"$f":"IF(入力シート!H855=\"\",\"\",入力シート!H855)","v":""},{"$f":"IF(入力シート!I855=\"\",\"\",入力シート!I855)","v":""},{"$f":"IF(入力シート!J855=\"\",\"\",入力シート!J855)","v":""},{"$f":"IF(入力シート!K855=\"\",\"\",入力シート!K855)","v":""},{"$f":"IF(入力シート!L855=\"\",\"\",入力シート!L855)","v":""},{"$f":"IF(入力シート!M855=\"\",\"\",入力シート!M855)","v":""},{"$f":"IF(入力シート!N855=\"\",\"\",入力シート!N855)","v":""},{"$f":"IF(入力シート!O855=\"\",\"\",入力シート!Q855)","v":""}]
[{"$f":"IF(入力シート!A856=\"\",\"\",入力シート!A856)","v":""},{"$f":"IF(入力シート!B856=\"\",\"\",入力シート!B856)","v":""},{"$f":"IF(入力シート!C856=\"\",\"\",入力シート!C856)","v":""},{"$f":"IF(入力シート!D856=\"\",\"\",TEXT(入力シート!D856,\"yyyy-mm-dd\"))","v":""},{"$f":"IF(入力シート!P856=\"\",\"\",TEXT(入力シート!P856,\"000-0000\"))","v":""},{"$f":"IF(入力シート!G856=\"\",\"\",入力シート!G856)","v":""},{"$f":"IF(入力シート!H856=\"\",\"\",入力シート!H856)","v":""},{"$f":"IF(入力シート!I856=\"\",\"\",入力シート!I856)","v":""},{"$f":"IF(入力シート!J856=\"\",\"\",入力シート!J856)","v":""},{"$f":"IF(入力シート!K856=\"\",\"\",入力シート!K856)","v":""},{"$f":"IF(入力シート!L856=\"\",\"\",入力シート!L856)","v":""},{"$f":"IF(入力シート!M856=\"\",\"\",入力シート!M856)","v":""},{"$f":"IF(入力シート!N856=\"\",\"\",入力シート!N856)","v":""},{"$f":"IF(入力シート!O856=\"\",\"\",入力シート!Q856)","v":""}]
[{"$f":"IF(入力シート!A857=\"\",\"\",入力シート!A857)","v":""},{"$f":"IF(入力シート!B857=\"\",\"\",入力シート!B857)","v":""},{"$f":"IF(入力シート!C857=\"\",\"\",入力シート!C857)","v":""},{"$f":"IF(入力シート!D857=\"\",\"\",TEXT(入力シート!D857,\"yyyy-mm-dd\"))","v":""},{"$f":"IF(入力シート!P857=\"\",\"\",TEXT(入力シート!P857,\"000-0000\"))","v":""},{"$f":"IF(入力シート!G857=\"\",\"\",入力シート!G857)","v":""},{"$f":"IF(入力シート!H857=\"\",\"\",入力シート!H857)","v":""},{"$f":"IF(入力シート!I857=\"\",\"\",入力シート!I857)","v":""},{"$f":"IF(入力シート!J857=\"\",\"\",入力シート!J857)","v":""},{"$f":"IF(入力シート!K857=\"\",\"\",入力シート!K857)","v":""},{"$f":"IF(入力シート!L857=\"\",\"\",入力シート!L857)","v":""},{"$f":"IF(入力シート!M857=\"\",\"\",入力シート!M857)","v":""},{"$f":"IF(入力シート!N857=\"\",\"\",入力シート!N857)","v":""},{"$f":"IF(入力シート!O857=\"\",\"\",入力シート!Q857)","v":""}]
[{"$f":"IF(入力シート!A858=\"\",\"\",入力シート!A858)","v":""},{"$f":"IF(入力シート!B858=\"\",\"\",入力シート!B858)","v":""},{"$f":"IF(入力シート!C858=\"\",\"\",入力シート!C858)","v":""},{"$f":"IF(入力シート!D858=\"\",\"\",TEXT(入力シート!D858,\"yyyy-mm-dd\"))","v":""},{"$f":"IF(入力シート!P858=\"\",\"\",TEXT(入力シート!P858,\"000-0000\"))","v":""},{"$f":"IF(入力シート!G858=\"\",\"\",入力シート!G858)","v":""},{"$f":"IF(入力シート!H858=\"\",\"\",入力シート!H858)","v":""},{"$f":"IF(入力シート!I858=\"\",\"\",入力シート!I858)","v":""},{"$f":"IF(入力シート!J858=\"\",\"\",入力シート!J858)","v":""},{"$f":"IF(入力シート!K858=\"\",\"\",入力シート!K858)","v":""},{"$f":"IF(入力シート!L858=\"\",\"\",入力シート!L858)","v":""},{"$f":"IF(入力シート!M858=\"\",\"\",入力シート!M858)","v":""},{"$f":"IF(入力シート!N858=\"\",\"\",入力シート!N858)","v":""},{"$f":"IF(入力シート!O858=\"\",\"\",入力シート!Q858)","v":""}]
[{"$f":"IF(入力シート!A859=\"\",\"\",入力シート!A859)","v":""},{"$f":"IF(入力シート!B859=\"\",\"\",入力シート!B859)","v":""},{"$f":"IF(入力シート!C859=\"\",\"\",入力シート!C859)","v":""},{"$f":"IF(入力シート!D859=\"\",\"\",TEXT(入力シート!D859,\"yyyy-mm-dd\"))","v":""},{"$f":"IF(入力シート!P859=\"\",\"\",TEXT(入力シート!P859,\"000-0000\"))","v":""},{"$f":"IF(入力シート!G859=\"\",\"\",入力シート!G859)","v":""},{"$f":"IF(入力シート!H859=\"\",\"\",入力シート!H859)","v":""},{"$f":"IF(入力シート!I859=\"\",\"\",入力シート!I859)","v":""},{"$f":"IF(入力シート!J859=\"\",\"\",入力シート!J859)","v":""},{"$f":"IF(入力シート!K859=\"\",\"\",入力シート!K859)","v":""},{"$f":"IF(入力シート!L859=\"\",\"\",入力シート!L859)","v":""},{"$f":"IF(入力シート!M859=\"\",\"\",入力シート!M859)","v":""},{"$f":"IF(入力シート!N859=\"\",\"\",入力シート!N859)","v":""},{"$f":"IF(入力シート!O859=\"\",\"\",入力シート!Q859)","v":""}]
[{"$f":"IF(入力シート!A860=\"\",\"\",入力シート!A860)","v":""},{"$f":"IF(入力シート!B860=\"\",\"\",入力シート!B860)","v":""},{"$f":"IF(入力シート!C860=\"\",\"\",入力シート!C860)","v":""},{"$f":"IF(入力シート!D860=\"\",\"\",TEXT(入力シート!D860,\"yyyy-mm-dd\"))","v":""},{"$f":"IF(入力シート!P860=\"\",\"\",TEXT(入力シート!P860,\"000-0000\"))","v":""},{"$f":"IF(入力シート!G860=\"\",\"\",入力シート!G860)","v":""},{"$f":"IF(入力シート!H860=\"\",\"\",入力シート!H860)","v":""},{"$f":"IF(入力シート!I860=\"\",\"\",入力シート!I860)","v":""},{"$f":"IF(入力シート!J860=\"\",\"\",入力シート!J860)","v":""},{"$f":"IF(入力シート!K860=\"\",\"\",入力シート!K860)","v":""},{"$f":"IF(入力シート!L860=\"\",\"\",入力シート!L860)","v":""},{"$f":"IF(入力シート!M860=\"\",\"\",入力シート!M860)","v":""},{"$f":"IF(入力シート!N860=\"\",\"\",入力シート!N860)","v":""},{"$f":"IF(入力シート!O860=\"\",\"\",入力シート!Q860)","v":""}]
[{"$f":"IF(入力シート!A861=\"\",\"\",入力シート!A861)","v":""},{"$f":"IF(入力シート!B861=\"\",\"\",入力シート!B861)","v":""},{"$f":"IF(入力シート!C861=\"\",\"\",入力シート!C861)","v":""},{"$f":"IF(入力シート!D861=\"\",\"\",TEXT(入力シート!D861,\"yyyy-mm-dd\"))","v":""},{"$f":"IF(入力シート!P861=\"\",\"\",TEXT(入力シート!P861,\"000-0000\"))","v":""},{"$f":"IF(入力シート!G861=\"\",\"\",入力シート!G861)","v":""},{"$f":"IF(入力シート!H861=\"\",\"\",入力シート!H861)","v":""},{"$f":"IF(入力シート!I861=\"\",\"\",入力シート!I861)","v":""},{"$f":"IF(入力シート!J861=\"\",\"\",入力シート!J861)","v":""},{"$f":"IF(入力シート!K861=\"\",\"\",入力シート!K861)","v":""},{"$f":"IF(入力シート!L861=\"\",\"\",入力シート!L861)","v":""},{"$f":"IF(入力シート!M861=\"\",\"\",入力シート!M861)","v":""},{"$f":"IF(入力シート!N861=\"\",\"\",入力シート!N861)","v":""},{"$f":"IF(入力シート!O861=\"\",\"\",入力シート!Q861)","v":""}]
[{"$f":"IF(入力シート!A862=\"\",\"\",入力シート!A862)","v":""},{"$f":"IF(入力シート!B862=\"\",\"\",入力シート!B862)","v":""},{"$f":"IF(入力シート!C862=\"\",\"\",入力シート!C862)","v":""},{"$f":"IF(入力シート!D862=\"\",\"\",TEXT(入力シート!D862,\"yyyy-mm-dd\"))","v":""},{"$f":"IF(入力シート!P862=\"\",\"\",TEXT(入力シート!P862,\"000-0000\"))","v":""},{"$f":"IF(入力シート!G862=\"\",\"\",入力シート!G862)","v":""},{"$f":"IF(入力シート!H862=\"\",\"\",入力シート!H862)","v":""},{"$f":"IF(入力シート!I862=\"\",\"\",入力シート!I862)","v":""},{"$f":"IF(入力シート!J862=\"\",\"\",入力シート!J862)","v":""},{"$f":"IF(入力シート!K862=\"\",\"\",入力シート!K862)","v":""},{"$f":"IF(入力シート!L862=\"\",\"\",入力シート!L862)","v":""},{"$f":"IF(入力シート!M862=\"\",\"\",入力シート!M862)","v":""},{"$f":"IF(入力シート!N862=\"\",\"\",入力シート!N862)","v":""},{"$f":"IF(入力シート!O862=\"\",\"\",入力シート!Q862)","v":""}]
[{"$f":"IF(入力シート!A863=\"\",\"\",入力シート!A863)","v":""},{"$f":"IF(入力シート!B863=\"\",\"\",入力シート!B863)","v":""},{"$f":"IF(入力シート!C863=\"\",\"\",入力シート!C863)","v":""},{"$f":"IF(入力シート!D863=\"\",\"\",TEXT(入力シート!D863,\"yyyy-mm-dd\"))","v":""},{"$f":"IF(入力シート!P863=\"\",\"\",TEXT(入力シート!P863,\"000-0000\"))","v":""},{"$f":"IF(入力シート!G863=\"\",\"\",入力シート!G863)","v":""},{"$f":"IF(入力シート!H863=\"\",\"\",入力シート!H863)","v":""},{"$f":"IF(入力シート!I863=\"\",\"\",入力シート!I863)","v":""},{"$f":"IF(入力シート!J863=\"\",\"\",入力シート!J863)","v":""},{"$f":"IF(入力シート!K863=\"\",\"\",入力シート!K863)","v":""},{"$f":"IF(入力シート!L863=\"\",\"\",入力シート!L863)","v":""},{"$f":"IF(入力シート!M863=\"\",\"\",入力シート!M863)","v":""},{"$f":"IF(入力シート!N863=\"\",\"\",入力シート!N863)","v":""},{"$f":"IF(入力シート!O863=\"\",\"\",入力シート!Q863)","v":""}]
[{"$f":"IF(入力シート!A864=\"\",\"\",入力シート!A864)","v":""},{"$f":"IF(入力シート!B864=\"\",\"\",入力シート!B864)","v":""},{"$f":"IF(入力シート!C864=\"\",\"\",入力シート!C864)","v":""},{"$f":"IF(入力シート!D864=\"\",\"\",TEXT(入力シート!D864,\"yyyy-mm-dd\"))","v":""},{"$f":"IF(入力シート!P864=\"\",\"\",TEXT(入力シート!P864,\"000-0000\"))","v":""},{"$f":"IF(入力シート!G864=\"\",\"\",入力シート!G864)","v":""},{"$f":"IF(入力シート!H864=\"\",\"\",入力シート!H864)","v":""},{"$f":"IF(入力シート!I864=\"\",\"\",入力シート!I864)","v":""},{"$f":"IF(入力シート!J864=\"\",\"\",入力シート!J864)","v":""},{"$f":"IF(入力シート!K864=\"\",\"\",入力シート!K864)","v":""},{"$f":"IF(入力シート!L864=\"\",\"\",入力シート!L864)","v":""},{"$f":"IF(入力シート!M864=\"\",\"\",入力シート!M864)","v":""},{"$f":"IF(入力シート!N864=\"\",\"\",入力シート!N864)","v":""},{"$f":"IF(入力シート!O864=\"\",\"\",入力シート!Q864)","v":""}]
[{"$f":"IF(入力シート!A865=\"\",\"\",入力シート!A865)","v":""},{"$f":"IF(入力シート!B865=\"\",\"\",入力シート!B865)","v":""},{"$f":"IF(入力シート!C865=\"\",\"\",入力シート!C865)","v":""},{"$f":"IF(入力シート!D865=\"\",\"\",TEXT(入力シート!D865,\"yyyy-mm-dd\"))","v":""},{"$f":"IF(入力シート!P865=\"\",\"\",TEXT(入力シート!P865,\"000-0000\"))","v":""},{"$f":"IF(入力シート!G865=\"\",\"\",入力シート!G865)","v":""},{"$f":"IF(入力シート!H865=\"\",\"\",入力シート!H865)","v":""},{"$f":"IF(入力シート!I865=\"\",\"\",入力シート!I865)","v":""},{"$f":"IF(入力シート!J865=\"\",\"\",入力シート!J865)","v":""},{"$f":"IF(入力シート!K865=\"\",\"\",入力シート!K865)","v":""},{"$f":"IF(入力シート!L865=\"\",\"\",入力シート!L865)","v":""},{"$f":"IF(入力シート!M865=\"\",\"\",入力シート!M865)","v":""},{"$f":"IF(入力シート!N865=\"\",\"\",入力シート!N865)","v":""},{"$f":"IF(入力シート!O865=\"\",\"\",入力シート!Q865)","v":""}]
[{"$f":"IF(入力シート!A866=\"\",\"\",入力シート!A866)","v":""},{"$f":"IF(入力シート!B866=\"\",\"\",入力シート!B866)","v":""},{"$f":"IF(入力シート!C866=\"\",\"\",入力シート!C866)","v":""},{"$f":"IF(入力シート!D866=\"\",\"\",TEXT(入力シート!D866,\"yyyy-mm-dd\"))","v":""},{"$f":"IF(入力シート!P866=\"\",\"\",TEXT(入力シート!P866,\"000-0000\"))","v":""},{"$f":"IF(入力シート!G866=\"\",\"\",入力シート!G866)","v":""},{"$f":"IF(入力シート!H866=\"\",\"\",入力シート!H866)","v":""},{"$f":"IF(入力シート!I866=\"\",\"\",入力シート!I866)","v":""},{"$f":"IF(入力シート!J866=\"\",\"\",入力シート!J866)","v":""},{"$f":"IF(入力シート!K866=\"\",\"\",入力シート!K866)","v":""},{"$f":"IF(入力シート!L866=\"\",\"\",入力シート!L866)","v":""},{"$f":"IF(入力シート!M866=\"\",\"\",入力シート!M866)","v":""},{"$f":"IF(入力シート!N866=\"\",\"\",入力シート!N866)","v":""},{"$f":"IF(入力シート!O866=\"\",\"\",入力シート!Q866)","v":""}]
[{"$f":"IF(入力シート!A867=\"\",\"\",入力シート!A867)","v":""},{"$f":"IF(入力シート!B867=\"\",\"\",入力シート!B867)","v":""},{"$f":"IF(入力シート!C867=\"\",\"\",入力シート!C867)","v":""},{"$f":"IF(入力シート!D867=\"\",\"\",TEXT(入力シート!D867,\"yyyy-mm-dd\"))","v":""},{"$f":"IF(入力シート!P867=\"\",\"\",TEXT(入力シート!P867,\"000-0000\"))","v":""},{"$f":"IF(入力シート!G867=\"\",\"\",入力シート!G867)","v":""},{"$f":"IF(入力シート!H867=\"\",\"\",入力シート!H867)","v":""},{"$f":"IF(入力シート!I867=\"\",\"\",入力シート!I867)","v":""},{"$f":"IF(入力シート!J867=\"\",\"\",入力シート!J867)","v":""},{"$f":"IF(入力シート!K867=\"\",\"\",入力シート!K867)","v":""},{"$f":"IF(入力シート!L867=\"\",\"\",入力シート!L867)","v":""},{"$f":"IF(入力シート!M867=\"\",\"\",入力シート!M867)","v":""},{"$f":"IF(入力シート!N867=\"\",\"\",入力シート!N867)","v":""},{"$f":"IF(入力シート!O867=\"\",\"\",入力シート!Q867)","v":""}]
[{"$f":"IF(入力シート!A868=\"\",\"\",入力シート!A868)","v":""},{"$f":"IF(入力シート!B868=\"\",\"\",入力シート!B868)","v":""},{"$f":"IF(入力シート!C868=\"\",\"\",入力シート!C868)","v":""},{"$f":"IF(入力シート!D868=\"\",\"\",TEXT(入力シート!D868,\"yyyy-mm-dd\"))","v":""},{"$f":"IF(入力シート!P868=\"\",\"\",TEXT(入力シート!P868,\"000-0000\"))","v":""},{"$f":"IF(入力シート!G868=\"\",\"\",入力シート!G868)","v":""},{"$f":"IF(入力シート!H868=\"\",\"\",入力シート!H868)","v":""},{"$f":"IF(入力シート!I868=\"\",\"\",入力シート!I868)","v":""},{"$f":"IF(入力シート!J868=\"\",\"\",入力シート!J868)","v":""},{"$f":"IF(入力シート!K868=\"\",\"\",入力シート!K868)","v":""},{"$f":"IF(入力シート!L868=\"\",\"\",入力シート!L868)","v":""},{"$f":"IF(入力シート!M868=\"\",\"\",入力シート!M868)","v":""},{"$f":"IF(入力シート!N868=\"\",\"\",入力シート!N868)","v":""},{"$f":"IF(入力シート!O868=\"\",\"\",入力シート!Q868)","v":""}]
[{"$f":"IF(入力シート!A869=\"\",\"\",入力シート!A869)","v":""},{"$f":"IF(入力シート!B869=\"\",\"\",入力シート!B869)","v":""},{"$f":"IF(入力シート!C869=\"\",\"\",入力シート!C869)","v":""},{"$f":"IF(入力シート!D869=\"\",\"\",TEXT(入力シート!D869,\"yyyy-mm-dd\"))","v":""},{"$f":"IF(入力シート!P869=\"\",\"\",TEXT(入力シート!P869,\"000-0000\"))","v":""},{"$f":"IF(入力シート!G869=\"\",\"\",入力シート!G869)","v":""},{"$f":"IF(入力シート!H869=\"\",\"\",入力シート!H869)","v":""},{"$f":"IF(入力シート!I869=\"\",\"\",入力シート!I869)","v":""},{"$f":"IF(入力シート!J869=\"\",\"\",入力シート!J869)","v":""},{"$f":"IF(入力シート!K869=\"\",\"\",入力シート!K869)","v":""},{"$f":"IF(入力シート!L869=\"\",\"\",入力シート!L869)","v":""},{"$f":"IF(入力シート!M869=\"\",\"\",入力シート!M869)","v":""},{"$f":"IF(入力シート!N869=\"\",\"\",入力シート!N869)","v":""},{"$f":"IF(入力シート!O869=\"\",\"\",入力シート!Q869)","v":""}]
[{"$f":"IF(入力シート!A870=\"\",\"\",入力シート!A870)","v":""},{"$f":"IF(入力シート!B870=\"\",\"\",入力シート!B870)","v":""},{"$f":"IF(入力シート!C870=\"\",\"\",入力シート!C870)","v":""},{"$f":"IF(入力シート!D870=\"\",\"\",TEXT(入力シート!D870,\"yyyy-mm-dd\"))","v":""},{"$f":"IF(入力シート!P870=\"\",\"\",TEXT(入力シート!P870,\"000-0000\"))","v":""},{"$f":"IF(入力シート!G870=\"\",\"\",入力シート!G870)","v":""},{"$f":"IF(入力シート!H870=\"\",\"\",入力シート!H870)","v":""},{"$f":"IF(入力シート!I870=\"\",\"\",入力シート!I870)","v":""},{"$f":"IF(入力シート!J870=\"\",\"\",入力シート!J870)","v":""},{"$f":"IF(入力シート!K870=\"\",\"\",入力シート!K870)","v":""},{"$f":"IF(入力シート!L870=\"\",\"\",入力シート!L870)","v":""},{"$f":"IF(入力シート!M870=\"\",\"\",入力シート!M870)","v":""},{"$f":"IF(入力シート!N870=\"\",\"\",入力シート!N870)","v":""},{"$f":"IF(入力シート!O870=\"\",\"\",入力シート!Q870)","v":""}]
[{"$f":"IF(入力シート!A871=\"\",\"\",入力シート!A871)","v":""},{"$f":"IF(入力シート!B871=\"\",\"\",入力シート!B871)","v":""},{"$f":"IF(入力シート!C871=\"\",\"\",入力シート!C871)","v":""},{"$f":"IF(入力シート!D871=\"\",\"\",TEXT(入力シート!D871,\"yyyy-mm-dd\"))","v":""},{"$f":"IF(入力シート!P871=\"\",\"\",TEXT(入力シート!P871,\"000-0000\"))","v":""},{"$f":"IF(入力シート!G871=\"\",\"\",入力シート!G871)","v":""},{"$f":"IF(入力シート!H871=\"\",\"\",入力シート!H871)","v":""},{"$f":"IF(入力シート!I871=\"\",\"\",入力シート!I871)","v":""},{"$f":"IF(入力シート!J871=\"\",\"\",入力シート!J871)","v":""},{"$f":"IF(入力シート!K871=\"\",\"\",入力シート!K871)","v":""},{"$f":"IF(入力シート!L871=\"\",\"\",入力シート!L871)","v":""},{"$f":"IF(入力シート!M871=\"\",\"\",入力シート!M871)","v":""},{"$f":"IF(入力シート!N871=\"\",\"\",入力シート!N871)","v":""},{"$f":"IF(入力シート!O871=\"\",\"\",入力シート!Q871)","v":""}]
[{"$f":"IF(入力シート!A872=\"\",\"\",入力シート!A872)","v":""},{"$f":"IF(入力シート!B872=\"\",\"\",入力シート!B872)","v":""},{"$f":"IF(入力シート!C872=\"\",\"\",入力シート!C872)","v":""},{"$f":"IF(入力シート!D872=\"\",\"\",TEXT(入力シート!D872,\"yyyy-mm-dd\"))","v":""},{"$f":"IF(入力シート!P872=\"\",\"\",TEXT(入力シート!P872,\"000-0000\"))","v":""},{"$f":"IF(入力シート!G872=\"\",\"\",入力シート!G872)","v":""},{"$f":"IF(入力シート!H872=\"\",\"\",入力シート!H872)","v":""},{"$f":"IF(入力シート!I872=\"\",\"\",入力シート!I872)","v":""},{"$f":"IF(入力シート!J872=\"\",\"\",入力シート!J872)","v":""},{"$f":"IF(入力シート!K872=\"\",\"\",入力シート!K872)","v":""},{"$f":"IF(入力シート!L872=\"\",\"\",入力シート!L872)","v":""},{"$f":"IF(入力シート!M872=\"\",\"\",入力シート!M872)","v":""},{"$f":"IF(入力シート!N872=\"\",\"\",入力シート!N872)","v":""},{"$f":"IF(入力シート!O872=\"\",\"\",入力シート!Q872)","v":""}]
[{"$f":"IF(入力シート!A873=\"\",\"\",入力シート!A873)","v":""},{"$f":"IF(入力シート!B873=\"\",\"\",入力シート!B873)","v":""},{"$f":"IF(入力シート!C873=\"\",\"\",入力シート!C873)","v":""},{"$f":"IF(入力シート!D873=\"\",\"\",TEXT(入力シート!D873,\"yyyy-mm-dd\"))","v":""},{"$f":"IF(入力シート!P873=\"\",\"\",TEXT(入力シート!P873,\"000-0000\"))","v":""},{"$f":"IF(入力シート!G873=\"\",\"\",入力シート!G873)","v":""},{"$f":"IF(入力シート!H873=\"\",\"\",入力シート!H873)","v":""},{"$f":"IF(入力シート!I873=\"\",\"\",入力シート!I873)","v":""},{"$f":"IF(入力シート!J873=\"\",\"\",入力シート!J873)","v":""},{"$f":"IF(入力シート!K873=\"\",\"\",入力シート!K873)","v":""},{"$f":"IF(入力シート!L873=\"\",\"\",入力シート!L873)","v":""},{"$f":"IF(入力シート!M873=\"\",\"\",入力シート!M873)","v":""},{"$f":"IF(入力シート!N873=\"\",\"\",入力シート!N873)","v":""},{"$f":"IF(入力シート!O873=\"\",\"\",入力シート!Q873)","v":""}]
[{"$f":"IF(入力シート!A874=\"\",\"\",入力シート!A874)","v":""},{"$f":"IF(入力シート!B874=\"\",\"\",入力シート!B874)","v":""},{"$f":"IF(入力シート!C874=\"\",\"\",入力シート!C874)","v":""},{"$f":"IF(入力シート!D874=\"\",\"\",TEXT(入力シート!D874,\"yyyy-mm-dd\"))","v":""},{"$f":"IF(入力シート!P874=\"\",\"\",TEXT(入力シート!P874,\"000-0000\"))","v":""},{"$f":"IF(入力シート!G874=\"\",\"\",入力シート!G874)","v":""},{"$f":"IF(入力シート!H874=\"\",\"\",入力シート!H874)","v":""},{"$f":"IF(入力シート!I874=\"\",\"\",入力シート!I874)","v":""},{"$f":"IF(入力シート!J874=\"\",\"\",入力シート!J874)","v":""},{"$f":"IF(入力シート!K874=\"\",\"\",入力シート!K874)","v":""},{"$f":"IF(入力シート!L874=\"\",\"\",入力シート!L874)","v":""},{"$f":"IF(入力シート!M874=\"\",\"\",入力シート!M874)","v":""},{"$f":"IF(入力シート!N874=\"\",\"\",入力シート!N874)","v":""},{"$f":"IF(入力シート!O874=\"\",\"\",入力シート!Q874)","v":""}]
[{"$f":"IF(入力シート!A875=\"\",\"\",入力シート!A875)","v":""},{"$f":"IF(入力シート!B875=\"\",\"\",入力シート!B875)","v":""},{"$f":"IF(入力シート!C875=\"\",\"\",入力シート!C875)","v":""},{"$f":"IF(入力シート!D875=\"\",\"\",TEXT(入力シート!D875,\"yyyy-mm-dd\"))","v":""},{"$f":"IF(入力シート!P875=\"\",\"\",TEXT(入力シート!P875,\"000-0000\"))","v":""},{"$f":"IF(入力シート!G875=\"\",\"\",入力シート!G875)","v":""},{"$f":"IF(入力シート!H875=\"\",\"\",入力シート!H875)","v":""},{"$f":"IF(入力シート!I875=\"\",\"\",入力シート!I875)","v":""},{"$f":"IF(入力シート!J875=\"\",\"\",入力シート!J875)","v":""},{"$f":"IF(入力シート!K875=\"\",\"\",入力シート!K875)","v":""},{"$f":"IF(入力シート!L875=\"\",\"\",入力シート!L875)","v":""},{"$f":"IF(入力シート!M875=\"\",\"\",入力シート!M875)","v":""},{"$f":"IF(入力シート!N875=\"\",\"\",入力シート!N875)","v":""},{"$f":"IF(入力シート!O875=\"\",\"\",入力シート!Q875)","v":""}]
[{"$f":"IF(入力シート!A876=\"\",\"\",入力シート!A876)","v":""},{"$f":"IF(入力シート!B876=\"\",\"\",入力シート!B876)","v":""},{"$f":"IF(入力シート!C876=\"\",\"\",入力シート!C876)","v":""},{"$f":"IF(入力シート!D876=\"\",\"\",TEXT(入力シート!D876,\"yyyy-mm-dd\"))","v":""},{"$f":"IF(入力シート!P876=\"\",\"\",TEXT(入力シート!P876,\"000-0000\"))","v":""},{"$f":"IF(入力シート!G876=\"\",\"\",入力シート!G876)","v":""},{"$f":"IF(入力シート!H876=\"\",\"\",入力シート!H876)","v":""},{"$f":"IF(入力シート!I876=\"\",\"\",入力シート!I876)","v":""},{"$f":"IF(入力シート!J876=\"\",\"\",入力シート!J876)","v":""},{"$f":"IF(入力シート!K876=\"\",\"\",入力シート!K876)","v":""},{"$f":"IF(入力シート!L876=\"\",\"\",入力シート!L876)","v":""},{"$f":"IF(入力シート!M876=\"\",\"\",入力シート!M876)","v":""},{"$f":"IF(入力シート!N876=\"\",\"\",入力シート!N876)","v":""},{"$f":"IF(入力シート!O876=\"\",\"\",入力シート!Q876)","v":""}]
[{"$f":"IF(入力シート!A877=\"\",\"\",入力シート!A877)","v":""},{"$f":"IF(入力シート!B877=\"\",\"\",入力シート!B877)","v":""},{"$f":"IF(入力シート!C877=\"\",\"\",入力シート!C877)","v":""},{"$f":"IF(入力シート!D877=\"\",\"\",TEXT(入力シート!D877,\"yyyy-mm-dd\"))","v":""},{"$f":"IF(入力シート!P877=\"\",\"\",TEXT(入力シート!P877,\"000-0000\"))","v":""},{"$f":"IF(入力シート!G877=\"\",\"\",入力シート!G877)","v":""},{"$f":"IF(入力シート!H877=\"\",\"\",入力シート!H877)","v":""},{"$f":"IF(入力シート!I877=\"\",\"\",入力シート!I877)","v":""},{"$f":"IF(入力シート!J877=\"\",\"\",入力シート!J877)","v":""},{"$f":"IF(入力シート!K877=\"\",\"\",入力シート!K877)","v":""},{"$f":"IF(入力シート!L877=\"\",\"\",入力シート!L877)","v":""},{"$f":"IF(入力シート!M877=\"\",\"\",入力シート!M877)","v":""},{"$f":"IF(入力シート!N877=\"\",\"\",入力シート!N877)","v":""},{"$f":"IF(入力シート!O877=\"\",\"\",入力シート!Q877)","v":""}]
[{"$f":"IF(入力シート!A878=\"\",\"\",入力シート!A878)","v":""},{"$f":"IF(入力シート!B878=\"\",\"\",入力シート!B878)","v":""},{"$f":"IF(入力シート!C878=\"\",\"\",入力シート!C878)","v":""},{"$f":"IF(入力シート!D878=\"\",\"\",TEXT(入力シート!D878,\"yyyy-mm-dd\"))","v":""},{"$f":"IF(入力シート!P878=\"\",\"\",TEXT(入力シート!P878,\"000-0000\"))","v":""},{"$f":"IF(入力シート!G878=\"\",\"\",入力シート!G878)","v":""},{"$f":"IF(入力シート!H878=\"\",\"\",入力シート!H878)","v":""},{"$f":"IF(入力シート!I878=\"\",\"\",入力シート!I878)","v":""},{"$f":"IF(入力シート!J878=\"\",\"\",入力シート!J878)","v":""},{"$f":"IF(入力シート!K878=\"\",\"\",入力シート!K878)","v":""},{"$f":"IF(入力シート!L878=\"\",\"\",入力シート!L878)","v":""},{"$f":"IF(入力シート!M878=\"\",\"\",入力シート!M878)","v":""},{"$f":"IF(入力シート!N878=\"\",\"\",入力シート!N878)","v":""},{"$f":"IF(入力シート!O878=\"\",\"\",入力シート!Q878)","v":""}]
[{"$f":"IF(入力シート!A879=\"\",\"\",入力シート!A879)","v":""},{"$f":"IF(入力シート!B879=\"\",\"\",入力シート!B879)","v":""},{"$f":"IF(入力シート!C879=\"\",\"\",入力シート!C879)","v":""},{"$f":"IF(入力シート!D879=\"\",\"\",TEXT(入力シート!D879,\"yyyy-mm-dd\"))","v":""},{"$f":"IF(入力シート!P879=\"\",\"\",TEXT(入力シート!P879,\"000-0000\"))","v":""},{"$f":"IF(入力シート!G879=\"\",\"\",入力シート!G879)","v":""},{"$f":"IF(入力シート!H879=\"\",\"\",入力シート!H879)","v":""},{"$f":"IF(入力シート!I879=\"\",\"\",入力シート!I879)","v":""},{"$f":"IF(入力シート!J879=\"\",\"\",入力シート!J879)","v":""},{"$f":"IF(入力シート!K879=\"\",\"\",入力シート!K879)","v":""},{"$f":"IF(入力シート!L879=\"\",\"\",入力シート!L879)","v":""},{"$f":"IF(入力シート!M879=\"\",\"\",入力シート!M879)","v":""},{"$f":"IF(入力シート!N879=\"\",\"\",入力シート!N879)","v":""},{"$f":"IF(入力シート!O879=\"\",\"\",入力シート!Q879)","v":""}]
[{"$f":"IF(入力シート!A880=\"\",\"\",入力シート!A880)","v":""},{"$f":"IF(入力シート!B880=\"\",\"\",入力シート!B880)","v":""},{"$f":"IF(入力シート!C880=\"\",\"\",入力シート!C880)","v":""},{"$f":"IF(入力シート!D880=\"\",\"\",TEXT(入力シート!D880,\"yyyy-mm-dd\"))","v":""},{"$f":"IF(入力シート!P880=\"\",\"\",TEXT(入力シート!P880,\"000-0000\"))","v":""},{"$f":"IF(入力シート!G880=\"\",\"\",入力シート!G880)","v":""},{"$f":"IF(入力シート!H880=\"\",\"\",入力シート!H880)","v":""},{"$f":"IF(入力シート!I880=\"\",\"\",入力シート!I880)","v":""},{"$f":"IF(入力シート!J880=\"\",\"\",入力シート!J880)","v":""},{"$f":"IF(入力シート!K880=\"\",\"\",入力シート!K880)","v":""},{"$f":"IF(入力シート!L880=\"\",\"\",入力シート!L880)","v":""},{"$f":"IF(入力シート!M880=\"\",\"\",入力シート!M880)","v":""},{"$f":"IF(入力シート!N880=\"\",\"\",入力シート!N880)","v":""},{"$f":"IF(入力シート!O880=\"\",\"\",入力シート!Q880)","v":""}]
[{"$f":"IF(入力シート!A881=\"\",\"\",入力シート!A881)","v":""},{"$f":"IF(入力シート!B881=\"\",\"\",入力シート!B881)","v":""},{"$f":"IF(入力シート!C881=\"\",\"\",入力シート!C881)","v":""},{"$f":"IF(入力シート!D881=\"\",\"\",TEXT(入力シート!D881,\"yyyy-mm-dd\"))","v":""},{"$f":"IF(入力シート!P881=\"\",\"\",TEXT(入力シート!P881,\"000-0000\"))","v":""},{"$f":"IF(入力シート!G881=\"\",\"\",入力シート!G881)","v":""},{"$f":"IF(入力シート!H881=\"\",\"\",入力シート!H881)","v":""},{"$f":"IF(入力シート!I881=\"\",\"\",入力シート!I881)","v":""},{"$f":"IF(入力シート!J881=\"\",\"\",入力シート!J881)","v":""},{"$f":"IF(入力シート!K881=\"\",\"\",入力シート!K881)","v":""},{"$f":"IF(入力シート!L881=\"\",\"\",入力シート!L881)","v":""},{"$f":"IF(入力シート!M881=\"\",\"\",入力シート!M881)","v":""},{"$f":"IF(入力シート!N881=\"\",\"\",入力シート!N881)","v":""},{"$f":"IF(入力シート!O881=\"\",\"\",入力シート!Q881)","v":""}]
[{"$f":"IF(入力シート!A882=\"\",\"\",入力シート!A882)","v":""},{"$f":"IF(入力シート!B882=\"\",\"\",入力シート!B882)","v":""},{"$f":"IF(入力シート!C882=\"\",\"\",入力シート!C882)","v":""},{"$f":"IF(入力シート!D882=\"\",\"\",TEXT(入力シート!D882,\"yyyy-mm-dd\"))","v":""},{"$f":"IF(入力シート!P882=\"\",\"\",TEXT(入力シート!P882,\"000-0000\"))","v":""},{"$f":"IF(入力シート!G882=\"\",\"\",入力シート!G882)","v":""},{"$f":"IF(入力シート!H882=\"\",\"\",入力シート!H882)","v":""},{"$f":"IF(入力シート!I882=\"\",\"\",入力シート!I882)","v":""},{"$f":"IF(入力シート!J882=\"\",\"\",入力シート!J882)","v":""},{"$f":"IF(入力シート!K882=\"\",\"\",入力シート!K882)","v":""},{"$f":"IF(入力シート!L882=\"\",\"\",入力シート!L882)","v":""},{"$f":"IF(入力シート!M882=\"\",\"\",入力シート!M882)","v":""},{"$f":"IF(入力シート!N882=\"\",\"\",入力シート!N882)","v":""},{"$f":"IF(入力シート!O882=\"\",\"\",入力シート!Q882)","v":""}]
[{"$f":"IF(入力シート!A883=\"\",\"\",入力シート!A883)","v":""},{"$f":"IF(入力シート!B883=\"\",\"\",入力シート!B883)","v":""},{"$f":"IF(入力シート!C883=\"\",\"\",入力シート!C883)","v":""},{"$f":"IF(入力シート!D883=\"\",\"\",TEXT(入力シート!D883,\"yyyy-mm-dd\"))","v":""},{"$f":"IF(入力シート!P883=\"\",\"\",TEXT(入力シート!P883,\"000-0000\"))","v":""},{"$f":"IF(入力シート!G883=\"\",\"\",入力シート!G883)","v":""},{"$f":"IF(入力シート!H883=\"\",\"\",入力シート!H883)","v":""},{"$f":"IF(入力シート!I883=\"\",\"\",入力シート!I883)","v":""},{"$f":"IF(入力シート!J883=\"\",\"\",入力シート!J883)","v":""},{"$f":"IF(入力シート!K883=\"\",\"\",入力シート!K883)","v":""},{"$f":"IF(入力シート!L883=\"\",\"\",入力シート!L883)","v":""},{"$f":"IF(入力シート!M883=\"\",\"\",入力シート!M883)","v":""},{"$f":"IF(入力シート!N883=\"\",\"\",入力シート!N883)","v":""},{"$f":"IF(入力シート!O883=\"\",\"\",入力シート!Q883)","v":""}]
[{"$f":"IF(入力シート!A884=\"\",\"\",入力シート!A884)","v":""},{"$f":"IF(入力シート!B884=\"\",\"\",入力シート!B884)","v":""},{"$f":"IF(入力シート!C884=\"\",\"\",入力シート!C884)","v":""},{"$f":"IF(入力シート!D884=\"\",\"\",TEXT(入力シート!D884,\"yyyy-mm-dd\"))","v":""},{"$f":"IF(入力シート!P884=\"\",\"\",TEXT(入力シート!P884,\"000-0000\"))","v":""},{"$f":"IF(入力シート!G884=\"\",\"\",入力シート!G884)","v":""},{"$f":"IF(入力シート!H884=\"\",\"\",入力シート!H884)","v":""},{"$f":"IF(入力シート!I884=\"\",\"\",入力シート!I884)","v":""},{"$f":"IF(入力シート!J884=\"\",\"\",入力シート!J884)","v":""},{"$f":"IF(入力シート!K884=\"\",\"\",入力シート!K884)","v":""},{"$f":"IF(入力シート!L884=\"\",\"\",入力シート!L884)","v":""},{"$f":"IF(入力シート!M884=\"\",\"\",入力シート!M884)","v":""},{"$f":"IF(入力シート!N884=\"\",\"\",入力シート!N884)","v":""},{"$f":"IF(入力シート!O884=\"\",\"\",入力シート!Q884)","v":""}]
[{"$f":"IF(入力シート!A885=\"\",\"\",入力シート!A885)","v":""},{"$f":"IF(入力シート!B885=\"\",\"\",入力シート!B885)","v":""},{"$f":"IF(入力シート!C885=\"\",\"\",入力シート!C885)","v":""},{"$f":"IF(入力シート!D885=\"\",\"\",TEXT(入力シート!D885,\"yyyy-mm-dd\"))","v":""},{"$f":"IF(入力シート!P885=\"\",\"\",TEXT(入力シート!P885,\"000-0000\"))","v":""},{"$f":"IF(入力シート!G885=\"\",\"\",入力シート!G885)","v":""},{"$f":"IF(入力シート!H885=\"\",\"\",入力シート!H885)","v":""},{"$f":"IF(入力シート!I885=\"\",\"\",入力シート!I885)","v":""},{"$f":"IF(入力シート!J885=\"\",\"\",入力シート!J885)","v":""},{"$f":"IF(入力シート!K885=\"\",\"\",入力シート!K885)","v":""},{"$f":"IF(入力シート!L885=\"\",\"\",入力シート!L885)","v":""},{"$f":"IF(入力シート!M885=\"\",\"\",入力シート!M885)","v":""},{"$f":"IF(入力シート!N885=\"\",\"\",入力シート!N885)","v":""},{"$f":"IF(入力シート!O885=\"\",\"\",入力シート!Q885)","v":""}]
[{"$f":"IF(入力シート!A886=\"\",\"\",入力シート!A886)","v":""},{"$f":"IF(入力シート!B886=\"\",\"\",入力シート!B886)","v":""},{"$f":"IF(入力シート!C886=\"\",\"\",入力シート!C886)","v":""},{"$f":"IF(入力シート!D886=\"\",\"\",TEXT(入力シート!D886,\"yyyy-mm-dd\"))","v":""},{"$f":"IF(入力シート!P886=\"\",\"\",TEXT(入力シート!P886,\"000-0000\"))","v":""},{"$f":"IF(入力シート!G886=\"\",\"\",入力シート!G886)","v":""},{"$f":"IF(入力シート!H886=\"\",\"\",入力シート!H886)","v":""},{"$f":"IF(入力シート!I886=\"\",\"\",入力シート!I886)","v":""},{"$f":"IF(入力シート!J886=\"\",\"\",入力シート!J886)","v":""},{"$f":"IF(入力シート!K886=\"\",\"\",入力シート!K886)","v":""},{"$f":"IF(入力シート!L886=\"\",\"\",入力シート!L886)","v":""},{"$f":"IF(入力シート!M886=\"\",\"\",入力シート!M886)","v":""},{"$f":"IF(入力シート!N886=\"\",\"\",入力シート!N886)","v":""},{"$f":"IF(入力シート!O886=\"\",\"\",入力シート!Q886)","v":""}]
[{"$f":"IF(入力シート!A887=\"\",\"\",入力シート!A887)","v":""},{"$f":"IF(入力シート!B887=\"\",\"\",入力シート!B887)","v":""},{"$f":"IF(入力シート!C887=\"\",\"\",入力シート!C887)","v":""},{"$f":"IF(入力シート!D887=\"\",\"\",TEXT(入力シート!D887,\"yyyy-mm-dd\"))","v":""},{"$f":"IF(入力シート!P887=\"\",\"\",TEXT(入力シート!P887,\"000-0000\"))","v":""},{"$f":"IF(入力シート!G887=\"\",\"\",入力シート!G887)","v":""},{"$f":"IF(入力シート!H887=\"\",\"\",入力シート!H887)","v":""},{"$f":"IF(入力シート!I887=\"\",\"\",入力シート!I887)","v":""},{"$f":"IF(入力シート!J887=\"\",\"\",入力シート!J887)","v":""},{"$f":"IF(入力シート!K887=\"\",\"\",入力シート!K887)","v":""},{"$f":"IF(入力シート!L887=\"\",\"\",入力シート!L887)","v":""},{"$f":"IF(入力シート!M887=\"\",\"\",入力シート!M887)","v":""},{"$f":"IF(入力シート!N887=\"\",\"\",入力シート!N887)","v":""},{"$f":"IF(入力シート!O887=\"\",\"\",入力シート!Q887)","v":""}]
[{"$f":"IF(入力シート!A888=\"\",\"\",入力シート!A888)","v":""},{"$f":"IF(入力シート!B888=\"\",\"\",入力シート!B888)","v":""},{"$f":"IF(入力シート!C888=\"\",\"\",入力シート!C888)","v":""},{"$f":"IF(入力シート!D888=\"\",\"\",TEXT(入力シート!D888,\"yyyy-mm-dd\"))","v":""},{"$f":"IF(入力シート!P888=\"\",\"\",TEXT(入力シート!P888,\"000-0000\"))","v":""},{"$f":"IF(入力シート!G888=\"\",\"\",入力シート!G888)","v":""},{"$f":"IF(入力シート!H888=\"\",\"\",入力シート!H888)","v":""},{"$f":"IF(入力シート!I888=\"\",\"\",入力シート!I888)","v":""},{"$f":"IF(入力シート!J888=\"\",\"\",入力シート!J888)","v":""},{"$f":"IF(入力シート!K888=\"\",\"\",入力シート!K888)","v":""},{"$f":"IF(入力シート!L888=\"\",\"\",入力シート!L888)","v":""},{"$f":"IF(入力シート!M888=\"\",\"\",入力シート!M888)","v":""},{"$f":"IF(入力シート!N888=\"\",\"\",入力シート!N888)","v":""},{"$f":"IF(入力シート!O888=\"\",\"\",入力シート!Q888)","v":""}]
[{"$f":"IF(入力シート!A889=\"\",\"\",入力シート!A889)","v":""},{"$f":"IF(入力シート!B889=\"\",\"\",入力シート!B889)","v":""},{"$f":"IF(入力シート!C889=\"\",\"\",入力シート!C889)","v":""},{"$f":"IF(入力シート!D889=\"\",\"\",TEXT(入力シート!D889,\"yyyy-mm-dd\"))","v":""},{"$f":"IF(入力シート!P889=\"\",\"\",TEXT(入力シート!P889,\"000-0000\"))","v":""},{"$f":"IF(入力シート!G889=\"\",\"\",入力シート!G889)","v":""},{"$f":"IF(入力シート!H889=\"\",\"\",入力シート!H889)","v":""},{"$f":"IF(入力シート!I889=\"\",\"\",入力シート!I889)","v":""},{"$f":"IF(入力シート!J889=\"\",\"\",入力シート!J889)","v":""},{"$f":"IF(入力シート!K889=\"\",\"\",入力シート!K889)","v":""},{"$f":"IF(入力シート!L889=\"\",\"\",入力シート!L889)","v":""},{"$f":"IF(入力シート!M889=\"\",\"\",入力シート!M889)","v":""},{"$f":"IF(入力シート!N889=\"\",\"\",入力シート!N889)","v":""},{"$f":"IF(入力シート!O889=\"\",\"\",入力シート!Q889)","v":""}]
[{"$f":"IF(入力シート!A890=\"\",\"\",入力シート!A890)","v":""},{"$f":"IF(入力シート!B890=\"\",\"\",入力シート!B890)","v":""},{"$f":"IF(入力シート!C890=\"\",\"\",入力シート!C890)","v":""},{"$f":"IF(入力シート!D890=\"\",\"\",TEXT(入力シート!D890,\"yyyy-mm-dd\"))","v":""},{"$f":"IF(入力シート!P890=\"\",\"\",TEXT(入力シート!P890,\"000-0000\"))","v":""},{"$f":"IF(入力シート!G890=\"\",\"\",入力シート!G890)","v":""},{"$f":"IF(入力シート!H890=\"\",\"\",入力シート!H890)","v":""},{"$f":"IF(入力シート!I890=\"\",\"\",入力シート!I890)","v":""},{"$f":"IF(入力シート!J890=\"\",\"\",入力シート!J890)","v":""},{"$f":"IF(入力シート!K890=\"\",\"\",入力シート!K890)","v":""},{"$f":"IF(入力シート!L890=\"\",\"\",入力シート!L890)","v":""},{"$f":"IF(入力シート!M890=\"\",\"\",入力シート!M890)","v":""},{"$f":"IF(入力シート!N890=\"\",\"\",入力シート!N890)","v":""},{"$f":"IF(入力シート!O890=\"\",\"\",入力シート!Q890)","v":""}]
[{"$f":"IF(入力シート!A891=\"\",\"\",入力シート!A891)","v":""},{"$f":"IF(入力シート!B891=\"\",\"\",入力シート!B891)","v":""},{"$f":"IF(入力シート!C891=\"\",\"\",入力シート!C891)","v":""},{"$f":"IF(入力シート!D891=\"\",\"\",TEXT(入力シート!D891,\"yyyy-mm-dd\"))","v":""},{"$f":"IF(入力シート!P891=\"\",\"\",TEXT(入力シート!P891,\"000-0000\"))","v":""},{"$f":"IF(入力シート!G891=\"\",\"\",入力シート!G891)","v":""},{"$f":"IF(入力シート!H891=\"\",\"\",入力シート!H891)","v":""},{"$f":"IF(入力シート!I891=\"\",\"\",入力シート!I891)","v":""},{"$f":"IF(入力シート!J891=\"\",\"\",入力シート!J891)","v":""},{"$f":"IF(入力シート!K891=\"\",\"\",入力シート!K891)","v":""},{"$f":"IF(入力シート!L891=\"\",\"\",入力シート!L891)","v":""},{"$f":"IF(入力シート!M891=\"\",\"\",入力シート!M891)","v":""},{"$f":"IF(入力シート!N891=\"\",\"\",入力シート!N891)","v":""},{"$f":"IF(入力シート!O891=\"\",\"\",入力シート!Q891)","v":""}]
[{"$f":"IF(入力シート!A892=\"\",\"\",入力シート!A892)","v":""},{"$f":"IF(入力シート!B892=\"\",\"\",入力シート!B892)","v":""},{"$f":"IF(入力シート!C892=\"\",\"\",入力シート!C892)","v":""},{"$f":"IF(入力シート!D892=\"\",\"\",TEXT(入力シート!D892,\"yyyy-mm-dd\"))","v":""},{"$f":"IF(入力シート!P892=\"\",\"\",TEXT(入力シート!P892,\"000-0000\"))","v":""},{"$f":"IF(入力シート!G892=\"\",\"\",入力シート!G892)","v":""},{"$f":"IF(入力シート!H892=\"\",\"\",入力シート!H892)","v":""},{"$f":"IF(入力シート!I892=\"\",\"\",入力シート!I892)","v":""},{"$f":"IF(入力シート!J892=\"\",\"\",入力シート!J892)","v":""},{"$f":"IF(入力シート!K892=\"\",\"\",入力シート!K892)","v":""},{"$f":"IF(入力シート!L892=\"\",\"\",入力シート!L892)","v":""},{"$f":"IF(入力シート!M892=\"\",\"\",入力シート!M892)","v":""},{"$f":"IF(入力シート!N892=\"\",\"\",入力シート!N892)","v":""},{"$f":"IF(入力シート!O892=\"\",\"\",入力シート!Q892)","v":""}]
[{"$f":"IF(入力シート!A893=\"\",\"\",入力シート!A893)","v":""},{"$f":"IF(入力シート!B893=\"\",\"\",入力シート!B893)","v":""},{"$f":"IF(入力シート!C893=\"\",\"\",入力シート!C893)","v":""},{"$f":"IF(入力シート!D893=\"\",\"\",TEXT(入力シート!D893,\"yyyy-mm-dd\"))","v":""},{"$f":"IF(入力シート!P893=\"\",\"\",TEXT(入力シート!P893,\"000-0000\"))","v":""},{"$f":"IF(入力シート!G893=\"\",\"\",入力シート!G893)","v":""},{"$f":"IF(入力シート!H893=\"\",\"\",入力シート!H893)","v":""},{"$f":"IF(入力シート!I893=\"\",\"\",入力シート!I893)","v":""},{"$f":"IF(入力シート!J893=\"\",\"\",入力シート!J893)","v":""},{"$f":"IF(入力シート!K893=\"\",\"\",入力シート!K893)","v":""},{"$f":"IF(入力シート!L893=\"\",\"\",入力シート!L893)","v":""},{"$f":"IF(入力シート!M893=\"\",\"\",入力シート!M893)","v":""},{"$f":"IF(入力シート!N893=\"\",\"\",入力シート!N893)","v":""},{"$f":"IF(入力シート!O893=\"\",\"\",入力シート!Q893)","v":""}]
[{"$f":"IF(入力シート!A894=\"\",\"\",入力シート!A894)","v":""},{"$f":"IF(入力シート!B894=\"\",\"\",入力シート!B894)","v":""},{"$f":"IF(入力シート!C894=\"\",\"\",入力シート!C894)","v":""},{"$f":"IF(入力シート!D894=\"\",\"\",TEXT(入力シート!D894,\"yyyy-mm-dd\"))","v":""},{"$f":"IF(入力シート!P894=\"\",\"\",TEXT(入力シート!P894,\"000-0000\"))","v":""},{"$f":"IF(入力シート!G894=\"\",\"\",入力シート!G894)","v":""},{"$f":"IF(入力シート!H894=\"\",\"\",入力シート!H894)","v":""},{"$f":"IF(入力シート!I894=\"\",\"\",入力シート!I894)","v":""},{"$f":"IF(入力シート!J894=\"\",\"\",入力シート!J894)","v":""},{"$f":"IF(入力シート!K894=\"\",\"\",入力シート!K894)","v":""},{"$f":"IF(入力シート!L894=\"\",\"\",入力シート!L894)","v":""},{"$f":"IF(入力シート!M894=\"\",\"\",入力シート!M894)","v":""},{"$f":"IF(入力シート!N894=\"\",\"\",入力シート!N894)","v":""},{"$f":"IF(入力シート!O894=\"\",\"\",入力シート!Q894)","v":""}]
[{"$f":"IF(入力シート!A895=\"\",\"\",入力シート!A895)","v":""},{"$f":"IF(入力シート!B895=\"\",\"\",入力シート!B895)","v":""},{"$f":"IF(入力シート!C895=\"\",\"\",入力シート!C895)","v":""},{"$f":"IF(入力シート!D895=\"\",\"\",TEXT(入力シート!D895,\"yyyy-mm-dd\"))","v":""},{"$f":"IF(入力シート!P895=\"\",\"\",TEXT(入力シート!P895,\"000-0000\"))","v":""},{"$f":"IF(入力シート!G895=\"\",\"\",入力シート!G895)","v":""},{"$f":"IF(入力シート!H895=\"\",\"\",入力シート!H895)","v":""},{"$f":"IF(入力シート!I895=\"\",\"\",入力シート!I895)","v":""},{"$f":"IF(入力シート!J895=\"\",\"\",入力シート!J895)","v":""},{"$f":"IF(入力シート!K895=\"\",\"\",入力シート!K895)","v":""},{"$f":"IF(入力シート!L895=\"\",\"\",入力シート!L895)","v":""},{"$f":"IF(入力シート!M895=\"\",\"\",入力シート!M895)","v":""},{"$f":"IF(入力シート!N895=\"\",\"\",入力シート!N895)","v":""},{"$f":"IF(入力シート!O895=\"\",\"\",入力シート!Q895)","v":""}]
[{"$f":"IF(入力シート!A896=\"\",\"\",入力シート!A896)","v":""},{"$f":"IF(入力シート!B896=\"\",\"\",入力シート!B896)","v":""},{"$f":"IF(入力シート!C896=\"\",\"\",入力シート!C896)","v":""},{"$f":"IF(入力シート!D896=\"\",\"\",TEXT(入力シート!D896,\"yyyy-mm-dd\"))","v":""},{"$f":"IF(入力シート!P896=\"\",\"\",TEXT(入力シート!P896,\"000-0000\"))","v":""},{"$f":"IF(入力シート!G896=\"\",\"\",入力シート!G896)","v":""},{"$f":"IF(入力シート!H896=\"\",\"\",入力シート!H896)","v":""},{"$f":"IF(入力シート!I896=\"\",\"\",入力シート!I896)","v":""},{"$f":"IF(入力シート!J896=\"\",\"\",入力シート!J896)","v":""},{"$f":"IF(入力シート!K896=\"\",\"\",入力シート!K896)","v":""},{"$f":"IF(入力シート!L896=\"\",\"\",入力シート!L896)","v":""},{"$f":"IF(入力シート!M896=\"\",\"\",入力シート!M896)","v":""},{"$f":"IF(入力シート!N896=\"\",\"\",入力シート!N896)","v":""},{"$f":"IF(入力シート!O896=\"\",\"\",入力シート!Q896)","v":""}]
[{"$f":"IF(入力シート!A897=\"\",\"\",入力シート!A897)","v":""},{"$f":"IF(入力シート!B897=\"\",\"\",入力シート!B897)","v":""},{"$f":"IF(入力シート!C897=\"\",\"\",入力シート!C897)","v":""},{"$f":"IF(入力シート!D897=\"\",\"\",TEXT(入力シート!D897,\"yyyy-mm-dd\"))","v":""},{"$f":"IF(入力シート!P897=\"\",\"\",TEXT(入力シート!P897,\"000-0000\"))","v":""},{"$f":"IF(入力シート!G897=\"\",\"\",入力シート!G897)","v":""},{"$f":"IF(入力シート!H897=\"\",\"\",入力シート!H897)","v":""},{"$f":"IF(入力シート!I897=\"\",\"\",入力シート!I897)","v":""},{"$f":"IF(入力シート!J897=\"\",\"\",入力シート!J897)","v":""},{"$f":"IF(入力シート!K897=\"\",\"\",入力シート!K897)","v":""},{"$f":"IF(入力シート!L897=\"\",\"\",入力シート!L897)","v":""},{"$f":"IF(入力シート!M897=\"\",\"\",入力シート!M897)","v":""},{"$f":"IF(入力シート!N897=\"\",\"\",入力シート!N897)","v":""},{"$f":"IF(入力シート!O897=\"\",\"\",入力シート!Q897)","v":""}]
[{"$f":"IF(入力シート!A898=\"\",\"\",入力シート!A898)","v":""},{"$f":"IF(入力シート!B898=\"\",\"\",入力シート!B898)","v":""},{"$f":"IF(入力シート!C898=\"\",\"\",入力シート!C898)","v":""},{"$f":"IF(入力シート!D898=\"\",\"\",TEXT(入力シート!D898,\"yyyy-mm-dd\"))","v":""},{"$f":"IF(入力シート!P898=\"\",\"\",TEXT(入力シート!P898,\"000-0000\"))","v":""},{"$f":"IF(入力シート!G898=\"\",\"\",入力シート!G898)","v":""},{"$f":"IF(入力シート!H898=\"\",\"\",入力シート!H898)","v":""},{"$f":"IF(入力シート!I898=\"\",\"\",入力シート!I898)","v":""},{"$f":"IF(入力シート!J898=\"\",\"\",入力シート!J898)","v":""},{"$f":"IF(入力シート!K898=\"\",\"\",入力シート!K898)","v":""},{"$f":"IF(入力シート!L898=\"\",\"\",入力シート!L898)","v":""},{"$f":"IF(入力シート!M898=\"\",\"\",入力シート!M898)","v":""},{"$f":"IF(入力シート!N898=\"\",\"\",入力シート!N898)","v":""},{"$f":"IF(入力シート!O898=\"\",\"\",入力シート!Q898)","v":""}]
[{"$f":"IF(入力シート!A899=\"\",\"\",入力シート!A899)","v":""},{"$f":"IF(入力シート!B899=\"\",\"\",入力シート!B899)","v":""},{"$f":"IF(入力シート!C899=\"\",\"\",入力シート!C899)","v":""},{"$f":"IF(入力シート!D899=\"\",\"\",TEXT(入力シート!D899,\"yyyy-mm-dd\"))","v":""},{"$f":"IF(入力シート!P899=\"\",\"\",TEXT(入力シート!P899,\"000-0000\"))","v":""},{"$f":"IF(入力シート!G899=\"\",\"\",入力シート!G899)","v":""},{"$f":"IF(入力シート!H899=\"\",\"\",入力シート!H899)","v":""},{"$f":"IF(入力シート!I899=\"\",\"\",入力シート!I899)","v":""},{"$f":"IF(入力シート!J899=\"\",\"\",入力シート!J899)","v":""},{"$f":"IF(入力シート!K899=\"\",\"\",入力シート!K899)","v":""},{"$f":"IF(入力シート!L899=\"\",\"\",入力シート!L899)","v":""},{"$f":"IF(入力シート!M899=\"\",\"\",入力シート!M899)","v":""},{"$f":"IF(入力シート!N899=\"\",\"\",入力シート!N899)","v":""},{"$f":"IF(入力シート!O899=\"\",\"\",入力シート!Q899)","v":""}]
[{"$f":"IF(入力シート!A900=\"\",\"\",入力シート!A900)","v":""},{"$f":"IF(入力シート!B900=\"\",\"\",入力シート!B900)","v":""},{"$f":"IF(入力シート!C900=\"\",\"\",入力シート!C900)","v":""},{"$f":"IF(入力シート!D900=\"\",\"\",TEXT(入力シート!D900,\"yyyy-mm-dd\"))","v":""},{"$f":"IF(入力シート!P900=\"\",\"\",TEXT(入力シート!P900,\"000-0000\"))","v":""},{"$f":"IF(入力シート!G900=\"\",\"\",入力シート!G900)","v":""},{"$f":"IF(入力シート!H900=\"\",\"\",入力シート!H900)","v":""},{"$f":"IF(入力シート!I900=\"\",\"\",入力シート!I900)","v":""},{"$f":"IF(入力シート!J900=\"\",\"\",入力シート!J900)","v":""},{"$f":"IF(入力シート!K900=\"\",\"\",入力シート!K900)","v":""},{"$f":"IF(入力シート!L900=\"\",\"\",入力シート!L900)","v":""},{"$f":"IF(入力シート!M900=\"\",\"\",入力シート!M900)","v":""},{"$f":"IF(入力シート!N900=\"\",\"\",入力シート!N900)","v":""},{"$f":"IF(入力シート!O900=\"\",\"\",入力シート!Q900)","v":""}]
[{"$f":"IF(入力シート!A901=\"\",\"\",入力シート!A901)","v":""},{"$f":"IF(入力シート!B901=\"\",\"\",入力シート!B901)","v":""},{"$f":"IF(入力シート!C901=\"\",\"\",入力シート!C901)","v":""},{"$f":"IF(入力シート!D901=\"\",\"\",TEXT(入力シート!D901,\"yyyy-mm-dd\"))","v":""},{"$f":"IF(入力シート!P901=\"\",\"\",TEXT(入力シート!P901,\"000-0000\"))","v":""},{"$f":"IF(入力シート!G901=\"\",\"\",入力シート!G901)","v":""},{"$f":"IF(入力シート!H901=\"\",\"\",入力シート!H901)","v":""},{"$f":"IF(入力シート!I901=\"\",\"\",入力シート!I901)","v":""},{"$f":"IF(入力シート!J901=\"\",\"\",入力シート!J901)","v":""},{"$f":"IF(入力シート!K901=\"\",\"\",入力シート!K901)","v":""},{"$f":"IF(入力シート!L901=\"\",\"\",入力シート!L901)","v":""},{"$f":"IF(入力シート!M901=\"\",\"\",入力シート!M901)","v":""},{"$f":"IF(入力シート!N901=\"\",\"\",入力シート!N901)","v":""},{"$f":"IF(入力シート!O901=\"\",\"\",入力シート!Q901)","v":""}]
[{"$f":"IF(入力シート!A902=\"\",\"\",入力シート!A902)","v":""},{"$f":"IF(入力シート!B902=\"\",\"\",入力シート!B902)","v":""},{"$f":"IF(入力シート!C902=\"\",\"\",入力シート!C902)","v":""},{"$f":"IF(入力シート!D902=\"\",\"\",TEXT(入力シート!D902,\"yyyy-mm-dd\"))","v":""},{"$f":"IF(入力シート!P902=\"\",\"\",TEXT(入力シート!P902,\"000-0000\"))","v":""},{"$f":"IF(入力シート!G902=\"\",\"\",入力シート!G902)","v":""},{"$f":"IF(入力シート!H902=\"\",\"\",入力シート!H902)","v":""},{"$f":"IF(入力シート!I902=\"\",\"\",入力シート!I902)","v":""},{"$f":"IF(入力シート!J902=\"\",\"\",入力シート!J902)","v":""},{"$f":"IF(入力シート!K902=\"\",\"\",入力シート!K902)","v":""},{"$f":"IF(入力シート!L902=\"\",\"\",入力シート!L902)","v":""},{"$f":"IF(入力シート!M902=\"\",\"\",入力シート!M902)","v":""},{"$f":"IF(入力シート!N902=\"\",\"\",入力シート!N902)","v":""},{"$f":"IF(入力シート!O902=\"\",\"\",入力シート!Q902)","v":""}]
[{"$f":"IF(入力シート!A903=\"\",\"\",入力シート!A903)","v":""},{"$f":"IF(入力シート!B903=\"\",\"\",入力シート!B903)","v":""},{"$f":"IF(入力シート!C903=\"\",\"\",入力シート!C903)","v":""},{"$f":"IF(入力シート!D903=\"\",\"\",TEXT(入力シート!D903,\"yyyy-mm-dd\"))","v":""},{"$f":"IF(入力シート!P903=\"\",\"\",TEXT(入力シート!P903,\"000-0000\"))","v":""},{"$f":"IF(入力シート!G903=\"\",\"\",入力シート!G903)","v":""},{"$f":"IF(入力シート!H903=\"\",\"\",入力シート!H903)","v":""},{"$f":"IF(入力シート!I903=\"\",\"\",入力シート!I903)","v":""},{"$f":"IF(入力シート!J903=\"\",\"\",入力シート!J903)","v":""},{"$f":"IF(入力シート!K903=\"\",\"\",入力シート!K903)","v":""},{"$f":"IF(入力シート!L903=\"\",\"\",入力シート!L903)","v":""},{"$f":"IF(入力シート!M903=\"\",\"\",入力シート!M903)","v":""},{"$f":"IF(入力シート!N903=\"\",\"\",入力シート!N903)","v":""},{"$f":"IF(入力シート!O903=\"\",\"\",入力シート!Q903)","v":""}]
[{"$f":"IF(入力シート!A904=\"\",\"\",入力シート!A904)","v":""},{"$f":"IF(入力シート!B904=\"\",\"\",入力シート!B904)","v":""},{"$f":"IF(入力シート!C904=\"\",\"\",入力シート!C904)","v":""},{"$f":"IF(入力シート!D904=\"\",\"\",TEXT(入力シート!D904,\"yyyy-mm-dd\"))","v":""},{"$f":"IF(入力シート!P904=\"\",\"\",TEXT(入力シート!P904,\"000-0000\"))","v":""},{"$f":"IF(入力シート!G904=\"\",\"\",入力シート!G904)","v":""},{"$f":"IF(入力シート!H904=\"\",\"\",入力シート!H904)","v":""},{"$f":"IF(入力シート!I904=\"\",\"\",入力シート!I904)","v":""},{"$f":"IF(入力シート!J904=\"\",\"\",入力シート!J904)","v":""},{"$f":"IF(入力シート!K904=\"\",\"\",入力シート!K904)","v":""},{"$f":"IF(入力シート!L904=\"\",\"\",入力シート!L904)","v":""},{"$f":"IF(入力シート!M904=\"\",\"\",入力シート!M904)","v":""},{"$f":"IF(入力シート!N904=\"\",\"\",入力シート!N904)","v":""},{"$f":"IF(入力シート!O904=\"\",\"\",入力シート!Q904)","v":""}]
[{"$f":"IF(入力シート!A905=\"\",\"\",入力シート!A905)","v":""},{"$f":"IF(入力シート!B905=\"\",\"\",入力シート!B905)","v":""},{"$f":"IF(入力シート!C905=\"\",\"\",入力シート!C905)","v":""},{"$f":"IF(入力シート!D905=\"\",\"\",TEXT(入力シート!D905,\"yyyy-mm-dd\"))","v":""},{"$f":"IF(入力シート!P905=\"\",\"\",TEXT(入力シート!P905,\"000-0000\"))","v":""},{"$f":"IF(入力シート!G905=\"\",\"\",入力シート!G905)","v":""},{"$f":"IF(入力シート!H905=\"\",\"\",入力シート!H905)","v":""},{"$f":"IF(入力シート!I905=\"\",\"\",入力シート!I905)","v":""},{"$f":"IF(入力シート!J905=\"\",\"\",入力シート!J905)","v":""},{"$f":"IF(入力シート!K905=\"\",\"\",入力シート!K905)","v":""},{"$f":"IF(入力シート!L905=\"\",\"\",入力シート!L905)","v":""},{"$f":"IF(入力シート!M905=\"\",\"\",入力シート!M905)","v":""},{"$f":"IF(入力シート!N905=\"\",\"\",入力シート!N905)","v":""},{"$f":"IF(入力シート!O905=\"\",\"\",入力シート!Q905)","v":""}]
[{"$f":"IF(入力シート!A906=\"\",\"\",入力シート!A906)","v":""},{"$f":"IF(入力シート!B906=\"\",\"\",入力シート!B906)","v":""},{"$f":"IF(入力シート!C906=\"\",\"\",入力シート!C906)","v":""},{"$f":"IF(入力シート!D906=\"\",\"\",TEXT(入力シート!D906,\"yyyy-mm-dd\"))","v":""},{"$f":"IF(入力シート!P906=\"\",\"\",TEXT(入力シート!P906,\"000-0000\"))","v":""},{"$f":"IF(入力シート!G906=\"\",\"\",入力シート!G906)","v":""},{"$f":"IF(入力シート!H906=\"\",\"\",入力シート!H906)","v":""},{"$f":"IF(入力シート!I906=\"\",\"\",入力シート!I906)","v":""},{"$f":"IF(入力シート!J906=\"\",\"\",入力シート!J906)","v":""},{"$f":"IF(入力シート!K906=\"\",\"\",入力シート!K906)","v":""},{"$f":"IF(入力シート!L906=\"\",\"\",入力シート!L906)","v":""},{"$f":"IF(入力シート!M906=\"\",\"\",入力シート!M906)","v":""},{"$f":"IF(入力シート!N906=\"\",\"\",入力シート!N906)","v":""},{"$f":"IF(入力シート!O906=\"\",\"\",入力シート!Q906)","v":""}]
[{"$f":"IF(入力シート!A907=\"\",\"\",入力シート!A907)","v":""},{"$f":"IF(入力シート!B907=\"\",\"\",入力シート!B907)","v":""},{"$f":"IF(入力シート!C907=\"\",\"\",入力シート!C907)","v":""},{"$f":"IF(入力シート!D907=\"\",\"\",TEXT(入力シート!D907,\"yyyy-mm-dd\"))","v":""},{"$f":"IF(入力シート!P907=\"\",\"\",TEXT(入力シート!P907,\"000-0000\"))","v":""},{"$f":"IF(入力シート!G907=\"\",\"\",入力シート!G907)","v":""},{"$f":"IF(入力シート!H907=\"\",\"\",入力シート!H907)","v":""},{"$f":"IF(入力シート!I907=\"\",\"\",入力シート!I907)","v":""},{"$f":"IF(入力シート!J907=\"\",\"\",入力シート!J907)","v":""},{"$f":"IF(入力シート!K907=\"\",\"\",入力シート!K907)","v":""},{"$f":"IF(入力シート!L907=\"\",\"\",入力シート!L907)","v":""},{"$f":"IF(入力シート!M907=\"\",\"\",入力シート!M907)","v":""},{"$f":"IF(入力シート!N907=\"\",\"\",入力シート!N907)","v":""},{"$f":"IF(入力シート!O907=\"\",\"\",入力シート!Q907)","v":""}]
[{"$f":"IF(入力シート!A908=\"\",\"\",入力シート!A908)","v":""},{"$f":"IF(入力シート!B908=\"\",\"\",入力シート!B908)","v":""},{"$f":"IF(入力シート!C908=\"\",\"\",入力シート!C908)","v":""},{"$f":"IF(入力シート!D908=\"\",\"\",TEXT(入力シート!D908,\"yyyy-mm-dd\"))","v":""},{"$f":"IF(入力シート!P908=\"\",\"\",TEXT(入力シート!P908,\"000-0000\"))","v":""},{"$f":"IF(入力シート!G908=\"\",\"\",入力シート!G908)","v":""},{"$f":"IF(入力シート!H908=\"\",\"\",入力シート!H908)","v":""},{"$f":"IF(入力シート!I908=\"\",\"\",入力シート!I908)","v":""},{"$f":"IF(入力シート!J908=\"\",\"\",入力シート!J908)","v":""},{"$f":"IF(入力シート!K908=\"\",\"\",入力シート!K908)","v":""},{"$f":"IF(入力シート!L908=\"\",\"\",入力シート!L908)","v":""},{"$f":"IF(入力シート!M908=\"\",\"\",入力シート!M908)","v":""},{"$f":"IF(入力シート!N908=\"\",\"\",入力シート!N908)","v":""},{"$f":"IF(入力シート!O908=\"\",\"\",入力シート!Q908)","v":""}]
[{"$f":"IF(入力シート!A909=\"\",\"\",入力シート!A909)","v":""},{"$f":"IF(入力シート!B909=\"\",\"\",入力シート!B909)","v":""},{"$f":"IF(入力シート!C909=\"\",\"\",入力シート!C909)","v":""},{"$f":"IF(入力シート!D909=\"\",\"\",TEXT(入力シート!D909,\"yyyy-mm-dd\"))","v":""},{"$f":"IF(入力シート!P909=\"\",\"\",TEXT(入力シート!P909,\"000-0000\"))","v":""},{"$f":"IF(入力シート!G909=\"\",\"\",入力シート!G909)","v":""},{"$f":"IF(入力シート!H909=\"\",\"\",入力シート!H909)","v":""},{"$f":"IF(入力シート!I909=\"\",\"\",入力シート!I909)","v":""},{"$f":"IF(入力シート!J909=\"\",\"\",入力シート!J909)","v":""},{"$f":"IF(入力シート!K909=\"\",\"\",入力シート!K909)","v":""},{"$f":"IF(入力シート!L909=\"\",\"\",入力シート!L909)","v":""},{"$f":"IF(入力シート!M909=\"\",\"\",入力シート!M909)","v":""},{"$f":"IF(入力シート!N909=\"\",\"\",入力シート!N909)","v":""},{"$f":"IF(入力シート!O909=\"\",\"\",入力シート!Q909)","v":""}]
[{"$f":"IF(入力シート!A910=\"\",\"\",入力シート!A910)","v":""},{"$f":"IF(入力シート!B910=\"\",\"\",入力シート!B910)","v":""},{"$f":"IF(入力シート!C910=\"\",\"\",入力シート!C910)","v":""},{"$f":"IF(入力シート!D910=\"\",\"\",TEXT(入力シート!D910,\"yyyy-mm-dd\"))","v":""},{"$f":"IF(入力シート!P910=\"\",\"\",TEXT(入力シート!P910,\"000-0000\"))","v":""},{"$f":"IF(入力シート!G910=\"\",\"\",入力シート!G910)","v":""},{"$f":"IF(入力シート!H910=\"\",\"\",入力シート!H910)","v":""},{"$f":"IF(入力シート!I910=\"\",\"\",入力シート!I910)","v":""},{"$f":"IF(入力シート!J910=\"\",\"\",入力シート!J910)","v":""},{"$f":"IF(入力シート!K910=\"\",\"\",入力シート!K910)","v":""},{"$f":"IF(入力シート!L910=\"\",\"\",入力シート!L910)","v":""},{"$f":"IF(入力シート!M910=\"\",\"\",入力シート!M910)","v":""},{"$f":"IF(入力シート!N910=\"\",\"\",入力シート!N910)","v":""},{"$f":"IF(入力シート!O910=\"\",\"\",入力シート!Q910)","v":""}]
[{"$f":"IF(入力シート!A911=\"\",\"\",入力シート!A911)","v":""},{"$f":"IF(入力シート!B911=\"\",\"\",入力シート!B911)","v":""},{"$f":"IF(入力シート!C911=\"\",\"\",入力シート!C911)","v":""},{"$f":"IF(入力シート!D911=\"\",\"\",TEXT(入力シート!D911,\"yyyy-mm-dd\"))","v":""},{"$f":"IF(入力シート!P911=\"\",\"\",TEXT(入力シート!P911,\"000-0000\"))","v":""},{"$f":"IF(入力シート!G911=\"\",\"\",入力シート!G911)","v":""},{"$f":"IF(入力シート!H911=\"\",\"\",入力シート!H911)","v":""},{"$f":"IF(入力シート!I911=\"\",\"\",入力シート!I911)","v":""},{"$f":"IF(入力シート!J911=\"\",\"\",入力シート!J911)","v":""},{"$f":"IF(入力シート!K911=\"\",\"\",入力シート!K911)","v":""},{"$f":"IF(入力シート!L911=\"\",\"\",入力シート!L911)","v":""},{"$f":"IF(入力シート!M911=\"\",\"\",入力シート!M911)","v":""},{"$f":"IF(入力シート!N911=\"\",\"\",入力シート!N911)","v":""},{"$f":"IF(入力シート!O911=\"\",\"\",入力シート!Q911)","v":""}]
[{"$f":"IF(入力シート!A912=\"\",\"\",入力シート!A912)","v":""},{"$f":"IF(入力シート!B912=\"\",\"\",入力シート!B912)","v":""},{"$f":"IF(入力シート!C912=\"\",\"\",入力シート!C912)","v":""},{"$f":"IF(入力シート!D912=\"\",\"\",TEXT(入力シート!D912,\"yyyy-mm-dd\"))","v":""},{"$f":"IF(入力シート!P912=\"\",\"\",TEXT(入力シート!P912,\"000-0000\"))","v":""},{"$f":"IF(入力シート!G912=\"\",\"\",入力シート!G912)","v":""},{"$f":"IF(入力シート!H912=\"\",\"\",入力シート!H912)","v":""},{"$f":"IF(入力シート!I912=\"\",\"\",入力シート!I912)","v":""},{"$f":"IF(入力シート!J912=\"\",\"\",入力シート!J912)","v":""},{"$f":"IF(入力シート!K912=\"\",\"\",入力シート!K912)","v":""},{"$f":"IF(入力シート!L912=\"\",\"\",入力シート!L912)","v":""},{"$f":"IF(入力シート!M912=\"\",\"\",入力シート!M912)","v":""},{"$f":"IF(入力シート!N912=\"\",\"\",入力シート!N912)","v":""},{"$f":"IF(入力シート!O912=\"\",\"\",入力シート!Q912)","v":""}]
[{"$f":"IF(入力シート!A913=\"\",\"\",入力シート!A913)","v":""},{"$f":"IF(入力シート!B913=\"\",\"\",入力シート!B913)","v":""},{"$f":"IF(入力シート!C913=\"\",\"\",入力シート!C913)","v":""},{"$f":"IF(入力シート!D913=\"\",\"\",TEXT(入力シート!D913,\"yyyy-mm-dd\"))","v":""},{"$f":"IF(入力シート!P913=\"\",\"\",TEXT(入力シート!P913,\"000-0000\"))","v":""},{"$f":"IF(入力シート!G913=\"\",\"\",入力シート!G913)","v":""},{"$f":"IF(入力シート!H913=\"\",\"\",入力シート!H913)","v":""},{"$f":"IF(入力シート!I913=\"\",\"\",入力シート!I913)","v":""},{"$f":"IF(入力シート!J913=\"\",\"\",入力シート!J913)","v":""},{"$f":"IF(入力シート!K913=\"\",\"\",入力シート!K913)","v":""},{"$f":"IF(入力シート!L913=\"\",\"\",入力シート!L913)","v":""},{"$f":"IF(入力シート!M913=\"\",\"\",入力シート!M913)","v":""},{"$f":"IF(入力シート!N913=\"\",\"\",入力シート!N913)","v":""},{"$f":"IF(入力シート!O913=\"\",\"\",入力シート!Q913)","v":""}]
[{"$f":"IF(入力シート!A914=\"\",\"\",入力シート!A914)","v":""},{"$f":"IF(入力シート!B914=\"\",\"\",入力シート!B914)","v":""},{"$f":"IF(入力シート!C914=\"\",\"\",入力シート!C914)","v":""},{"$f":"IF(入力シート!D914=\"\",\"\",TEXT(入力シート!D914,\"yyyy-mm-dd\"))","v":""},{"$f":"IF(入力シート!P914=\"\",\"\",TEXT(入力シート!P914,\"000-0000\"))","v":""},{"$f":"IF(入力シート!G914=\"\",\"\",入力シート!G914)","v":""},{"$f":"IF(入力シート!H914=\"\",\"\",入力シート!H914)","v":""},{"$f":"IF(入力シート!I914=\"\",\"\",入力シート!I914)","v":""},{"$f":"IF(入力シート!J914=\"\",\"\",入力シート!J914)","v":""},{"$f":"IF(入力シート!K914=\"\",\"\",入力シート!K914)","v":""},{"$f":"IF(入力シート!L914=\"\",\"\",入力シート!L914)","v":""},{"$f":"IF(入力シート!M914=\"\",\"\",入力シート!M914)","v":""},{"$f":"IF(入力シート!N914=\"\",\"\",入力シート!N914)","v":""},{"$f":"IF(入力シート!O914=\"\",\"\",入力シート!Q914)","v":""}]
[{"$f":"IF(入力シート!A915=\"\",\"\",入力シート!A915)","v":""},{"$f":"IF(入力シート!B915=\"\",\"\",入力シート!B915)","v":""},{"$f":"IF(入力シート!C915=\"\",\"\",入力シート!C915)","v":""},{"$f":"IF(入力シート!D915=\"\",\"\",TEXT(入力シート!D915,\"yyyy-mm-dd\"))","v":""},{"$f":"IF(入力シート!P915=\"\",\"\",TEXT(入力シート!P915,\"000-0000\"))","v":""},{"$f":"IF(入力シート!G915=\"\",\"\",入力シート!G915)","v":""},{"$f":"IF(入力シート!H915=\"\",\"\",入力シート!H915)","v":""},{"$f":"IF(入力シート!I915=\"\",\"\",入力シート!I915)","v":""},{"$f":"IF(入力シート!J915=\"\",\"\",入力シート!J915)","v":""},{"$f":"IF(入力シート!K915=\"\",\"\",入力シート!K915)","v":""},{"$f":"IF(入力シート!L915=\"\",\"\",入力シート!L915)","v":""},{"$f":"IF(入力シート!M915=\"\",\"\",入力シート!M915)","v":""},{"$f":"IF(入力シート!N915=\"\",\"\",入力シート!N915)","v":""},{"$f":"IF(入力シート!O915=\"\",\"\",入力シート!Q915)","v":""}]
[{"$f":"IF(入力シート!A916=\"\",\"\",入力シート!A916)","v":""},{"$f":"IF(入力シート!B916=\"\",\"\",入力シート!B916)","v":""},{"$f":"IF(入力シート!C916=\"\",\"\",入力シート!C916)","v":""},{"$f":"IF(入力シート!D916=\"\",\"\",TEXT(入力シート!D916,\"yyyy-mm-dd\"))","v":""},{"$f":"IF(入力シート!P916=\"\",\"\",TEXT(入力シート!P916,\"000-0000\"))","v":""},{"$f":"IF(入力シート!G916=\"\",\"\",入力シート!G916)","v":""},{"$f":"IF(入力シート!H916=\"\",\"\",入力シート!H916)","v":""},{"$f":"IF(入力シート!I916=\"\",\"\",入力シート!I916)","v":""},{"$f":"IF(入力シート!J916=\"\",\"\",入力シート!J916)","v":""},{"$f":"IF(入力シート!K916=\"\",\"\",入力シート!K916)","v":""},{"$f":"IF(入力シート!L916=\"\",\"\",入力シート!L916)","v":""},{"$f":"IF(入力シート!M916=\"\",\"\",入力シート!M916)","v":""},{"$f":"IF(入力シート!N916=\"\",\"\",入力シート!N916)","v":""},{"$f":"IF(入力シート!O916=\"\",\"\",入力シート!Q916)","v":""}]
[{"$f":"IF(入力シート!A917=\"\",\"\",入力シート!A917)","v":""},{"$f":"IF(入力シート!B917=\"\",\"\",入力シート!B917)","v":""},{"$f":"IF(入力シート!C917=\"\",\"\",入力シート!C917)","v":""},{"$f":"IF(入力シート!D917=\"\",\"\",TEXT(入力シート!D917,\"yyyy-mm-dd\"))","v":""},{"$f":"IF(入力シート!P917=\"\",\"\",TEXT(入力シート!P917,\"000-0000\"))","v":""},{"$f":"IF(入力シート!G917=\"\",\"\",入力シート!G917)","v":""},{"$f":"IF(入力シート!H917=\"\",\"\",入力シート!H917)","v":""},{"$f":"IF(入力シート!I917=\"\",\"\",入力シート!I917)","v":""},{"$f":"IF(入力シート!J917=\"\",\"\",入力シート!J917)","v":""},{"$f":"IF(入力シート!K917=\"\",\"\",入力シート!K917)","v":""},{"$f":"IF(入力シート!L917=\"\",\"\",入力シート!L917)","v":""},{"$f":"IF(入力シート!M917=\"\",\"\",入力シート!M917)","v":""},{"$f":"IF(入力シート!N917=\"\",\"\",入力シート!N917)","v":""},{"$f":"IF(入力シート!O917=\"\",\"\",入力シート!Q917)","v":""}]
[{"$f":"IF(入力シート!A918=\"\",\"\",入力シート!A918)","v":""},{"$f":"IF(入力シート!B918=\"\",\"\",入力シート!B918)","v":""},{"$f":"IF(入力シート!C918=\"\",\"\",入力シート!C918)","v":""},{"$f":"IF(入力シート!D918=\"\",\"\",TEXT(入力シート!D918,\"yyyy-mm-dd\"))","v":""},{"$f":"IF(入力シート!P918=\"\",\"\",TEXT(入力シート!P918,\"000-0000\"))","v":""},{"$f":"IF(入力シート!G918=\"\",\"\",入力シート!G918)","v":""},{"$f":"IF(入力シート!H918=\"\",\"\",入力シート!H918)","v":""},{"$f":"IF(入力シート!I918=\"\",\"\",入力シート!I918)","v":""},{"$f":"IF(入力シート!J918=\"\",\"\",入力シート!J918)","v":""},{"$f":"IF(入力シート!K918=\"\",\"\",入力シート!K918)","v":""},{"$f":"IF(入力シート!L918=\"\",\"\",入力シート!L918)","v":""},{"$f":"IF(入力シート!M918=\"\",\"\",入力シート!M918)","v":""},{"$f":"IF(入力シート!N918=\"\",\"\",入力シート!N918)","v":""},{"$f":"IF(入力シート!O918=\"\",\"\",入力シート!Q918)","v":""}]
[{"$f":"IF(入力シート!A919=\"\",\"\",入力シート!A919)","v":""},{"$f":"IF(入力シート!B919=\"\",\"\",入力シート!B919)","v":""},{"$f":"IF(入力シート!C919=\"\",\"\",入力シート!C919)","v":""},{"$f":"IF(入力シート!D919=\"\",\"\",TEXT(入力シート!D919,\"yyyy-mm-dd\"))","v":""},{"$f":"IF(入力シート!P919=\"\",\"\",TEXT(入力シート!P919,\"000-0000\"))","v":""},{"$f":"IF(入力シート!G919=\"\",\"\",入力シート!G919)","v":""},{"$f":"IF(入力シート!H919=\"\",\"\",入力シート!H919)","v":""},{"$f":"IF(入力シート!I919=\"\",\"\",入力シート!I919)","v":""},{"$f":"IF(入力シート!J919=\"\",\"\",入力シート!J919)","v":""},{"$f":"IF(入力シート!K919=\"\",\"\",入力シート!K919)","v":""},{"$f":"IF(入力シート!L919=\"\",\"\",入力シート!L919)","v":""},{"$f":"IF(入力シート!M919=\"\",\"\",入力シート!M919)","v":""},{"$f":"IF(入力シート!N919=\"\",\"\",入力シート!N919)","v":""},{"$f":"IF(入力シート!O919=\"\",\"\",入力シート!Q919)","v":""}]
[{"$f":"IF(入力シート!A920=\"\",\"\",入力シート!A920)","v":""},{"$f":"IF(入力シート!B920=\"\",\"\",入力シート!B920)","v":""},{"$f":"IF(入力シート!C920=\"\",\"\",入力シート!C920)","v":""},{"$f":"IF(入力シート!D920=\"\",\"\",TEXT(入力シート!D920,\"yyyy-mm-dd\"))","v":""},{"$f":"IF(入力シート!P920=\"\",\"\",TEXT(入力シート!P920,\"000-0000\"))","v":""},{"$f":"IF(入力シート!G920=\"\",\"\",入力シート!G920)","v":""},{"$f":"IF(入力シート!H920=\"\",\"\",入力シート!H920)","v":""},{"$f":"IF(入力シート!I920=\"\",\"\",入力シート!I920)","v":""},{"$f":"IF(入力シート!J920=\"\",\"\",入力シート!J920)","v":""},{"$f":"IF(入力シート!K920=\"\",\"\",入力シート!K920)","v":""},{"$f":"IF(入力シート!L920=\"\",\"\",入力シート!L920)","v":""},{"$f":"IF(入力シート!M920=\"\",\"\",入力シート!M920)","v":""},{"$f":"IF(入力シート!N920=\"\",\"\",入力シート!N920)","v":""},{"$f":"IF(入力シート!O920=\"\",\"\",入力シート!Q920)","v":""}]
[{"$f":"IF(入力シート!A921=\"\",\"\",入力シート!A921)","v":""},{"$f":"IF(入力シート!B921=\"\",\"\",入力シート!B921)","v":""},{"$f":"IF(入力シート!C921=\"\",\"\",入力シート!C921)","v":""},{"$f":"IF(入力シート!D921=\"\",\"\",TEXT(入力シート!D921,\"yyyy-mm-dd\"))","v":""},{"$f":"IF(入力シート!P921=\"\",\"\",TEXT(入力シート!P921,\"000-0000\"))","v":""},{"$f":"IF(入力シート!G921=\"\",\"\",入力シート!G921)","v":""},{"$f":"IF(入力シート!H921=\"\",\"\",入力シート!H921)","v":""},{"$f":"IF(入力シート!I921=\"\",\"\",入力シート!I921)","v":""},{"$f":"IF(入力シート!J921=\"\",\"\",入力シート!J921)","v":""},{"$f":"IF(入力シート!K921=\"\",\"\",入力シート!K921)","v":""},{"$f":"IF(入力シート!L921=\"\",\"\",入力シート!L921)","v":""},{"$f":"IF(入力シート!M921=\"\",\"\",入力シート!M921)","v":""},{"$f":"IF(入力シート!N921=\"\",\"\",入力シート!N921)","v":""},{"$f":"IF(入力シート!O921=\"\",\"\",入力シート!Q921)","v":""}]
[{"$f":"IF(入力シート!A922=\"\",\"\",入力シート!A922)","v":""},{"$f":"IF(入力シート!B922=\"\",\"\",入力シート!B922)","v":""},{"$f":"IF(入力シート!C922=\"\",\"\",入力シート!C922)","v":""},{"$f":"IF(入力シート!D922=\"\",\"\",TEXT(入力シート!D922,\"yyyy-mm-dd\"))","v":""},{"$f":"IF(入力シート!P922=\"\",\"\",TEXT(入力シート!P922,\"000-0000\"))","v":""},{"$f":"IF(入力シート!G922=\"\",\"\",入力シート!G922)","v":""},{"$f":"IF(入力シート!H922=\"\",\"\",入力シート!H922)","v":""},{"$f":"IF(入力シート!I922=\"\",\"\",入力シート!I922)","v":""},{"$f":"IF(入力シート!J922=\"\",\"\",入力シート!J922)","v":""},{"$f":"IF(入力シート!K922=\"\",\"\",入力シート!K922)","v":""},{"$f":"IF(入力シート!L922=\"\",\"\",入力シート!L922)","v":""},{"$f":"IF(入力シート!M922=\"\",\"\",入力シート!M922)","v":""},{"$f":"IF(入力シート!N922=\"\",\"\",入力シート!N922)","v":""},{"$f":"IF(入力シート!O922=\"\",\"\",入力シート!Q922)","v":""}]
[{"$f":"IF(入力シート!A923=\"\",\"\",入力シート!A923)","v":""},{"$f":"IF(入力シート!B923=\"\",\"\",入力シート!B923)","v":""},{"$f":"IF(入力シート!C923=\"\",\"\",入力シート!C923)","v":""},{"$f":"IF(入力シート!D923=\"\",\"\",TEXT(入力シート!D923,\"yyyy-mm-dd\"))","v":""},{"$f":"IF(入力シート!P923=\"\",\"\",TEXT(入力シート!P923,\"000-0000\"))","v":""},{"$f":"IF(入力シート!G923=\"\",\"\",入力シート!G923)","v":""},{"$f":"IF(入力シート!H923=\"\",\"\",入力シート!H923)","v":""},{"$f":"IF(入力シート!I923=\"\",\"\",入力シート!I923)","v":""},{"$f":"IF(入力シート!J923=\"\",\"\",入力シート!J923)","v":""},{"$f":"IF(入力シート!K923=\"\",\"\",入力シート!K923)","v":""},{"$f":"IF(入力シート!L923=\"\",\"\",入力シート!L923)","v":""},{"$f":"IF(入力シート!M923=\"\",\"\",入力シート!M923)","v":""},{"$f":"IF(入力シート!N923=\"\",\"\",入力シート!N923)","v":""},{"$f":"IF(入力シート!O923=\"\",\"\",入力シート!Q923)","v":""}]
[{"$f":"IF(入力シート!A924=\"\",\"\",入力シート!A924)","v":""},{"$f":"IF(入力シート!B924=\"\",\"\",入力シート!B924)","v":""},{"$f":"IF(入力シート!C924=\"\",\"\",入力シート!C924)","v":""},{"$f":"IF(入力シート!D924=\"\",\"\",TEXT(入力シート!D924,\"yyyy-mm-dd\"))","v":""},{"$f":"IF(入力シート!P924=\"\",\"\",TEXT(入力シート!P924,\"000-0000\"))","v":""},{"$f":"IF(入力シート!G924=\"\",\"\",入力シート!G924)","v":""},{"$f":"IF(入力シート!H924=\"\",\"\",入力シート!H924)","v":""},{"$f":"IF(入力シート!I924=\"\",\"\",入力シート!I924)","v":""},{"$f":"IF(入力シート!J924=\"\",\"\",入力シート!J924)","v":""},{"$f":"IF(入力シート!K924=\"\",\"\",入力シート!K924)","v":""},{"$f":"IF(入力シート!L924=\"\",\"\",入力シート!L924)","v":""},{"$f":"IF(入力シート!M924=\"\",\"\",入力シート!M924)","v":""},{"$f":"IF(入力シート!N924=\"\",\"\",入力シート!N924)","v":""},{"$f":"IF(入力シート!O924=\"\",\"\",入力シート!Q924)","v":""}]
[{"$f":"IF(入力シート!A925=\"\",\"\",入力シート!A925)","v":""},{"$f":"IF(入力シート!B925=\"\",\"\",入力シート!B925)","v":""},{"$f":"IF(入力シート!C925=\"\",\"\",入力シート!C925)","v":""},{"$f":"IF(入力シート!D925=\"\",\"\",TEXT(入力シート!D925,\"yyyy-mm-dd\"))","v":""},{"$f":"IF(入力シート!P925=\"\",\"\",TEXT(入力シート!P925,\"000-0000\"))","v":""},{"$f":"IF(入力シート!G925=\"\",\"\",入力シート!G925)","v":""},{"$f":"IF(入力シート!H925=\"\",\"\",入力シート!H925)","v":""},{"$f":"IF(入力シート!I925=\"\",\"\",入力シート!I925)","v":""},{"$f":"IF(入力シート!J925=\"\",\"\",入力シート!J925)","v":""},{"$f":"IF(入力シート!K925=\"\",\"\",入力シート!K925)","v":""},{"$f":"IF(入力シート!L925=\"\",\"\",入力シート!L925)","v":""},{"$f":"IF(入力シート!M925=\"\",\"\",入力シート!M925)","v":""},{"$f":"IF(入力シート!N925=\"\",\"\",入力シート!N925)","v":""},{"$f":"IF(入力シート!O925=\"\",\"\",入力シート!Q925)","v":""}]
[{"$f":"IF(入力シート!A926=\"\",\"\",入力シート!A926)","v":""},{"$f":"IF(入力シート!B926=\"\",\"\",入力シート!B926)","v":""},{"$f":"IF(入力シート!C926=\"\",\"\",入力シート!C926)","v":""},{"$f":"IF(入力シート!D926=\"\",\"\",TEXT(入力シート!D926,\"yyyy-mm-dd\"))","v":""},{"$f":"IF(入力シート!P926=\"\",\"\",TEXT(入力シート!P926,\"000-0000\"))","v":""},{"$f":"IF(入力シート!G926=\"\",\"\",入力シート!G926)","v":""},{"$f":"IF(入力シート!H926=\"\",\"\",入力シート!H926)","v":""},{"$f":"IF(入力シート!I926=\"\",\"\",入力シート!I926)","v":""},{"$f":"IF(入力シート!J926=\"\",\"\",入力シート!J926)","v":""},{"$f":"IF(入力シート!K926=\"\",\"\",入力シート!K926)","v":""},{"$f":"IF(入力シート!L926=\"\",\"\",入力シート!L926)","v":""},{"$f":"IF(入力シート!M926=\"\",\"\",入力シート!M926)","v":""},{"$f":"IF(入力シート!N926=\"\",\"\",入力シート!N926)","v":""},{"$f":"IF(入力シート!O926=\"\",\"\",入力シート!Q926)","v":""}]
[{"$f":"IF(入力シート!A927=\"\",\"\",入力シート!A927)","v":""},{"$f":"IF(入力シート!B927=\"\",\"\",入力シート!B927)","v":""},{"$f":"IF(入力シート!C927=\"\",\"\",入力シート!C927)","v":""},{"$f":"IF(入力シート!D927=\"\",\"\",TEXT(入力シート!D927,\"yyyy-mm-dd\"))","v":""},{"$f":"IF(入力シート!P927=\"\",\"\",TEXT(入力シート!P927,\"000-0000\"))","v":""},{"$f":"IF(入力シート!G927=\"\",\"\",入力シート!G927)","v":""},{"$f":"IF(入力シート!H927=\"\",\"\",入力シート!H927)","v":""},{"$f":"IF(入力シート!I927=\"\",\"\",入力シート!I927)","v":""},{"$f":"IF(入力シート!J927=\"\",\"\",入力シート!J927)","v":""},{"$f":"IF(入力シート!K927=\"\",\"\",入力シート!K927)","v":""},{"$f":"IF(入力シート!L927=\"\",\"\",入力シート!L927)","v":""},{"$f":"IF(入力シート!M927=\"\",\"\",入力シート!M927)","v":""},{"$f":"IF(入力シート!N927=\"\",\"\",入力シート!N927)","v":""},{"$f":"IF(入力シート!O927=\"\",\"\",入力シート!Q927)","v":""}]
[{"$f":"IF(入力シート!A928=\"\",\"\",入力シート!A928)","v":""},{"$f":"IF(入力シート!B928=\"\",\"\",入力シート!B928)","v":""},{"$f":"IF(入力シート!C928=\"\",\"\",入力シート!C928)","v":""},{"$f":"IF(入力シート!D928=\"\",\"\",TEXT(入力シート!D928,\"yyyy-mm-dd\"))","v":""},{"$f":"IF(入力シート!P928=\"\",\"\",TEXT(入力シート!P928,\"000-0000\"))","v":""},{"$f":"IF(入力シート!G928=\"\",\"\",入力シート!G928)","v":""},{"$f":"IF(入力シート!H928=\"\",\"\",入力シート!H928)","v":""},{"$f":"IF(入力シート!I928=\"\",\"\",入力シート!I928)","v":""},{"$f":"IF(入力シート!J928=\"\",\"\",入力シート!J928)","v":""},{"$f":"IF(入力シート!K928=\"\",\"\",入力シート!K928)","v":""},{"$f":"IF(入力シート!L928=\"\",\"\",入力シート!L928)","v":""},{"$f":"IF(入力シート!M928=\"\",\"\",入力シート!M928)","v":""},{"$f":"IF(入力シート!N928=\"\",\"\",入力シート!N928)","v":""},{"$f":"IF(入力シート!O928=\"\",\"\",入力シート!Q928)","v":""}]
[{"$f":"IF(入力シート!A929=\"\",\"\",入力シート!A929)","v":""},{"$f":"IF(入力シート!B929=\"\",\"\",入力シート!B929)","v":""},{"$f":"IF(入力シート!C929=\"\",\"\",入力シート!C929)","v":""},{"$f":"IF(入力シート!D929=\"\",\"\",TEXT(入力シート!D929,\"yyyy-mm-dd\"))","v":""},{"$f":"IF(入力シート!P929=\"\",\"\",TEXT(入力シート!P929,\"000-0000\"))","v":""},{"$f":"IF(入力シート!G929=\"\",\"\",入力シート!G929)","v":""},{"$f":"IF(入力シート!H929=\"\",\"\",入力シート!H929)","v":""},{"$f":"IF(入力シート!I929=\"\",\"\",入力シート!I929)","v":""},{"$f":"IF(入力シート!J929=\"\",\"\",入力シート!J929)","v":""},{"$f":"IF(入力シート!K929=\"\",\"\",入力シート!K929)","v":""},{"$f":"IF(入力シート!L929=\"\",\"\",入力シート!L929)","v":""},{"$f":"IF(入力シート!M929=\"\",\"\",入力シート!M929)","v":""},{"$f":"IF(入力シート!N929=\"\",\"\",入力シート!N929)","v":""},{"$f":"IF(入力シート!O929=\"\",\"\",入力シート!Q929)","v":""}]
[{"$f":"IF(入力シート!A930=\"\",\"\",入力シート!A930)","v":""},{"$f":"IF(入力シート!B930=\"\",\"\",入力シート!B930)","v":""},{"$f":"IF(入力シート!C930=\"\",\"\",入力シート!C930)","v":""},{"$f":"IF(入力シート!D930=\"\",\"\",TEXT(入力シート!D930,\"yyyy-mm-dd\"))","v":""},{"$f":"IF(入力シート!P930=\"\",\"\",TEXT(入力シート!P930,\"000-0000\"))","v":""},{"$f":"IF(入力シート!G930=\"\",\"\",入力シート!G930)","v":""},{"$f":"IF(入力シート!H930=\"\",\"\",入力シート!H930)","v":""},{"$f":"IF(入力シート!I930=\"\",\"\",入力シート!I930)","v":""},{"$f":"IF(入力シート!J930=\"\",\"\",入力シート!J930)","v":""},{"$f":"IF(入力シート!K930=\"\",\"\",入力シート!K930)","v":""},{"$f":"IF(入力シート!L930=\"\",\"\",入力シート!L930)","v":""},{"$f":"IF(入力シート!M930=\"\",\"\",入力シート!M930)","v":""},{"$f":"IF(入力シート!N930=\"\",\"\",入力シート!N930)","v":""},{"$f":"IF(入力シート!O930=\"\",\"\",入力シート!Q930)","v":""}]
[{"$f":"IF(入力シート!A931=\"\",\"\",入力シート!A931)","v":""},{"$f":"IF(入力シート!B931=\"\",\"\",入力シート!B931)","v":""},{"$f":"IF(入力シート!C931=\"\",\"\",入力シート!C931)","v":""},{"$f":"IF(入力シート!D931=\"\",\"\",TEXT(入力シート!D931,\"yyyy-mm-dd\"))","v":""},{"$f":"IF(入力シート!P931=\"\",\"\",TEXT(入力シート!P931,\"000-0000\"))","v":""},{"$f":"IF(入力シート!G931=\"\",\"\",入力シート!G931)","v":""},{"$f":"IF(入力シート!H931=\"\",\"\",入力シート!H931)","v":""},{"$f":"IF(入力シート!I931=\"\",\"\",入力シート!I931)","v":""},{"$f":"IF(入力シート!J931=\"\",\"\",入力シート!J931)","v":""},{"$f":"IF(入力シート!K931=\"\",\"\",入力シート!K931)","v":""},{"$f":"IF(入力シート!L931=\"\",\"\",入力シート!L931)","v":""},{"$f":"IF(入力シート!M931=\"\",\"\",入力シート!M931)","v":""},{"$f":"IF(入力シート!N931=\"\",\"\",入力シート!N931)","v":""},{"$f":"IF(入力シート!O931=\"\",\"\",入力シート!Q931)","v":""}]
[{"$f":"IF(入力シート!A932=\"\",\"\",入力シート!A932)","v":""},{"$f":"IF(入力シート!B932=\"\",\"\",入力シート!B932)","v":""},{"$f":"IF(入力シート!C932=\"\",\"\",入力シート!C932)","v":""},{"$f":"IF(入力シート!D932=\"\",\"\",TEXT(入力シート!D932,\"yyyy-mm-dd\"))","v":""},{"$f":"IF(入力シート!P932=\"\",\"\",TEXT(入力シート!P932,\"000-0000\"))","v":""},{"$f":"IF(入力シート!G932=\"\",\"\",入力シート!G932)","v":""},{"$f":"IF(入力シート!H932=\"\",\"\",入力シート!H932)","v":""},{"$f":"IF(入力シート!I932=\"\",\"\",入力シート!I932)","v":""},{"$f":"IF(入力シート!J932=\"\",\"\",入力シート!J932)","v":""},{"$f":"IF(入力シート!K932=\"\",\"\",入力シート!K932)","v":""},{"$f":"IF(入力シート!L932=\"\",\"\",入力シート!L932)","v":""},{"$f":"IF(入力シート!M932=\"\",\"\",入力シート!M932)","v":""},{"$f":"IF(入力シート!N932=\"\",\"\",入力シート!N932)","v":""},{"$f":"IF(入力シート!O932=\"\",\"\",入力シート!Q932)","v":""}]
[{"$f":"IF(入力シート!A933=\"\",\"\",入力シート!A933)","v":""},{"$f":"IF(入力シート!B933=\"\",\"\",入力シート!B933)","v":""},{"$f":"IF(入力シート!C933=\"\",\"\",入力シート!C933)","v":""},{"$f":"IF(入力シート!D933=\"\",\"\",TEXT(入力シート!D933,\"yyyy-mm-dd\"))","v":""},{"$f":"IF(入力シート!P933=\"\",\"\",TEXT(入力シート!P933,\"000-0000\"))","v":""},{"$f":"IF(入力シート!G933=\"\",\"\",入力シート!G933)","v":""},{"$f":"IF(入力シート!H933=\"\",\"\",入力シート!H933)","v":""},{"$f":"IF(入力シート!I933=\"\",\"\",入力シート!I933)","v":""},{"$f":"IF(入力シート!J933=\"\",\"\",入力シート!J933)","v":""},{"$f":"IF(入力シート!K933=\"\",\"\",入力シート!K933)","v":""},{"$f":"IF(入力シート!L933=\"\",\"\",入力シート!L933)","v":""},{"$f":"IF(入力シート!M933=\"\",\"\",入力シート!M933)","v":""},{"$f":"IF(入力シート!N933=\"\",\"\",入力シート!N933)","v":""},{"$f":"IF(入力シート!O933=\"\",\"\",入力シート!Q933)","v":""}]
[{"$f":"IF(入力シート!A934=\"\",\"\",入力シート!A934)","v":""},{"$f":"IF(入力シート!B934=\"\",\"\",入力シート!B934)","v":""},{"$f":"IF(入力シート!C934=\"\",\"\",入力シート!C934)","v":""},{"$f":"IF(入力シート!D934=\"\",\"\",TEXT(入力シート!D934,\"yyyy-mm-dd\"))","v":""},{"$f":"IF(入力シート!P934=\"\",\"\",TEXT(入力シート!P934,\"000-0000\"))","v":""},{"$f":"IF(入力シート!G934=\"\",\"\",入力シート!G934)","v":""},{"$f":"IF(入力シート!H934=\"\",\"\",入力シート!H934)","v":""},{"$f":"IF(入力シート!I934=\"\",\"\",入力シート!I934)","v":""},{"$f":"IF(入力シート!J934=\"\",\"\",入力シート!J934)","v":""},{"$f":"IF(入力シート!K934=\"\",\"\",入力シート!K934)","v":""},{"$f":"IF(入力シート!L934=\"\",\"\",入力シート!L934)","v":""},{"$f":"IF(入力シート!M934=\"\",\"\",入力シート!M934)","v":""},{"$f":"IF(入力シート!N934=\"\",\"\",入力シート!N934)","v":""},{"$f":"IF(入力シート!O934=\"\",\"\",入力シート!Q934)","v":""}]
[{"$f":"IF(入力シート!A935=\"\",\"\",入力シート!A935)","v":""},{"$f":"IF(入力シート!B935=\"\",\"\",入力シート!B935)","v":""},{"$f":"IF(入力シート!C935=\"\",\"\",入力シート!C935)","v":""},{"$f":"IF(入力シート!D935=\"\",\"\",TEXT(入力シート!D935,\"yyyy-mm-dd\"))","v":""},{"$f":"IF(入力シート!P935=\"\",\"\",TEXT(入力シート!P935,\"000-0000\"))","v":""},{"$f":"IF(入力シート!G935=\"\",\"\",入力シート!G935)","v":""},{"$f":"IF(入力シート!H935=\"\",\"\",入力シート!H935)","v":""},{"$f":"IF(入力シート!I935=\"\",\"\",入力シート!I935)","v":""},{"$f":"IF(入力シート!J935=\"\",\"\",入力シート!J935)","v":""},{"$f":"IF(入力シート!K935=\"\",\"\",入力シート!K935)","v":""},{"$f":"IF(入力シート!L935=\"\",\"\",入力シート!L935)","v":""},{"$f":"IF(入力シート!M935=\"\",\"\",入力シート!M935)","v":""},{"$f":"IF(入力シート!N935=\"\",\"\",入力シート!N935)","v":""},{"$f":"IF(入力シート!O935=\"\",\"\",入力シート!Q935)","v":""}]
[{"$f":"IF(入力シート!A936=\"\",\"\",入力シート!A936)","v":""},{"$f":"IF(入力シート!B936=\"\",\"\",入力シート!B936)","v":""},{"$f":"IF(入力シート!C936=\"\",\"\",入力シート!C936)","v":""},{"$f":"IF(入力シート!D936=\"\",\"\",TEXT(入力シート!D936,\"yyyy-mm-dd\"))","v":""},{"$f":"IF(入力シート!P936=\"\",\"\",TEXT(入力シート!P936,\"000-0000\"))","v":""},{"$f":"IF(入力シート!G936=\"\",\"\",入力シート!G936)","v":""},{"$f":"IF(入力シート!H936=\"\",\"\",入力シート!H936)","v":""},{"$f":"IF(入力シート!I936=\"\",\"\",入力シート!I936)","v":""},{"$f":"IF(入力シート!J936=\"\",\"\",入力シート!J936)","v":""},{"$f":"IF(入力シート!K936=\"\",\"\",入力シート!K936)","v":""},{"$f":"IF(入力シート!L936=\"\",\"\",入力シート!L936)","v":""},{"$f":"IF(入力シート!M936=\"\",\"\",入力シート!M936)","v":""},{"$f":"IF(入力シート!N936=\"\",\"\",入力シート!N936)","v":""},{"$f":"IF(入力シート!O936=\"\",\"\",入力シート!Q936)","v":""}]
[{"$f":"IF(入力シート!A937=\"\",\"\",入力シート!A937)","v":""},{"$f":"IF(入力シート!B937=\"\",\"\",入力シート!B937)","v":""},{"$f":"IF(入力シート!C937=\"\",\"\",入力シート!C937)","v":""},{"$f":"IF(入力シート!D937=\"\",\"\",TEXT(入力シート!D937,\"yyyy-mm-dd\"))","v":""},{"$f":"IF(入力シート!P937=\"\",\"\",TEXT(入力シート!P937,\"000-0000\"))","v":""},{"$f":"IF(入力シート!G937=\"\",\"\",入力シート!G937)","v":""},{"$f":"IF(入力シート!H937=\"\",\"\",入力シート!H937)","v":""},{"$f":"IF(入力シート!I937=\"\",\"\",入力シート!I937)","v":""},{"$f":"IF(入力シート!J937=\"\",\"\",入力シート!J937)","v":""},{"$f":"IF(入力シート!K937=\"\",\"\",入力シート!K937)","v":""},{"$f":"IF(入力シート!L937=\"\",\"\",入力シート!L937)","v":""},{"$f":"IF(入力シート!M937=\"\",\"\",入力シート!M937)","v":""},{"$f":"IF(入力シート!N937=\"\",\"\",入力シート!N937)","v":""},{"$f":"IF(入力シート!O937=\"\",\"\",入力シート!Q937)","v":""}]
[{"$f":"IF(入力シート!A938=\"\",\"\",入力シート!A938)","v":""},{"$f":"IF(入力シート!B938=\"\",\"\",入力シート!B938)","v":""},{"$f":"IF(入力シート!C938=\"\",\"\",入力シート!C938)","v":""},{"$f":"IF(入力シート!D938=\"\",\"\",TEXT(入力シート!D938,\"yyyy-mm-dd\"))","v":""},{"$f":"IF(入力シート!P938=\"\",\"\",TEXT(入力シート!P938,\"000-0000\"))","v":""},{"$f":"IF(入力シート!G938=\"\",\"\",入力シート!G938)","v":""},{"$f":"IF(入力シート!H938=\"\",\"\",入力シート!H938)","v":""},{"$f":"IF(入力シート!I938=\"\",\"\",入力シート!I938)","v":""},{"$f":"IF(入力シート!J938=\"\",\"\",入力シート!J938)","v":""},{"$f":"IF(入力シート!K938=\"\",\"\",入力シート!K938)","v":""},{"$f":"IF(入力シート!L938=\"\",\"\",入力シート!L938)","v":""},{"$f":"IF(入力シート!M938=\"\",\"\",入力シート!M938)","v":""},{"$f":"IF(入力シート!N938=\"\",\"\",入力シート!N938)","v":""},{"$f":"IF(入力シート!O938=\"\",\"\",入力シート!Q938)","v":""}]
[{"$f":"IF(入力シート!A939=\"\",\"\",入力シート!A939)","v":""},{"$f":"IF(入力シート!B939=\"\",\"\",入力シート!B939)","v":""},{"$f":"IF(入力シート!C939=\"\",\"\",入力シート!C939)","v":""},{"$f":"IF(入力シート!D939=\"\",\"\",TEXT(入力シート!D939,\"yyyy-mm-dd\"))","v":""},{"$f":"IF(入力シート!P939=\"\",\"\",TEXT(入力シート!P939,\"000-0000\"))","v":""},{"$f":"IF(入力シート!G939=\"\",\"\",入力シート!G939)","v":""},{"$f":"IF(入力シート!H939=\"\",\"\",入力シート!H939)","v":""},{"$f":"IF(入力シート!I939=\"\",\"\",入力シート!I939)","v":""},{"$f":"IF(入力シート!J939=\"\",\"\",入力シート!J939)","v":""},{"$f":"IF(入力シート!K939=\"\",\"\",入力シート!K939)","v":""},{"$f":"IF(入力シート!L939=\"\",\"\",入力シート!L939)","v":""},{"$f":"IF(入力シート!M939=\"\",\"\",入力シート!M939)","v":""},{"$f":"IF(入力シート!N939=\"\",\"\",入力シート!N939)","v":""},{"$f":"IF(入力シート!O939=\"\",\"\",入力シート!Q939)","v":""}]
[{"$f":"IF(入力シート!A940=\"\",\"\",入力シート!A940)","v":""},{"$f":"IF(入力シート!B940=\"\",\"\",入力シート!B940)","v":""},{"$f":"IF(入力シート!C940=\"\",\"\",入力シート!C940)","v":""},{"$f":"IF(入力シート!D940=\"\",\"\",TEXT(入力シート!D940,\"yyyy-mm-dd\"))","v":""},{"$f":"IF(入力シート!P940=\"\",\"\",TEXT(入力シート!P940,\"000-0000\"))","v":""},{"$f":"IF(入力シート!G940=\"\",\"\",入力シート!G940)","v":""},{"$f":"IF(入力シート!H940=\"\",\"\",入力シート!H940)","v":""},{"$f":"IF(入力シート!I940=\"\",\"\",入力シート!I940)","v":""},{"$f":"IF(入力シート!J940=\"\",\"\",入力シート!J940)","v":""},{"$f":"IF(入力シート!K940=\"\",\"\",入力シート!K940)","v":""},{"$f":"IF(入力シート!L940=\"\",\"\",入力シート!L940)","v":""},{"$f":"IF(入力シート!M940=\"\",\"\",入力シート!M940)","v":""},{"$f":"IF(入力シート!N940=\"\",\"\",入力シート!N940)","v":""},{"$f":"IF(入力シート!O940=\"\",\"\",入力シート!Q940)","v":""}]
[{"$f":"IF(入力シート!A941=\"\",\"\",入力シート!A941)","v":""},{"$f":"IF(入力シート!B941=\"\",\"\",入力シート!B941)","v":""},{"$f":"IF(入力シート!C941=\"\",\"\",入力シート!C941)","v":""},{"$f":"IF(入力シート!D941=\"\",\"\",TEXT(入力シート!D941,\"yyyy-mm-dd\"))","v":""},{"$f":"IF(入力シート!P941=\"\",\"\",TEXT(入力シート!P941,\"000-0000\"))","v":""},{"$f":"IF(入力シート!G941=\"\",\"\",入力シート!G941)","v":""},{"$f":"IF(入力シート!H941=\"\",\"\",入力シート!H941)","v":""},{"$f":"IF(入力シート!I941=\"\",\"\",入力シート!I941)","v":""},{"$f":"IF(入力シート!J941=\"\",\"\",入力シート!J941)","v":""},{"$f":"IF(入力シート!K941=\"\",\"\",入力シート!K941)","v":""},{"$f":"IF(入力シート!L941=\"\",\"\",入力シート!L941)","v":""},{"$f":"IF(入力シート!M941=\"\",\"\",入力シート!M941)","v":""},{"$f":"IF(入力シート!N941=\"\",\"\",入力シート!N941)","v":""},{"$f":"IF(入力シート!O941=\"\",\"\",入力シート!Q941)","v":""}]
[{"$f":"IF(入力シート!A942=\"\",\"\",入力シート!A942)","v":""},{"$f":"IF(入力シート!B942=\"\",\"\",入力シート!B942)","v":""},{"$f":"IF(入力シート!C942=\"\",\"\",入力シート!C942)","v":""},{"$f":"IF(入力シート!D942=\"\",\"\",TEXT(入力シート!D942,\"yyyy-mm-dd\"))","v":""},{"$f":"IF(入力シート!P942=\"\",\"\",TEXT(入力シート!P942,\"000-0000\"))","v":""},{"$f":"IF(入力シート!G942=\"\",\"\",入力シート!G942)","v":""},{"$f":"IF(入力シート!H942=\"\",\"\",入力シート!H942)","v":""},{"$f":"IF(入力シート!I942=\"\",\"\",入力シート!I942)","v":""},{"$f":"IF(入力シート!J942=\"\",\"\",入力シート!J942)","v":""},{"$f":"IF(入力シート!K942=\"\",\"\",入力シート!K942)","v":""},{"$f":"IF(入力シート!L942=\"\",\"\",入力シート!L942)","v":""},{"$f":"IF(入力シート!M942=\"\",\"\",入力シート!M942)","v":""},{"$f":"IF(入力シート!N942=\"\",\"\",入力シート!N942)","v":""},{"$f":"IF(入力シート!O942=\"\",\"\",入力シート!Q942)","v":""}]
[{"$f":"IF(入力シート!A943=\"\",\"\",入力シート!A943)","v":""},{"$f":"IF(入力シート!B943=\"\",\"\",入力シート!B943)","v":""},{"$f":"IF(入力シート!C943=\"\",\"\",入力シート!C943)","v":""},{"$f":"IF(入力シート!D943=\"\",\"\",TEXT(入力シート!D943,\"yyyy-mm-dd\"))","v":""},{"$f":"IF(入力シート!P943=\"\",\"\",TEXT(入力シート!P943,\"000-0000\"))","v":""},{"$f":"IF(入力シート!G943=\"\",\"\",入力シート!G943)","v":""},{"$f":"IF(入力シート!H943=\"\",\"\",入力シート!H943)","v":""},{"$f":"IF(入力シート!I943=\"\",\"\",入力シート!I943)","v":""},{"$f":"IF(入力シート!J943=\"\",\"\",入力シート!J943)","v":""},{"$f":"IF(入力シート!K943=\"\",\"\",入力シート!K943)","v":""},{"$f":"IF(入力シート!L943=\"\",\"\",入力シート!L943)","v":""},{"$f":"IF(入力シート!M943=\"\",\"\",入力シート!M943)","v":""},{"$f":"IF(入力シート!N943=\"\",\"\",入力シート!N943)","v":""},{"$f":"IF(入力シート!O943=\"\",\"\",入力シート!Q943)","v":""}]
[{"$f":"IF(入力シート!A944=\"\",\"\",入力シート!A944)","v":""},{"$f":"IF(入力シート!B944=\"\",\"\",入力シート!B944)","v":""},{"$f":"IF(入力シート!C944=\"\",\"\",入力シート!C944)","v":""},{"$f":"IF(入力シート!D944=\"\",\"\",TEXT(入力シート!D944,\"yyyy-mm-dd\"))","v":""},{"$f":"IF(入力シート!P944=\"\",\"\",TEXT(入力シート!P944,\"000-0000\"))","v":""},{"$f":"IF(入力シート!G944=\"\",\"\",入力シート!G944)","v":""},{"$f":"IF(入力シート!H944=\"\",\"\",入力シート!H944)","v":""},{"$f":"IF(入力シート!I944=\"\",\"\",入力シート!I944)","v":""},{"$f":"IF(入力シート!J944=\"\",\"\",入力シート!J944)","v":""},{"$f":"IF(入力シート!K944=\"\",\"\",入力シート!K944)","v":""},{"$f":"IF(入力シート!L944=\"\",\"\",入力シート!L944)","v":""},{"$f":"IF(入力シート!M944=\"\",\"\",入力シート!M944)","v":""},{"$f":"IF(入力シート!N944=\"\",\"\",入力シート!N944)","v":""},{"$f":"IF(入力シート!O944=\"\",\"\",入力シート!Q944)","v":""}]
[{"$f":"IF(入力シート!A945=\"\",\"\",入力シート!A945)","v":""},{"$f":"IF(入力シート!B945=\"\",\"\",入力シート!B945)","v":""},{"$f":"IF(入力シート!C945=\"\",\"\",入力シート!C945)","v":""},{"$f":"IF(入力シート!D945=\"\",\"\",TEXT(入力シート!D945,\"yyyy-mm-dd\"))","v":""},{"$f":"IF(入力シート!P945=\"\",\"\",TEXT(入力シート!P945,\"000-0000\"))","v":""},{"$f":"IF(入力シート!G945=\"\",\"\",入力シート!G945)","v":""},{"$f":"IF(入力シート!H945=\"\",\"\",入力シート!H945)","v":""},{"$f":"IF(入力シート!I945=\"\",\"\",入力シート!I945)","v":""},{"$f":"IF(入力シート!J945=\"\",\"\",入力シート!J945)","v":""},{"$f":"IF(入力シート!K945=\"\",\"\",入力シート!K945)","v":""},{"$f":"IF(入力シート!L945=\"\",\"\",入力シート!L945)","v":""},{"$f":"IF(入力シート!M945=\"\",\"\",入力シート!M945)","v":""},{"$f":"IF(入力シート!N945=\"\",\"\",入力シート!N945)","v":""},{"$f":"IF(入力シート!O945=\"\",\"\",入力シート!Q945)","v":""}]
[{"$f":"IF(入力シート!A946=\"\",\"\",入力シート!A946)","v":""},{"$f":"IF(入力シート!B946=\"\",\"\",入力シート!B946)","v":""},{"$f":"IF(入力シート!C946=\"\",\"\",入力シート!C946)","v":""},{"$f":"IF(入力シート!D946=\"\",\"\",TEXT(入力シート!D946,\"yyyy-mm-dd\"))","v":""},{"$f":"IF(入力シート!P946=\"\",\"\",TEXT(入力シート!P946,\"000-0000\"))","v":""},{"$f":"IF(入力シート!G946=\"\",\"\",入力シート!G946)","v":""},{"$f":"IF(入力シート!H946=\"\",\"\",入力シート!H946)","v":""},{"$f":"IF(入力シート!I946=\"\",\"\",入力シート!I946)","v":""},{"$f":"IF(入力シート!J946=\"\",\"\",入力シート!J946)","v":""},{"$f":"IF(入力シート!K946=\"\",\"\",入力シート!K946)","v":""},{"$f":"IF(入力シート!L946=\"\",\"\",入力シート!L946)","v":""},{"$f":"IF(入力シート!M946=\"\",\"\",入力シート!M946)","v":""},{"$f":"IF(入力シート!N946=\"\",\"\",入力シート!N946)","v":""},{"$f":"IF(入力シート!O946=\"\",\"\",入力シート!Q946)","v":""}]
[{"$f":"IF(入力シート!A947=\"\",\"\",入力シート!A947)","v":""},{"$f":"IF(入力シート!B947=\"\",\"\",入力シート!B947)","v":""},{"$f":"IF(入力シート!C947=\"\",\"\",入力シート!C947)","v":""},{"$f":"IF(入力シート!D947=\"\",\"\",TEXT(入力シート!D947,\"yyyy-mm-dd\"))","v":""},{"$f":"IF(入力シート!P947=\"\",\"\",TEXT(入力シート!P947,\"000-0000\"))","v":""},{"$f":"IF(入力シート!G947=\"\",\"\",入力シート!G947)","v":""},{"$f":"IF(入力シート!H947=\"\",\"\",入力シート!H947)","v":""},{"$f":"IF(入力シート!I947=\"\",\"\",入力シート!I947)","v":""},{"$f":"IF(入力シート!J947=\"\",\"\",入力シート!J947)","v":""},{"$f":"IF(入力シート!K947=\"\",\"\",入力シート!K947)","v":""},{"$f":"IF(入力シート!L947=\"\",\"\",入力シート!L947)","v":""},{"$f":"IF(入力シート!M947=\"\",\"\",入力シート!M947)","v":""},{"$f":"IF(入力シート!N947=\"\",\"\",入力シート!N947)","v":""},{"$f":"IF(入力シート!O947=\"\",\"\",入力シート!Q947)","v":""}]
[{"$f":"IF(入力シート!A948=\"\",\"\",入力シート!A948)","v":""},{"$f":"IF(入力シート!B948=\"\",\"\",入力シート!B948)","v":""},{"$f":"IF(入力シート!C948=\"\",\"\",入力シート!C948)","v":""},{"$f":"IF(入力シート!D948=\"\",\"\",TEXT(入力シート!D948,\"yyyy-mm-dd\"))","v":""},{"$f":"IF(入力シート!P948=\"\",\"\",TEXT(入力シート!P948,\"000-0000\"))","v":""},{"$f":"IF(入力シート!G948=\"\",\"\",入力シート!G948)","v":""},{"$f":"IF(入力シート!H948=\"\",\"\",入力シート!H948)","v":""},{"$f":"IF(入力シート!I948=\"\",\"\",入力シート!I948)","v":""},{"$f":"IF(入力シート!J948=\"\",\"\",入力シート!J948)","v":""},{"$f":"IF(入力シート!K948=\"\",\"\",入力シート!K948)","v":""},{"$f":"IF(入力シート!L948=\"\",\"\",入力シート!L948)","v":""},{"$f":"IF(入力シート!M948=\"\",\"\",入力シート!M948)","v":""},{"$f":"IF(入力シート!N948=\"\",\"\",入力シート!N948)","v":""},{"$f":"IF(入力シート!O948=\"\",\"\",入力シート!Q948)","v":""}]
[{"$f":"IF(入力シート!A949=\"\",\"\",入力シート!A949)","v":""},{"$f":"IF(入力シート!B949=\"\",\"\",入力シート!B949)","v":""},{"$f":"IF(入力シート!C949=\"\",\"\",入力シート!C949)","v":""},{"$f":"IF(入力シート!D949=\"\",\"\",TEXT(入力シート!D949,\"yyyy-mm-dd\"))","v":""},{"$f":"IF(入力シート!P949=\"\",\"\",TEXT(入力シート!P949,\"000-0000\"))","v":""},{"$f":"IF(入力シート!G949=\"\",\"\",入力シート!G949)","v":""},{"$f":"IF(入力シート!H949=\"\",\"\",入力シート!H949)","v":""},{"$f":"IF(入力シート!I949=\"\",\"\",入力シート!I949)","v":""},{"$f":"IF(入力シート!J949=\"\",\"\",入力シート!J949)","v":""},{"$f":"IF(入力シート!K949=\"\",\"\",入力シート!K949)","v":""},{"$f":"IF(入力シート!L949=\"\",\"\",入力シート!L949)","v":""},{"$f":"IF(入力シート!M949=\"\",\"\",入力シート!M949)","v":""},{"$f":"IF(入力シート!N949=\"\",\"\",入力シート!N949)","v":""},{"$f":"IF(入力シート!O949=\"\",\"\",入力シート!Q949)","v":""}]
[{"$f":"IF(入力シート!A950=\"\",\"\",入力シート!A950)","v":""},{"$f":"IF(入力シート!B950=\"\",\"\",入力シート!B950)","v":""},{"$f":"IF(入力シート!C950=\"\",\"\",入力シート!C950)","v":""},{"$f":"IF(入力シート!D950=\"\",\"\",TEXT(入力シート!D950,\"yyyy-mm-dd\"))","v":""},{"$f":"IF(入力シート!P950=\"\",\"\",TEXT(入力シート!P950,\"000-0000\"))","v":""},{"$f":"IF(入力シート!G950=\"\",\"\",入力シート!G950)","v":""},{"$f":"IF(入力シート!H950=\"\",\"\",入力シート!H950)","v":""},{"$f":"IF(入力シート!I950=\"\",\"\",入力シート!I950)","v":""},{"$f":"IF(入力シート!J950=\"\",\"\",入力シート!J950)","v":""},{"$f":"IF(入力シート!K950=\"\",\"\",入力シート!K950)","v":""},{"$f":"IF(入力シート!L950=\"\",\"\",入力シート!L950)","v":""},{"$f":"IF(入力シート!M950=\"\",\"\",入力シート!M950)","v":""},{"$f":"IF(入力シート!N950=\"\",\"\",入力シート!N950)","v":""},{"$f":"IF(入力シート!O950=\"\",\"\",入力シート!Q950)","v":""}]
[{"$f":"IF(入力シート!A951=\"\",\"\",入力シート!A951)","v":""},{"$f":"IF(入力シート!B951=\"\",\"\",入力シート!B951)","v":""},{"$f":"IF(入力シート!C951=\"\",\"\",入力シート!C951)","v":""},{"$f":"IF(入力シート!D951=\"\",\"\",TEXT(入力シート!D951,\"yyyy-mm-dd\"))","v":""},{"$f":"IF(入力シート!P951=\"\",\"\",TEXT(入力シート!P951,\"000-0000\"))","v":""},{"$f":"IF(入力シート!G951=\"\",\"\",入力シート!G951)","v":""},{"$f":"IF(入力シート!H951=\"\",\"\",入力シート!H951)","v":""},{"$f":"IF(入力シート!I951=\"\",\"\",入力シート!I951)","v":""},{"$f":"IF(入力シート!J951=\"\",\"\",入力シート!J951)","v":""},{"$f":"IF(入力シート!K951=\"\",\"\",入力シート!K951)","v":""},{"$f":"IF(入力シート!L951=\"\",\"\",入力シート!L951)","v":""},{"$f":"IF(入力シート!M951=\"\",\"\",入力シート!M951)","v":""},{"$f":"IF(入力シート!N951=\"\",\"\",入力シート!N951)","v":""},{"$f":"IF(入力シート!O951=\"\",\"\",入力シート!Q951)","v":""}]
[{"$f":"IF(入力シート!A952=\"\",\"\",入力シート!A952)","v":""},{"$f":"IF(入力シート!B952=\"\",\"\",入力シート!B952)","v":""},{"$f":"IF(入力シート!C952=\"\",\"\",入力シート!C952)","v":""},{"$f":"IF(入力シート!D952=\"\",\"\",TEXT(入力シート!D952,\"yyyy-mm-dd\"))","v":""},{"$f":"IF(入力シート!P952=\"\",\"\",TEXT(入力シート!P952,\"000-0000\"))","v":""},{"$f":"IF(入力シート!G952=\"\",\"\",入力シート!G952)","v":""},{"$f":"IF(入力シート!H952=\"\",\"\",入力シート!H952)","v":""},{"$f":"IF(入力シート!I952=\"\",\"\",入力シート!I952)","v":""},{"$f":"IF(入力シート!J952=\"\",\"\",入力シート!J952)","v":""},{"$f":"IF(入力シート!K952=\"\",\"\",入力シート!K952)","v":""},{"$f":"IF(入力シート!L952=\"\",\"\",入力シート!L952)","v":""},{"$f":"IF(入力シート!M952=\"\",\"\",入力シート!M952)","v":""},{"$f":"IF(入力シート!N952=\"\",\"\",入力シート!N952)","v":""},{"$f":"IF(入力シート!O952=\"\",\"\",入力シート!Q952)","v":""}]
[{"$f":"IF(入力シート!A953=\"\",\"\",入力シート!A953)","v":""},{"$f":"IF(入力シート!B953=\"\",\"\",入力シート!B953)","v":""},{"$f":"IF(入力シート!C953=\"\",\"\",入力シート!C953)","v":""},{"$f":"IF(入力シート!D953=\"\",\"\",TEXT(入力シート!D953,\"yyyy-mm-dd\"))","v":""},{"$f":"IF(入力シート!P953=\"\",\"\",TEXT(入力シート!P953,\"000-0000\"))","v":""},{"$f":"IF(入力シート!G953=\"\",\"\",入力シート!G953)","v":""},{"$f":"IF(入力シート!H953=\"\",\"\",入力シート!H953)","v":""},{"$f":"IF(入力シート!I953=\"\",\"\",入力シート!I953)","v":""},{"$f":"IF(入力シート!J953=\"\",\"\",入力シート!J953)","v":""},{"$f":"IF(入力シート!K953=\"\",\"\",入力シート!K953)","v":""},{"$f":"IF(入力シート!L953=\"\",\"\",入力シート!L953)","v":""},{"$f":"IF(入力シート!M953=\"\",\"\",入力シート!M953)","v":""},{"$f":"IF(入力シート!N953=\"\",\"\",入力シート!N953)","v":""},{"$f":"IF(入力シート!O953=\"\",\"\",入力シート!Q953)","v":""}]
[{"$f":"IF(入力シート!A954=\"\",\"\",入力シート!A954)","v":""},{"$f":"IF(入力シート!B954=\"\",\"\",入力シート!B954)","v":""},{"$f":"IF(入力シート!C954=\"\",\"\",入力シート!C954)","v":""},{"$f":"IF(入力シート!D954=\"\",\"\",TEXT(入力シート!D954,\"yyyy-mm-dd\"))","v":""},{"$f":"IF(入力シート!P954=\"\",\"\",TEXT(入力シート!P954,\"000-0000\"))","v":""},{"$f":"IF(入力シート!G954=\"\",\"\",入力シート!G954)","v":""},{"$f":"IF(入力シート!H954=\"\",\"\",入力シート!H954)","v":""},{"$f":"IF(入力シート!I954=\"\",\"\",入力シート!I954)","v":""},{"$f":"IF(入力シート!J954=\"\",\"\",入力シート!J954)","v":""},{"$f":"IF(入力シート!K954=\"\",\"\",入力シート!K954)","v":""},{"$f":"IF(入力シート!L954=\"\",\"\",入力シート!L954)","v":""},{"$f":"IF(入力シート!M954=\"\",\"\",入力シート!M954)","v":""},{"$f":"IF(入力シート!N954=\"\",\"\",入力シート!N954)","v":""},{"$f":"IF(入力シート!O954=\"\",\"\",入力シート!Q954)","v":""}]
[{"$f":"IF(入力シート!A955=\"\",\"\",入力シート!A955)","v":""},{"$f":"IF(入力シート!B955=\"\",\"\",入力シート!B955)","v":""},{"$f":"IF(入力シート!C955=\"\",\"\",入力シート!C955)","v":""},{"$f":"IF(入力シート!D955=\"\",\"\",TEXT(入力シート!D955,\"yyyy-mm-dd\"))","v":""},{"$f":"IF(入力シート!P955=\"\",\"\",TEXT(入力シート!P955,\"000-0000\"))","v":""},{"$f":"IF(入力シート!G955=\"\",\"\",入力シート!G955)","v":""},{"$f":"IF(入力シート!H955=\"\",\"\",入力シート!H955)","v":""},{"$f":"IF(入力シート!I955=\"\",\"\",入力シート!I955)","v":""},{"$f":"IF(入力シート!J955=\"\",\"\",入力シート!J955)","v":""},{"$f":"IF(入力シート!K955=\"\",\"\",入力シート!K955)","v":""},{"$f":"IF(入力シート!L955=\"\",\"\",入力シート!L955)","v":""},{"$f":"IF(入力シート!M955=\"\",\"\",入力シート!M955)","v":""},{"$f":"IF(入力シート!N955=\"\",\"\",入力シート!N955)","v":""},{"$f":"IF(入力シート!O955=\"\",\"\",入力シート!Q955)","v":""}]
[{"$f":"IF(入力シート!A956=\"\",\"\",入力シート!A956)","v":""},{"$f":"IF(入力シート!B956=\"\",\"\",入力シート!B956)","v":""},{"$f":"IF(入力シート!C956=\"\",\"\",入力シート!C956)","v":""},{"$f":"IF(入力シート!D956=\"\",\"\",TEXT(入力シート!D956,\"yyyy-mm-dd\"))","v":""},{"$f":"IF(入力シート!P956=\"\",\"\",TEXT(入力シート!P956,\"000-0000\"))","v":""},{"$f":"IF(入力シート!G956=\"\",\"\",入力シート!G956)","v":""},{"$f":"IF(入力シート!H956=\"\",\"\",入力シート!H956)","v":""},{"$f":"IF(入力シート!I956=\"\",\"\",入力シート!I956)","v":""},{"$f":"IF(入力シート!J956=\"\",\"\",入力シート!J956)","v":""},{"$f":"IF(入力シート!K956=\"\",\"\",入力シート!K956)","v":""},{"$f":"IF(入力シート!L956=\"\",\"\",入力シート!L956)","v":""},{"$f":"IF(入力シート!M956=\"\",\"\",入力シート!M956)","v":""},{"$f":"IF(入力シート!N956=\"\",\"\",入力シート!N956)","v":""},{"$f":"IF(入力シート!O956=\"\",\"\",入力シート!Q956)","v":""}]
[{"$f":"IF(入力シート!A957=\"\",\"\",入力シート!A957)","v":""},{"$f":"IF(入力シート!B957=\"\",\"\",入力シート!B957)","v":""},{"$f":"IF(入力シート!C957=\"\",\"\",入力シート!C957)","v":""},{"$f":"IF(入力シート!D957=\"\",\"\",TEXT(入力シート!D957,\"yyyy-mm-dd\"))","v":""},{"$f":"IF(入力シート!P957=\"\",\"\",TEXT(入力シート!P957,\"000-0000\"))","v":""},{"$f":"IF(入力シート!G957=\"\",\"\",入力シート!G957)","v":""},{"$f":"IF(入力シート!H957=\"\",\"\",入力シート!H957)","v":""},{"$f":"IF(入力シート!I957=\"\",\"\",入力シート!I957)","v":""},{"$f":"IF(入力シート!J957=\"\",\"\",入力シート!J957)","v":""},{"$f":"IF(入力シート!K957=\"\",\"\",入力シート!K957)","v":""},{"$f":"IF(入力シート!L957=\"\",\"\",入力シート!L957)","v":""},{"$f":"IF(入力シート!M957=\"\",\"\",入力シート!M957)","v":""},{"$f":"IF(入力シート!N957=\"\",\"\",入力シート!N957)","v":""},{"$f":"IF(入力シート!O957=\"\",\"\",入力シート!Q957)","v":""}]
[{"$f":"IF(入力シート!A958=\"\",\"\",入力シート!A958)","v":""},{"$f":"IF(入力シート!B958=\"\",\"\",入力シート!B958)","v":""},{"$f":"IF(入力シート!C958=\"\",\"\",入力シート!C958)","v":""},{"$f":"IF(入力シート!D958=\"\",\"\",TEXT(入力シート!D958,\"yyyy-mm-dd\"))","v":""},{"$f":"IF(入力シート!P958=\"\",\"\",TEXT(入力シート!P958,\"000-0000\"))","v":""},{"$f":"IF(入力シート!G958=\"\",\"\",入力シート!G958)","v":""},{"$f":"IF(入力シート!H958=\"\",\"\",入力シート!H958)","v":""},{"$f":"IF(入力シート!I958=\"\",\"\",入力シート!I958)","v":""},{"$f":"IF(入力シート!J958=\"\",\"\",入力シート!J958)","v":""},{"$f":"IF(入力シート!K958=\"\",\"\",入力シート!K958)","v":""},{"$f":"IF(入力シート!L958=\"\",\"\",入力シート!L958)","v":""},{"$f":"IF(入力シート!M958=\"\",\"\",入力シート!M958)","v":""},{"$f":"IF(入力シート!N958=\"\",\"\",入力シート!N958)","v":""},{"$f":"IF(入力シート!O958=\"\",\"\",入力シート!Q958)","v":""}]
[{"$f":"IF(入力シート!A959=\"\",\"\",入力シート!A959)","v":""},{"$f":"IF(入力シート!B959=\"\",\"\",入力シート!B959)","v":""},{"$f":"IF(入力シート!C959=\"\",\"\",入力シート!C959)","v":""},{"$f":"IF(入力シート!D959=\"\",\"\",TEXT(入力シート!D959,\"yyyy-mm-dd\"))","v":""},{"$f":"IF(入力シート!P959=\"\",\"\",TEXT(入力シート!P959,\"000-0000\"))","v":""},{"$f":"IF(入力シート!G959=\"\",\"\",入力シート!G959)","v":""},{"$f":"IF(入力シート!H959=\"\",\"\",入力シート!H959)","v":""},{"$f":"IF(入力シート!I959=\"\",\"\",入力シート!I959)","v":""},{"$f":"IF(入力シート!J959=\"\",\"\",入力シート!J959)","v":""},{"$f":"IF(入力シート!K959=\"\",\"\",入力シート!K959)","v":""},{"$f":"IF(入力シート!L959=\"\",\"\",入力シート!L959)","v":""},{"$f":"IF(入力シート!M959=\"\",\"\",入力シート!M959)","v":""},{"$f":"IF(入力シート!N959=\"\",\"\",入力シート!N959)","v":""},{"$f":"IF(入力シート!O959=\"\",\"\",入力シート!Q959)","v":""}]
[{"$f":"IF(入力シート!A960=\"\",\"\",入力シート!A960)","v":""},{"$f":"IF(入力シート!B960=\"\",\"\",入力シート!B960)","v":""},{"$f":"IF(入力シート!C960=\"\",\"\",入力シート!C960)","v":""},{"$f":"IF(入力シート!D960=\"\",\"\",TEXT(入力シート!D960,\"yyyy-mm-dd\"))","v":""},{"$f":"IF(入力シート!P960=\"\",\"\",TEXT(入力シート!P960,\"000-0000\"))","v":""},{"$f":"IF(入力シート!G960=\"\",\"\",入力シート!G960)","v":""},{"$f":"IF(入力シート!H960=\"\",\"\",入力シート!H960)","v":""},{"$f":"IF(入力シート!I960=\"\",\"\",入力シート!I960)","v":""},{"$f":"IF(入力シート!J960=\"\",\"\",入力シート!J960)","v":""},{"$f":"IF(入力シート!K960=\"\",\"\",入力シート!K960)","v":""},{"$f":"IF(入力シート!L960=\"\",\"\",入力シート!L960)","v":""},{"$f":"IF(入力シート!M960=\"\",\"\",入力シート!M960)","v":""},{"$f":"IF(入力シート!N960=\"\",\"\",入力シート!N960)","v":""},{"$f":"IF(入力シート!O960=\"\",\"\",入力シート!Q960)","v":""}]
[{"$f":"IF(入力シート!A961=\"\",\"\",入力シート!A961)","v":""},{"$f":"IF(入力シート!B961=\"\",\"\",入力シート!B961)","v":""},{"$f":"IF(入力シート!C961=\"\",\"\",入力シート!C961)","v":""},{"$f":"IF(入力シート!D961=\"\",\"\",TEXT(入力シート!D961,\"yyyy-mm-dd\"))","v":""},{"$f":"IF(入力シート!P961=\"\",\"\",TEXT(入力シート!P961,\"000-0000\"))","v":""},{"$f":"IF(入力シート!G961=\"\",\"\",入力シート!G961)","v":""},{"$f":"IF(入力シート!H961=\"\",\"\",入力シート!H961)","v":""},{"$f":"IF(入力シート!I961=\"\",\"\",入力シート!I961)","v":""},{"$f":"IF(入力シート!J961=\"\",\"\",入力シート!J961)","v":""},{"$f":"IF(入力シート!K961=\"\",\"\",入力シート!K961)","v":""},{"$f":"IF(入力シート!L961=\"\",\"\",入力シート!L961)","v":""},{"$f":"IF(入力シート!M961=\"\",\"\",入力シート!M961)","v":""},{"$f":"IF(入力シート!N961=\"\",\"\",入力シート!N961)","v":""},{"$f":"IF(入力シート!O961=\"\",\"\",入力シート!Q961)","v":""}]
[{"$f":"IF(入力シート!A962=\"\",\"\",入力シート!A962)","v":""},{"$f":"IF(入力シート!B962=\"\",\"\",入力シート!B962)","v":""},{"$f":"IF(入力シート!C962=\"\",\"\",入力シート!C962)","v":""},{"$f":"IF(入力シート!D962=\"\",\"\",TEXT(入力シート!D962,\"yyyy-mm-dd\"))","v":""},{"$f":"IF(入力シート!P962=\"\",\"\",TEXT(入力シート!P962,\"000-0000\"))","v":""},{"$f":"IF(入力シート!G962=\"\",\"\",入力シート!G962)","v":""},{"$f":"IF(入力シート!H962=\"\",\"\",入力シート!H962)","v":""},{"$f":"IF(入力シート!I962=\"\",\"\",入力シート!I962)","v":""},{"$f":"IF(入力シート!J962=\"\",\"\",入力シート!J962)","v":""},{"$f":"IF(入力シート!K962=\"\",\"\",入力シート!K962)","v":""},{"$f":"IF(入力シート!L962=\"\",\"\",入力シート!L962)","v":""},{"$f":"IF(入力シート!M962=\"\",\"\",入力シート!M962)","v":""},{"$f":"IF(入力シート!N962=\"\",\"\",入力シート!N962)","v":""},{"$f":"IF(入力シート!O962=\"\",\"\",入力シート!Q962)","v":""}]
[{"$f":"IF(入力シート!A963=\"\",\"\",入力シート!A963)","v":""},{"$f":"IF(入力シート!B963=\"\",\"\",入力シート!B963)","v":""},{"$f":"IF(入力シート!C963=\"\",\"\",入力シート!C963)","v":""},{"$f":"IF(入力シート!D963=\"\",\"\",TEXT(入力シート!D963,\"yyyy-mm-dd\"))","v":""},{"$f":"IF(入力シート!P963=\"\",\"\",TEXT(入力シート!P963,\"000-0000\"))","v":""},{"$f":"IF(入力シート!G963=\"\",\"\",入力シート!G963)","v":""},{"$f":"IF(入力シート!H963=\"\",\"\",入力シート!H963)","v":""},{"$f":"IF(入力シート!I963=\"\",\"\",入力シート!I963)","v":""},{"$f":"IF(入力シート!J963=\"\",\"\",入力シート!J963)","v":""},{"$f":"IF(入力シート!K963=\"\",\"\",入力シート!K963)","v":""},{"$f":"IF(入力シート!L963=\"\",\"\",入力シート!L963)","v":""},{"$f":"IF(入力シート!M963=\"\",\"\",入力シート!M963)","v":""},{"$f":"IF(入力シート!N963=\"\",\"\",入力シート!N963)","v":""},{"$f":"IF(入力シート!O963=\"\",\"\",入力シート!Q963)","v":""}]
[{"$f":"IF(入力シート!A964=\"\",\"\",入力シート!A964)","v":""},{"$f":"IF(入力シート!B964=\"\",\"\",入力シート!B964)","v":""},{"$f":"IF(入力シート!C964=\"\",\"\",入力シート!C964)","v":""},{"$f":"IF(入力シート!D964=\"\",\"\",TEXT(入力シート!D964,\"yyyy-mm-dd\"))","v":""},{"$f":"IF(入力シート!P964=\"\",\"\",TEXT(入力シート!P964,\"000-0000\"))","v":""},{"$f":"IF(入力シート!G964=\"\",\"\",入力シート!G964)","v":""},{"$f":"IF(入力シート!H964=\"\",\"\",入力シート!H964)","v":""},{"$f":"IF(入力シート!I964=\"\",\"\",入力シート!I964)","v":""},{"$f":"IF(入力シート!J964=\"\",\"\",入力シート!J964)","v":""},{"$f":"IF(入力シート!K964=\"\",\"\",入力シート!K964)","v":""},{"$f":"IF(入力シート!L964=\"\",\"\",入力シート!L964)","v":""},{"$f":"IF(入力シート!M964=\"\",\"\",入力シート!M964)","v":""},{"$f":"IF(入力シート!N964=\"\",\"\",入力シート!N964)","v":""},{"$f":"IF(入力シート!O964=\"\",\"\",入力シート!Q964)","v":""}]
[{"$f":"IF(入力シート!A965=\"\",\"\",入力シート!A965)","v":""},{"$f":"IF(入力シート!B965=\"\",\"\",入力シート!B965)","v":""},{"$f":"IF(入力シート!C965=\"\",\"\",入力シート!C965)","v":""},{"$f":"IF(入力シート!D965=\"\",\"\",TEXT(入力シート!D965,\"yyyy-mm-dd\"))","v":""},{"$f":"IF(入力シート!P965=\"\",\"\",TEXT(入力シート!P965,\"000-0000\"))","v":""},{"$f":"IF(入力シート!G965=\"\",\"\",入力シート!G965)","v":""},{"$f":"IF(入力シート!H965=\"\",\"\",入力シート!H965)","v":""},{"$f":"IF(入力シート!I965=\"\",\"\",入力シート!I965)","v":""},{"$f":"IF(入力シート!J965=\"\",\"\",入力シート!J965)","v":""},{"$f":"IF(入力シート!K965=\"\",\"\",入力シート!K965)","v":""},{"$f":"IF(入力シート!L965=\"\",\"\",入力シート!L965)","v":""},{"$f":"IF(入力シート!M965=\"\",\"\",入力シート!M965)","v":""},{"$f":"IF(入力シート!N965=\"\",\"\",入力シート!N965)","v":""},{"$f":"IF(入力シート!O965=\"\",\"\",入力シート!Q965)","v":""}]
[{"$f":"IF(入力シート!A966=\"\",\"\",入力シート!A966)","v":""},{"$f":"IF(入力シート!B966=\"\",\"\",入力シート!B966)","v":""},{"$f":"IF(入力シート!C966=\"\",\"\",入力シート!C966)","v":""},{"$f":"IF(入力シート!D966=\"\",\"\",TEXT(入力シート!D966,\"yyyy-mm-dd\"))","v":""},{"$f":"IF(入力シート!P966=\"\",\"\",TEXT(入力シート!P966,\"000-0000\"))","v":""},{"$f":"IF(入力シート!G966=\"\",\"\",入力シート!G966)","v":""},{"$f":"IF(入力シート!H966=\"\",\"\",入力シート!H966)","v":""},{"$f":"IF(入力シート!I966=\"\",\"\",入力シート!I966)","v":""},{"$f":"IF(入力シート!J966=\"\",\"\",入力シート!J966)","v":""},{"$f":"IF(入力シート!K966=\"\",\"\",入力シート!K966)","v":""},{"$f":"IF(入力シート!L966=\"\",\"\",入力シート!L966)","v":""},{"$f":"IF(入力シート!M966=\"\",\"\",入力シート!M966)","v":""},{"$f":"IF(入力シート!N966=\"\",\"\",入力シート!N966)","v":""},{"$f":"IF(入力シート!O966=\"\",\"\",入力シート!Q966)","v":""}]
[{"$f":"IF(入力シート!A967=\"\",\"\",入力シート!A967)","v":""},{"$f":"IF(入力シート!B967=\"\",\"\",入力シート!B967)","v":""},{"$f":"IF(入力シート!C967=\"\",\"\",入力シート!C967)","v":""},{"$f":"IF(入力シート!D967=\"\",\"\",TEXT(入力シート!D967,\"yyyy-mm-dd\"))","v":""},{"$f":"IF(入力シート!P967=\"\",\"\",TEXT(入力シート!P967,\"000-0000\"))","v":""},{"$f":"IF(入力シート!G967=\"\",\"\",入力シート!G967)","v":""},{"$f":"IF(入力シート!H967=\"\",\"\",入力シート!H967)","v":""},{"$f":"IF(入力シート!I967=\"\",\"\",入力シート!I967)","v":""},{"$f":"IF(入力シート!J967=\"\",\"\",入力シート!J967)","v":""},{"$f":"IF(入力シート!K967=\"\",\"\",入力シート!K967)","v":""},{"$f":"IF(入力シート!L967=\"\",\"\",入力シート!L967)","v":""},{"$f":"IF(入力シート!M967=\"\",\"\",入力シート!M967)","v":""},{"$f":"IF(入力シート!N967=\"\",\"\",入力シート!N967)","v":""},{"$f":"IF(入力シート!O967=\"\",\"\",入力シート!Q967)","v":""}]
[{"$f":"IF(入力シート!A968=\"\",\"\",入力シート!A968)","v":""},{"$f":"IF(入力シート!B968=\"\",\"\",入力シート!B968)","v":""},{"$f":"IF(入力シート!C968=\"\",\"\",入力シート!C968)","v":""},{"$f":"IF(入力シート!D968=\"\",\"\",TEXT(入力シート!D968,\"yyyy-mm-dd\"))","v":""},{"$f":"IF(入力シート!P968=\"\",\"\",TEXT(入力シート!P968,\"000-0000\"))","v":""},{"$f":"IF(入力シート!G968=\"\",\"\",入力シート!G968)","v":""},{"$f":"IF(入力シート!H968=\"\",\"\",入力シート!H968)","v":""},{"$f":"IF(入力シート!I968=\"\",\"\",入力シート!I968)","v":""},{"$f":"IF(入力シート!J968=\"\",\"\",入力シート!J968)","v":""},{"$f":"IF(入力シート!K968=\"\",\"\",入力シート!K968)","v":""},{"$f":"IF(入力シート!L968=\"\",\"\",入力シート!L968)","v":""},{"$f":"IF(入力シート!M968=\"\",\"\",入力シート!M968)","v":""},{"$f":"IF(入力シート!N968=\"\",\"\",入力シート!N968)","v":""},{"$f":"IF(入力シート!O968=\"\",\"\",入力シート!Q968)","v":""}]
[{"$f":"IF(入力シート!A969=\"\",\"\",入力シート!A969)","v":""},{"$f":"IF(入力シート!B969=\"\",\"\",入力シート!B969)","v":""},{"$f":"IF(入力シート!C969=\"\",\"\",入力シート!C969)","v":""},{"$f":"IF(入力シート!D969=\"\",\"\",TEXT(入力シート!D969,\"yyyy-mm-dd\"))","v":""},{"$f":"IF(入力シート!P969=\"\",\"\",TEXT(入力シート!P969,\"000-0000\"))","v":""},{"$f":"IF(入力シート!G969=\"\",\"\",入力シート!G969)","v":""},{"$f":"IF(入力シート!H969=\"\",\"\",入力シート!H969)","v":""},{"$f":"IF(入力シート!I969=\"\",\"\",入力シート!I969)","v":""},{"$f":"IF(入力シート!J969=\"\",\"\",入力シート!J969)","v":""},{"$f":"IF(入力シート!K969=\"\",\"\",入力シート!K969)","v":""},{"$f":"IF(入力シート!L969=\"\",\"\",入力シート!L969)","v":""},{"$f":"IF(入力シート!M969=\"\",\"\",入力シート!M969)","v":""},{"$f":"IF(入力シート!N969=\"\",\"\",入力シート!N969)","v":""},{"$f":"IF(入力シート!O969=\"\",\"\",入力シート!Q969)","v":""}]
[{"$f":"IF(入力シート!A970=\"\",\"\",入力シート!A970)","v":""},{"$f":"IF(入力シート!B970=\"\",\"\",入力シート!B970)","v":""},{"$f":"IF(入力シート!C970=\"\",\"\",入力シート!C970)","v":""},{"$f":"IF(入力シート!D970=\"\",\"\",TEXT(入力シート!D970,\"yyyy-mm-dd\"))","v":""},{"$f":"IF(入力シート!P970=\"\",\"\",TEXT(入力シート!P970,\"000-0000\"))","v":""},{"$f":"IF(入力シート!G970=\"\",\"\",入力シート!G970)","v":""},{"$f":"IF(入力シート!H970=\"\",\"\",入力シート!H970)","v":""},{"$f":"IF(入力シート!I970=\"\",\"\",入力シート!I970)","v":""},{"$f":"IF(入力シート!J970=\"\",\"\",入力シート!J970)","v":""},{"$f":"IF(入力シート!K970=\"\",\"\",入力シート!K970)","v":""},{"$f":"IF(入力シート!L970=\"\",\"\",入力シート!L970)","v":""},{"$f":"IF(入力シート!M970=\"\",\"\",入力シート!M970)","v":""},{"$f":"IF(入力シート!N970=\"\",\"\",入力シート!N970)","v":""},{"$f":"IF(入力シート!O970=\"\",\"\",入力シート!Q970)","v":""}]
[{"$f":"IF(入力シート!A971=\"\",\"\",入力シート!A971)","v":""},{"$f":"IF(入力シート!B971=\"\",\"\",入力シート!B971)","v":""},{"$f":"IF(入力シート!C971=\"\",\"\",入力シート!C971)","v":""},{"$f":"IF(入力シート!D971=\"\",\"\",TEXT(入力シート!D971,\"yyyy-mm-dd\"))","v":""},{"$f":"IF(入力シート!P971=\"\",\"\",TEXT(入力シート!P971,\"000-0000\"))","v":""},{"$f":"IF(入力シート!G971=\"\",\"\",入力シート!G971)","v":""},{"$f":"IF(入力シート!H971=\"\",\"\",入力シート!H971)","v":""},{"$f":"IF(入力シート!I971=\"\",\"\",入力シート!I971)","v":""},{"$f":"IF(入力シート!J971=\"\",\"\",入力シート!J971)","v":""},{"$f":"IF(入力シート!K971=\"\",\"\",入力シート!K971)","v":""},{"$f":"IF(入力シート!L971=\"\",\"\",入力シート!L971)","v":""},{"$f":"IF(入力シート!M971=\"\",\"\",入力シート!M971)","v":""},{"$f":"IF(入力シート!N971=\"\",\"\",入力シート!N971)","v":""},{"$f":"IF(入力シート!O971=\"\",\"\",入力シート!Q971)","v":""}]
[{"$f":"IF(入力シート!A972=\"\",\"\",入力シート!A972)","v":""},{"$f":"IF(入力シート!B972=\"\",\"\",入力シート!B972)","v":""},{"$f":"IF(入力シート!C972=\"\",\"\",入力シート!C972)","v":""},{"$f":"IF(入力シート!D972=\"\",\"\",TEXT(入力シート!D972,\"yyyy-mm-dd\"))","v":""},{"$f":"IF(入力シート!P972=\"\",\"\",TEXT(入力シート!P972,\"000-0000\"))","v":""},{"$f":"IF(入力シート!G972=\"\",\"\",入力シート!G972)","v":""},{"$f":"IF(入力シート!H972=\"\",\"\",入力シート!H972)","v":""},{"$f":"IF(入力シート!I972=\"\",\"\",入力シート!I972)","v":""},{"$f":"IF(入力シート!J972=\"\",\"\",入力シート!J972)","v":""},{"$f":"IF(入力シート!K972=\"\",\"\",入力シート!K972)","v":""},{"$f":"IF(入力シート!L972=\"\",\"\",入力シート!L972)","v":""},{"$f":"IF(入力シート!M972=\"\",\"\",入力シート!M972)","v":""},{"$f":"IF(入力シート!N972=\"\",\"\",入力シート!N972)","v":""},{"$f":"IF(入力シート!O972=\"\",\"\",入力シート!Q972)","v":""}]
[{"$f":"IF(入力シート!A973=\"\",\"\",入力シート!A973)","v":""},{"$f":"IF(入力シート!B973=\"\",\"\",入力シート!B973)","v":""},{"$f":"IF(入力シート!C973=\"\",\"\",入力シート!C973)","v":""},{"$f":"IF(入力シート!D973=\"\",\"\",TEXT(入力シート!D973,\"yyyy-mm-dd\"))","v":""},{"$f":"IF(入力シート!P973=\"\",\"\",TEXT(入力シート!P973,\"000-0000\"))","v":""},{"$f":"IF(入力シート!G973=\"\",\"\",入力シート!G973)","v":""},{"$f":"IF(入力シート!H973=\"\",\"\",入力シート!H973)","v":""},{"$f":"IF(入力シート!I973=\"\",\"\",入力シート!I973)","v":""},{"$f":"IF(入力シート!J973=\"\",\"\",入力シート!J973)","v":""},{"$f":"IF(入力シート!K973=\"\",\"\",入力シート!K973)","v":""},{"$f":"IF(入力シート!L973=\"\",\"\",入力シート!L973)","v":""},{"$f":"IF(入力シート!M973=\"\",\"\",入力シート!M973)","v":""},{"$f":"IF(入力シート!N973=\"\",\"\",入力シート!N973)","v":""},{"$f":"IF(入力シート!O973=\"\",\"\",入力シート!Q973)","v":""}]
[{"$f":"IF(入力シート!A974=\"\",\"\",入力シート!A974)","v":""},{"$f":"IF(入力シート!B974=\"\",\"\",入力シート!B974)","v":""},{"$f":"IF(入力シート!C974=\"\",\"\",入力シート!C974)","v":""},{"$f":"IF(入力シート!D974=\"\",\"\",TEXT(入力シート!D974,\"yyyy-mm-dd\"))","v":""},{"$f":"IF(入力シート!P974=\"\",\"\",TEXT(入力シート!P974,\"000-0000\"))","v":""},{"$f":"IF(入力シート!G974=\"\",\"\",入力シート!G974)","v":""},{"$f":"IF(入力シート!H974=\"\",\"\",入力シート!H974)","v":""},{"$f":"IF(入力シート!I974=\"\",\"\",入力シート!I974)","v":""},{"$f":"IF(入力シート!J974=\"\",\"\",入力シート!J974)","v":""},{"$f":"IF(入力シート!K974=\"\",\"\",入力シート!K974)","v":""},{"$f":"IF(入力シート!L974=\"\",\"\",入力シート!L974)","v":""},{"$f":"IF(入力シート!M974=\"\",\"\",入力シート!M974)","v":""},{"$f":"IF(入力シート!N974=\"\",\"\",入力シート!N974)","v":""},{"$f":"IF(入力シート!O974=\"\",\"\",入力シート!Q974)","v":""}]
[{"$f":"IF(入力シート!A975=\"\",\"\",入力シート!A975)","v":""},{"$f":"IF(入力シート!B975=\"\",\"\",入力シート!B975)","v":""},{"$f":"IF(入力シート!C975=\"\",\"\",入力シート!C975)","v":""},{"$f":"IF(入力シート!D975=\"\",\"\",TEXT(入力シート!D975,\"yyyy-mm-dd\"))","v":""},{"$f":"IF(入力シート!P975=\"\",\"\",TEXT(入力シート!P975,\"000-0000\"))","v":""},{"$f":"IF(入力シート!G975=\"\",\"\",入力シート!G975)","v":""},{"$f":"IF(入力シート!H975=\"\",\"\",入力シート!H975)","v":""},{"$f":"IF(入力シート!I975=\"\",\"\",入力シート!I975)","v":""},{"$f":"IF(入力シート!J975=\"\",\"\",入力シート!J975)","v":""},{"$f":"IF(入力シート!K975=\"\",\"\",入力シート!K975)","v":""},{"$f":"IF(入力シート!L975=\"\",\"\",入力シート!L975)","v":""},{"$f":"IF(入力シート!M975=\"\",\"\",入力シート!M975)","v":""},{"$f":"IF(入力シート!N975=\"\",\"\",入力シート!N975)","v":""},{"$f":"IF(入力シート!O975=\"\",\"\",入力シート!Q975)","v":""}]
[{"$f":"IF(入力シート!A976=\"\",\"\",入力シート!A976)","v":""},{"$f":"IF(入力シート!B976=\"\",\"\",入力シート!B976)","v":""},{"$f":"IF(入力シート!C976=\"\",\"\",入力シート!C976)","v":""},{"$f":"IF(入力シート!D976=\"\",\"\",TEXT(入力シート!D976,\"yyyy-mm-dd\"))","v":""},{"$f":"IF(入力シート!P976=\"\",\"\",TEXT(入力シート!P976,\"000-0000\"))","v":""},{"$f":"IF(入力シート!G976=\"\",\"\",入力シート!G976)","v":""},{"$f":"IF(入力シート!H976=\"\",\"\",入力シート!H976)","v":""},{"$f":"IF(入力シート!I976=\"\",\"\",入力シート!I976)","v":""},{"$f":"IF(入力シート!J976=\"\",\"\",入力シート!J976)","v":""},{"$f":"IF(入力シート!K976=\"\",\"\",入力シート!K976)","v":""},{"$f":"IF(入力シート!L976=\"\",\"\",入力シート!L976)","v":""},{"$f":"IF(入力シート!M976=\"\",\"\",入力シート!M976)","v":""},{"$f":"IF(入力シート!N976=\"\",\"\",入力シート!N976)","v":""},{"$f":"IF(入力シート!O976=\"\",\"\",入力シート!Q976)","v":""}]
[{"$f":"IF(入力シート!A977=\"\",\"\",入力シート!A977)","v":""},{"$f":"IF(入力シート!B977=\"\",\"\",入力シート!B977)","v":""},{"$f":"IF(入力シート!C977=\"\",\"\",入力シート!C977)","v":""},{"$f":"IF(入力シート!D977=\"\",\"\",TEXT(入力シート!D977,\"yyyy-mm-dd\"))","v":""},{"$f":"IF(入力シート!P977=\"\",\"\",TEXT(入力シート!P977,\"000-0000\"))","v":""},{"$f":"IF(入力シート!G977=\"\",\"\",入力シート!G977)","v":""},{"$f":"IF(入力シート!H977=\"\",\"\",入力シート!H977)","v":""},{"$f":"IF(入力シート!I977=\"\",\"\",入力シート!I977)","v":""},{"$f":"IF(入力シート!J977=\"\",\"\",入力シート!J977)","v":""},{"$f":"IF(入力シート!K977=\"\",\"\",入力シート!K977)","v":""},{"$f":"IF(入力シート!L977=\"\",\"\",入力シート!L977)","v":""},{"$f":"IF(入力シート!M977=\"\",\"\",入力シート!M977)","v":""},{"$f":"IF(入力シート!N977=\"\",\"\",入力シート!N977)","v":""},{"$f":"IF(入力シート!O977=\"\",\"\",入力シート!Q977)","v":""}]
[{"$f":"IF(入力シート!A978=\"\",\"\",入力シート!A978)","v":""},{"$f":"IF(入力シート!B978=\"\",\"\",入力シート!B978)","v":""},{"$f":"IF(入力シート!C978=\"\",\"\",入力シート!C978)","v":""},{"$f":"IF(入力シート!D978=\"\",\"\",TEXT(入力シート!D978,\"yyyy-mm-dd\"))","v":""},{"$f":"IF(入力シート!P978=\"\",\"\",TEXT(入力シート!P978,\"000-0000\"))","v":""},{"$f":"IF(入力シート!G978=\"\",\"\",入力シート!G978)","v":""},{"$f":"IF(入力シート!H978=\"\",\"\",入力シート!H978)","v":""},{"$f":"IF(入力シート!I978=\"\",\"\",入力シート!I978)","v":""},{"$f":"IF(入力シート!J978=\"\",\"\",入力シート!J978)","v":""},{"$f":"IF(入力シート!K978=\"\",\"\",入力シート!K978)","v":""},{"$f":"IF(入力シート!L978=\"\",\"\",入力シート!L978)","v":""},{"$f":"IF(入力シート!M978=\"\",\"\",入力シート!M978)","v":""},{"$f":"IF(入力シート!N978=\"\",\"\",入力シート!N978)","v":""},{"$f":"IF(入力シート!O978=\"\",\"\",入力シート!Q978)","v":""}]
[{"$f":"IF(入力シート!A979=\"\",\"\",入力シート!A979)","v":""},{"$f":"IF(入力シート!B979=\"\",\"\",入力シート!B979)","v":""},{"$f":"IF(入力シート!C979=\"\",\"\",入力シート!C979)","v":""},{"$f":"IF(入力シート!D979=\"\",\"\",TEXT(入力シート!D979,\"yyyy-mm-dd\"))","v":""},{"$f":"IF(入力シート!P979=\"\",\"\",TEXT(入力シート!P979,\"000-0000\"))","v":""},{"$f":"IF(入力シート!G979=\"\",\"\",入力シート!G979)","v":""},{"$f":"IF(入力シート!H979=\"\",\"\",入力シート!H979)","v":""},{"$f":"IF(入力シート!I979=\"\",\"\",入力シート!I979)","v":""},{"$f":"IF(入力シート!J979=\"\",\"\",入力シート!J979)","v":""},{"$f":"IF(入力シート!K979=\"\",\"\",入力シート!K979)","v":""},{"$f":"IF(入力シート!L979=\"\",\"\",入力シート!L979)","v":""},{"$f":"IF(入力シート!M979=\"\",\"\",入力シート!M979)","v":""},{"$f":"IF(入力シート!N979=\"\",\"\",入力シート!N979)","v":""},{"$f":"IF(入力シート!O979=\"\",\"\",入力シート!Q979)","v":""}]
[{"$f":"IF(入力シート!A980=\"\",\"\",入力シート!A980)","v":""},{"$f":"IF(入力シート!B980=\"\",\"\",入力シート!B980)","v":""},{"$f":"IF(入力シート!C980=\"\",\"\",入力シート!C980)","v":""},{"$f":"IF(入力シート!D980=\"\",\"\",TEXT(入力シート!D980,\"yyyy-mm-dd\"))","v":""},{"$f":"IF(入力シート!P980=\"\",\"\",TEXT(入力シート!P980,\"000-0000\"))","v":""},{"$f":"IF(入力シート!G980=\"\",\"\",入力シート!G980)","v":""},{"$f":"IF(入力シート!H980=\"\",\"\",入力シート!H980)","v":""},{"$f":"IF(入力シート!I980=\"\",\"\",入力シート!I980)","v":""},{"$f":"IF(入力シート!J980=\"\",\"\",入力シート!J980)","v":""},{"$f":"IF(入力シート!K980=\"\",\"\",入力シート!K980)","v":""},{"$f":"IF(入力シート!L980=\"\",\"\",入力シート!L980)","v":""},{"$f":"IF(入力シート!M980=\"\",\"\",入力シート!M980)","v":""},{"$f":"IF(入力シート!N980=\"\",\"\",入力シート!N980)","v":""},{"$f":"IF(入力シート!O980=\"\",\"\",入力シート!Q980)","v":""}]
[{"$f":"IF(入力シート!A981=\"\",\"\",入力シート!A981)","v":""},{"$f":"IF(入力シート!B981=\"\",\"\",入力シート!B981)","v":""},{"$f":"IF(入力シート!C981=\"\",\"\",入力シート!C981)","v":""},{"$f":"IF(入力シート!D981=\"\",\"\",TEXT(入力シート!D981,\"yyyy-mm-dd\"))","v":""},{"$f":"IF(入力シート!P981=\"\",\"\",TEXT(入力シート!P981,\"000-0000\"))","v":""},{"$f":"IF(入力シート!G981=\"\",\"\",入力シート!G981)","v":""},{"$f":"IF(入力シート!H981=\"\",\"\",入力シート!H981)","v":""},{"$f":"IF(入力シート!I981=\"\",\"\",入力シート!I981)","v":""},{"$f":"IF(入力シート!J981=\"\",\"\",入力シート!J981)","v":""},{"$f":"IF(入力シート!K981=\"\",\"\",入力シート!K981)","v":""},{"$f":"IF(入力シート!L981=\"\",\"\",入力シート!L981)","v":""},{"$f":"IF(入力シート!M981=\"\",\"\",入力シート!M981)","v":""},{"$f":"IF(入力シート!N981=\"\",\"\",入力シート!N981)","v":""},{"$f":"IF(入力シート!O981=\"\",\"\",入力シート!Q981)","v":""}]
[{"$f":"IF(入力シート!A982=\"\",\"\",入力シート!A982)","v":""},{"$f":"IF(入力シート!B982=\"\",\"\",入力シート!B982)","v":""},{"$f":"IF(入力シート!C982=\"\",\"\",入力シート!C982)","v":""},{"$f":"IF(入力シート!D982=\"\",\"\",TEXT(入力シート!D982,\"yyyy-mm-dd\"))","v":""},{"$f":"IF(入力シート!P982=\"\",\"\",TEXT(入力シート!P982,\"000-0000\"))","v":""},{"$f":"IF(入力シート!G982=\"\",\"\",入力シート!G982)","v":""},{"$f":"IF(入力シート!H982=\"\",\"\",入力シート!H982)","v":""},{"$f":"IF(入力シート!I982=\"\",\"\",入力シート!I982)","v":""},{"$f":"IF(入力シート!J982=\"\",\"\",入力シート!J982)","v":""},{"$f":"IF(入力シート!K982=\"\",\"\",入力シート!K982)","v":""},{"$f":"IF(入力シート!L982=\"\",\"\",入力シート!L982)","v":""},{"$f":"IF(入力シート!M982=\"\",\"\",入力シート!M982)","v":""},{"$f":"IF(入力シート!N982=\"\",\"\",入力シート!N982)","v":""},{"$f":"IF(入力シート!O982=\"\",\"\",入力シート!Q982)","v":""}]
[{"$f":"IF(入力シート!A983=\"\",\"\",入力シート!A983)","v":""},{"$f":"IF(入力シート!B983=\"\",\"\",入力シート!B983)","v":""},{"$f":"IF(入力シート!C983=\"\",\"\",入力シート!C983)","v":""},{"$f":"IF(入力シート!D983=\"\",\"\",TEXT(入力シート!D983,\"yyyy-mm-dd\"))","v":""},{"$f":"IF(入力シート!P983=\"\",\"\",TEXT(入力シート!P983,\"000-0000\"))","v":""},{"$f":"IF(入力シート!G983=\"\",\"\",入力シート!G983)","v":""},{"$f":"IF(入力シート!H983=\"\",\"\",入力シート!H983)","v":""},{"$f":"IF(入力シート!I983=\"\",\"\",入力シート!I983)","v":""},{"$f":"IF(入力シート!J983=\"\",\"\",入力シート!J983)","v":""},{"$f":"IF(入力シート!K983=\"\",\"\",入力シート!K983)","v":""},{"$f":"IF(入力シート!L983=\"\",\"\",入力シート!L983)","v":""},{"$f":"IF(入力シート!M983=\"\",\"\",入力シート!M983)","v":""},{"$f":"IF(入力シート!N983=\"\",\"\",入力シート!N983)","v":""},{"$f":"IF(入力シート!O983=\"\",\"\",入力シート!Q983)","v":""}]
[{"$f":"IF(入力シート!A984=\"\",\"\",入力シート!A984)","v":""},{"$f":"IF(入力シート!B984=\"\",\"\",入力シート!B984)","v":""},{"$f":"IF(入力シート!C984=\"\",\"\",入力シート!C984)","v":""},{"$f":"IF(入力シート!D984=\"\",\"\",TEXT(入力シート!D984,\"yyyy-mm-dd\"))","v":""},{"$f":"IF(入力シート!P984=\"\",\"\",TEXT(入力シート!P984,\"000-0000\"))","v":""},{"$f":"IF(入力シート!G984=\"\",\"\",入力シート!G984)","v":""},{"$f":"IF(入力シート!H984=\"\",\"\",入力シート!H984)","v":""},{"$f":"IF(入力シート!I984=\"\",\"\",入力シート!I984)","v":""},{"$f":"IF(入力シート!J984=\"\",\"\",入力シート!J984)","v":""},{"$f":"IF(入力シート!K984=\"\",\"\",入力シート!K984)","v":""},{"$f":"IF(入力シート!L984=\"\",\"\",入力シート!L984)","v":""},{"$f":"IF(入力シート!M984=\"\",\"\",入力シート!M984)","v":""},{"$f":"IF(入力シート!N984=\"\",\"\",入力シート!N984)","v":""},{"$f":"IF(入力シート!O984=\"\",\"\",入力シート!Q984)","v":""}]
[{"$f":"IF(入力シート!A985=\"\",\"\",入力シート!A985)","v":""},{"$f":"IF(入力シート!B985=\"\",\"\",入力シート!B985)","v":""},{"$f":"IF(入力シート!C985=\"\",\"\",入力シート!C985)","v":""},{"$f":"IF(入力シート!D985=\"\",\"\",TEXT(入力シート!D985,\"yyyy-mm-dd\"))","v":""},{"$f":"IF(入力シート!P985=\"\",\"\",TEXT(入力シート!P985,\"000-0000\"))","v":""},{"$f":"IF(入力シート!G985=\"\",\"\",入力シート!G985)","v":""},{"$f":"IF(入力シート!H985=\"\",\"\",入力シート!H985)","v":""},{"$f":"IF(入力シート!I985=\"\",\"\",入力シート!I985)","v":""},{"$f":"IF(入力シート!J985=\"\",\"\",入力シート!J985)","v":""},{"$f":"IF(入力シート!K985=\"\",\"\",入力シート!K985)","v":""},{"$f":"IF(入力シート!L985=\"\",\"\",入力シート!L985)","v":""},{"$f":"IF(入力シート!M985=\"\",\"\",入力シート!M985)","v":""},{"$f":"IF(入力シート!N985=\"\",\"\",入力シート!N985)","v":""},{"$f":"IF(入力シート!O985=\"\",\"\",入力シート!Q985)","v":""}]
[{"$f":"IF(入力シート!A986=\"\",\"\",入力シート!A986)","v":""},{"$f":"IF(入力シート!B986=\"\",\"\",入力シート!B986)","v":""},{"$f":"IF(入力シート!C986=\"\",\"\",入力シート!C986)","v":""},{"$f":"IF(入力シート!D986=\"\",\"\",TEXT(入力シート!D986,\"yyyy-mm-dd\"))","v":""},{"$f":"IF(入力シート!P986=\"\",\"\",TEXT(入力シート!P986,\"000-0000\"))","v":""},{"$f":"IF(入力シート!G986=\"\",\"\",入力シート!G986)","v":""},{"$f":"IF(入力シート!H986=\"\",\"\",入力シート!H986)","v":""},{"$f":"IF(入力シート!I986=\"\",\"\",入力シート!I986)","v":""},{"$f":"IF(入力シート!J986=\"\",\"\",入力シート!J986)","v":""},{"$f":"IF(入力シート!K986=\"\",\"\",入力シート!K986)","v":""},{"$f":"IF(入力シート!L986=\"\",\"\",入力シート!L986)","v":""},{"$f":"IF(入力シート!M986=\"\",\"\",入力シート!M986)","v":""},{"$f":"IF(入力シート!N986=\"\",\"\",入力シート!N986)","v":""},{"$f":"IF(入力シート!O986=\"\",\"\",入力シート!Q986)","v":""}]
[{"$f":"IF(入力シート!A987=\"\",\"\",入力シート!A987)","v":""},{"$f":"IF(入力シート!B987=\"\",\"\",入力シート!B987)","v":""},{"$f":"IF(入力シート!C987=\"\",\"\",入力シート!C987)","v":""},{"$f":"IF(入力シート!D987=\"\",\"\",TEXT(入力シート!D987,\"yyyy-mm-dd\"))","v":""},{"$f":"IF(入力シート!P987=\"\",\"\",TEXT(入力シート!P987,\"000-0000\"))","v":""},{"$f":"IF(入力シート!G987=\"\",\"\",入力シート!G987)","v":""},{"$f":"IF(入力シート!H987=\"\",\"\",入力シート!H987)","v":""},{"$f":"IF(入力シート!I987=\"\",\"\",入力シート!I987)","v":""},{"$f":"IF(入力シート!J987=\"\",\"\",入力シート!J987)","v":""},{"$f":"IF(入力シート!K987=\"\",\"\",入力シート!K987)","v":""},{"$f":"IF(入力シート!L987=\"\",\"\",入力シート!L987)","v":""},{"$f":"IF(入力シート!M987=\"\",\"\",入力シート!M987)","v":""},{"$f":"IF(入力シート!N987=\"\",\"\",入力シート!N987)","v":""},{"$f":"IF(入力シート!O987=\"\",\"\",入力シート!Q987)","v":""}]
[{"$f":"IF(入力シート!A988=\"\",\"\",入力シート!A988)","v":""},{"$f":"IF(入力シート!B988=\"\",\"\",入力シート!B988)","v":""},{"$f":"IF(入力シート!C988=\"\",\"\",入力シート!C988)","v":""},{"$f":"IF(入力シート!D988=\"\",\"\",TEXT(入力シート!D988,\"yyyy-mm-dd\"))","v":""},{"$f":"IF(入力シート!P988=\"\",\"\",TEXT(入力シート!P988,\"000-0000\"))","v":""},{"$f":"IF(入力シート!G988=\"\",\"\",入力シート!G988)","v":""},{"$f":"IF(入力シート!H988=\"\",\"\",入力シート!H988)","v":""},{"$f":"IF(入力シート!I988=\"\",\"\",入力シート!I988)","v":""},{"$f":"IF(入力シート!J988=\"\",\"\",入力シート!J988)","v":""},{"$f":"IF(入力シート!K988=\"\",\"\",入力シート!K988)","v":""},{"$f":"IF(入力シート!L988=\"\",\"\",入力シート!L988)","v":""},{"$f":"IF(入力シート!M988=\"\",\"\",入力シート!M988)","v":""},{"$f":"IF(入力シート!N988=\"\",\"\",入力シート!N988)","v":""},{"$f":"IF(入力シート!O988=\"\",\"\",入力シート!Q988)","v":""}]
[{"$f":"IF(入力シート!A989=\"\",\"\",入力シート!A989)","v":""},{"$f":"IF(入力シート!B989=\"\",\"\",入力シート!B989)","v":""},{"$f":"IF(入力シート!C989=\"\",\"\",入力シート!C989)","v":""},{"$f":"IF(入力シート!D989=\"\",\"\",TEXT(入力シート!D989,\"yyyy-mm-dd\"))","v":""},{"$f":"IF(入力シート!P989=\"\",\"\",TEXT(入力シート!P989,\"000-0000\"))","v":""},{"$f":"IF(入力シート!G989=\"\",\"\",入力シート!G989)","v":""},{"$f":"IF(入力シート!H989=\"\",\"\",入力シート!H989)","v":""},{"$f":"IF(入力シート!I989=\"\",\"\",入力シート!I989)","v":""},{"$f":"IF(入力シート!J989=\"\",\"\",入力シート!J989)","v":""},{"$f":"IF(入力シート!K989=\"\",\"\",入力シート!K989)","v":""},{"$f":"IF(入力シート!L989=\"\",\"\",入力シート!L989)","v":""},{"$f":"IF(入力シート!M989=\"\",\"\",入力シート!M989)","v":""},{"$f":"IF(入力シート!N989=\"\",\"\",入力シート!N989)","v":""},{"$f":"IF(入力シート!O989=\"\",\"\",入力シート!Q989)","v":""}]
[{"$f":"IF(入力シート!A990=\"\",\"\",入力シート!A990)","v":""},{"$f":"IF(入力シート!B990=\"\",\"\",入力シート!B990)","v":""},{"$f":"IF(入力シート!C990=\"\",\"\",入力シート!C990)","v":""},{"$f":"IF(入力シート!D990=\"\",\"\",TEXT(入力シート!D990,\"yyyy-mm-dd\"))","v":""},{"$f":"IF(入力シート!P990=\"\",\"\",TEXT(入力シート!P990,\"000-0000\"))","v":""},{"$f":"IF(入力シート!G990=\"\",\"\",入力シート!G990)","v":""},{"$f":"IF(入力シート!H990=\"\",\"\",入力シート!H990)","v":""},{"$f":"IF(入力シート!I990=\"\",\"\",入力シート!I990)","v":""},{"$f":"IF(入力シート!J990=\"\",\"\",入力シート!J990)","v":""},{"$f":"IF(入力シート!K990=\"\",\"\",入力シート!K990)","v":""},{"$f":"IF(入力シート!L990=\"\",\"\",入力シート!L990)","v":""},{"$f":"IF(入力シート!M990=\"\",\"\",入力シート!M990)","v":""},{"$f":"IF(入力シート!N990=\"\",\"\",入力シート!N990)","v":""},{"$f":"IF(入力シート!O990=\"\",\"\",入力シート!Q990)","v":""}]
[{"$f":"IF(入力シート!A991=\"\",\"\",入力シート!A991)","v":""},{"$f":"IF(入力シート!B991=\"\",\"\",入力シート!B991)","v":""},{"$f":"IF(入力シート!C991=\"\",\"\",入力シート!C991)","v":""},{"$f":"IF(入力シート!D991=\"\",\"\",TEXT(入力シート!D991,\"yyyy-mm-dd\"))","v":""},{"$f":"IF(入力シート!P991=\"\",\"\",TEXT(入力シート!P991,\"000-0000\"))","v":""},{"$f":"IF(入力シート!G991=\"\",\"\",入力シート!G991)","v":""},{"$f":"IF(入力シート!H991=\"\",\"\",入力シート!H991)","v":""},{"$f":"IF(入力シート!I991=\"\",\"\",入力シート!I991)","v":""},{"$f":"IF(入力シート!J991=\"\",\"\",入力シート!J991)","v":""},{"$f":"IF(入力シート!K991=\"\",\"\",入力シート!K991)","v":""},{"$f":"IF(入力シート!L991=\"\",\"\",入力シート!L991)","v":""},{"$f":"IF(入力シート!M991=\"\",\"\",入力シート!M991)","v":""},{"$f":"IF(入力シート!N991=\"\",\"\",入力シート!N991)","v":""},{"$f":"IF(入力シート!O991=\"\",\"\",入力シート!Q991)","v":""}]
[{"$f":"IF(入力シート!A992=\"\",\"\",入力シート!A992)","v":""},{"$f":"IF(入力シート!B992=\"\",\"\",入力シート!B992)","v":""},{"$f":"IF(入力シート!C992=\"\",\"\",入力シート!C992)","v":""},{"$f":"IF(入力シート!D992=\"\",\"\",TEXT(入力シート!D992,\"yyyy-mm-dd\"))","v":""},{"$f":"IF(入力シート!P992=\"\",\"\",TEXT(入力シート!P992,\"000-0000\"))","v":""},{"$f":"IF(入力シート!G992=\"\",\"\",入力シート!G992)","v":""},{"$f":"IF(入力シート!H992=\"\",\"\",入力シート!H992)","v":""},{"$f":"IF(入力シート!I992=\"\",\"\",入力シート!I992)","v":""},{"$f":"IF(入力シート!J992=\"\",\"\",入力シート!J992)","v":""},{"$f":"IF(入力シート!K992=\"\",\"\",入力シート!K992)","v":""},{"$f":"IF(入力シート!L992=\"\",\"\",入力シート!L992)","v":""},{"$f":"IF(入力シート!M992=\"\",\"\",入力シート!M992)","v":""},{"$f":"IF(入力シート!N992=\"\",\"\",入力シート!N992)","v":""},{"$f":"IF(入力シート!O992=\"\",\"\",入力シート!Q992)","v":""}]
[{"$f":"IF(入力シート!A993=\"\",\"\",入力シート!A993)","v":""},{"$f":"IF(入力シート!B993=\"\",\"\",入力シート!B993)","v":""},{"$f":"IF(入力シート!C993=\"\",\"\",入力シート!C993)","v":""},{"$f":"IF(入力シート!D993=\"\",\"\",TEXT(入力シート!D993,\"yyyy-mm-dd\"))","v":""},{"$f":"IF(入力シート!P993=\"\",\"\",TEXT(入力シート!P993,\"000-0000\"))","v":""},{"$f":"IF(入力シート!G993=\"\",\"\",入力シート!G993)","v":""},{"$f":"IF(入力シート!H993=\"\",\"\",入力シート!H993)","v":""},{"$f":"IF(入力シート!I993=\"\",\"\",入力シート!I993)","v":""},{"$f":"IF(入力シート!J993=\"\",\"\",入力シート!J993)","v":""},{"$f":"IF(入力シート!K993=\"\",\"\",入力シート!K993)","v":""},{"$f":"IF(入力シート!L993=\"\",\"\",入力シート!L993)","v":""},{"$f":"IF(入力シート!M993=\"\",\"\",入力シート!M993)","v":""},{"$f":"IF(入力シート!N993=\"\",\"\",入力シート!N993)","v":""},{"$f":"IF(入力シート!O993=\"\",\"\",入力シート!Q993)","v":""}]
[{"$f":"IF(入力シート!A994=\"\",\"\",入力シート!A994)","v":""},{"$f":"IF(入力シート!B994=\"\",\"\",入力シート!B994)","v":""},{"$f":"IF(入力シート!C994=\"\",\"\",入力シート!C994)","v":""},{"$f":"IF(入力シート!D994=\"\",\"\",TEXT(入力シート!D994,\"yyyy-mm-dd\"))","v":""},{"$f":"IF(入力シート!P994=\"\",\"\",TEXT(入力シート!P994,\"000-0000\"))","v":""},{"$f":"IF(入力シート!G994=\"\",\"\",入力シート!G994)","v":""},{"$f":"IF(入力シート!H994=\"\",\"\",入力シート!H994)","v":""},{"$f":"IF(入力シート!I994=\"\",\"\",入力シート!I994)","v":""},{"$f":"IF(入力シート!J994=\"\",\"\",入力シート!J994)","v":""},{"$f":"IF(入力シート!K994=\"\",\"\",入力シート!K994)","v":""},{"$f":"IF(入力シート!L994=\"\",\"\",入力シート!L994)","v":""},{"$f":"IF(入力シート!M994=\"\",\"\",入力シート!M994)","v":""},{"$f":"IF(入力シート!N994=\"\",\"\",入力シート!N994)","v":""},{"$f":"IF(入力シート!O994=\"\",\"\",入力シート!Q994)","v":""}]
[{"$f":"IF(入力シート!A995=\"\",\"\",入力シート!A995)","v":""},{"$f":"IF(入力シート!B995=\"\",\"\",入力シート!B995)","v":""},{"$f":"IF(入力シート!C995=\"\",\"\",入力シート!C995)","v":""},{"$f":"IF(入力シート!D995=\"\",\"\",TEXT(入力シート!D995,\"yyyy-mm-dd\"))","v":""},{"$f":"IF(入力シート!P995=\"\",\"\",TEXT(入力シート!P995,\"000-0000\"))","v":""},{"$f":"IF(入力シート!G995=\"\",\"\",入力シート!G995)","v":""},{"$f":"IF(入力シート!H995=\"\",\"\",入力シート!H995)","v":""},{"$f":"IF(入力シート!I995=\"\",\"\",入力シート!I995)","v":""},{"$f":"IF(入力シート!J995=\"\",\"\",入力シート!J995)","v":""},{"$f":"IF(入力シート!K995=\"\",\"\",入力シート!K995)","v":""},{"$f":"IF(入力シート!L995=\"\",\"\",入力シート!L995)","v":""},{"$f":"IF(入力シート!M995=\"\",\"\",入力シート!M995)","v":""},{"$f":"IF(入力シート!N995=\"\",\"\",入力シート!N995)","v":""},{"$f":"IF(入力シート!O995=\"\",\"\",入力シート!Q995)","v":""}]
[{"$f":"IF(入力シート!A996=\"\",\"\",入力シート!A996)","v":""},{"$f":"IF(入力シート!B996=\"\",\"\",入力シート!B996)","v":""},{"$f":"IF(入力シート!C996=\"\",\"\",入力シート!C996)","v":""},{"$f":"IF(入力シート!D996=\"\",\"\",TEXT(入力シート!D996,\"yyyy-mm-dd\"))","v":""},{"$f":"IF(入力シート!P996=\"\",\"\",TEXT(入力シート!P996,\"000-0000\"))","v":""},{"$f":"IF(入力シート!G996=\"\",\"\",入力シート!G996)","v":""},{"$f":"IF(入力シート!H996=\"\",\"\",入力シート!H996)","v":""},{"$f":"IF(入力シート!I996=\"\",\"\",入力シート!I996)","v":""},{"$f":"IF(入力シート!J996=\"\",\"\",入力シート!J996)","v":""},{"$f":"IF(入力シート!K996=\"\",\"\",入力シート!K996)","v":""},{"$f":"IF(入力シート!L996=\"\",\"\",入力シート!L996)","v":""},{"$f":"IF(入力シート!M996=\"\",\"\",入力シート!M996)","v":""},{"$f":"IF(入力シート!N996=\"\",\"\",入力シート!N996)","v":""},{"$f":"IF(入力シート!O996=\"\",\"\",入力シート!Q996)","v":""}]
[{"$f":"IF(入力シート!A997=\"\",\"\",入力シート!A997)","v":""},{"$f":"IF(入力シート!B997=\"\",\"\",入力シート!B997)","v":""},{"$f":"IF(入力シート!C997=\"\",\"\",入力シート!C997)","v":""},{"$f":"IF(入力シート!D997=\"\",\"\",TEXT(入力シート!D997,\"yyyy-mm-dd\"))","v":""},{"$f":"IF(入力シート!P997=\"\",\"\",TEXT(入力シート!P997,\"000-0000\"))","v":""},{"$f":"IF(入力シート!G997=\"\",\"\",入力シート!G997)","v":""},{"$f":"IF(入力シート!H997=\"\",\"\",入力シート!H997)","v":""},{"$f":"IF(入力シート!I997=\"\",\"\",入力シート!I997)","v":""},{"$f":"IF(入力シート!J997=\"\",\"\",入力シート!J997)","v":""},{"$f":"IF(入力シート!K997=\"\",\"\",入力シート!K997)","v":""},{"$f":"IF(入力シート!L997=\"\",\"\",入力シート!L997)","v":""},{"$f":"IF(入力シート!M997=\"\",\"\",入力シート!M997)","v":""},{"$f":"IF(入力シート!N997=\"\",\"\",入力シート!N997)","v":""},{"$f":"IF(入力シート!O997=\"\",\"\",入力シート!Q997)","v":""}]
[{"$f":"IF(入力シート!A998=\"\",\"\",入力シート!A998)","v":""},{"$f":"IF(入力シート!B998=\"\",\"\",入力シート!B998)","v":""},{"$f":"IF(入力シート!C998=\"\",\"\",入力シート!C998)","v":""},{"$f":"IF(入力シート!D998=\"\",\"\",TEXT(入力シート!D998,\"yyyy-mm-dd\"))","v":""},{"$f":"IF(入力シート!P998=\"\",\"\",TEXT(入力シート!P998,\"000-0000\"))","v":""},{"$f":"IF(入力シート!G998=\"\",\"\",入力シート!G998)","v":""},{"$f":"IF(入力シート!H998=\"\",\"\",入力シート!H998)","v":""},{"$f":"IF(入力シート!I998=\"\",\"\",入力シート!I998)","v":""},{"$f":"IF(入力シート!J998=\"\",\"\",入力シート!J998)","v":""},{"$f":"IF(入力シート!K998=\"\",\"\",入力シート!K998)","v":""},{"$f":"IF(入力シート!L998=\"\",\"\",入力シート!L998)","v":""},{"$f":"IF(入力シート!M998=\"\",\"\",入力シート!M998)","v":""},{"$f":"IF(入力シート!N998=\"\",\"\",入力シート!N998)","v":""},{"$f":"IF(入力シート!O998=\"\",\"\",入力シート!Q998)","v":""}]
[{"$f":"IF(入力シート!A999=\"\",\"\",入力シート!A999)","v":""},{"$f":"IF(入力シート!B999=\"\",\"\",入力シート!B999)","v":""},{"$f":"IF(入力シート!C999=\"\",\"\",入力シート!C999)","v":""},{"$f":"IF(入力シート!D999=\"\",\"\",TEXT(入力シート!D999,\"yyyy-mm-dd\"))","v":""},{"$f":"IF(入力シート!P999=\"\",\"\",TEXT(入力シート!P999,\"000-0000\"))","v":""},{"$f":"IF(入力シート!G999=\"\",\"\",入力シート!G999)","v":""},{"$f":"IF(入力シート!H999=\"\",\"\",入力シート!H999)","v":""},{"$f":"IF(入力シート!I999=\"\",\"\",入力シート!I999)","v":""},{"$f":"IF(入力シート!J999=\"\",\"\",入力シート!J999)","v":""},{"$f":"IF(入力シート!K999=\"\",\"\",入力シート!K999)","v":""},{"$f":"IF(入力シート!L999=\"\",\"\",入力シート!L999)","v":""},{"$f":"IF(入力シート!M999=\"\",\"\",入力シート!M999)","v":""},{"$f":"IF(入力シート!N999=\"\",\"\",入力シート!N999)","v":""},{"$f":"IF(入力シート!O999=\"\",\"\",入力シート!Q999)","v":""}]
[{"$f":"IF(入力シート!A1000=\"\",\"\",入力シート!A1000)","v":""},{"$f":"IF(入力シート!B1000=\"\",\"\",入力シート!B1000)","v":""},{"$f":"IF(入力シート!C1000=\"\",\"\",入力シート!C1000)","v":""},{"$f":"IF(入力シート!D1000=\"\",\"\",TEXT(入力シート!D1000,\"yyyy-mm-dd\"))","v":""},{"$f":"IF(入力シート!P1000=\"\",\"\",TEXT(入力シート!P1000,\"000-0000\"))","v":""},{"$f":"IF(入力シート!G1000=\"\",\"\",入力シート!G1000)","v":""},{"$f":"IF(入力シート!H1000=\"\",\"\",入力シート!H1000)","v":""},{"$f":"IF(入力シート!I1000=\"\",\"\",入力シート!I1000)","v":""},{"$f":"IF(入力シート!J1000=\"\",\"\",入力シート!J1000)","v":""},{"$f":"IF(入力シート!K1000=\"\",\"\",入力シート!K1000)","v":""},{"$f":"IF(入力シート!L1000=\"\",\"\",入力シート!L1000)","v":""},{"$f":"IF(入力シート!M1000=\"\",\"\",入力シート!M1000)","v":""},{"$f":"IF(入力シート!N1000=\"\",\"\",入力シート!N1000)","v":""},{"$f":"IF(入力シート!O1000=\"\",\"\",入力シート!Q1000)","v":""}]
[{"$f":"IF(入力シート!A1001=\"\",\"\",入力シート!A1001)","v":""},{"$f":"IF(入力シート!B1001=\"\",\"\",入力シート!B1001)","v":""},{"$f":"IF(入力シート!C1001=\"\",\"\",入力シート!C1001)","v":""},{"$f":"IF(入力シート!D1001=\"\",\"\",TEXT(入力シート!D1001,\"yyyy-mm-dd\"))","v":""},{"$f":"IF(入力シート!P1001=\"\",\"\",TEXT(入力シート!P1001,\"000-0000\"))","v":""},{"$f":"IF(入力シート!G1001=\"\",\"\",入力シート!G1001)","v":""},{"$f":"IF(入力シート!H1001=\"\",\"\",入力シート!H1001)","v":""},{"$f":"IF(入力シート!I1001=\"\",\"\",入力シート!I1001)","v":""},{"$f":"IF(入力シート!J1001=\"\",\"\",入力シート!J1001)","v":""},{"$f":"IF(入力シート!K1001=\"\",\"\",入力シート!K1001)","v":""},{"$f":"IF(入力シート!L1001=\"\",\"\",入力シート!L1001)","v":""},{"$f":"IF(入力シート!M1001=\"\",\"\",入力シート!M1001)","v":""},{"$f":"IF(入力シート!N1001=\"\",\"\",入力シート!N1001)","v":""},{"$f":"IF(入力シート!O1001=\"\",\"\",入力シート!Q1001)","v":""}]
[{"$f":"IF(入力シート!A1002=\"\",\"\",入力シート!A1002)","v":""},{"$f":"IF(入力シート!B1002=\"\",\"\",入力シート!B1002)","v":""},{"$f":"IF(入力シート!C1002=\"\",\"\",入力シート!C1002)","v":""},{"$f":"IF(入力シート!D1002=\"\",\"\",TEXT(入力シート!D1002,\"yyyy-mm-dd\"))","v":""},{"$f":"IF(入力シート!P1002=\"\",\"\",TEXT(入力シート!P1002,\"000-0000\"))","v":""},{"$f":"IF(入力シート!G1002=\"\",\"\",入力シート!G1002)","v":""},{"$f":"IF(入力シート!H1002=\"\",\"\",入力シート!H1002)","v":""},{"$f":"IF(入力シート!I1002=\"\",\"\",入力シート!I1002)","v":""},{"$f":"IF(入力シート!J1002=\"\",\"\",入力シート!J1002)","v":""},{"$f":"IF(入力シート!K1002=\"\",\"\",入力シート!K1002)","v":""},{"$f":"IF(入力シート!L1002=\"\",\"\",入力シート!L1002)","v":""},{"$f":"IF(入力シート!M1002=\"\",\"\",入力シート!M1002)","v":""},{"$f":"IF(入力シート!N1002=\"\",\"\",入力シート!N1002)","v":""},{"$f":"IF(入力シート!O1002=\"\",\"\",入力シート!Q1002)","v":""}]
[{"$f":"IF(入力シート!A1003=\"\",\"\",入力シート!A1003)","v":""},{"$f":"IF(入力シート!B1003=\"\",\"\",入力シート!B1003)","v":""},{"$f":"IF(入力シート!C1003=\"\",\"\",入力シート!C1003)","v":""},{"$f":"IF(入力シート!D1003=\"\",\"\",TEXT(入力シート!D1003,\"yyyy-mm-dd\"))","v":""},{"$f":"IF(入力シート!P1003=\"\",\"\",TEXT(入力シート!P1003,\"000-0000\"))","v":""},{"$f":"IF(入力シート!G1003=\"\",\"\",入力シート!G1003)","v":""},{"$f":"IF(入力シート!H1003=\"\",\"\",入力シート!H1003)","v":""},{"$f":"IF(入力シート!I1003=\"\",\"\",入力シート!I1003)","v":""},{"$f":"IF(入力シート!J1003=\"\",\"\",入力シート!J1003)","v":""},{"$f":"IF(入力シート!K1003=\"\",\"\",入力シート!K1003)","v":""},{"$f":"IF(入力シート!L1003=\"\",\"\",入力シート!L1003)","v":""},{"$f":"IF(入力シート!M1003=\"\",\"\",入力シート!M1003)","v":""},{"$f":"IF(入力シート!N1003=\"\",\"\",入力シート!N1003)","v":""},{"$f":"IF(入力シート!O1003=\"\",\"\",入力シート!Q1003)","v":""}]
[{"$f":"IF(入力シート!A1004=\"\",\"\",入力シート!A1004)","v":""},{"$f":"IF(入力シート!B1004=\"\",\"\",入力シート!B1004)","v":""},{"$f":"IF(入力シート!C1004=\"\",\"\",入力シート!C1004)","v":""},{"$f":"IF(入力シート!D1004=\"\",\"\",TEXT(入力シート!D1004,\"yyyy-mm-dd\"))","v":""},{"$f":"IF(入力シート!P1004=\"\",\"\",TEXT(入力シート!P1004,\"000-0000\"))","v":""},{"$f":"IF(入力シート!G1004=\"\",\"\",入力シート!G1004)","v":""},{"$f":"IF(入力シート!H1004=\"\",\"\",入力シート!H1004)","v":""},{"$f":"IF(入力シート!I1004=\"\",\"\",入力シート!I1004)","v":""},{"$f":"IF(入力シート!J1004=\"\",\"\",入力シート!J1004)","v":""},{"$f":"IF(入力シート!K1004=\"\",\"\",入力シート!K1004)","v":""},{"$f":"IF(入力シート!L1004=\"\",\"\",入力シート!L1004)","v":""},{"$f":"IF(入力シート!M1004=\"\",\"\",入力シート!M1004)","v":""},{"$f":"IF(入力シート!N1004=\"\",\"\",入力シート!N1004)","v":""},{"$f":"IF(入力シート!O1004=\"\",\"\",入力シート!Q1004)","v":""}]

{"sheet":"リスト","index":3,"n_rows":2,"n_cols":3,"rows_kept":2,"cut":false,"hidden":true,"merged":[]}
["男性","1:本人","会社"]
["女性","2:家族","自宅"]